{"text_format":"1","workbook":"xlsx","n_sheets":13,"sheets":["過去ログ","リスト","基礎データ","旅行命令","県外視察報告書","県外視察計画書","集団宿泊的行事","研修報告","研究大会報告","復命書","証明書","修学旅行証明書","野外活動証明書"],"not_rendered":{"charts":0,"images":0,"macros":1,"external_links":0,"defined_names":26,"comments":5,"pivot_tables":0},"unopened":[],"bounds":{"document_bytes":16777216,"sheet_cells":100000,"rows_first":2000,"rows_last":500,"rows_between":2000,"halvings":0,"cell_chars":16384,"cell_head_chars":4096},"cells_cut":0,"cells_raw":0,"read":"whole","date_system":"1900"}

{"sheet":"過去ログ","index":0,"n_rows":1132,"n_cols":221,"rows_kept":281,"cut":true,"hidden":true,"merged":[[0,49,0,53],[0,1,0,3],[0,5,0,12],[0,13,0,18],[0,19,0,24],[0,43,0,48],[0,37,0,42],[0,31,0,36],[0,25,0,30],[0,158,0,160],[0,54,0,57],[0,58,0,67],[0,68,0,77],[0,78,0,87],[0,88,0,97],[0,98,0,107],[0,108,0,117],[0,118,0,127],[0,128,0,137],[0,138,0,147],[0,148,0,157],[0,170,0,175],[0,176,0,181],[0,182,0,184],[0,185,0,191],[0,205,0,206],[0,211,0,214],[0,192,0,193],[0,194,0,195],[0,196,0,198],[0,199,0,201],[0,203,0,204],[0,208,0,210]],"bounds":{"rows_first":125,"rows_last":31,"rows_between":125,"halvings":4}}
["番号","旅行命令年月日",null,null,null,"旅行期間",null,null,null,null,null,null,null,"用務",null,null,null,null,null,"用務先",null,null,null,null,null,"泊数",null,null,null,null,null,"宿泊費",null,null,null,null,null,"朝食",null,null,null,null,null,"夕食",null,null,null,null,null,"方法",null,null,null,null,"出発地",null,null,null,"経路（B列)",null,null,null,null,null,null,null,null,null,"どこから（C列)",null,null,null,null,null,null,null,null,null,"乗り換え（L列)",null,null,null,null,null,null,null,null,null,"どこまで(T列)",null,null,null,null,null,null,null,null,null,"AB列",null,null,null,null,null,null,null,null,null,"AD列",null,null,null,null,null,null,null,null,null,"AH列",null,null,null,null,null,null,null,null,null,"AT列",null,null,null,null,null,null,null,null,null,"BL列",null,null,null,null,null,null,null,null,null,"CA列",null,null,null,null,null,null,null,null,null,"帰着地",null,null,"F","O","X","AE","F","O","X","AE","プリペイド","同乗者又は運転者",null,null,null,null,null,"自家用車使用理由",null,null,null,null,null,"タクシー状況",null,null,"タクシー理由",null,null,null,null,null,null,"有料道路区間(往路)",null,"有料道路区間(復路)",null,"往路理由",null,null,"復路理由",null,null,null,"駐車場1",null,"駐車場2",null,null,"別途支給",null,null,"備考",null,null,null,null,"お気に入り",null,null,"過去ログ"]
[0,"年","月","日","氏名","年","月","日","年","月","日","泊","日",1,2,3,4,5,6,1,2,3,4,5,6,1,2,3,4,5,6,1,2,3,4,5,6,1,2,3,4,5,6,1,2,3,4,5,6,"公署","自家用車","キロ数","同乗","徒歩","公署","公署以外その他","自宅","往復",29,30,31,32,33,34,35,36,37,38,29,30,31,32,33,34,35,36,37,38,29,30,31,32,33,34,35,36,37,38,29,30,31,32,33,34,35,36,37,38,29,30,31,32,33,34,35,36,37,38,29,30,31,32,33,34,35,36,37,38,29,30,31,32,33,34,35,36,37,38,29,30,31,32,33,34,35,36,37,38,29,30,31,32,33,34,35,36,37,38,29,30,31,32,33,34,35,36,37,38,"公署","公署以外","自宅",43,43,43,43,45,45,45,45,"BO42",1,2,3,4,5,6,"緊急","時間外","運搬","多目的地","その他","その他内容","チケット","旅費請求","同乗","交通不便","緊急","時間外","運搬","多目的地","その他","その他内容",1,2,1,2,"時間短縮","一般的","通勤区間","時間短縮","一般的","通勤区間","有料道路金額","場所","理由","場所","理由","駐車場金額","あり","金額","支払者","どこから","どこへ","何を使って","何を使って2",null,1,{"$f":"IF(HI2=\"\",\"\",IF(LENB(INDIRECT(\"n\"&HI2+2))<15,VLOOKUP(HI2,$A$3:$T$9999,5,FALSE)&CHAR(9)&INDIRECT(\"gs\"&HI2+2)&CHAR(9)&CHAR(9)&CHAR(9)&VLOOKUP(HI2,$A$3:$T$9999,20,FALSE),VLOOKUP(HI2,$A$3:$T$9999,5,FALSE)&CHAR(9)&INDIRECT(\"gs\"&HI2+2)&CHAR(9)&CHAR(9)&VLOOKUP(HI2,$A$3:$T$9999,20,FALSE)))","v":"\t\t\t\t"}]
[1,null,null,null,null,null,null,null,null,null,null,null,null,null,null,null,null,null,null,null,null,null,null,null,null,null,null,null,null,null,null,null,null,null,null,null,null,null,null,null,null,null,null,null,null,null,null,null,null,null,null,null,null,null,null,null,null,null,null,null,null,null,null,null,null,null,null,null,null,null,null,null,null,null,null,null,null,null,null,null,null,null,null,null,null,null,null,null,null,null,null,null,null,null,null,null,null,null,null,null,null,null,null,null,null,null,null,null,null,null,null,null,null,null,null,null,null,null,null,null,null,null,null,null,null,null,null,null,null,null,null,null,null,null,null,null,null,null,null,null,null,null,null,null,null,null,null,null,null,null,null,null,null,null,null,null,null,null,null,null,null,null,null,null,null,null,null,null,null,null,null,null,null,null,null,null,null,null,null,null,null,null,null,null,null,null,null,null,null,null,null,null,null,null,null,null,null,null,null,null,null,null,null,null,null,null,null,null,null,null,null,null,null,null,null,null,null,{"$f":"IF(HI3=\"\",\"\",IF(LENB(INDIRECT(\"n\"&HI3+2))<15,VLOOKUP(HI3,$A$3:$T$9999,5,FALSE)&CHAR(9)&INDIRECT(\"gs\"&HI3+2)&CHAR(9)&CHAR(9)&CHAR(9)&VLOOKUP(HI3,$A$3:$T$9999,20,FALSE),VLOOKUP(HI3,$A$3:$T$9999,5,FALSE)&CHAR(9)&INDIRECT(\"gs\"&HI3+2)&CHAR(9)&CHAR(9)&VLOOKUP(HI3,$A$3:$T$9999,20,FALSE)))","v":""},null,{"$f":"IF(LENB(N3)<15,F3&\"年\"&G3&\"月\"&H3&\"日\"&CHAR(9)&E3&CHAR(9)&HM3&CHAR(9)&CHAR(9)&CHAR(9)&T3,F3&\"年\"&G3&\"月\"&H3&\"日\"&CHAR(9)&E3&CHAR(9)&HM3&CHAR(9)&CHAR(9)&T3)","v":"年月日\t\t0\t\t\t"},{"$f":"IF(LENB(N3)<15,N3,LEFT(N3,9)&\"(略)\")","v":0}]
[2,null,null,null,null,null,null,null,null,null,null,null,null,null,null,null,null,null,null,null,null,null,null,null,null,null,null,null,null,null,null,null,null,null,null,null,null,null,null,null,null,null,null,null,null,null,null,null,null,null,null,null,null,null,null,null,null,null,null,null,null,null,null,null,null,null,null,null,null,null,null,null,null,null,null,null,null,null,null,null,null,null,null,null,null,null,null,null,null,null,null,null,null,null,null,null,null,null,null,null,null,null,null,null,null,null,null,null,null,null,null,null,null,null,null,null,null,null,null,null,null,null,null,null,null,null,null,null,null,null,null,null,null,null,null,null,null,null,null,null,null,null,null,null,null,null,null,null,null,null,null,null,null,null,null,null,null,null,null,null,null,null,null,null,null,null,null,null,null,null,null,null,null,null,null,null,null,null,null,null,null,null,null,null,null,null,null,null,null,null,null,null,null,null,null,null,null,null,null,null,null,null,null,null,null,null,null,null,null,null,null,null,null,null,null,null,null,{"$f":"IF(HI4=\"\",\"\",IF(LENB(INDIRECT(\"n\"&HI4+2))<15,VLOOKUP(HI4,$A$3:$T$9999,5,FALSE)&CHAR(9)&INDIRECT(\"gs\"&HI4+2)&CHAR(9)&CHAR(9)&CHAR(9)&VLOOKUP(HI4,$A$3:$T$9999,20,FALSE),VLOOKUP(HI4,$A$3:$T$9999,5,FALSE)&CHAR(9)&INDIRECT(\"gs\"&HI4+2)&CHAR(9)&CHAR(9)&VLOOKUP(HI4,$A$3:$T$9999,20,FALSE)))","v":""},null,"年月日\t\t0\t\t\t",0]
[3,null,null,null,null,null,null,null,null,null,null,null,null,null,null,null,null,null,null,null,null,null,null,null,null,null,null,null,null,null,null,null,null,null,null,null,null,null,null,null,null,null,null,null,null,null,null,null,null,null,null,null,null,null,null,null,null,null,null,null,null,null,null,null,null,null,null,null,null,null,null,null,null,null,null,null,null,null,null,null,null,null,null,null,null,null,null,null,null,null,null,null,null,null,null,null,null,null,null,null,null,null,null,null,null,null,null,null,null,null,null,null,null,null,null,null,null,null,null,null,null,null,null,null,null,null,null,null,null,null,null,null,null,null,null,null,null,null,null,null,null,null,null,null,null,null,null,null,null,null,null,null,null,null,null,null,null,null,null,null,null,null,null,null,null,null,null,null,null,null,null,null,null,null,null,null,null,null,null,null,null,null,null,null,null,null,null,null,null,null,null,null,null,null,null,null,null,null,null,null,null,null,null,null,null,null,null,null,null,null,null,null,null,null,null,null,null,"",null,"年月日\t\t0\t\t\t",0]
[4,null,null,null,null,null,null,null,null,null,null,null,null,null,null,null,null,null,null,null,null,null,null,null,null,null,null,null,null,null,null,null,null,null,null,null,null,null,null,null,null,null,null,null,null,null,null,null,null,null,null,null,null,null,null,null,null,null,null,null,null,null,null,null,null,null,null,null,null,null,null,null,null,null,null,null,null,null,null,null,null,null,null,null,null,null,null,null,null,null,null,null,null,null,null,null,null,null,null,null,null,null,null,null,null,null,null,null,null,null,null,null,null,null,null,null,null,null,null,null,null,null,null,null,null,null,null,null,null,null,null,null,null,null,null,null,null,null,null,null,null,null,null,null,null,null,null,null,null,null,null,null,null,null,null,null,null,null,null,null,null,null,null,null,null,null,null,null,null,null,null,null,null,null,null,null,null,null,null,null,null,null,null,null,null,null,null,null,null,null,null,null,null,null,null,null,null,null,null,null,null,null,null,null,null,null,null,null,null,null,null,null,null,null,null,null,null,"",null,"年月日\t\t0\t\t\t",0]
[5,null,null,null,null,null,null,null,null,null,null,null,null,null,null,null,null,null,null,null,null,null,null,null,null,null,null,null,null,null,null,null,null,null,null,null,null,null,null,null,null,null,null,null,null,null,null,null,null,null,null,null,null,null,null,null,null,null,null,null,null,null,null,null,null,null,null,null,null,null,null,null,null,null,null,null,null,null,null,null,null,null,null,null,null,null,null,null,null,null,null,null,null,null,null,null,null,null,null,null,null,null,null,null,null,null,null,null,null,null,null,null,null,null,null,null,null,null,null,null,null,null,null,null,null,null,null,null,null,null,null,null,null,null,null,null,null,null,null,null,null,null,null,null,null,null,null,null,null,null,null,null,null,null,null,null,null,null,null,null,null,null,null,null,null,null,null,null,null,null,null,null,null,null,null,null,null,null,null,null,null,null,null,null,null,null,null,null,null,null,null,null,null,null,null,null,null,null,null,null,null,null,null,null,null,null,null,null,null,null,null,null,null,null,null,null,null,"",null,"年月日\t\t0\t\t\t",0]
[6,null,null,null,null,null,null,null,null,null,null,null,null,null,null,null,null,null,null,null,null,null,null,null,null,null,null,null,null,null,null,null,null,null,null,null,null,null,null,null,null,null,null,null,null,null,null,null,null,null,null,null,null,null,null,null,null,null,null,null,null,null,null,null,null,null,null,null,null,null,null,null,null,null,null,null,null,null,null,null,null,null,null,null,null,null,null,null,null,null,null,null,null,null,null,null,null,null,null,null,null,null,null,null,null,null,null,null,null,null,null,null,null,null,null,null,null,null,null,null,null,null,null,null,null,null,null,null,null,null,null,null,null,null,null,null,null,null,null,null,null,null,null,null,null,null,null,null,null,null,null,null,null,null,null,null,null,null,null,null,null,null,null,null,null,null,null,null,null,null,null,null,null,null,null,null,null,null,null,null,null,null,null,null,null,null,null,null,null,null,null,null,null,null,null,null,null,null,null,null,null,null,null,null,null,null,null,null,null,null,null,null,null,null,null,null,null,"",null,"年月日\t\t0\t\t\t",0]
[7,null,null,null,null,null,null,null,null,null,null,null,null,null,null,null,null,null,null,null,null,null,null,null,null,null,null,null,null,null,null,null,null,null,null,null,null,null,null,null,null,null,null,null,null,null,null,null,null,null,null,null,null,null,null,null,null,null,null,null,null,null,null,null,null,null,null,null,null,null,null,null,null,null,null,null,null,null,null,null,null,null,null,null,null,null,null,null,null,null,null,null,null,null,null,null,null,null,null,null,null,null,null,null,null,null,null,null,null,null,null,null,null,null,null,null,null,null,null,null,null,null,null,null,null,null,null,null,null,null,null,null,null,null,null,null,null,null,null,null,null,null,null,null,null,null,null,null,null,null,null,null,null,null,null,null,null,null,null,null,null,null,null,null,null,null,null,null,null,null,null,null,null,null,null,null,null,null,null,null,null,null,null,null,null,null,null,null,null,null,null,null,null,null,null,null,null,null,null,null,null,null,null,null,null,null,null,null,null,null,null,null,null,null,null,null,null,"",null,"年月日\t\t0\t\t\t",0]
[8,null,null,null,null,null,null,null,null,null,null,null,null,null,null,null,null,null,null,null,null,null,null,null,null,null,null,null,null,null,null,null,null,null,null,null,null,null,null,null,null,null,null,null,null,null,null,null,null,null,null,null,null,null,null,null,null,null,null,null,null,null,null,null,null,null,null,null,null,null,null,null,null,null,null,null,null,null,null,null,null,null,null,null,null,null,null,null,null,null,null,null,null,null,null,null,null,null,null,null,null,null,null,null,null,null,null,null,null,null,null,null,null,null,null,null,null,null,null,null,null,null,null,null,null,null,null,null,null,null,null,null,null,null,null,null,null,null,null,null,null,null,null,null,null,null,null,null,null,null,null,null,null,null,null,null,null,null,null,null,null,null,null,null,null,null,null,null,null,null,null,null,null,null,null,null,null,null,null,null,null,null,null,null,null,null,null,null,null,null,null,null,null,null,null,null,null,null,null,null,null,null,null,null,null,null,null,null,null,null,null,null,null,null,null,null,null,"",null,"年月日\t\t0\t\t\t",0]
[9,null,null,null,null,null,null,null,null,null,null,null,null,null,null,null,null,null,null,null,null,null,null,null,null,null,null,null,null,null,null,null,null,null,null,null,null,null,null,null,null,null,null,null,null,null,null,null,null,null,null,null,null,null,null,null,null,null,null,null,null,null,null,null,null,null,null,null,null,null,null,null,null,null,null,null,null,null,null,null,null,null,null,null,null,null,null,null,null,null,null,null,null,null,null,null,null,null,null,null,null,null,null,null,null,null,null,null,null,null,null,null,null,null,null,null,null,null,null,null,null,null,null,null,null,null,null,null,null,null,null,null,null,null,null,null,null,null,null,null,null,null,null,null,null,null,null,null,null,null,null,null,null,null,null,null,null,null,null,null,null,null,null,null,null,null,null,null,null,null,null,null,null,null,null,null,null,null,null,null,null,null,null,null,null,null,null,null,null,null,null,null,null,null,null,null,null,null,null,null,null,null,null,null,null,null,null,null,null,null,null,null,null,null,null,null,null,"",null,"年月日\t\t0\t\t\t",0]
[10,null,null,null,null,null,null,null,null,null,null,null,null,null,null,null,null,null,null,null,null,null,null,null,null,null,null,null,null,null,null,null,null,null,null,null,null,null,null,null,null,null,null,null,null,null,null,null,null,null,null,null,null,null,null,null,null,null,null,null,null,null,null,null,null,null,null,null,null,null,null,null,null,null,null,null,null,null,null,null,null,null,null,null,null,null,null,null,null,null,null,null,null,null,null,null,null,null,null,null,null,null,null,null,null,null,null,null,null,null,null,null,null,null,null,null,null,null,null,null,null,null,null,null,null,null,null,null,null,null,null,null,null,null,null,null,null,null,null,null,null,null,null,null,null,null,null,null,null,null,null,null,null,null,null,null,null,null,null,null,null,null,null,null,null,null,null,null,null,null,null,null,null,null,null,null,null,null,null,null,null,null,null,null,null,null,null,null,null,null,null,null,null,null,null,null,null,null,null,null,null,null,null,null,null,null,null,null,null,null,null,null,null,null,null,null,null,"",null,"年月日\t\t0\t\t\t",0]
[11,null,null,null,null,null,null,null,null,null,null,null,null,null,null,null,null,null,null,null,null,null,null,null,null,null,null,null,null,null,null,null,null,null,null,null,null,null,null,null,null,null,null,null,null,null,null,null,null,null,null,null,null,null,null,null,null,null,null,null,null,null,null,null,null,null,null,null,null,null,null,null,null,null,null,null,null,null,null,null,null,null,null,null,null,null,null,null,null,null,null,null,null,null,null,null,null,null,null,null,null,null,null,null,null,null,null,null,null,null,null,null,null,null,null,null,null,null,null,null,null,null,null,null,null,null,null,null,null,null,null,null,null,null,null,null,null,null,null,null,null,null,null,null,null,null,null,null,null,null,null,null,null,null,null,null,null,null,null,null,null,null,null,null,null,null,null,null,null,null,null,null,null,null,null,null,null,null,null,null,null,null,null,null,null,null,null,null,null,null,null,null,null,null,null,null,null,null,null,null,null,null,null,null,null,null,null,null,null,null,null,null,null,null,null,null,null,"",null,"年月日\t\t0\t\t\t",0]
[12,null,null,null,null,null,null,null,null,null,null,null,null,null,null,null,null,null,null,null,null,null,null,null,null,null,null,null,null,null,null,null,null,null,null,null,null,null,null,null,null,null,null,null,null,null,null,null,null,null,null,null,null,null,null,null,null,null,null,null,null,null,null,null,null,null,null,null,null,null,null,null,null,null,null,null,null,null,null,null,null,null,null,null,null,null,null,null,null,null,null,null,null,null,null,null,null,null,null,null,null,null,null,null,null,null,null,null,null,null,null,null,null,null,null,null,null,null,null,null,null,null,null,null,null,null,null,null,null,null,null,null,null,null,null,null,null,null,null,null,null,null,null,null,null,null,null,null,null,null,null,null,null,null,null,null,null,null,null,null,null,null,null,null,null,null,null,null,null,null,null,null,null,null,null,null,null,null,null,null,null,null,null,null,null,null,null,null,null,null,null,null,null,null,null,null,null,null,null,null,null,null,null,null,null,null,null,null,null,null,null,null,null,null,null,null,null,"",null,"年月日\t\t0\t\t\t",0]
[13,null,null,null,null,null,null,null,null,null,null,null,null,null,null,null,null,null,null,null,null,null,null,null,null,null,null,null,null,null,null,null,null,null,null,null,null,null,null,null,null,null,null,null,null,null,null,null,null,null,null,null,null,null,null,null,null,null,null,null,null,null,null,null,null,null,null,null,null,null,null,null,null,null,null,null,null,null,null,null,null,null,null,null,null,null,null,null,null,null,null,null,null,null,null,null,null,null,null,null,null,null,null,null,null,null,null,null,null,null,null,null,null,null,null,null,null,null,null,null,null,null,null,null,null,null,null,null,null,null,null,null,null,null,null,null,null,null,null,null,null,null,null,null,null,null,null,null,null,null,null,null,null,null,null,null,null,null,null,null,null,null,null,null,null,null,null,null,null,null,null,null,null,null,null,null,null,null,null,null,null,null,null,null,null,null,null,null,null,null,null,null,null,null,null,null,null,null,null,null,null,null,null,null,null,null,null,null,null,null,null,null,null,null,null,null,null,"",null,"年月日\t\t0\t\t\t",0]
[14,null,null,null,null,null,null,null,null,null,null,null,null,null,null,null,null,null,null,null,null,null,null,null,null,null,null,null,null,null,null,null,null,null,null,null,null,null,null,null,null,null,null,null,null,null,null,null,null,null,null,null,null,null,null,null,null,null,null,null,null,null,null,null,null,null,null,null,null,null,null,null,null,null,null,null,null,null,null,null,null,null,null,null,null,null,null,null,null,null,null,null,null,null,null,null,null,null,null,null,null,null,null,null,null,null,null,null,null,null,null,null,null,null,null,null,null,null,null,null,null,null,null,null,null,null,null,null,null,null,null,null,null,null,null,null,null,null,null,null,null,null,null,null,null,null,null,null,null,null,null,null,null,null,null,null,null,null,null,null,null,null,null,null,null,null,null,null,null,null,null,null,null,null,null,null,null,null,null,null,null,null,null,null,null,null,null,null,null,null,null,null,null,null,null,null,null,null,null,null,null,null,null,null,null,null,null,null,null,null,null,null,null,null,null,null,null,"",null,"年月日\t\t0\t\t\t",0]
[15,null,null,null,null,null,null,null,null,null,null,null,null,null,null,null,null,null,null,null,null,null,null,null,null,null,null,null,null,null,null,null,null,null,null,null,null,null,null,null,null,null,null,null,null,null,null,null,null,null,null,null,null,null,null,null,null,null,null,null,null,null,null,null,null,null,null,null,null,null,null,null,null,null,null,null,null,null,null,null,null,null,null,null,null,null,null,null,null,null,null,null,null,null,null,null,null,null,null,null,null,null,null,null,null,null,null,null,null,null,null,null,null,null,null,null,null,null,null,null,null,null,null,null,null,null,null,null,null,null,null,null,null,null,null,null,null,null,null,null,null,null,null,null,null,null,null,null,null,null,null,null,null,null,null,null,null,null,null,null,null,null,null,null,null,null,null,null,null,null,null,null,null,null,null,null,null,null,null,null,null,null,null,null,null,null,null,null,null,null,null,null,null,null,null,null,null,null,null,null,null,null,null,null,null,null,null,null,null,null,null,null,null,null,null,null,null,"",null,"年月日\t\t0\t\t\t",0]
[16,null,null,null,null,null,null,null,null,null,null,null,null,null,null,null,null,null,null,null,null,null,null,null,null,null,null,null,null,null,null,null,null,null,null,null,null,null,null,null,null,null,null,null,null,null,null,null,null,null,null,null,null,null,null,null,null,null,null,null,null,null,null,null,null,null,null,null,null,null,null,null,null,null,null,null,null,null,null,null,null,null,null,null,null,null,null,null,null,null,null,null,null,null,null,null,null,null,null,null,null,null,null,null,null,null,null,null,null,null,null,null,null,null,null,null,null,null,null,null,null,null,null,null,null,null,null,null,null,null,null,null,null,null,null,null,null,null,null,null,null,null,null,null,null,null,null,null,null,null,null,null,null,null,null,null,null,null,null,null,null,null,null,null,null,null,null,null,null,null,null,null,null,null,null,null,null,null,null,null,null,null,null,null,null,null,null,null,null,null,null,null,null,null,null,null,null,null,null,null,null,null,null,null,null,null,null,null,null,null,null,null,null,null,null,null,null,"",null,"年月日\t\t0\t\t\t",0]
[17,null,null,null,null,null,null,null,null,null,null,null,null,null,null,null,null,null,null,null,null,null,null,null,null,null,null,null,null,null,null,null,null,null,null,null,null,null,null,null,null,null,null,null,null,null,null,null,null,null,null,null,null,null,null,null,null,null,null,null,null,null,null,null,null,null,null,null,null,null,null,null,null,null,null,null,null,null,null,null,null,null,null,null,null,null,null,null,null,null,null,null,null,null,null,null,null,null,null,null,null,null,null,null,null,null,null,null,null,null,null,null,null,null,null,null,null,null,null,null,null,null,null,null,null,null,null,null,null,null,null,null,null,null,null,null,null,null,null,null,null,null,null,null,null,null,null,null,null,null,null,null,null,null,null,null,null,null,null,null,null,null,null,null,null,null,null,null,null,null,null,null,null,null,null,null,null,null,null,null,null,null,null,null,null,null,null,null,null,null,null,null,null,null,null,null,null,null,null,null,null,null,null,null,null,null,null,null,null,null,null,null,null,null,null,null,null,"",null,"年月日\t\t0\t\t\t",0]
[18,null,null,null,null,null,null,null,null,null,null,null,null,null,null,null,null,null,null,null,null,null,null,null,null,null,null,null,null,null,null,null,null,null,null,null,null,null,null,null,null,null,null,null,null,null,null,null,null,null,null,null,null,null,null,null,null,null,null,null,null,null,null,null,null,null,null,null,null,null,null,null,null,null,null,null,null,null,null,null,null,null,null,null,null,null,null,null,null,null,null,null,null,null,null,null,null,null,null,null,null,null,null,null,null,null,null,null,null,null,null,null,null,null,null,null,null,null,null,null,null,null,null,null,null,null,null,null,null,null,null,null,null,null,null,null,null,null,null,null,null,null,null,null,null,null,null,null,null,null,null,null,null,null,null,null,null,null,null,null,null,null,null,null,null,null,null,null,null,null,null,null,null,null,null,null,null,null,null,null,null,null,null,null,null,null,null,null,null,null,null,null,null,null,null,null,null,null,null,null,null,null,null,null,null,null,null,null,null,null,null,null,null,null,null,null,null,"",null,"年月日\t\t0\t\t\t",0]
[19,null,null,null,null,null,null,null,null,null,null,null,null,null,null,null,null,null,null,null,null,null,null,null,null,null,null,null,null,null,null,null,null,null,null,null,null,null,null,null,null,null,null,null,null,null,null,null,null,null,null,null,null,null,null,null,null,null,null,null,null,null,null,null,null,null,null,null,null,null,null,null,null,null,null,null,null,null,null,null,null,null,null,null,null,null,null,null,null,null,null,null,null,null,null,null,null,null,null,null,null,null,null,null,null,null,null,null,null,null,null,null,null,null,null,null,null,null,null,null,null,null,null,null,null,null,null,null,null,null,null,null,null,null,null,null,null,null,null,null,null,null,null,null,null,null,null,null,null,null,null,null,null,null,null,null,null,null,null,null,null,null,null,null,null,null,null,null,null,null,null,null,null,null,null,null,null,null,null,null,null,null,null,null,null,null,null,null,null,null,null,null,null,null,null,null,null,null,null,null,null,null,null,null,null,null,null,null,null,null,null,null,null,null,null,null,null,"",null,"年月日\t\t0\t\t\t",0]
[20,null,null,null,null,null,null,null,null,null,null,null,null,null,null,null,null,null,null,null,null,null,null,null,null,null,null,null,null,null,null,null,null,null,null,null,null,null,null,null,null,null,null,null,null,null,null,null,null,null,null,null,null,null,null,null,null,null,null,null,null,null,null,null,null,null,null,null,null,null,null,null,null,null,null,null,null,null,null,null,null,null,null,null,null,null,null,null,null,null,null,null,null,null,null,null,null,null,null,null,null,null,null,null,null,null,null,null,null,null,null,null,null,null,null,null,null,null,null,null,null,null,null,null,null,null,null,null,null,null,null,null,null,null,null,null,null,null,null,null,null,null,null,null,null,null,null,null,null,null,null,null,null,null,null,null,null,null,null,null,null,null,null,null,null,null,null,null,null,null,null,null,null,null,null,null,null,null,null,null,null,null,null,null,null,null,null,null,null,null,null,null,null,null,null,null,null,null,null,null,null,null,null,null,null,null,null,null,null,null,null,null,null,null,null,null,null,"",null,"年月日\t\t0\t\t\t",0]
[21,null,null,null,null,null,null,null,null,null,null,null,null,null,null,null,null,null,null,null,null,null,null,null,null,null,null,null,null,null,null,null,null,null,null,null,null,null,null,null,null,null,null,null,null,null,null,null,null,null,null,null,null,null,null,null,null,null,null,null,null,null,null,null,null,null,null,null,null,null,null,null,null,null,null,null,null,null,null,null,null,null,null,null,null,null,null,null,null,null,null,null,null,null,null,null,null,null,null,null,null,null,null,null,null,null,null,null,null,null,null,null,null,null,null,null,null,null,null,null,null,null,null,null,null,null,null,null,null,null,null,null,null,null,null,null,null,null,null,null,null,null,null,null,null,null,null,null,null,null,null,null,null,null,null,null,null,null,null,null,null,null,null,null,null,null,null,null,null,null,null,null,null,null,null,null,null,null,null,null,null,null,null,null,null,null,null,null,null,null,null,null,null,null,null,null,null,null,null,null,null,null,null,null,null,null,null,null,null,null,null,null,null,null,null,null,null,"",null,"年月日\t\t0\t\t\t",0]
[22,null,null,null,null,null,null,null,null,null,null,null,null,null,null,null,null,null,null,null,null,null,null,null,null,null,null,null,null,null,null,null,null,null,null,null,null,null,null,null,null,null,null,null,null,null,null,null,null,null,null,null,null,null,null,null,null,null,null,null,null,null,null,null,null,null,null,null,null,null,null,null,null,null,null,null,null,null,null,null,null,null,null,null,null,null,null,null,null,null,null,null,null,null,null,null,null,null,null,null,null,null,null,null,null,null,null,null,null,null,null,null,null,null,null,null,null,null,null,null,null,null,null,null,null,null,null,null,null,null,null,null,null,null,null,null,null,null,null,null,null,null,null,null,null,null,null,null,null,null,null,null,null,null,null,null,null,null,null,null,null,null,null,null,null,null,null,null,null,null,null,null,null,null,null,null,null,null,null,null,null,null,null,null,null,null,null,null,null,null,null,null,null,null,null,null,null,null,null,null,null,null,null,null,null,null,null,null,null,null,null,null,null,null,null,null,null,"",null,"年月日\t\t0\t\t\t",0]
[23,null,null,null,null,null,null,null,null,null,null,null,null,null,null,null,null,null,null,null,null,null,null,null,null,null,null,null,null,null,null,null,null,null,null,null,null,null,null,null,null,null,null,null,null,null,null,null,null,null,null,null,null,null,null,null,null,null,null,null,null,null,null,null,null,null,null,null,null,null,null,null,null,null,null,null,null,null,null,null,null,null,null,null,null,null,null,null,null,null,null,null,null,null,null,null,null,null,null,null,null,null,null,null,null,null,null,null,null,null,null,null,null,null,null,null,null,null,null,null,null,null,null,null,null,null,null,null,null,null,null,null,null,null,null,null,null,null,null,null,null,null,null,null,null,null,null,null,null,null,null,null,null,null,null,null,null,null,null,null,null,null,null,null,null,null,null,null,null,null,null,null,null,null,null,null,null,null,null,null,null,null,null,null,null,null,null,null,null,null,null,null,null,null,null,null,null,null,null,null,null,null,null,null,null,null,null,null,null,null,null,null,null,null,null,null,null,"",null,"年月日\t\t0\t\t\t",0]
[24,null,null,null,null,null,null,null,null,null,null,null,null,null,null,null,null,null,null,null,null,null,null,null,null,null,null,null,null,null,null,null,null,null,null,null,null,null,null,null,null,null,null,null,null,null,null,null,null,null,null,null,null,null,null,null,null,null,null,null,null,null,null,null,null,null,null,null,null,null,null,null,null,null,null,null,null,null,null,null,null,null,null,null,null,null,null,null,null,null,null,null,null,null,null,null,null,null,null,null,null,null,null,null,null,null,null,null,null,null,null,null,null,null,null,null,null,null,null,null,null,null,null,null,null,null,null,null,null,null,null,null,null,null,null,null,null,null,null,null,null,null,null,null,null,null,null,null,null,null,null,null,null,null,null,null,null,null,null,null,null,null,null,null,null,null,null,null,null,null,null,null,null,null,null,null,null,null,null,null,null,null,null,null,null,null,null,null,null,null,null,null,null,null,null,null,null,null,null,null,null,null,null,null,null,null,null,null,null,null,null,null,null,null,null,null,null,"",null,"年月日\t\t0\t\t\t",0]
[25,null,null,null,null,null,null,null,null,null,null,null,null,null,null,null,null,null,null,null,null,null,null,null,null,null,null,null,null,null,null,null,null,null,null,null,null,null,null,null,null,null,null,null,null,null,null,null,null,null,null,null,null,null,null,null,null,null,null,null,null,null,null,null,null,null,null,null,null,null,null,null,null,null,null,null,null,null,null,null,null,null,null,null,null,null,null,null,null,null,null,null,null,null,null,null,null,null,null,null,null,null,null,null,null,null,null,null,null,null,null,null,null,null,null,null,null,null,null,null,null,null,null,null,null,null,null,null,null,null,null,null,null,null,null,null,null,null,null,null,null,null,null,null,null,null,null,null,null,null,null,null,null,null,null,null,null,null,null,null,null,null,null,null,null,null,null,null,null,null,null,null,null,null,null,null,null,null,null,null,null,null,null,null,null,null,null,null,null,null,null,null,null,null,null,null,null,null,null,null,null,null,null,null,null,null,null,null,null,null,null,null,null,null,null,null,null,"",null,"年月日\t\t0\t\t\t",0]
[26,null,null,null,null,null,null,null,null,null,null,null,null,null,null,null,null,null,null,null,null,null,null,null,null,null,null,null,null,null,null,null,null,null,null,null,null,null,null,null,null,null,null,null,null,null,null,null,null,null,null,null,null,null,null,null,null,null,null,null,null,null,null,null,null,null,null,null,null,null,null,null,null,null,null,null,null,null,null,null,null,null,null,null,null,null,null,null,null,null,null,null,null,null,null,null,null,null,null,null,null,null,null,null,null,null,null,null,null,null,null,null,null,null,null,null,null,null,null,null,null,null,null,null,null,null,null,null,null,null,null,null,null,null,null,null,null,null,null,null,null,null,null,null,null,null,null,null,null,null,null,null,null,null,null,null,null,null,null,null,null,null,null,null,null,null,null,null,null,null,null,null,null,null,null,null,null,null,null,null,null,null,null,null,null,null,null,null,null,null,null,null,null,null,null,null,null,null,null,null,null,null,null,null,null,null,null,null,null,null,null,null,null,null,null,null,null,"",null,"年月日\t\t0\t\t\t",0]
[27,null,null,null,null,null,null,null,null,null,null,null,null,null,null,null,null,null,null,null,null,null,null,null,null,null,null,null,null,null,null,null,null,null,null,null,null,null,null,null,null,null,null,null,null,null,null,null,null,null,null,null,null,null,null,null,null,null,null,null,null,null,null,null,null,null,null,null,null,null,null,null,null,null,null,null,null,null,null,null,null,null,null,null,null,null,null,null,null,null,null,null,null,null,null,null,null,null,null,null,null,null,null,null,null,null,null,null,null,null,null,null,null,null,null,null,null,null,null,null,null,null,null,null,null,null,null,null,null,null,null,null,null,null,null,null,null,null,null,null,null,null,null,null,null,null,null,null,null,null,null,null,null,null,null,null,null,null,null,null,null,null,null,null,null,null,null,null,null,null,null,null,null,null,null,null,null,null,null,null,null,null,null,null,null,null,null,null,null,null,null,null,null,null,null,null,null,null,null,null,null,null,null,null,null,null,null,null,null,null,null,null,null,null,null,null,null,"",null,"年月日\t\t0\t\t\t",0]
[28,null,null,null,null,null,null,null,null,null,null,null,null,null,null,null,null,null,null,null,null,null,null,null,null,null,null,null,null,null,null,null,null,null,null,null,null,null,null,null,null,null,null,null,null,null,null,null,null,null,null,null,null,null,null,null,null,null,null,null,null,null,null,null,null,null,null,null,null,null,null,null,null,null,null,null,null,null,null,null,null,null,null,null,null,null,null,null,null,null,null,null,null,null,null,null,null,null,null,null,null,null,null,null,null,null,null,null,null,null,null,null,null,null,null,null,null,null,null,null,null,null,null,null,null,null,null,null,null,null,null,null,null,null,null,null,null,null,null,null,null,null,null,null,null,null,null,null,null,null,null,null,null,null,null,null,null,null,null,null,null,null,null,null,null,null,null,null,null,null,null,null,null,null,null,null,null,null,null,null,null,null,null,null,null,null,null,null,null,null,null,null,null,null,null,null,null,null,null,null,null,null,null,null,null,null,null,null,null,null,null,null,null,null,null,null,null,"",null,"年月日\t\t0\t\t\t",0]
[29,null,null,null,null,null,null,null,null,null,null,null,null,null,null,null,null,null,null,null,null,null,null,null,null,null,null,null,null,null,null,null,null,null,null,null,null,null,null,null,null,null,null,null,null,null,null,null,null,null,null,null,null,null,null,null,null,null,null,null,null,null,null,null,null,null,null,null,null,null,null,null,null,null,null,null,null,null,null,null,null,null,null,null,null,null,null,null,null,null,null,null,null,null,null,null,null,null,null,null,null,null,null,null,null,null,null,null,null,null,null,null,null,null,null,null,null,null,null,null,null,null,null,null,null,null,null,null,null,null,null,null,null,null,null,null,null,null,null,null,null,null,null,null,null,null,null,null,null,null,null,null,null,null,null,null,null,null,null,null,null,null,null,null,null,null,null,null,null,null,null,null,null,null,null,null,null,null,null,null,null,null,null,null,null,null,null,null,null,null,null,null,null,null,null,null,null,null,null,null,null,null,null,null,null,null,null,null,null,null,null,null,null,null,null,null,null,"",null,"年月日\t\t0\t\t\t",0]
[30,null,null,null,null,null,null,null,null,null,null,null,null,null,null,null,null,null,null,null,null,null,null,null,null,null,null,null,null,null,null,null,null,null,null,null,null,null,null,null,null,null,null,null,null,null,null,null,null,null,null,null,null,null,null,null,null,null,null,null,null,null,null,null,null,null,null,null,null,null,null,null,null,null,null,null,null,null,null,null,null,null,null,null,null,null,null,null,null,null,null,null,null,null,null,null,null,null,null,null,null,null,null,null,null,null,null,null,null,null,null,null,null,null,null,null,null,null,null,null,null,null,null,null,null,null,null,null,null,null,null,null,null,null,null,null,null,null,null,null,null,null,null,null,null,null,null,null,null,null,null,null,null,null,null,null,null,null,null,null,null,null,null,null,null,null,null,null,null,null,null,null,null,null,null,null,null,null,null,null,null,null,null,null,null,null,null,null,null,null,null,null,null,null,null,null,null,null,null,null,null,null,null,null,null,null,null,null,null,null,null,null,null,null,null,null,null,"",null,"年月日\t\t0\t\t\t",0]
[31,null,null,null,null,null,null,null,null,null,null,null,null,null,null,null,null,null,null,null,null,null,null,null,null,null,null,null,null,null,null,null,null,null,null,null,null,null,null,null,null,null,null,null,null,null,null,null,null,null,null,null,null,null,null,null,null,null,null,null,null,null,null,null,null,null,null,null,null,null,null,null,null,null,null,null,null,null,null,null,null,null,null,null,null,null,null,null,null,null,null,null,null,null,null,null,null,null,null,null,null,null,null,null,null,null,null,null,null,null,null,null,null,null,null,null,null,null,null,null,null,null,null,null,null,null,null,null,null,null,null,null,null,null,null,null,null,null,null,null,null,null,null,null,null,null,null,null,null,null,null,null,null,null,null,null,null,null,null,null,null,null,null,null,null,null,null,null,null,null,null,null,null,null,null,null,null,null,null,null,null,null,null,null,null,null,null,null,null,null,null,null,null,null,null,null,null,null,null,null,null,null,null,null,null,null,null,null,null,null,null,null,null,null,null,null,null,"",null,"年月日\t\t0\t\t\t",0]
[32,null,null,null,null,null,null,null,null,null,null,null,null,null,null,null,null,null,null,null,null,null,null,null,null,null,null,null,null,null,null,null,null,null,null,null,null,null,null,null,null,null,null,null,null,null,null,null,null,null,null,null,null,null,null,null,null,null,null,null,null,null,null,null,null,null,null,null,null,null,null,null,null,null,null,null,null,null,null,null,null,null,null,null,null,null,null,null,null,null,null,null,null,null,null,null,null,null,null,null,null,null,null,null,null,null,null,null,null,null,null,null,null,null,null,null,null,null,null,null,null,null,null,null,null,null,null,null,null,null,null,null,null,null,null,null,null,null,null,null,null,null,null,null,null,null,null,null,null,null,null,null,null,null,null,null,null,null,null,null,null,null,null,null,null,null,null,null,null,null,null,null,null,null,null,null,null,null,null,null,null,null,null,null,null,null,null,null,null,null,null,null,null,null,null,null,null,null,null,null,null,null,null,null,null,null,null,null,null,null,null,null,null,null,null,null,null,"",null,"年月日\t\t0\t\t\t",0]
[33,null,null,null,null,null,null,null,null,null,null,null,null,null,null,null,null,null,null,null,null,null,null,null,null,null,null,null,null,null,null,null,null,null,null,null,null,null,null,null,null,null,null,null,null,null,null,null,null,null,null,null,null,null,null,null,null,null,null,null,null,null,null,null,null,null,null,null,null,null,null,null,null,null,null,null,null,null,null,null,null,null,null,null,null,null,null,null,null,null,null,null,null,null,null,null,null,null,null,null,null,null,null,null,null,null,null,null,null,null,null,null,null,null,null,null,null,null,null,null,null,null,null,null,null,null,null,null,null,null,null,null,null,null,null,null,null,null,null,null,null,null,null,null,null,null,null,null,null,null,null,null,null,null,null,null,null,null,null,null,null,null,null,null,null,null,null,null,null,null,null,null,null,null,null,null,null,null,null,null,null,null,null,null,null,null,null,null,null,null,null,null,null,null,null,null,null,null,null,null,null,null,null,null,null,null,null,null,null,null,null,null,null,null,null,null,null,"",null,"年月日\t\t0\t\t\t",0]
[34,null,null,null,null,null,null,null,null,null,null,null,null,null,null,null,null,null,null,null,null,null,null,null,null,null,null,null,null,null,null,null,null,null,null,null,null,null,null,null,null,null,null,null,null,null,null,null,null,null,null,null,null,null,null,null,null,null,null,null,null,null,null,null,null,null,null,null,null,null,null,null,null,null,null,null,null,null,null,null,null,null,null,null,null,null,null,null,null,null,null,null,null,null,null,null,null,null,null,null,null,null,null,null,null,null,null,null,null,null,null,null,null,null,null,null,null,null,null,null,null,null,null,null,null,null,null,null,null,null,null,null,null,null,null,null,null,null,null,null,null,null,null,null,null,null,null,null,null,null,null,null,null,null,null,null,null,null,null,null,null,null,null,null,null,null,null,null,null,null,null,null,null,null,null,null,null,null,null,null,null,null,null,null,null,null,null,null,null,null,null,null,null,null,null,null,null,null,null,null,null,null,null,null,null,null,null,null,null,null,null,null,null,null,null,null,null,"",null,"年月日\t\t0\t\t\t",0]
[35,null,null,null,null,null,null,null,null,null,null,null,null,null,null,null,null,null,null,null,null,null,null,null,null,null,null,null,null,null,null,null,null,null,null,null,null,null,null,null,null,null,null,null,null,null,null,null,null,null,null,null,null,null,null,null,null,null,null,null,null,null,null,null,null,null,null,null,null,null,null,null,null,null,null,null,null,null,null,null,null,null,null,null,null,null,null,null,null,null,null,null,null,null,null,null,null,null,null,null,null,null,null,null,null,null,null,null,null,null,null,null,null,null,null,null,null,null,null,null,null,null,null,null,null,null,null,null,null,null,null,null,null,null,null,null,null,null,null,null,null,null,null,null,null,null,null,null,null,null,null,null,null,null,null,null,null,null,null,null,null,null,null,null,null,null,null,null,null,null,null,null,null,null,null,null,null,null,null,null,null,null,null,null,null,null,null,null,null,null,null,null,null,null,null,null,null,null,null,null,null,null,null,null,null,null,null,null,null,null,null,null,null,null,null,null,null,"",null,"年月日\t\t0\t\t\t",0]
[36,null,null,null,null,null,null,null,null,null,null,null,null,null,null,null,null,null,null,null,null,null,null,null,null,null,null,null,null,null,null,null,null,null,null,null,null,null,null,null,null,null,null,null,null,null,null,null,null,null,null,null,null,null,null,null,null,null,null,null,null,null,null,null,null,null,null,null,null,null,null,null,null,null,null,null,null,null,null,null,null,null,null,null,null,null,null,null,null,null,null,null,null,null,null,null,null,null,null,null,null,null,null,null,null,null,null,null,null,null,null,null,null,null,null,null,null,null,null,null,null,null,null,null,null,null,null,null,null,null,null,null,null,null,null,null,null,null,null,null,null,null,null,null,null,null,null,null,null,null,null,null,null,null,null,null,null,null,null,null,null,null,null,null,null,null,null,null,null,null,null,null,null,null,null,null,null,null,null,null,null,null,null,null,null,null,null,null,null,null,null,null,null,null,null,null,null,null,null,null,null,null,null,null,null,null,null,null,null,null,null,null,null,null,null,null,null,"",null,"年月日\t\t0\t\t\t",0]
[37,null,null,null,null,null,null,null,null,null,null,null,null,null,null,null,null,null,null,null,null,null,null,null,null,null,null,null,null,null,null,null,null,null,null,null,null,null,null,null,null,null,null,null,null,null,null,null,null,null,null,null,null,null,null,null,null,null,null,null,null,null,null,null,null,null,null,null,null,null,null,null,null,null,null,null,null,null,null,null,null,null,null,null,null,null,null,null,null,null,null,null,null,null,null,null,null,null,null,null,null,null,null,null,null,null,null,null,null,null,null,null,null,null,null,null,null,null,null,null,null,null,null,null,null,null,null,null,null,null,null,null,null,null,null,null,null,null,null,null,null,null,null,null,null,null,null,null,null,null,null,null,null,null,null,null,null,null,null,null,null,null,null,null,null,null,null,null,null,null,null,null,null,null,null,null,null,null,null,null,null,null,null,null,null,null,null,null,null,null,null,null,null,null,null,null,null,null,null,null,null,null,null,null,null,null,null,null,null,null,null,null,null,null,null,null,null,"",null,"年月日\t\t0\t\t\t",0]
[38,null,null,null,null,null,null,null,null,null,null,null,null,null,null,null,null,null,null,null,null,null,null,null,null,null,null,null,null,null,null,null,null,null,null,null,null,null,null,null,null,null,null,null,null,null,null,null,null,null,null,null,null,null,null,null,null,null,null,null,null,null,null,null,null,null,null,null,null,null,null,null,null,null,null,null,null,null,null,null,null,null,null,null,null,null,null,null,null,null,null,null,null,null,null,null,null,null,null,null,null,null,null,null,null,null,null,null,null,null,null,null,null,null,null,null,null,null,null,null,null,null,null,null,null,null,null,null,null,null,null,null,null,null,null,null,null,null,null,null,null,null,null,null,null,null,null,null,null,null,null,null,null,null,null,null,null,null,null,null,null,null,null,null,null,null,null,null,null,null,null,null,null,null,null,null,null,null,null,null,null,null,null,null,null,null,null,null,null,null,null,null,null,null,null,null,null,null,null,null,null,null,null,null,null,null,null,null,null,null,null,null,null,null,null,null,null,"",null,"年月日\t\t0\t\t\t",0]
[39,null,null,null,null,null,null,null,null,null,null,null,null,null,null,null,null,null,null,null,null,null,null,null,null,null,null,null,null,null,null,null,null,null,null,null,null,null,null,null,null,null,null,null,null,null,null,null,null,null,null,null,null,null,null,null,null,null,null,null,null,null,null,null,null,null,null,null,null,null,null,null,null,null,null,null,null,null,null,null,null,null,null,null,null,null,null,null,null,null,null,null,null,null,null,null,null,null,null,null,null,null,null,null,null,null,null,null,null,null,null,null,null,null,null,null,null,null,null,null,null,null,null,null,null,null,null,null,null,null,null,null,null,null,null,null,null,null,null,null,null,null,null,null,null,null,null,null,null,null,null,null,null,null,null,null,null,null,null,null,null,null,null,null,null,null,null,null,null,null,null,null,null,null,null,null,null,null,null,null,null,null,null,null,null,null,null,null,null,null,null,null,null,null,null,null,null,null,null,null,null,null,null,null,null,null,null,null,null,null,null,null,null,null,null,null,null,"",null,"年月日\t\t0\t\t\t",0]
[40,null,null,null,null,null,null,null,null,null,null,null,null,null,null,null,null,null,null,null,null,null,null,null,null,null,null,null,null,null,null,null,null,null,null,null,null,null,null,null,null,null,null,null,null,null,null,null,null,null,null,null,null,null,null,null,null,null,null,null,null,null,null,null,null,null,null,null,null,null,null,null,null,null,null,null,null,null,null,null,null,null,null,null,null,null,null,null,null,null,null,null,null,null,null,null,null,null,null,null,null,null,null,null,null,null,null,null,null,null,null,null,null,null,null,null,null,null,null,null,null,null,null,null,null,null,null,null,null,null,null,null,null,null,null,null,null,null,null,null,null,null,null,null,null,null,null,null,null,null,null,null,null,null,null,null,null,null,null,null,null,null,null,null,null,null,null,null,null,null,null,null,null,null,null,null,null,null,null,null,null,null,null,null,null,null,null,null,null,null,null,null,null,null,null,null,null,null,null,null,null,null,null,null,null,null,null,null,null,null,null,null,null,null,null,null,null,"",null,"年月日\t\t0\t\t\t",0]
[41,null,null,null,null,null,null,null,null,null,null,null,null,null,null,null,null,null,null,null,null,null,null,null,null,null,null,null,null,null,null,null,null,null,null,null,null,null,null,null,null,null,null,null,null,null,null,null,null,null,null,null,null,null,null,null,null,null,null,null,null,null,null,null,null,null,null,null,null,null,null,null,null,null,null,null,null,null,null,null,null,null,null,null,null,null,null,null,null,null,null,null,null,null,null,null,null,null,null,null,null,null,null,null,null,null,null,null,null,null,null,null,null,null,null,null,null,null,null,null,null,null,null,null,null,null,null,null,null,null,null,null,null,null,null,null,null,null,null,null,null,null,null,null,null,null,null,null,null,null,null,null,null,null,null,null,null,null,null,null,null,null,null,null,null,null,null,null,null,null,null,null,null,null,null,null,null,null,null,null,null,null,null,null,null,null,null,null,null,null,null,null,null,null,null,null,null,null,null,null,null,null,null,null,null,null,null,null,null,null,null,null,null,null,null,null,null,"",null,"年月日\t\t0\t\t\t",0]
[42,null,null,null,null,null,null,null,null,null,null,null,null,null,null,null,null,null,null,null,null,null,null,null,null,null,null,null,null,null,null,null,null,null,null,null,null,null,null,null,null,null,null,null,null,null,null,null,null,null,null,null,null,null,null,null,null,null,null,null,null,null,null,null,null,null,null,null,null,null,null,null,null,null,null,null,null,null,null,null,null,null,null,null,null,null,null,null,null,null,null,null,null,null,null,null,null,null,null,null,null,null,null,null,null,null,null,null,null,null,null,null,null,null,null,null,null,null,null,null,null,null,null,null,null,null,null,null,null,null,null,null,null,null,null,null,null,null,null,null,null,null,null,null,null,null,null,null,null,null,null,null,null,null,null,null,null,null,null,null,null,null,null,null,null,null,null,null,null,null,null,null,null,null,null,null,null,null,null,null,null,null,null,null,null,null,null,null,null,null,null,null,null,null,null,null,null,null,null,null,null,null,null,null,null,null,null,null,null,null,null,null,null,null,null,null,null,"",null,"年月日\t\t0\t\t\t",0]
[43,null,null,null,null,null,null,null,null,null,null,null,null,null,null,null,null,null,null,null,null,null,null,null,null,null,null,null,null,null,null,null,null,null,null,null,null,null,null,null,null,null,null,null,null,null,null,null,null,null,null,null,null,null,null,null,null,null,null,null,null,null,null,null,null,null,null,null,null,null,null,null,null,null,null,null,null,null,null,null,null,null,null,null,null,null,null,null,null,null,null,null,null,null,null,null,null,null,null,null,null,null,null,null,null,null,null,null,null,null,null,null,null,null,null,null,null,null,null,null,null,null,null,null,null,null,null,null,null,null,null,null,null,null,null,null,null,null,null,null,null,null,null,null,null,null,null,null,null,null,null,null,null,null,null,null,null,null,null,null,null,null,null,null,null,null,null,null,null,null,null,null,null,null,null,null,null,null,null,null,null,null,null,null,null,null,null,null,null,null,null,null,null,null,null,null,null,null,null,null,null,null,null,null,null,null,null,null,null,null,null,null,null,null,null,null,null,"",null,"年月日\t\t0\t\t\t",0]
[44,null,null,null,null,null,null,null,null,null,null,null,null,null,null,null,null,null,null,null,null,null,null,null,null,null,null,null,null,null,null,null,null,null,null,null,null,null,null,null,null,null,null,null,null,null,null,null,null,null,null,null,null,null,null,null,null,null,null,null,null,null,null,null,null,null,null,null,null,null,null,null,null,null,null,null,null,null,null,null,null,null,null,null,null,null,null,null,null,null,null,null,null,null,null,null,null,null,null,null,null,null,null,null,null,null,null,null,null,null,null,null,null,null,null,null,null,null,null,null,null,null,null,null,null,null,null,null,null,null,null,null,null,null,null,null,null,null,null,null,null,null,null,null,null,null,null,null,null,null,null,null,null,null,null,null,null,null,null,null,null,null,null,null,null,null,null,null,null,null,null,null,null,null,null,null,null,null,null,null,null,null,null,null,null,null,null,null,null,null,null,null,null,null,null,null,null,null,null,null,null,null,null,null,null,null,null,null,null,null,null,null,null,null,null,null,null,"",null,"年月日\t\t0\t\t\t",0]
[45,null,null,null,null,null,null,null,null,null,null,null,null,null,null,null,null,null,null,null,null,null,null,null,null,null,null,null,null,null,null,null,null,null,null,null,null,null,null,null,null,null,null,null,null,null,null,null,null,null,null,null,null,null,null,null,null,null,null,null,null,null,null,null,null,null,null,null,null,null,null,null,null,null,null,null,null,null,null,null,null,null,null,null,null,null,null,null,null,null,null,null,null,null,null,null,null,null,null,null,null,null,null,null,null,null,null,null,null,null,null,null,null,null,null,null,null,null,null,null,null,null,null,null,null,null,null,null,null,null,null,null,null,null,null,null,null,null,null,null,null,null,null,null,null,null,null,null,null,null,null,null,null,null,null,null,null,null,null,null,null,null,null,null,null,null,null,null,null,null,null,null,null,null,null,null,null,null,null,null,null,null,null,null,null,null,null,null,null,null,null,null,null,null,null,null,null,null,null,null,null,null,null,null,null,null,null,null,null,null,null,null,null,null,null,null,null,"",null,"年月日\t\t0\t\t\t",0]
[46,null,null,null,null,null,null,null,null,null,null,null,null,null,null,null,null,null,null,null,null,null,null,null,null,null,null,null,null,null,null,null,null,null,null,null,null,null,null,null,null,null,null,null,null,null,null,null,null,null,null,null,null,null,null,null,null,null,null,null,null,null,null,null,null,null,null,null,null,null,null,null,null,null,null,null,null,null,null,null,null,null,null,null,null,null,null,null,null,null,null,null,null,null,null,null,null,null,null,null,null,null,null,null,null,null,null,null,null,null,null,null,null,null,null,null,null,null,null,null,null,null,null,null,null,null,null,null,null,null,null,null,null,null,null,null,null,null,null,null,null,null,null,null,null,null,null,null,null,null,null,null,null,null,null,null,null,null,null,null,null,null,null,null,null,null,null,null,null,null,null,null,null,null,null,null,null,null,null,null,null,null,null,null,null,null,null,null,null,null,null,null,null,null,null,null,null,null,null,null,null,null,null,null,null,null,null,null,null,null,null,null,null,null,null,null,null,"",null,"年月日\t\t0\t\t\t",0]
[47,null,null,null,null,null,null,null,null,null,null,null,null,null,null,null,null,null,null,null,null,null,null,null,null,null,null,null,null,null,null,null,null,null,null,null,null,null,null,null,null,null,null,null,null,null,null,null,null,null,null,null,null,null,null,null,null,null,null,null,null,null,null,null,null,null,null,null,null,null,null,null,null,null,null,null,null,null,null,null,null,null,null,null,null,null,null,null,null,null,null,null,null,null,null,null,null,null,null,null,null,null,null,null,null,null,null,null,null,null,null,null,null,null,null,null,null,null,null,null,null,null,null,null,null,null,null,null,null,null,null,null,null,null,null,null,null,null,null,null,null,null,null,null,null,null,null,null,null,null,null,null,null,null,null,null,null,null,null,null,null,null,null,null,null,null,null,null,null,null,null,null,null,null,null,null,null,null,null,null,null,null,null,null,null,null,null,null,null,null,null,null,null,null,null,null,null,null,null,null,null,null,null,null,null,null,null,null,null,null,null,null,null,null,null,null,null,"",null,"年月日\t\t0\t\t\t",0]
[48,null,null,null,null,null,null,null,null,null,null,null,null,null,null,null,null,null,null,null,null,null,null,null,null,null,null,null,null,null,null,null,null,null,null,null,null,null,null,null,null,null,null,null,null,null,null,null,null,null,null,null,null,null,null,null,null,null,null,null,null,null,null,null,null,null,null,null,null,null,null,null,null,null,null,null,null,null,null,null,null,null,null,null,null,null,null,null,null,null,null,null,null,null,null,null,null,null,null,null,null,null,null,null,null,null,null,null,null,null,null,null,null,null,null,null,null,null,null,null,null,null,null,null,null,null,null,null,null,null,null,null,null,null,null,null,null,null,null,null,null,null,null,null,null,null,null,null,null,null,null,null,null,null,null,null,null,null,null,null,null,null,null,null,null,null,null,null,null,null,null,null,null,null,null,null,null,null,null,null,null,null,null,null,null,null,null,null,null,null,null,null,null,null,null,null,null,null,null,null,null,null,null,null,null,null,null,null,null,null,null,null,null,null,null,null,null,"",null,"年月日\t\t0\t\t\t",0]
[49,null,null,null,null,null,null,null,null,null,null,null,null,null,null,null,null,null,null,null,null,null,null,null,null,null,null,null,null,null,null,null,null,null,null,null,null,null,null,null,null,null,null,null,null,null,null,null,null,null,null,null,null,null,null,null,null,null,null,null,null,null,null,null,null,null,null,null,null,null,null,null,null,null,null,null,null,null,null,null,null,null,null,null,null,null,null,null,null,null,null,null,null,null,null,null,null,null,null,null,null,null,null,null,null,null,null,null,null,null,null,null,null,null,null,null,null,null,null,null,null,null,null,null,null,null,null,null,null,null,null,null,null,null,null,null,null,null,null,null,null,null,null,null,null,null,null,null,null,null,null,null,null,null,null,null,null,null,null,null,null,null,null,null,null,null,null,null,null,null,null,null,null,null,null,null,null,null,null,null,null,null,null,null,null,null,null,null,null,null,null,null,null,null,null,null,null,null,null,null,null,null,null,null,null,null,null,null,null,null,null,null,null,null,null,null,null,"",null,"年月日\t\t0\t\t\t",0]
[50,null,null,null,null,null,null,null,null,null,null,null,null,null,null,null,null,null,null,null,null,null,null,null,null,null,null,null,null,null,null,null,null,null,null,null,null,null,null,null,null,null,null,null,null,null,null,null,null,null,null,null,null,null,null,null,null,null,null,null,null,null,null,null,null,null,null,null,null,null,null,null,null,null,null,null,null,null,null,null,null,null,null,null,null,null,null,null,null,null,null,null,null,null,null,null,null,null,null,null,null,null,null,null,null,null,null,null,null,null,null,null,null,null,null,null,null,null,null,null,null,null,null,null,null,null,null,null,null,null,null,null,null,null,null,null,null,null,null,null,null,null,null,null,null,null,null,null,null,null,null,null,null,null,null,null,null,null,null,null,null,null,null,null,null,null,null,null,null,null,null,null,null,null,null,null,null,null,null,null,null,null,null,null,null,null,null,null,null,null,null,null,null,null,null,null,null,null,null,null,null,null,null,null,null,null,null,null,null,null,null,null,null,null,null,null,null,"",null,"年月日\t\t0\t\t\t",0]
[51,null,null,null,null,null,null,null,null,null,null,null,null,null,null,null,null,null,null,null,null,null,null,null,null,null,null,null,null,null,null,null,null,null,null,null,null,null,null,null,null,null,null,null,null,null,null,null,null,null,null,null,null,null,null,null,null,null,null,null,null,null,null,null,null,null,null,null,null,null,null,null,null,null,null,null,null,null,null,null,null,null,null,null,null,null,null,null,null,null,null,null,null,null,null,null,null,null,null,null,null,null,null,null,null,null,null,null,null,null,null,null,null,null,null,null,null,null,null,null,null,null,null,null,null,null,null,null,null,null,null,null,null,null,null,null,null,null,null,null,null,null,null,null,null,null,null,null,null,null,null,null,null,null,null,null,null,null,null,null,null,null,null,null,null,null,null,null,null,null,null,null,null,null,null,null,null,null,null,null,null,null,null,null,null,null,null,null,null,null,null,null,null,null,null,null,null,null,null,null,null,null,null,null,null,null,null,null,null,null,null,null,null,null,null,null,null,"",null,"年月日\t\t0\t\t\t",0]
[52,null,null,null,null,null,null,null,null,null,null,null,null,null,null,null,null,null,null,null,null,null,null,null,null,null,null,null,null,null,null,null,null,null,null,null,null,null,null,null,null,null,null,null,null,null,null,null,null,null,null,null,null,null,null,null,null,null,null,null,null,null,null,null,null,null,null,null,null,null,null,null,null,null,null,null,null,null,null,null,null,null,null,null,null,null,null,null,null,null,null,null,null,null,null,null,null,null,null,null,null,null,null,null,null,null,null,null,null,null,null,null,null,null,null,null,null,null,null,null,null,null,null,null,null,null,null,null,null,null,null,null,null,null,null,null,null,null,null,null,null,null,null,null,null,null,null,null,null,null,null,null,null,null,null,null,null,null,null,null,null,null,null,null,null,null,null,null,null,null,null,null,null,null,null,null,null,null,null,null,null,null,null,null,null,null,null,null,null,null,null,null,null,null,null,null,null,null,null,null,null,null,null,null,null,null,null,null,null,null,null,null,null,null,null,null,null,"",null,"年月日\t\t0\t\t\t",0]
[53,null,null,null,null,null,null,null,null,null,null,null,null,null,null,null,null,null,null,null,null,null,null,null,null,null,null,null,null,null,null,null,null,null,null,null,null,null,null,null,null,null,null,null,null,null,null,null,null,null,null,null,null,null,null,null,null,null,null,null,null,null,null,null,null,null,null,null,null,null,null,null,null,null,null,null,null,null,null,null,null,null,null,null,null,null,null,null,null,null,null,null,null,null,null,null,null,null,null,null,null,null,null,null,null,null,null,null,null,null,null,null,null,null,null,null,null,null,null,null,null,null,null,null,null,null,null,null,null,null,null,null,null,null,null,null,null,null,null,null,null,null,null,null,null,null,null,null,null,null,null,null,null,null,null,null,null,null,null,null,null,null,null,null,null,null,null,null,null,null,null,null,null,null,null,null,null,null,null,null,null,null,null,null,null,null,null,null,null,null,null,null,null,null,null,null,null,null,null,null,null,null,null,null,null,null,null,null,null,null,null,null,null,null,null,null,null,"",null,"年月日\t\t0\t\t\t",0]
[54,null,null,null,null,null,null,null,null,null,null,null,null,null,null,null,null,null,null,null,null,null,null,null,null,null,null,null,null,null,null,null,null,null,null,null,null,null,null,null,null,null,null,null,null,null,null,null,null,null,null,null,null,null,null,null,null,null,null,null,null,null,null,null,null,null,null,null,null,null,null,null,null,null,null,null,null,null,null,null,null,null,null,null,null,null,null,null,null,null,null,null,null,null,null,null,null,null,null,null,null,null,null,null,null,null,null,null,null,null,null,null,null,null,null,null,null,null,null,null,null,null,null,null,null,null,null,null,null,null,null,null,null,null,null,null,null,null,null,null,null,null,null,null,null,null,null,null,null,null,null,null,null,null,null,null,null,null,null,null,null,null,null,null,null,null,null,null,null,null,null,null,null,null,null,null,null,null,null,null,null,null,null,null,null,null,null,null,null,null,null,null,null,null,null,null,null,null,null,null,null,null,null,null,null,null,null,null,null,null,null,null,null,null,null,null,null,"",null,"年月日\t\t0\t\t\t",0]
[55,null,null,null,null,null,null,null,null,null,null,null,null,null,null,null,null,null,null,null,null,null,null,null,null,null,null,null,null,null,null,null,null,null,null,null,null,null,null,null,null,null,null,null,null,null,null,null,null,null,null,null,null,null,null,null,null,null,null,null,null,null,null,null,null,null,null,null,null,null,null,null,null,null,null,null,null,null,null,null,null,null,null,null,null,null,null,null,null,null,null,null,null,null,null,null,null,null,null,null,null,null,null,null,null,null,null,null,null,null,null,null,null,null,null,null,null,null,null,null,null,null,null,null,null,null,null,null,null,null,null,null,null,null,null,null,null,null,null,null,null,null,null,null,null,null,null,null,null,null,null,null,null,null,null,null,null,null,null,null,null,null,null,null,null,null,null,null,null,null,null,null,null,null,null,null,null,null,null,null,null,null,null,null,null,null,null,null,null,null,null,null,null,null,null,null,null,null,null,null,null,null,null,null,null,null,null,null,null,null,null,null,null,null,null,null,null,"",null,"年月日\t\t0\t\t\t",0]
[56,null,null,null,null,null,null,null,null,null,null,null,null,null,null,null,null,null,null,null,null,null,null,null,null,null,null,null,null,null,null,null,null,null,null,null,null,null,null,null,null,null,null,null,null,null,null,null,null,null,null,null,null,null,null,null,null,null,null,null,null,null,null,null,null,null,null,null,null,null,null,null,null,null,null,null,null,null,null,null,null,null,null,null,null,null,null,null,null,null,null,null,null,null,null,null,null,null,null,null,null,null,null,null,null,null,null,null,null,null,null,null,null,null,null,null,null,null,null,null,null,null,null,null,null,null,null,null,null,null,null,null,null,null,null,null,null,null,null,null,null,null,null,null,null,null,null,null,null,null,null,null,null,null,null,null,null,null,null,null,null,null,null,null,null,null,null,null,null,null,null,null,null,null,null,null,null,null,null,null,null,null,null,null,null,null,null,null,null,null,null,null,null,null,null,null,null,null,null,null,null,null,null,null,null,null,null,null,null,null,null,null,null,null,null,null,null,"",null,"年月日\t\t0\t\t\t",0]
[57,null,null,null,null,null,null,null,null,null,null,null,null,null,null,null,null,null,null,null,null,null,null,null,null,null,null,null,null,null,null,null,null,null,null,null,null,null,null,null,null,null,null,null,null,null,null,null,null,null,null,null,null,null,null,null,null,null,null,null,null,null,null,null,null,null,null,null,null,null,null,null,null,null,null,null,null,null,null,null,null,null,null,null,null,null,null,null,null,null,null,null,null,null,null,null,null,null,null,null,null,null,null,null,null,null,null,null,null,null,null,null,null,null,null,null,null,null,null,null,null,null,null,null,null,null,null,null,null,null,null,null,null,null,null,null,null,null,null,null,null,null,null,null,null,null,null,null,null,null,null,null,null,null,null,null,null,null,null,null,null,null,null,null,null,null,null,null,null,null,null,null,null,null,null,null,null,null,null,null,null,null,null,null,null,null,null,null,null,null,null,null,null,null,null,null,null,null,null,null,null,null,null,null,null,null,null,null,null,null,null,null,null,null,null,null,null,"",null,"年月日\t\t0\t\t\t",0]
[58,null,null,null,null,null,null,null,null,null,null,null,null,null,null,null,null,null,null,null,null,null,null,null,null,null,null,null,null,null,null,null,null,null,null,null,null,null,null,null,null,null,null,null,null,null,null,null,null,null,null,null,null,null,null,null,null,null,null,null,null,null,null,null,null,null,null,null,null,null,null,null,null,null,null,null,null,null,null,null,null,null,null,null,null,null,null,null,null,null,null,null,null,null,null,null,null,null,null,null,null,null,null,null,null,null,null,null,null,null,null,null,null,null,null,null,null,null,null,null,null,null,null,null,null,null,null,null,null,null,null,null,null,null,null,null,null,null,null,null,null,null,null,null,null,null,null,null,null,null,null,null,null,null,null,null,null,null,null,null,null,null,null,null,null,null,null,null,null,null,null,null,null,null,null,null,null,null,null,null,null,null,null,null,null,null,null,null,null,null,null,null,null,null,null,null,null,null,null,null,null,null,null,null,null,null,null,null,null,null,null,null,null,null,null,null,null,"",null,"年月日\t\t0\t\t\t",0]
[59,null,null,null,null,null,null,null,null,null,null,null,null,null,null,null,null,null,null,null,null,null,null,null,null,null,null,null,null,null,null,null,null,null,null,null,null,null,null,null,null,null,null,null,null,null,null,null,null,null,null,null,null,null,null,null,null,null,null,null,null,null,null,null,null,null,null,null,null,null,null,null,null,null,null,null,null,null,null,null,null,null,null,null,null,null,null,null,null,null,null,null,null,null,null,null,null,null,null,null,null,null,null,null,null,null,null,null,null,null,null,null,null,null,null,null,null,null,null,null,null,null,null,null,null,null,null,null,null,null,null,null,null,null,null,null,null,null,null,null,null,null,null,null,null,null,null,null,null,null,null,null,null,null,null,null,null,null,null,null,null,null,null,null,null,null,null,null,null,null,null,null,null,null,null,null,null,null,null,null,null,null,null,null,null,null,null,null,null,null,null,null,null,null,null,null,null,null,null,null,null,null,null,null,null,null,null,null,null,null,null,null,null,null,null,null,null,"",null,"年月日\t\t0\t\t\t",0]
[60,null,null,null,null,null,null,null,null,null,null,null,null,null,null,null,null,null,null,null,null,null,null,null,null,null,null,null,null,null,null,null,null,null,null,null,null,null,null,null,null,null,null,null,null,null,null,null,null,null,null,null,null,null,null,null,null,null,null,null,null,null,null,null,null,null,null,null,null,null,null,null,null,null,null,null,null,null,null,null,null,null,null,null,null,null,null,null,null,null,null,null,null,null,null,null,null,null,null,null,null,null,null,null,null,null,null,null,null,null,null,null,null,null,null,null,null,null,null,null,null,null,null,null,null,null,null,null,null,null,null,null,null,null,null,null,null,null,null,null,null,null,null,null,null,null,null,null,null,null,null,null,null,null,null,null,null,null,null,null,null,null,null,null,null,null,null,null,null,null,null,null,null,null,null,null,null,null,null,null,null,null,null,null,null,null,null,null,null,null,null,null,null,null,null,null,null,null,null,null,null,null,null,null,null,null,null,null,null,null,null,null,null,null,null,null,null,"",null,"年月日\t\t0\t\t\t",0]
[61,null,null,null,null,null,null,null,null,null,null,null,null,null,null,null,null,null,null,null,null,null,null,null,null,null,null,null,null,null,null,null,null,null,null,null,null,null,null,null,null,null,null,null,null,null,null,null,null,null,null,null,null,null,null,null,null,null,null,null,null,null,null,null,null,null,null,null,null,null,null,null,null,null,null,null,null,null,null,null,null,null,null,null,null,null,null,null,null,null,null,null,null,null,null,null,null,null,null,null,null,null,null,null,null,null,null,null,null,null,null,null,null,null,null,null,null,null,null,null,null,null,null,null,null,null,null,null,null,null,null,null,null,null,null,null,null,null,null,null,null,null,null,null,null,null,null,null,null,null,null,null,null,null,null,null,null,null,null,null,null,null,null,null,null,null,null,null,null,null,null,null,null,null,null,null,null,null,null,null,null,null,null,null,null,null,null,null,null,null,null,null,null,null,null,null,null,null,null,null,null,null,null,null,null,null,null,null,null,null,null,null,null,null,null,null,null,"",null,"年月日\t\t0\t\t\t",0]
[62,null,null,null,null,null,null,null,null,null,null,null,null,null,null,null,null,null,null,null,null,null,null,null,null,null,null,null,null,null,null,null,null,null,null,null,null,null,null,null,null,null,null,null,null,null,null,null,null,null,null,null,null,null,null,null,null,null,null,null,null,null,null,null,null,null,null,null,null,null,null,null,null,null,null,null,null,null,null,null,null,null,null,null,null,null,null,null,null,null,null,null,null,null,null,null,null,null,null,null,null,null,null,null,null,null,null,null,null,null,null,null,null,null,null,null,null,null,null,null,null,null,null,null,null,null,null,null,null,null,null,null,null,null,null,null,null,null,null,null,null,null,null,null,null,null,null,null,null,null,null,null,null,null,null,null,null,null,null,null,null,null,null,null,null,null,null,null,null,null,null,null,null,null,null,null,null,null,null,null,null,null,null,null,null,null,null,null,null,null,null,null,null,null,null,null,null,null,null,null,null,null,null,null,null,null,null,null,null,null,null,null,null,null,null,null,null,"",null,"年月日\t\t0\t\t\t",0]
[63,null,null,null,null,null,null,null,null,null,null,null,null,null,null,null,null,null,null,null,null,null,null,null,null,null,null,null,null,null,null,null,null,null,null,null,null,null,null,null,null,null,null,null,null,null,null,null,null,null,null,null,null,null,null,null,null,null,null,null,null,null,null,null,null,null,null,null,null,null,null,null,null,null,null,null,null,null,null,null,null,null,null,null,null,null,null,null,null,null,null,null,null,null,null,null,null,null,null,null,null,null,null,null,null,null,null,null,null,null,null,null,null,null,null,null,null,null,null,null,null,null,null,null,null,null,null,null,null,null,null,null,null,null,null,null,null,null,null,null,null,null,null,null,null,null,null,null,null,null,null,null,null,null,null,null,null,null,null,null,null,null,null,null,null,null,null,null,null,null,null,null,null,null,null,null,null,null,null,null,null,null,null,null,null,null,null,null,null,null,null,null,null,null,null,null,null,null,null,null,null,null,null,null,null,null,null,null,null,null,null,null,null,null,null,null,null,"",null,"年月日\t\t0\t\t\t",0]
[64,null,null,null,null,null,null,null,null,null,null,null,null,null,null,null,null,null,null,null,null,null,null,null,null,null,null,null,null,null,null,null,null,null,null,null,null,null,null,null,null,null,null,null,null,null,null,null,null,null,null,null,null,null,null,null,null,null,null,null,null,null,null,null,null,null,null,null,null,null,null,null,null,null,null,null,null,null,null,null,null,null,null,null,null,null,null,null,null,null,null,null,null,null,null,null,null,null,null,null,null,null,null,null,null,null,null,null,null,null,null,null,null,null,null,null,null,null,null,null,null,null,null,null,null,null,null,null,null,null,null,null,null,null,null,null,null,null,null,null,null,null,null,null,null,null,null,null,null,null,null,null,null,null,null,null,null,null,null,null,null,null,null,null,null,null,null,null,null,null,null,null,null,null,null,null,null,null,null,null,null,null,null,null,null,null,null,null,null,null,null,null,null,null,null,null,null,null,null,null,null,null,null,null,null,null,null,null,null,null,null,null,null,null,null,null,null,"",null,"年月日\t\t0\t\t\t",0]
[65,null,null,null,null,null,null,null,null,null,null,null,null,null,null,null,null,null,null,null,null,null,null,null,null,null,null,null,null,null,null,null,null,null,null,null,null,null,null,null,null,null,null,null,null,null,null,null,null,null,null,null,null,null,null,null,null,null,null,null,null,null,null,null,null,null,null,null,null,null,null,null,null,null,null,null,null,null,null,null,null,null,null,null,null,null,null,null,null,null,null,null,null,null,null,null,null,null,null,null,null,null,null,null,null,null,null,null,null,null,null,null,null,null,null,null,null,null,null,null,null,null,null,null,null,null,null,null,null,null,null,null,null,null,null,null,null,null,null,null,null,null,null,null,null,null,null,null,null,null,null,null,null,null,null,null,null,null,null,null,null,null,null,null,null,null,null,null,null,null,null,null,null,null,null,null,null,null,null,null,null,null,null,null,null,null,null,null,null,null,null,null,null,null,null,null,null,null,null,null,null,null,null,null,null,null,null,null,null,null,null,null,null,null,null,null,null,{"$f":"IF(HI67=\"\",\"\",IF(LENB(INDIRECT(\"n\"&HI67+2))<15,VLOOKUP(HI67,$A$3:$T$9999,5,FALSE)&CHAR(9)&INDIRECT(\"gs\"&HI67+2)&CHAR(9)&CHAR(9)&CHAR(9)&VLOOKUP(HI67,$A$3:$T$9999,20,FALSE),VLOOKUP(HI67,$A$3:$T$9999,5,FALSE)&CHAR(9)&INDIRECT(\"gs\"&HI67+2)&CHAR(9)&CHAR(9)&VLOOKUP(HI67,$A$3:$T$9999,20,FALSE)))","v":""},null,{"$f":"IF(LENB(N67)<15,F67&\"年\"&G67&\"月\"&H67&\"日\"&CHAR(9)&E67&CHAR(9)&HM67&CHAR(9)&CHAR(9)&CHAR(9)&T67,F67&\"年\"&G67&\"月\"&H67&\"日\"&CHAR(9)&E67&CHAR(9)&HM67&CHAR(9)&CHAR(9)&T67)","v":"年月日\t\t0\t\t\t"},{"$f":"IF(LENB(N67)<15,N67,LEFT(N67,9)&\"(略)\")","v":0}]
[66,null,null,null,null,null,null,null,null,null,null,null,null,null,null,null,null,null,null,null,null,null,null,null,null,null,null,null,null,null,null,null,null,null,null,null,null,null,null,null,null,null,null,null,null,null,null,null,null,null,null,null,null,null,null,null,null,null,null,null,null,null,null,null,null,null,null,null,null,null,null,null,null,null,null,null,null,null,null,null,null,null,null,null,null,null,null,null,null,null,null,null,null,null,null,null,null,null,null,null,null,null,null,null,null,null,null,null,null,null,null,null,null,null,null,null,null,null,null,null,null,null,null,null,null,null,null,null,null,null,null,null,null,null,null,null,null,null,null,null,null,null,null,null,null,null,null,null,null,null,null,null,null,null,null,null,null,null,null,null,null,null,null,null,null,null,null,null,null,null,null,null,null,null,null,null,null,null,null,null,null,null,null,null,null,null,null,null,null,null,null,null,null,null,null,null,null,null,null,null,null,null,null,null,null,null,null,null,null,null,null,null,null,null,null,null,null,"",null,"年月日\t\t0\t\t\t",0]
[67,null,null,null,null,null,null,null,null,null,null,null,null,null,null,null,null,null,null,null,null,null,null,null,null,null,null,null,null,null,null,null,null,null,null,null,null,null,null,null,null,null,null,null,null,null,null,null,null,null,null,null,null,null,null,null,null,null,null,null,null,null,null,null,null,null,null,null,null,null,null,null,null,null,null,null,null,null,null,null,null,null,null,null,null,null,null,null,null,null,null,null,null,null,null,null,null,null,null,null,null,null,null,null,null,null,null,null,null,null,null,null,null,null,null,null,null,null,null,null,null,null,null,null,null,null,null,null,null,null,null,null,null,null,null,null,null,null,null,null,null,null,null,null,null,null,null,null,null,null,null,null,null,null,null,null,null,null,null,null,null,null,null,null,null,null,null,null,null,null,null,null,null,null,null,null,null,null,null,null,null,null,null,null,null,null,null,null,null,null,null,null,null,null,null,null,null,null,null,null,null,null,null,null,null,null,null,null,null,null,null,null,null,null,null,null,null,"",null,"年月日\t\t0\t\t\t",0]
[68,null,null,null,null,null,null,null,null,null,null,null,null,null,null,null,null,null,null,null,null,null,null,null,null,null,null,null,null,null,null,null,null,null,null,null,null,null,null,null,null,null,null,null,null,null,null,null,null,null,null,null,null,null,null,null,null,null,null,null,null,null,null,null,null,null,null,null,null,null,null,null,null,null,null,null,null,null,null,null,null,null,null,null,null,null,null,null,null,null,null,null,null,null,null,null,null,null,null,null,null,null,null,null,null,null,null,null,null,null,null,null,null,null,null,null,null,null,null,null,null,null,null,null,null,null,null,null,null,null,null,null,null,null,null,null,null,null,null,null,null,null,null,null,null,null,null,null,null,null,null,null,null,null,null,null,null,null,null,null,null,null,null,null,null,null,null,null,null,null,null,null,null,null,null,null,null,null,null,null,null,null,null,null,null,null,null,null,null,null,null,null,null,null,null,null,null,null,null,null,null,null,null,null,null,null,null,null,null,null,null,null,null,null,null,null,null,"",null,"年月日\t\t0\t\t\t",0]
[69,null,null,null,null,null,null,null,null,null,null,null,null,null,null,null,null,null,null,null,null,null,null,null,null,null,null,null,null,null,null,null,null,null,null,null,null,null,null,null,null,null,null,null,null,null,null,null,null,null,null,null,null,null,null,null,null,null,null,null,null,null,null,null,null,null,null,null,null,null,null,null,null,null,null,null,null,null,null,null,null,null,null,null,null,null,null,null,null,null,null,null,null,null,null,null,null,null,null,null,null,null,null,null,null,null,null,null,null,null,null,null,null,null,null,null,null,null,null,null,null,null,null,null,null,null,null,null,null,null,null,null,null,null,null,null,null,null,null,null,null,null,null,null,null,null,null,null,null,null,null,null,null,null,null,null,null,null,null,null,null,null,null,null,null,null,null,null,null,null,null,null,null,null,null,null,null,null,null,null,null,null,null,null,null,null,null,null,null,null,null,null,null,null,null,null,null,null,null,null,null,null,null,null,null,null,null,null,null,null,null,null,null,null,null,null,null,"",null,"年月日\t\t0\t\t\t",0]
[70,null,null,null,null,null,null,null,null,null,null,null,null,null,null,null,null,null,null,null,null,null,null,null,null,null,null,null,null,null,null,null,null,null,null,null,null,null,null,null,null,null,null,null,null,null,null,null,null,null,null,null,null,null,null,null,null,null,null,null,null,null,null,null,null,null,null,null,null,null,null,null,null,null,null,null,null,null,null,null,null,null,null,null,null,null,null,null,null,null,null,null,null,null,null,null,null,null,null,null,null,null,null,null,null,null,null,null,null,null,null,null,null,null,null,null,null,null,null,null,null,null,null,null,null,null,null,null,null,null,null,null,null,null,null,null,null,null,null,null,null,null,null,null,null,null,null,null,null,null,null,null,null,null,null,null,null,null,null,null,null,null,null,null,null,null,null,null,null,null,null,null,null,null,null,null,null,null,null,null,null,null,null,null,null,null,null,null,null,null,null,null,null,null,null,null,null,null,null,null,null,null,null,null,null,null,null,null,null,null,null,null,null,null,null,null,null,"",null,"年月日\t\t0\t\t\t",0]
[71,null,null,null,null,null,null,null,null,null,null,null,null,null,null,null,null,null,null,null,null,null,null,null,null,null,null,null,null,null,null,null,null,null,null,null,null,null,null,null,null,null,null,null,null,null,null,null,null,null,null,null,null,null,null,null,null,null,null,null,null,null,null,null,null,null,null,null,null,null,null,null,null,null,null,null,null,null,null,null,null,null,null,null,null,null,null,null,null,null,null,null,null,null,null,null,null,null,null,null,null,null,null,null,null,null,null,null,null,null,null,null,null,null,null,null,null,null,null,null,null,null,null,null,null,null,null,null,null,null,null,null,null,null,null,null,null,null,null,null,null,null,null,null,null,null,null,null,null,null,null,null,null,null,null,null,null,null,null,null,null,null,null,null,null,null,null,null,null,null,null,null,null,null,null,null,null,null,null,null,null,null,null,null,null,null,null,null,null,null,null,null,null,null,null,null,null,null,null,null,null,null,null,null,null,null,null,null,null,null,null,null,null,null,null,null,null,"",null,"年月日\t\t0\t\t\t",0]
[72,null,null,null,null,null,null,null,null,null,null,null,null,null,null,null,null,null,null,null,null,null,null,null,null,null,null,null,null,null,null,null,null,null,null,null,null,null,null,null,null,null,null,null,null,null,null,null,null,null,null,null,null,null,null,null,null,null,null,null,null,null,null,null,null,null,null,null,null,null,null,null,null,null,null,null,null,null,null,null,null,null,null,null,null,null,null,null,null,null,null,null,null,null,null,null,null,null,null,null,null,null,null,null,null,null,null,null,null,null,null,null,null,null,null,null,null,null,null,null,null,null,null,null,null,null,null,null,null,null,null,null,null,null,null,null,null,null,null,null,null,null,null,null,null,null,null,null,null,null,null,null,null,null,null,null,null,null,null,null,null,null,null,null,null,null,null,null,null,null,null,null,null,null,null,null,null,null,null,null,null,null,null,null,null,null,null,null,null,null,null,null,null,null,null,null,null,null,null,null,null,null,null,null,null,null,null,null,null,null,null,null,null,null,null,null,null,"",null,"年月日\t\t0\t\t\t",0]
[73,null,null,null,null,null,null,null,null,null,null,null,null,null,null,null,null,null,null,null,null,null,null,null,null,null,null,null,null,null,null,null,null,null,null,null,null,null,null,null,null,null,null,null,null,null,null,null,null,null,null,null,null,null,null,null,null,null,null,null,null,null,null,null,null,null,null,null,null,null,null,null,null,null,null,null,null,null,null,null,null,null,null,null,null,null,null,null,null,null,null,null,null,null,null,null,null,null,null,null,null,null,null,null,null,null,null,null,null,null,null,null,null,null,null,null,null,null,null,null,null,null,null,null,null,null,null,null,null,null,null,null,null,null,null,null,null,null,null,null,null,null,null,null,null,null,null,null,null,null,null,null,null,null,null,null,null,null,null,null,null,null,null,null,null,null,null,null,null,null,null,null,null,null,null,null,null,null,null,null,null,null,null,null,null,null,null,null,null,null,null,null,null,null,null,null,null,null,null,null,null,null,null,null,null,null,null,null,null,null,null,null,null,null,null,null,null,"",null,"年月日\t\t0\t\t\t",0]
[74,null,null,null,null,null,null,null,null,null,null,null,null,null,null,null,null,null,null,null,null,null,null,null,null,null,null,null,null,null,null,null,null,null,null,null,null,null,null,null,null,null,null,null,null,null,null,null,null,null,null,null,null,null,null,null,null,null,null,null,null,null,null,null,null,null,null,null,null,null,null,null,null,null,null,null,null,null,null,null,null,null,null,null,null,null,null,null,null,null,null,null,null,null,null,null,null,null,null,null,null,null,null,null,null,null,null,null,null,null,null,null,null,null,null,null,null,null,null,null,null,null,null,null,null,null,null,null,null,null,null,null,null,null,null,null,null,null,null,null,null,null,null,null,null,null,null,null,null,null,null,null,null,null,null,null,null,null,null,null,null,null,null,null,null,null,null,null,null,null,null,null,null,null,null,null,null,null,null,null,null,null,null,null,null,null,null,null,null,null,null,null,null,null,null,null,null,null,null,null,null,null,null,null,null,null,null,null,null,null,null,null,null,null,null,null,null,"",null,"年月日\t\t0\t\t\t",0]
[75,null,null,null,null,null,null,null,null,null,null,null,null,null,null,null,null,null,null,null,null,null,null,null,null,null,null,null,null,null,null,null,null,null,null,null,null,null,null,null,null,null,null,null,null,null,null,null,null,null,null,null,null,null,null,null,null,null,null,null,null,null,null,null,null,null,null,null,null,null,null,null,null,null,null,null,null,null,null,null,null,null,null,null,null,null,null,null,null,null,null,null,null,null,null,null,null,null,null,null,null,null,null,null,null,null,null,null,null,null,null,null,null,null,null,null,null,null,null,null,null,null,null,null,null,null,null,null,null,null,null,null,null,null,null,null,null,null,null,null,null,null,null,null,null,null,null,null,null,null,null,null,null,null,null,null,null,null,null,null,null,null,null,null,null,null,null,null,null,null,null,null,null,null,null,null,null,null,null,null,null,null,null,null,null,null,null,null,null,null,null,null,null,null,null,null,null,null,null,null,null,null,null,null,null,null,null,null,null,null,null,null,null,null,null,null,null,"",null,"年月日\t\t0\t\t\t",0]
[76,null,null,null,null,null,null,null,null,null,null,null,null,null,null,null,null,null,null,null,null,null,null,null,null,null,null,null,null,null,null,null,null,null,null,null,null,null,null,null,null,null,null,null,null,null,null,null,null,null,null,null,null,null,null,null,null,null,null,null,null,null,null,null,null,null,null,null,null,null,null,null,null,null,null,null,null,null,null,null,null,null,null,null,null,null,null,null,null,null,null,null,null,null,null,null,null,null,null,null,null,null,null,null,null,null,null,null,null,null,null,null,null,null,null,null,null,null,null,null,null,null,null,null,null,null,null,null,null,null,null,null,null,null,null,null,null,null,null,null,null,null,null,null,null,null,null,null,null,null,null,null,null,null,null,null,null,null,null,null,null,null,null,null,null,null,null,null,null,null,null,null,null,null,null,null,null,null,null,null,null,null,null,null,null,null,null,null,null,null,null,null,null,null,null,null,null,null,null,null,null,null,null,null,null,null,null,null,null,null,null,null,null,null,null,null,null,"",null,"年月日\t\t0\t\t\t",0]
[77,null,null,null,null,null,null,null,null,null,null,null,null,null,null,null,null,null,null,null,null,null,null,null,null,null,null,null,null,null,null,null,null,null,null,null,null,null,null,null,null,null,null,null,null,null,null,null,null,null,null,null,null,null,null,null,null,null,null,null,null,null,null,null,null,null,null,null,null,null,null,null,null,null,null,null,null,null,null,null,null,null,null,null,null,null,null,null,null,null,null,null,null,null,null,null,null,null,null,null,null,null,null,null,null,null,null,null,null,null,null,null,null,null,null,null,null,null,null,null,null,null,null,null,null,null,null,null,null,null,null,null,null,null,null,null,null,null,null,null,null,null,null,null,null,null,null,null,null,null,null,null,null,null,null,null,null,null,null,null,null,null,null,null,null,null,null,null,null,null,null,null,null,null,null,null,null,null,null,null,null,null,null,null,null,null,null,null,null,null,null,null,null,null,null,null,null,null,null,null,null,null,null,null,null,null,null,null,null,null,null,null,null,null,null,null,null,"",null,"年月日\t\t0\t\t\t",0]
[78,null,null,null,null,null,null,null,null,null,null,null,null,null,null,null,null,null,null,null,null,null,null,null,null,null,null,null,null,null,null,null,null,null,null,null,null,null,null,null,null,null,null,null,null,null,null,null,null,null,null,null,null,null,null,null,null,null,null,null,null,null,null,null,null,null,null,null,null,null,null,null,null,null,null,null,null,null,null,null,null,null,null,null,null,null,null,null,null,null,null,null,null,null,null,null,null,null,null,null,null,null,null,null,null,null,null,null,null,null,null,null,null,null,null,null,null,null,null,null,null,null,null,null,null,null,null,null,null,null,null,null,null,null,null,null,null,null,null,null,null,null,null,null,null,null,null,null,null,null,null,null,null,null,null,null,null,null,null,null,null,null,null,null,null,null,null,null,null,null,null,null,null,null,null,null,null,null,null,null,null,null,null,null,null,null,null,null,null,null,null,null,null,null,null,null,null,null,null,null,null,null,null,null,null,null,null,null,null,null,null,null,null,null,null,null,null,"",null,"年月日\t\t0\t\t\t",0]
[79,null,null,null,null,null,null,null,null,null,null,null,null,null,null,null,null,null,null,null,null,null,null,null,null,null,null,null,null,null,null,null,null,null,null,null,null,null,null,null,null,null,null,null,null,null,null,null,null,null,null,null,null,null,null,null,null,null,null,null,null,null,null,null,null,null,null,null,null,null,null,null,null,null,null,null,null,null,null,null,null,null,null,null,null,null,null,null,null,null,null,null,null,null,null,null,null,null,null,null,null,null,null,null,null,null,null,null,null,null,null,null,null,null,null,null,null,null,null,null,null,null,null,null,null,null,null,null,null,null,null,null,null,null,null,null,null,null,null,null,null,null,null,null,null,null,null,null,null,null,null,null,null,null,null,null,null,null,null,null,null,null,null,null,null,null,null,null,null,null,null,null,null,null,null,null,null,null,null,null,null,null,null,null,null,null,null,null,null,null,null,null,null,null,null,null,null,null,null,null,null,null,null,null,null,null,null,null,null,null,null,null,null,null,null,null,null,"",null,"年月日\t\t0\t\t\t",0]
[80,null,null,null,null,null,null,null,null,null,null,null,null,null,null,null,null,null,null,null,null,null,null,null,null,null,null,null,null,null,null,null,null,null,null,null,null,null,null,null,null,null,null,null,null,null,null,null,null,null,null,null,null,null,null,null,null,null,null,null,null,null,null,null,null,null,null,null,null,null,null,null,null,null,null,null,null,null,null,null,null,null,null,null,null,null,null,null,null,null,null,null,null,null,null,null,null,null,null,null,null,null,null,null,null,null,null,null,null,null,null,null,null,null,null,null,null,null,null,null,null,null,null,null,null,null,null,null,null,null,null,null,null,null,null,null,null,null,null,null,null,null,null,null,null,null,null,null,null,null,null,null,null,null,null,null,null,null,null,null,null,null,null,null,null,null,null,null,null,null,null,null,null,null,null,null,null,null,null,null,null,null,null,null,null,null,null,null,null,null,null,null,null,null,null,null,null,null,null,null,null,null,null,null,null,null,null,null,null,null,null,null,null,null,null,null,null,"",null,"年月日\t\t0\t\t\t",0]
[81,null,null,null,null,null,null,null,null,null,null,null,null,null,null,null,null,null,null,null,null,null,null,null,null,null,null,null,null,null,null,null,null,null,null,null,null,null,null,null,null,null,null,null,null,null,null,null,null,null,null,null,null,null,null,null,null,null,null,null,null,null,null,null,null,null,null,null,null,null,null,null,null,null,null,null,null,null,null,null,null,null,null,null,null,null,null,null,null,null,null,null,null,null,null,null,null,null,null,null,null,null,null,null,null,null,null,null,null,null,null,null,null,null,null,null,null,null,null,null,null,null,null,null,null,null,null,null,null,null,null,null,null,null,null,null,null,null,null,null,null,null,null,null,null,null,null,null,null,null,null,null,null,null,null,null,null,null,null,null,null,null,null,null,null,null,null,null,null,null,null,null,null,null,null,null,null,null,null,null,null,null,null,null,null,null,null,null,null,null,null,null,null,null,null,null,null,null,null,null,null,null,null,null,null,null,null,null,null,null,null,null,null,null,null,null,null,"",null,"年月日\t\t0\t\t\t",0]
[82,null,null,null,null,null,null,null,null,null,null,null,null,null,null,null,null,null,null,null,null,null,null,null,null,null,null,null,null,null,null,null,null,null,null,null,null,null,null,null,null,null,null,null,null,null,null,null,null,null,null,null,null,null,null,null,null,null,null,null,null,null,null,null,null,null,null,null,null,null,null,null,null,null,null,null,null,null,null,null,null,null,null,null,null,null,null,null,null,null,null,null,null,null,null,null,null,null,null,null,null,null,null,null,null,null,null,null,null,null,null,null,null,null,null,null,null,null,null,null,null,null,null,null,null,null,null,null,null,null,null,null,null,null,null,null,null,null,null,null,null,null,null,null,null,null,null,null,null,null,null,null,null,null,null,null,null,null,null,null,null,null,null,null,null,null,null,null,null,null,null,null,null,null,null,null,null,null,null,null,null,null,null,null,null,null,null,null,null,null,null,null,null,null,null,null,null,null,null,null,null,null,null,null,null,null,null,null,null,null,null,null,null,null,null,null,null,"",null,"年月日\t\t0\t\t\t",0]
[83,null,null,null,null,null,null,null,null,null,null,null,null,null,null,null,null,null,null,null,null,null,null,null,null,null,null,null,null,null,null,null,null,null,null,null,null,null,null,null,null,null,null,null,null,null,null,null,null,null,null,null,null,null,null,null,null,null,null,null,null,null,null,null,null,null,null,null,null,null,null,null,null,null,null,null,null,null,null,null,null,null,null,null,null,null,null,null,null,null,null,null,null,null,null,null,null,null,null,null,null,null,null,null,null,null,null,null,null,null,null,null,null,null,null,null,null,null,null,null,null,null,null,null,null,null,null,null,null,null,null,null,null,null,null,null,null,null,null,null,null,null,null,null,null,null,null,null,null,null,null,null,null,null,null,null,null,null,null,null,null,null,null,null,null,null,null,null,null,null,null,null,null,null,null,null,null,null,null,null,null,null,null,null,null,null,null,null,null,null,null,null,null,null,null,null,null,null,null,null,null,null,null,null,null,null,null,null,null,null,null,null,null,null,null,null,null,"",null,"年月日\t\t0\t\t\t",0]
[84,null,null,null,null,null,null,null,null,null,null,null,null,null,null,null,null,null,null,null,null,null,null,null,null,null,null,null,null,null,null,null,null,null,null,null,null,null,null,null,null,null,null,null,null,null,null,null,null,null,null,null,null,null,null,null,null,null,null,null,null,null,null,null,null,null,null,null,null,null,null,null,null,null,null,null,null,null,null,null,null,null,null,null,null,null,null,null,null,null,null,null,null,null,null,null,null,null,null,null,null,null,null,null,null,null,null,null,null,null,null,null,null,null,null,null,null,null,null,null,null,null,null,null,null,null,null,null,null,null,null,null,null,null,null,null,null,null,null,null,null,null,null,null,null,null,null,null,null,null,null,null,null,null,null,null,null,null,null,null,null,null,null,null,null,null,null,null,null,null,null,null,null,null,null,null,null,null,null,null,null,null,null,null,null,null,null,null,null,null,null,null,null,null,null,null,null,null,null,null,null,null,null,null,null,null,null,null,null,null,null,null,null,null,null,null,null,"",null,"年月日\t\t0\t\t\t",0]
[85,null,null,null,null,null,null,null,null,null,null,null,null,null,null,null,null,null,null,null,null,null,null,null,null,null,null,null,null,null,null,null,null,null,null,null,null,null,null,null,null,null,null,null,null,null,null,null,null,null,null,null,null,null,null,null,null,null,null,null,null,null,null,null,null,null,null,null,null,null,null,null,null,null,null,null,null,null,null,null,null,null,null,null,null,null,null,null,null,null,null,null,null,null,null,null,null,null,null,null,null,null,null,null,null,null,null,null,null,null,null,null,null,null,null,null,null,null,null,null,null,null,null,null,null,null,null,null,null,null,null,null,null,null,null,null,null,null,null,null,null,null,null,null,null,null,null,null,null,null,null,null,null,null,null,null,null,null,null,null,null,null,null,null,null,null,null,null,null,null,null,null,null,null,null,null,null,null,null,null,null,null,null,null,null,null,null,null,null,null,null,null,null,null,null,null,null,null,null,null,null,null,null,null,null,null,null,null,null,null,null,null,null,null,null,null,null,"",null,"年月日\t\t0\t\t\t",0]
[86,null,null,null,null,null,null,null,null,null,null,null,null,null,null,null,null,null,null,null,null,null,null,null,null,null,null,null,null,null,null,null,null,null,null,null,null,null,null,null,null,null,null,null,null,null,null,null,null,null,null,null,null,null,null,null,null,null,null,null,null,null,null,null,null,null,null,null,null,null,null,null,null,null,null,null,null,null,null,null,null,null,null,null,null,null,null,null,null,null,null,null,null,null,null,null,null,null,null,null,null,null,null,null,null,null,null,null,null,null,null,null,null,null,null,null,null,null,null,null,null,null,null,null,null,null,null,null,null,null,null,null,null,null,null,null,null,null,null,null,null,null,null,null,null,null,null,null,null,null,null,null,null,null,null,null,null,null,null,null,null,null,null,null,null,null,null,null,null,null,null,null,null,null,null,null,null,null,null,null,null,null,null,null,null,null,null,null,null,null,null,null,null,null,null,null,null,null,null,null,null,null,null,null,null,null,null,null,null,null,null,null,null,null,null,null,null,"",null,"年月日\t\t0\t\t\t",0]
[87,null,null,null,null,null,null,null,null,null,null,null,null,null,null,null,null,null,null,null,null,null,null,null,null,null,null,null,null,null,null,null,null,null,null,null,null,null,null,null,null,null,null,null,null,null,null,null,null,null,null,null,null,null,null,null,null,null,null,null,null,null,null,null,null,null,null,null,null,null,null,null,null,null,null,null,null,null,null,null,null,null,null,null,null,null,null,null,null,null,null,null,null,null,null,null,null,null,null,null,null,null,null,null,null,null,null,null,null,null,null,null,null,null,null,null,null,null,null,null,null,null,null,null,null,null,null,null,null,null,null,null,null,null,null,null,null,null,null,null,null,null,null,null,null,null,null,null,null,null,null,null,null,null,null,null,null,null,null,null,null,null,null,null,null,null,null,null,null,null,null,null,null,null,null,null,null,null,null,null,null,null,null,null,null,null,null,null,null,null,null,null,null,null,null,null,null,null,null,null,null,null,null,null,null,null,null,null,null,null,null,null,null,null,null,null,null,"",null,"年月日\t\t0\t\t\t",0]
[88,null,null,null,null,null,null,null,null,null,null,null,null,null,null,null,null,null,null,null,null,null,null,null,null,null,null,null,null,null,null,null,null,null,null,null,null,null,null,null,null,null,null,null,null,null,null,null,null,null,null,null,null,null,null,null,null,null,null,null,null,null,null,null,null,null,null,null,null,null,null,null,null,null,null,null,null,null,null,null,null,null,null,null,null,null,null,null,null,null,null,null,null,null,null,null,null,null,null,null,null,null,null,null,null,null,null,null,null,null,null,null,null,null,null,null,null,null,null,null,null,null,null,null,null,null,null,null,null,null,null,null,null,null,null,null,null,null,null,null,null,null,null,null,null,null,null,null,null,null,null,null,null,null,null,null,null,null,null,null,null,null,null,null,null,null,null,null,null,null,null,null,null,null,null,null,null,null,null,null,null,null,null,null,null,null,null,null,null,null,null,null,null,null,null,null,null,null,null,null,null,null,null,null,null,null,null,null,null,null,null,null,null,null,null,null,null,"",null,"年月日\t\t0\t\t\t",0]
[89,null,null,null,null,null,null,null,null,null,null,null,null,null,null,null,null,null,null,null,null,null,null,null,null,null,null,null,null,null,null,null,null,null,null,null,null,null,null,null,null,null,null,null,null,null,null,null,null,null,null,null,null,null,null,null,null,null,null,null,null,null,null,null,null,null,null,null,null,null,null,null,null,null,null,null,null,null,null,null,null,null,null,null,null,null,null,null,null,null,null,null,null,null,null,null,null,null,null,null,null,null,null,null,null,null,null,null,null,null,null,null,null,null,null,null,null,null,null,null,null,null,null,null,null,null,null,null,null,null,null,null,null,null,null,null,null,null,null,null,null,null,null,null,null,null,null,null,null,null,null,null,null,null,null,null,null,null,null,null,null,null,null,null,null,null,null,null,null,null,null,null,null,null,null,null,null,null,null,null,null,null,null,null,null,null,null,null,null,null,null,null,null,null,null,null,null,null,null,null,null,null,null,null,null,null,null,null,null,null,null,null,null,null,null,null,null,"",null,"年月日\t\t0\t\t\t",0]
[90,null,null,null,null,null,null,null,null,null,null,null,null,null,null,null,null,null,null,null,null,null,null,null,null,null,null,null,null,null,null,null,null,null,null,null,null,null,null,null,null,null,null,null,null,null,null,null,null,null,null,null,null,null,null,null,null,null,null,null,null,null,null,null,null,null,null,null,null,null,null,null,null,null,null,null,null,null,null,null,null,null,null,null,null,null,null,null,null,null,null,null,null,null,null,null,null,null,null,null,null,null,null,null,null,null,null,null,null,null,null,null,null,null,null,null,null,null,null,null,null,null,null,null,null,null,null,null,null,null,null,null,null,null,null,null,null,null,null,null,null,null,null,null,null,null,null,null,null,null,null,null,null,null,null,null,null,null,null,null,null,null,null,null,null,null,null,null,null,null,null,null,null,null,null,null,null,null,null,null,null,null,null,null,null,null,null,null,null,null,null,null,null,null,null,null,null,null,null,null,null,null,null,null,null,null,null,null,null,null,null,null,null,null,null,null,null,"",null,"年月日\t\t0\t\t\t",0]
[91,null,null,null,null,null,null,null,null,null,null,null,null,null,null,null,null,null,null,null,null,null,null,null,null,null,null,null,null,null,null,null,null,null,null,null,null,null,null,null,null,null,null,null,null,null,null,null,null,null,null,null,null,null,null,null,null,null,null,null,null,null,null,null,null,null,null,null,null,null,null,null,null,null,null,null,null,null,null,null,null,null,null,null,null,null,null,null,null,null,null,null,null,null,null,null,null,null,null,null,null,null,null,null,null,null,null,null,null,null,null,null,null,null,null,null,null,null,null,null,null,null,null,null,null,null,null,null,null,null,null,null,null,null,null,null,null,null,null,null,null,null,null,null,null,null,null,null,null,null,null,null,null,null,null,null,null,null,null,null,null,null,null,null,null,null,null,null,null,null,null,null,null,null,null,null,null,null,null,null,null,null,null,null,null,null,null,null,null,null,null,null,null,null,null,null,null,null,null,null,null,null,null,null,null,null,null,null,null,null,null,null,null,null,null,null,null,"",null,"年月日\t\t0\t\t\t",0]
[92,null,null,null,null,null,null,null,null,null,null,null,null,null,null,null,null,null,null,null,null,null,null,null,null,null,null,null,null,null,null,null,null,null,null,null,null,null,null,null,null,null,null,null,null,null,null,null,null,null,null,null,null,null,null,null,null,null,null,null,null,null,null,null,null,null,null,null,null,null,null,null,null,null,null,null,null,null,null,null,null,null,null,null,null,null,null,null,null,null,null,null,null,null,null,null,null,null,null,null,null,null,null,null,null,null,null,null,null,null,null,null,null,null,null,null,null,null,null,null,null,null,null,null,null,null,null,null,null,null,null,null,null,null,null,null,null,null,null,null,null,null,null,null,null,null,null,null,null,null,null,null,null,null,null,null,null,null,null,null,null,null,null,null,null,null,null,null,null,null,null,null,null,null,null,null,null,null,null,null,null,null,null,null,null,null,null,null,null,null,null,null,null,null,null,null,null,null,null,null,null,null,null,null,null,null,null,null,null,null,null,null,null,null,null,null,null,"",null,"年月日\t\t0\t\t\t",0]
[93,null,null,null,null,null,null,null,null,null,null,null,null,null,null,null,null,null,null,null,null,null,null,null,null,null,null,null,null,null,null,null,null,null,null,null,null,null,null,null,null,null,null,null,null,null,null,null,null,null,null,null,null,null,null,null,null,null,null,null,null,null,null,null,null,null,null,null,null,null,null,null,null,null,null,null,null,null,null,null,null,null,null,null,null,null,null,null,null,null,null,null,null,null,null,null,null,null,null,null,null,null,null,null,null,null,null,null,null,null,null,null,null,null,null,null,null,null,null,null,null,null,null,null,null,null,null,null,null,null,null,null,null,null,null,null,null,null,null,null,null,null,null,null,null,null,null,null,null,null,null,null,null,null,null,null,null,null,null,null,null,null,null,null,null,null,null,null,null,null,null,null,null,null,null,null,null,null,null,null,null,null,null,null,null,null,null,null,null,null,null,null,null,null,null,null,null,null,null,null,null,null,null,null,null,null,null,null,null,null,null,null,null,null,null,null,null,"",null,"年月日\t\t0\t\t\t",0]
[94,null,null,null,null,null,null,null,null,null,null,null,null,null,null,null,null,null,null,null,null,null,null,null,null,null,null,null,null,null,null,null,null,null,null,null,null,null,null,null,null,null,null,null,null,null,null,null,null,null,null,null,null,null,null,null,null,null,null,null,null,null,null,null,null,null,null,null,null,null,null,null,null,null,null,null,null,null,null,null,null,null,null,null,null,null,null,null,null,null,null,null,null,null,null,null,null,null,null,null,null,null,null,null,null,null,null,null,null,null,null,null,null,null,null,null,null,null,null,null,null,null,null,null,null,null,null,null,null,null,null,null,null,null,null,null,null,null,null,null,null,null,null,null,null,null,null,null,null,null,null,null,null,null,null,null,null,null,null,null,null,null,null,null,null,null,null,null,null,null,null,null,null,null,null,null,null,null,null,null,null,null,null,null,null,null,null,null,null,null,null,null,null,null,null,null,null,null,null,null,null,null,null,null,null,null,null,null,null,null,null,null,null,null,null,null,null,"",null,"年月日\t\t0\t\t\t",0]
[95,null,null,null,null,null,null,null,null,null,null,null,null,null,null,null,null,null,null,null,null,null,null,null,null,null,null,null,null,null,null,null,null,null,null,null,null,null,null,null,null,null,null,null,null,null,null,null,null,null,null,null,null,null,null,null,null,null,null,null,null,null,null,null,null,null,null,null,null,null,null,null,null,null,null,null,null,null,null,null,null,null,null,null,null,null,null,null,null,null,null,null,null,null,null,null,null,null,null,null,null,null,null,null,null,null,null,null,null,null,null,null,null,null,null,null,null,null,null,null,null,null,null,null,null,null,null,null,null,null,null,null,null,null,null,null,null,null,null,null,null,null,null,null,null,null,null,null,null,null,null,null,null,null,null,null,null,null,null,null,null,null,null,null,null,null,null,null,null,null,null,null,null,null,null,null,null,null,null,null,null,null,null,null,null,null,null,null,null,null,null,null,null,null,null,null,null,null,null,null,null,null,null,null,null,null,null,null,null,null,null,null,null,null,null,null,null,"",null,"年月日\t\t0\t\t\t",0]
[96,null,null,null,null,null,null,null,null,null,null,null,null,null,null,null,null,null,null,null,null,null,null,null,null,null,null,null,null,null,null,null,null,null,null,null,null,null,null,null,null,null,null,null,null,null,null,null,null,null,null,null,null,null,null,null,null,null,null,null,null,null,null,null,null,null,null,null,null,null,null,null,null,null,null,null,null,null,null,null,null,null,null,null,null,null,null,null,null,null,null,null,null,null,null,null,null,null,null,null,null,null,null,null,null,null,null,null,null,null,null,null,null,null,null,null,null,null,null,null,null,null,null,null,null,null,null,null,null,null,null,null,null,null,null,null,null,null,null,null,null,null,null,null,null,null,null,null,null,null,null,null,null,null,null,null,null,null,null,null,null,null,null,null,null,null,null,null,null,null,null,null,null,null,null,null,null,null,null,null,null,null,null,null,null,null,null,null,null,null,null,null,null,null,null,null,null,null,null,null,null,null,null,null,null,null,null,null,null,null,null,null,null,null,null,null,null,"",null,"年月日\t\t0\t\t\t",0]
[97,null,null,null,null,null,null,null,null,null,null,null,null,null,null,null,null,null,null,null,null,null,null,null,null,null,null,null,null,null,null,null,null,null,null,null,null,null,null,null,null,null,null,null,null,null,null,null,null,null,null,null,null,null,null,null,null,null,null,null,null,null,null,null,null,null,null,null,null,null,null,null,null,null,null,null,null,null,null,null,null,null,null,null,null,null,null,null,null,null,null,null,null,null,null,null,null,null,null,null,null,null,null,null,null,null,null,null,null,null,null,null,null,null,null,null,null,null,null,null,null,null,null,null,null,null,null,null,null,null,null,null,null,null,null,null,null,null,null,null,null,null,null,null,null,null,null,null,null,null,null,null,null,null,null,null,null,null,null,null,null,null,null,null,null,null,null,null,null,null,null,null,null,null,null,null,null,null,null,null,null,null,null,null,null,null,null,null,null,null,null,null,null,null,null,null,null,null,null,null,null,null,null,null,null,null,null,null,null,null,null,null,null,null,null,null,null,"",null,"年月日\t\t0\t\t\t",0]
[98,null,null,null,null,null,null,null,null,null,null,null,null,null,null,null,null,null,null,null,null,null,null,null,null,null,null,null,null,null,null,null,null,null,null,null,null,null,null,null,null,null,null,null,null,null,null,null,null,null,null,null,null,null,null,null,null,null,null,null,null,null,null,null,null,null,null,null,null,null,null,null,null,null,null,null,null,null,null,null,null,null,null,null,null,null,null,null,null,null,null,null,null,null,null,null,null,null,null,null,null,null,null,null,null,null,null,null,null,null,null,null,null,null,null,null,null,null,null,null,null,null,null,null,null,null,null,null,null,null,null,null,null,null,null,null,null,null,null,null,null,null,null,null,null,null,null,null,null,null,null,null,null,null,null,null,null,null,null,null,null,null,null,null,null,null,null,null,null,null,null,null,null,null,null,null,null,null,null,null,null,null,null,null,null,null,null,null,null,null,null,null,null,null,null,null,null,null,null,null,null,null,null,null,null,null,null,null,null,null,null,null,null,null,null,null,null,"",null,"年月日\t\t0\t\t\t",0]
[99,null,null,null,null,null,null,null,null,null,null,null,null,null,null,null,null,null,null,null,null,null,null,null,null,null,null,null,null,null,null,null,null,null,null,null,null,null,null,null,null,null,null,null,null,null,null,null,null,null,null,null,null,null,null,null,null,null,null,null,null,null,null,null,null,null,null,null,null,null,null,null,null,null,null,null,null,null,null,null,null,null,null,null,null,null,null,null,null,null,null,null,null,null,null,null,null,null,null,null,null,null,null,null,null,null,null,null,null,null,null,null,null,null,null,null,null,null,null,null,null,null,null,null,null,null,null,null,null,null,null,null,null,null,null,null,null,null,null,null,null,null,null,null,null,null,null,null,null,null,null,null,null,null,null,null,null,null,null,null,null,null,null,null,null,null,null,null,null,null,null,null,null,null,null,null,null,null,null,null,null,null,null,null,null,null,null,null,null,null,null,null,null,null,null,null,null,null,null,null,null,null,null,null,null,null,null,null,null,null,null,null,null,null,null,null,null,"",null,"年月日\t\t0\t\t\t",0]
[100,null,null,null,null,null,null,null,null,null,null,null,null,null,null,null,null,null,null,null,null,null,null,null,null,null,null,null,null,null,null,null,null,null,null,null,null,null,null,null,null,null,null,null,null,null,null,null,null,null,null,null,null,null,null,null,null,null,null,null,null,null,null,null,null,null,null,null,null,null,null,null,null,null,null,null,null,null,null,null,null,null,null,null,null,null,null,null,null,null,null,null,null,null,null,null,null,null,null,null,null,null,null,null,null,null,null,null,null,null,null,null,null,null,null,null,null,null,null,null,null,null,null,null,null,null,null,null,null,null,null,null,null,null,null,null,null,null,null,null,null,null,null,null,null,null,null,null,null,null,null,null,null,null,null,null,null,null,null,null,null,null,null,null,null,null,null,null,null,null,null,null,null,null,null,null,null,null,null,null,null,null,null,null,null,null,null,null,null,null,null,null,null,null,null,null,null,null,null,null,null,null,null,null,null,null,null,null,null,null,null,null,null,null,null,null,null,"",null,"年月日\t\t0\t\t\t",0]
[101,null,null,null,null,null,null,null,null,null,null,null,null,null,null,null,null,null,null,null,null,null,null,null,null,null,null,null,null,null,null,null,null,null,null,null,null,null,null,null,null,null,null,null,null,null,null,null,null,null,null,null,null,null,null,null,null,null,null,null,null,null,null,null,null,null,null,null,null,null,null,null,null,null,null,null,null,null,null,null,null,null,null,null,null,null,null,null,null,null,null,null,null,null,null,null,null,null,null,null,null,null,null,null,null,null,null,null,null,null,null,null,null,null,null,null,null,null,null,null,null,null,null,null,null,null,null,null,null,null,null,null,null,null,null,null,null,null,null,null,null,null,null,null,null,null,null,null,null,null,null,null,null,null,null,null,null,null,null,null,null,null,null,null,null,null,null,null,null,null,null,null,null,null,null,null,null,null,null,null,null,null,null,null,null,null,null,null,null,null,null,null,null,null,null,null,null,null,null,null,null,null,null,null,null,null,null,null,null,null,null,null,null,null,null,null,null,"",null,"年月日\t\t0\t\t\t",0]
[102,null,null,null,null,null,null,null,null,null,null,null,null,null,null,null,null,null,null,null,null,null,null,null,null,null,null,null,null,null,null,null,null,null,null,null,null,null,null,null,null,null,null,null,null,null,null,null,null,null,null,null,null,null,null,null,null,null,null,null,null,null,null,null,null,null,null,null,null,null,null,null,null,null,null,null,null,null,null,null,null,null,null,null,null,null,null,null,null,null,null,null,null,null,null,null,null,null,null,null,null,null,null,null,null,null,null,null,null,null,null,null,null,null,null,null,null,null,null,null,null,null,null,null,null,null,null,null,null,null,null,null,null,null,null,null,null,null,null,null,null,null,null,null,null,null,null,null,null,null,null,null,null,null,null,null,null,null,null,null,null,null,null,null,null,null,null,null,null,null,null,null,null,null,null,null,null,null,null,null,null,null,null,null,null,null,null,null,null,null,null,null,null,null,null,null,null,null,null,null,null,null,null,null,null,null,null,null,null,null,null,null,null,null,null,null,null,"",null,"年月日\t\t0\t\t\t",0]
[103,null,null,null,null,null,null,null,null,null,null,null,null,null,null,null,null,null,null,null,null,null,null,null,null,null,null,null,null,null,null,null,null,null,null,null,null,null,null,null,null,null,null,null,null,null,null,null,null,null,null,null,null,null,null,null,null,null,null,null,null,null,null,null,null,null,null,null,null,null,null,null,null,null,null,null,null,null,null,null,null,null,null,null,null,null,null,null,null,null,null,null,null,null,null,null,null,null,null,null,null,null,null,null,null,null,null,null,null,null,null,null,null,null,null,null,null,null,null,null,null,null,null,null,null,null,null,null,null,null,null,null,null,null,null,null,null,null,null,null,null,null,null,null,null,null,null,null,null,null,null,null,null,null,null,null,null,null,null,null,null,null,null,null,null,null,null,null,null,null,null,null,null,null,null,null,null,null,null,null,null,null,null,null,null,null,null,null,null,null,null,null,null,null,null,null,null,null,null,null,null,null,null,null,null,null,null,null,null,null,null,null,null,null,null,null,null,"",null,"年月日\t\t0\t\t\t",0]
[104,null,null,null,null,null,null,null,null,null,null,null,null,null,null,null,null,null,null,null,null,null,null,null,null,null,null,null,null,null,null,null,null,null,null,null,null,null,null,null,null,null,null,null,null,null,null,null,null,null,null,null,null,null,null,null,null,null,null,null,null,null,null,null,null,null,null,null,null,null,null,null,null,null,null,null,null,null,null,null,null,null,null,null,null,null,null,null,null,null,null,null,null,null,null,null,null,null,null,null,null,null,null,null,null,null,null,null,null,null,null,null,null,null,null,null,null,null,null,null,null,null,null,null,null,null,null,null,null,null,null,null,null,null,null,null,null,null,null,null,null,null,null,null,null,null,null,null,null,null,null,null,null,null,null,null,null,null,null,null,null,null,null,null,null,null,null,null,null,null,null,null,null,null,null,null,null,null,null,null,null,null,null,null,null,null,null,null,null,null,null,null,null,null,null,null,null,null,null,null,null,null,null,null,null,null,null,null,null,null,null,null,null,null,null,null,null,"",null,"年月日\t\t0\t\t\t",0]
[105,null,null,null,null,null,null,null,null,null,null,null,null,null,null,null,null,null,null,null,null,null,null,null,null,null,null,null,null,null,null,null,null,null,null,null,null,null,null,null,null,null,null,null,null,null,null,null,null,null,null,null,null,null,null,null,null,null,null,null,null,null,null,null,null,null,null,null,null,null,null,null,null,null,null,null,null,null,null,null,null,null,null,null,null,null,null,null,null,null,null,null,null,null,null,null,null,null,null,null,null,null,null,null,null,null,null,null,null,null,null,null,null,null,null,null,null,null,null,null,null,null,null,null,null,null,null,null,null,null,null,null,null,null,null,null,null,null,null,null,null,null,null,null,null,null,null,null,null,null,null,null,null,null,null,null,null,null,null,null,null,null,null,null,null,null,null,null,null,null,null,null,null,null,null,null,null,null,null,null,null,null,null,null,null,null,null,null,null,null,null,null,null,null,null,null,null,null,null,null,null,null,null,null,null,null,null,null,null,null,null,null,null,null,null,null,null,"",null,"年月日\t\t0\t\t\t",0]
[106,null,null,null,null,null,null,null,null,null,null,null,null,null,null,null,null,null,null,null,null,null,null,null,null,null,null,null,null,null,null,null,null,null,null,null,null,null,null,null,null,null,null,null,null,null,null,null,null,null,null,null,null,null,null,null,null,null,null,null,null,null,null,null,null,null,null,null,null,null,null,null,null,null,null,null,null,null,null,null,null,null,null,null,null,null,null,null,null,null,null,null,null,null,null,null,null,null,null,null,null,null,null,null,null,null,null,null,null,null,null,null,null,null,null,null,null,null,null,null,null,null,null,null,null,null,null,null,null,null,null,null,null,null,null,null,null,null,null,null,null,null,null,null,null,null,null,null,null,null,null,null,null,null,null,null,null,null,null,null,null,null,null,null,null,null,null,null,null,null,null,null,null,null,null,null,null,null,null,null,null,null,null,null,null,null,null,null,null,null,null,null,null,null,null,null,null,null,null,null,null,null,null,null,null,null,null,null,null,null,null,null,null,null,null,null,null,"",null,"年月日\t\t0\t\t\t",0]
[107,null,null,null,null,null,null,null,null,null,null,null,null,null,null,null,null,null,null,null,null,null,null,null,null,null,null,null,null,null,null,null,null,null,null,null,null,null,null,null,null,null,null,null,null,null,null,null,null,null,null,null,null,null,null,null,null,null,null,null,null,null,null,null,null,null,null,null,null,null,null,null,null,null,null,null,null,null,null,null,null,null,null,null,null,null,null,null,null,null,null,null,null,null,null,null,null,null,null,null,null,null,null,null,null,null,null,null,null,null,null,null,null,null,null,null,null,null,null,null,null,null,null,null,null,null,null,null,null,null,null,null,null,null,null,null,null,null,null,null,null,null,null,null,null,null,null,null,null,null,null,null,null,null,null,null,null,null,null,null,null,null,null,null,null,null,null,null,null,null,null,null,null,null,null,null,null,null,null,null,null,null,null,null,null,null,null,null,null,null,null,null,null,null,null,null,null,null,null,null,null,null,null,null,null,null,null,null,null,null,null,null,null,null,null,null,null,"",null,"年月日\t\t0\t\t\t",0]
[108,null,null,null,null,null,null,null,null,null,null,null,null,null,null,null,null,null,null,null,null,null,null,null,null,null,null,null,null,null,null,null,null,null,null,null,null,null,null,null,null,null,null,null,null,null,null,null,null,null,null,null,null,null,null,null,null,null,null,null,null,null,null,null,null,null,null,null,null,null,null,null,null,null,null,null,null,null,null,null,null,null,null,null,null,null,null,null,null,null,null,null,null,null,null,null,null,null,null,null,null,null,null,null,null,null,null,null,null,null,null,null,null,null,null,null,null,null,null,null,null,null,null,null,null,null,null,null,null,null,null,null,null,null,null,null,null,null,null,null,null,null,null,null,null,null,null,null,null,null,null,null,null,null,null,null,null,null,null,null,null,null,null,null,null,null,null,null,null,null,null,null,null,null,null,null,null,null,null,null,null,null,null,null,null,null,null,null,null,null,null,null,null,null,null,null,null,null,null,null,null,null,null,null,null,null,null,null,null,null,null,null,null,null,null,null,null,"",null,"年月日\t\t0\t\t\t",0]
[109,null,null,null,null,null,null,null,null,null,null,null,null,null,null,null,null,null,null,null,null,null,null,null,null,null,null,null,null,null,null,null,null,null,null,null,null,null,null,null,null,null,null,null,null,null,null,null,null,null,null,null,null,null,null,null,null,null,null,null,null,null,null,null,null,null,null,null,null,null,null,null,null,null,null,null,null,null,null,null,null,null,null,null,null,null,null,null,null,null,null,null,null,null,null,null,null,null,null,null,null,null,null,null,null,null,null,null,null,null,null,null,null,null,null,null,null,null,null,null,null,null,null,null,null,null,null,null,null,null,null,null,null,null,null,null,null,null,null,null,null,null,null,null,null,null,null,null,null,null,null,null,null,null,null,null,null,null,null,null,null,null,null,null,null,null,null,null,null,null,null,null,null,null,null,null,null,null,null,null,null,null,null,null,null,null,null,null,null,null,null,null,null,null,null,null,null,null,null,null,null,null,null,null,null,null,null,null,null,null,null,null,null,null,null,null,null,"",null,"年月日\t\t0\t\t\t",0]
[110,null,null,null,null,null,null,null,null,null,null,null,null,null,null,null,null,null,null,null,null,null,null,null,null,null,null,null,null,null,null,null,null,null,null,null,null,null,null,null,null,null,null,null,null,null,null,null,null,null,null,null,null,null,null,null,null,null,null,null,null,null,null,null,null,null,null,null,null,null,null,null,null,null,null,null,null,null,null,null,null,null,null,null,null,null,null,null,null,null,null,null,null,null,null,null,null,null,null,null,null,null,null,null,null,null,null,null,null,null,null,null,null,null,null,null,null,null,null,null,null,null,null,null,null,null,null,null,null,null,null,null,null,null,null,null,null,null,null,null,null,null,null,null,null,null,null,null,null,null,null,null,null,null,null,null,null,null,null,null,null,null,null,null,null,null,null,null,null,null,null,null,null,null,null,null,null,null,null,null,null,null,null,null,null,null,null,null,null,null,null,null,null,null,null,null,null,null,null,null,null,null,null,null,null,null,null,null,null,null,null,null,null,null,null,null,null,"",null,"年月日\t\t0\t\t\t",0]
[111,null,null,null,null,null,null,null,null,null,null,null,null,null,null,null,null,null,null,null,null,null,null,null,null,null,null,null,null,null,null,null,null,null,null,null,null,null,null,null,null,null,null,null,null,null,null,null,null,null,null,null,null,null,null,null,null,null,null,null,null,null,null,null,null,null,null,null,null,null,null,null,null,null,null,null,null,null,null,null,null,null,null,null,null,null,null,null,null,null,null,null,null,null,null,null,null,null,null,null,null,null,null,null,null,null,null,null,null,null,null,null,null,null,null,null,null,null,null,null,null,null,null,null,null,null,null,null,null,null,null,null,null,null,null,null,null,null,null,null,null,null,null,null,null,null,null,null,null,null,null,null,null,null,null,null,null,null,null,null,null,null,null,null,null,null,null,null,null,null,null,null,null,null,null,null,null,null,null,null,null,null,null,null,null,null,null,null,null,null,null,null,null,null,null,null,null,null,null,null,null,null,null,null,null,null,null,null,null,null,null,null,null,null,null,null,null,"",null,"年月日\t\t0\t\t\t",0]
[112,null,null,null,null,null,null,null,null,null,null,null,null,null,null,null,null,null,null,null,null,null,null,null,null,null,null,null,null,null,null,null,null,null,null,null,null,null,null,null,null,null,null,null,null,null,null,null,null,null,null,null,null,null,null,null,null,null,null,null,null,null,null,null,null,null,null,null,null,null,null,null,null,null,null,null,null,null,null,null,null,null,null,null,null,null,null,null,null,null,null,null,null,null,null,null,null,null,null,null,null,null,null,null,null,null,null,null,null,null,null,null,null,null,null,null,null,null,null,null,null,null,null,null,null,null,null,null,null,null,null,null,null,null,null,null,null,null,null,null,null,null,null,null,null,null,null,null,null,null,null,null,null,null,null,null,null,null,null,null,null,null,null,null,null,null,null,null,null,null,null,null,null,null,null,null,null,null,null,null,null,null,null,null,null,null,null,null,null,null,null,null,null,null,null,null,null,null,null,null,null,null,null,null,null,null,null,null,null,null,null,null,null,null,null,null,null,"",null,"年月日\t\t0\t\t\t",0]
[113,null,null,null,null,null,null,null,null,null,null,null,null,null,null,null,null,null,null,null,null,null,null,null,null,null,null,null,null,null,null,null,null,null,null,null,null,null,null,null,null,null,null,null,null,null,null,null,null,null,null,null,null,null,null,null,null,null,null,null,null,null,null,null,null,null,null,null,null,null,null,null,null,null,null,null,null,null,null,null,null,null,null,null,null,null,null,null,null,null,null,null,null,null,null,null,null,null,null,null,null,null,null,null,null,null,null,null,null,null,null,null,null,null,null,null,null,null,null,null,null,null,null,null,null,null,null,null,null,null,null,null,null,null,null,null,null,null,null,null,null,null,null,null,null,null,null,null,null,null,null,null,null,null,null,null,null,null,null,null,null,null,null,null,null,null,null,null,null,null,null,null,null,null,null,null,null,null,null,null,null,null,null,null,null,null,null,null,null,null,null,null,null,null,null,null,null,null,null,null,null,null,null,null,null,null,null,null,null,null,null,null,null,null,null,null,null,"",null,"年月日\t\t0\t\t\t",0]
[114,null,null,null,null,null,null,null,null,null,null,null,null,null,null,null,null,null,null,null,null,null,null,null,null,null,null,null,null,null,null,null,null,null,null,null,null,null,null,null,null,null,null,null,null,null,null,null,null,null,null,null,null,null,null,null,null,null,null,null,null,null,null,null,null,null,null,null,null,null,null,null,null,null,null,null,null,null,null,null,null,null,null,null,null,null,null,null,null,null,null,null,null,null,null,null,null,null,null,null,null,null,null,null,null,null,null,null,null,null,null,null,null,null,null,null,null,null,null,null,null,null,null,null,null,null,null,null,null,null,null,null,null,null,null,null,null,null,null,null,null,null,null,null,null,null,null,null,null,null,null,null,null,null,null,null,null,null,null,null,null,null,null,null,null,null,null,null,null,null,null,null,null,null,null,null,null,null,null,null,null,null,null,null,null,null,null,null,null,null,null,null,null,null,null,null,null,null,null,null,null,null,null,null,null,null,null,null,null,null,null,null,null,null,null,null,null,"",null,"年月日\t\t0\t\t\t",0]
[115,null,null,null,null,null,null,null,null,null,null,null,null,null,null,null,null,null,null,null,null,null,null,null,null,null,null,null,null,null,null,null,null,null,null,null,null,null,null,null,null,null,null,null,null,null,null,null,null,null,null,null,null,null,null,null,null,null,null,null,null,null,null,null,null,null,null,null,null,null,null,null,null,null,null,null,null,null,null,null,null,null,null,null,null,null,null,null,null,null,null,null,null,null,null,null,null,null,null,null,null,null,null,null,null,null,null,null,null,null,null,null,null,null,null,null,null,null,null,null,null,null,null,null,null,null,null,null,null,null,null,null,null,null,null,null,null,null,null,null,null,null,null,null,null,null,null,null,null,null,null,null,null,null,null,null,null,null,null,null,null,null,null,null,null,null,null,null,null,null,null,null,null,null,null,null,null,null,null,null,null,null,null,null,null,null,null,null,null,null,null,null,null,null,null,null,null,null,null,null,null,null,null,null,null,null,null,null,null,null,null,null,null,null,null,null,null,"",null,"年月日\t\t0\t\t\t",0]
[116,null,null,null,null,null,null,null,null,null,null,null,null,null,null,null,null,null,null,null,null,null,null,null,null,null,null,null,null,null,null,null,null,null,null,null,null,null,null,null,null,null,null,null,null,null,null,null,null,null,null,null,null,null,null,null,null,null,null,null,null,null,null,null,null,null,null,null,null,null,null,null,null,null,null,null,null,null,null,null,null,null,null,null,null,null,null,null,null,null,null,null,null,null,null,null,null,null,null,null,null,null,null,null,null,null,null,null,null,null,null,null,null,null,null,null,null,null,null,null,null,null,null,null,null,null,null,null,null,null,null,null,null,null,null,null,null,null,null,null,null,null,null,null,null,null,null,null,null,null,null,null,null,null,null,null,null,null,null,null,null,null,null,null,null,null,null,null,null,null,null,null,null,null,null,null,null,null,null,null,null,null,null,null,null,null,null,null,null,null,null,null,null,null,null,null,null,null,null,null,null,null,null,null,null,null,null,null,null,null,null,null,null,null,null,null,null,"",null,"年月日\t\t0\t\t\t",0]
[117,null,null,null,null,null,null,null,null,null,null,null,null,null,null,null,null,null,null,null,null,null,null,null,null,null,null,null,null,null,null,null,null,null,null,null,null,null,null,null,null,null,null,null,null,null,null,null,null,null,null,null,null,null,null,null,null,null,null,null,null,null,null,null,null,null,null,null,null,null,null,null,null,null,null,null,null,null,null,null,null,null,null,null,null,null,null,null,null,null,null,null,null,null,null,null,null,null,null,null,null,null,null,null,null,null,null,null,null,null,null,null,null,null,null,null,null,null,null,null,null,null,null,null,null,null,null,null,null,null,null,null,null,null,null,null,null,null,null,null,null,null,null,null,null,null,null,null,null,null,null,null,null,null,null,null,null,null,null,null,null,null,null,null,null,null,null,null,null,null,null,null,null,null,null,null,null,null,null,null,null,null,null,null,null,null,null,null,null,null,null,null,null,null,null,null,null,null,null,null,null,null,null,null,null,null,null,null,null,null,null,null,null,null,null,null,null,"",null,"年月日\t\t0\t\t\t",0]
[118,null,null,null,null,null,null,null,null,null,null,null,null,null,null,null,null,null,null,null,null,null,null,null,null,null,null,null,null,null,null,null,null,null,null,null,null,null,null,null,null,null,null,null,null,null,null,null,null,null,null,null,null,null,null,null,null,null,null,null,null,null,null,null,null,null,null,null,null,null,null,null,null,null,null,null,null,null,null,null,null,null,null,null,null,null,null,null,null,null,null,null,null,null,null,null,null,null,null,null,null,null,null,null,null,null,null,null,null,null,null,null,null,null,null,null,null,null,null,null,null,null,null,null,null,null,null,null,null,null,null,null,null,null,null,null,null,null,null,null,null,null,null,null,null,null,null,null,null,null,null,null,null,null,null,null,null,null,null,null,null,null,null,null,null,null,null,null,null,null,null,null,null,null,null,null,null,null,null,null,null,null,null,null,null,null,null,null,null,null,null,null,null,null,null,null,null,null,null,null,null,null,null,null,null,null,null,null,null,null,null,null,null,null,null,null,null,"",null,"年月日\t\t0\t\t\t",0]
[119,null,null,null,null,null,null,null,null,null,null,null,null,null,null,null,null,null,null,null,null,null,null,null,null,null,null,null,null,null,null,null,null,null,null,null,null,null,null,null,null,null,null,null,null,null,null,null,null,null,null,null,null,null,null,null,null,null,null,null,null,null,null,null,null,null,null,null,null,null,null,null,null,null,null,null,null,null,null,null,null,null,null,null,null,null,null,null,null,null,null,null,null,null,null,null,null,null,null,null,null,null,null,null,null,null,null,null,null,null,null,null,null,null,null,null,null,null,null,null,null,null,null,null,null,null,null,null,null,null,null,null,null,null,null,null,null,null,null,null,null,null,null,null,null,null,null,null,null,null,null,null,null,null,null,null,null,null,null,null,null,null,null,null,null,null,null,null,null,null,null,null,null,null,null,null,null,null,null,null,null,null,null,null,null,null,null,null,null,null,null,null,null,null,null,null,null,null,null,null,null,null,null,null,null,null,null,null,null,null,null,null,null,null,null,null,null,"",null,"年月日\t\t0\t\t\t",0]
[120,null,null,null,null,null,null,null,null,null,null,null,null,null,null,null,null,null,null,null,null,null,null,null,null,null,null,null,null,null,null,null,null,null,null,null,null,null,null,null,null,null,null,null,null,null,null,null,null,null,null,null,null,null,null,null,null,null,null,null,null,null,null,null,null,null,null,null,null,null,null,null,null,null,null,null,null,null,null,null,null,null,null,null,null,null,null,null,null,null,null,null,null,null,null,null,null,null,null,null,null,null,null,null,null,null,null,null,null,null,null,null,null,null,null,null,null,null,null,null,null,null,null,null,null,null,null,null,null,null,null,null,null,null,null,null,null,null,null,null,null,null,null,null,null,null,null,null,null,null,null,null,null,null,null,null,null,null,null,null,null,null,null,null,null,null,null,null,null,null,null,null,null,null,null,null,null,null,null,null,null,null,null,null,null,null,null,null,null,null,null,null,null,null,null,null,null,null,null,null,null,null,null,null,null,null,null,null,null,null,null,null,null,null,null,null,null,"",null,"年月日\t\t0\t\t\t",0]
[121,null,null,null,null,null,null,null,null,null,null,null,null,null,null,null,null,null,null,null,null,null,null,null,null,null,null,null,null,null,null,null,null,null,null,null,null,null,null,null,null,null,null,null,null,null,null,null,null,null,null,null,null,null,null,null,null,null,null,null,null,null,null,null,null,null,null,null,null,null,null,null,null,null,null,null,null,null,null,null,null,null,null,null,null,null,null,null,null,null,null,null,null,null,null,null,null,null,null,null,null,null,null,null,null,null,null,null,null,null,null,null,null,null,null,null,null,null,null,null,null,null,null,null,null,null,null,null,null,null,null,null,null,null,null,null,null,null,null,null,null,null,null,null,null,null,null,null,null,null,null,null,null,null,null,null,null,null,null,null,null,null,null,null,null,null,null,null,null,null,null,null,null,null,null,null,null,null,null,null,null,null,null,null,null,null,null,null,null,null,null,null,null,null,null,null,null,null,null,null,null,null,null,null,null,null,null,null,null,null,null,null,null,null,null,null,null,"",null,"年月日\t\t0\t\t\t",0]
[122,null,null,null,null,null,null,null,null,null,null,null,null,null,null,null,null,null,null,null,null,null,null,null,null,null,null,null,null,null,null,null,null,null,null,null,null,null,null,null,null,null,null,null,null,null,null,null,null,null,null,null,null,null,null,null,null,null,null,null,null,null,null,null,null,null,null,null,null,null,null,null,null,null,null,null,null,null,null,null,null,null,null,null,null,null,null,null,null,null,null,null,null,null,null,null,null,null,null,null,null,null,null,null,null,null,null,null,null,null,null,null,null,null,null,null,null,null,null,null,null,null,null,null,null,null,null,null,null,null,null,null,null,null,null,null,null,null,null,null,null,null,null,null,null,null,null,null,null,null,null,null,null,null,null,null,null,null,null,null,null,null,null,null,null,null,null,null,null,null,null,null,null,null,null,null,null,null,null,null,null,null,null,null,null,null,null,null,null,null,null,null,null,null,null,null,null,null,null,null,null,null,null,null,null,null,null,null,null,null,null,null,null,null,null,null,null,"",null,"年月日\t\t0\t\t\t",0]
[123,null,null,null,null,null,null,null,null,null,null,null,null,null,null,null,null,null,null,null,null,null,null,null,null,null,null,null,null,null,null,null,null,null,null,null,null,null,null,null,null,null,null,null,null,null,null,null,null,null,null,null,null,null,null,null,null,null,null,null,null,null,null,null,null,null,null,null,null,null,null,null,null,null,null,null,null,null,null,null,null,null,null,null,null,null,null,null,null,null,null,null,null,null,null,null,null,null,null,null,null,null,null,null,null,null,null,null,null,null,null,null,null,null,null,null,null,null,null,null,null,null,null,null,null,null,null,null,null,null,null,null,null,null,null,null,null,null,null,null,null,null,null,null,null,null,null,null,null,null,null,null,null,null,null,null,null,null,null,null,null,null,null,null,null,null,null,null,null,null,null,null,null,null,null,null,null,null,null,null,null,null,null,null,null,null,null,null,null,null,null,null,null,null,null,null,null,null,null,null,null,null,null,null,null,null,null,null,null,null,null,null,null,null,null,null,null,"",null,"年月日\t\t0\t\t\t",0]
[128,null,null,null,null,null,null,null,null,null,null,null,null,null,null,null,null,null,null,null,null,null,null,null,null,null,null,null,null,null,null,null,null,null,null,null,null,null,null,null,null,null,null,null,null,null,null,null,null,null,null,null,null,null,null,null,null,null,null,null,null,null,null,null,null,null,null,null,null,null,null,null,null,null,null,null,null,null,null,null,null,null,null,null,null,null,null,null,null,null,null,null,null,null,null,null,null,null,null,null,null,null,null,null,null,null,null,null,null,null,null,null,null,null,null,null,null,null,null,null,null,null,null,null,null,null,null,null,null,null,null,null,null,null,null,null,null,null,null,null,null,null,null,null,null,null,null,null,null,null,null,null,null,null,null,null,null,null,null,null,null,null,null,null,null,null,null,null,null,null,null,null,null,null,null,null,null,null,null,null,null,null,null,null,null,null,null,null,null,null,null,null,null,null,null,null,null,null,null,null,null,null,null,null,null,null,null,null,null,null,null,null,null,null,null,null,null,"",null,"年月日\t\t0\t\t\t",0]
[133,null,null,null,null,null,null,null,null,null,null,null,null,null,null,null,null,null,null,null,null,null,null,null,null,null,null,null,null,null,null,null,null,null,null,null,null,null,null,null,null,null,null,null,null,null,null,null,null,null,null,null,null,null,null,null,null,null,null,null,null,null,null,null,null,null,null,null,null,null,null,null,null,null,null,null,null,null,null,null,null,null,null,null,null,null,null,null,null,null,null,null,null,null,null,null,null,null,null,null,null,null,null,null,null,null,null,null,null,null,null,null,null,null,null,null,null,null,null,null,null,null,null,null,null,null,null,null,null,null,null,null,null,null,null,null,null,null,null,null,null,null,null,null,null,null,null,null,null,null,null,null,null,null,null,null,null,null,null,null,null,null,null,null,null,null,null,null,null,null,null,null,null,null,null,null,null,null,null,null,null,null,null,null,null,null,null,null,null,null,null,null,null,null,null,null,null,null,null,null,null,null,null,null,null,null,null,null,null,null,null,null,null,null,null,null,null,"",null,"年月日\t\t0\t\t\t",0]
[142,null,null,null,null,null,null,null,null,null,null,null,null,null,null,null,null,null,null,null,null,null,null,null,null,null,null,null,null,null,null,null,null,null,null,null,null,null,null,null,null,null,null,null,null,null,null,null,null,null,null,null,null,null,null,null,null,null,null,null,null,null,null,null,null,null,null,null,null,null,null,null,null,null,null,null,null,null,null,null,null,null,null,null,null,null,null,null,null,null,null,null,null,null,null,null,null,null,null,null,null,null,null,null,null,null,null,null,null,null,null,null,null,null,null,null,null,null,null,null,null,null,null,null,null,null,null,null,null,null,null,null,null,null,null,null,null,null,null,null,null,null,null,null,null,null,null,null,null,null,null,null,null,null,null,null,null,null,null,null,null,null,null,null,null,null,null,null,null,null,null,null,null,null,null,null,null,null,null,null,null,null,null,null,null,null,null,null,null,null,null,null,null,null,null,null,null,null,null,null,null,null,null,null,null,null,null,null,null,null,null,null,null,null,null,null,null,"",null,"年月日\t\t0\t\t\t",0]
[151,null,null,null,null,null,null,null,null,null,null,null,null,null,null,null,null,null,null,null,null,null,null,null,null,null,null,null,null,null,null,null,null,null,null,null,null,null,null,null,null,null,null,null,null,null,null,null,null,null,null,null,null,null,null,null,null,null,null,null,null,null,null,null,null,null,null,null,null,null,null,null,null,null,null,null,null,null,null,null,null,null,null,null,null,null,null,null,null,null,null,null,null,null,null,null,null,null,null,null,null,null,null,null,null,null,null,null,null,null,null,null,null,null,null,null,null,null,null,null,null,null,null,null,null,null,null,null,null,null,null,null,null,null,null,null,null,null,null,null,null,null,null,null,null,null,null,null,null,null,null,null,null,null,null,null,null,null,null,null,null,null,null,null,null,null,null,null,null,null,null,null,null,null,null,null,null,null,null,null,null,null,null,null,null,null,null,null,null,null,null,null,null,null,null,null,null,null,null,null,null,null,null,null,null,null,null,null,null,null,null,null,null,null,null,null,null,"",null,"年月日\t\t0\t\t\t",0]
[160,null,null,null,null,null,null,null,null,null,null,null,null,null,null,null,null,null,null,null,null,null,null,null,null,null,null,null,null,null,null,null,null,null,null,null,null,null,null,null,null,null,null,null,null,null,null,null,null,null,null,null,null,null,null,null,null,null,null,null,null,null,null,null,null,null,null,null,null,null,null,null,null,null,null,null,null,null,null,null,null,null,null,null,null,null,null,null,null,null,null,null,null,null,null,null,null,null,null,null,null,null,null,null,null,null,null,null,null,null,null,null,null,null,null,null,null,null,null,null,null,null,null,null,null,null,null,null,null,null,null,null,null,null,null,null,null,null,null,null,null,null,null,null,null,null,null,null,null,null,null,null,null,null,null,null,null,null,null,null,null,null,null,null,null,null,null,null,null,null,null,null,null,null,null,null,null,null,null,null,null,null,null,null,null,null,null,null,null,null,null,null,null,null,null,null,null,null,null,null,null,null,null,null,null,null,null,null,null,null,null,null,null,null,null,null,null,"",null,"年月日\t\t0\t\t\t",0]
[166,null,null,null,null,null,null,null,null,null,null,null,null,null,null,null,null,null,null,null,null,null,null,null,null,null,null,null,null,null,null,null,null,null,null,null,null,null,null,null,null,null,null,null,null,null,null,null,null,null,null,null,null,null,null,null,null,null,null,null,null,null,null,null,null,null,null,null,null,null,null,null,null,null,null,null,null,null,null,null,null,null,null,null,null,null,null,null,null,null,null,null,null,null,null,null,null,null,null,null,null,null,null,null,null,null,null,null,null,null,null,null,null,null,null,null,null,null,null,null,null,null,null,null,null,null,null,null,null,null,null,null,null,null,null,null,null,null,null,null,null,null,null,null,null,null,null,null,null,null,null,null,null,null,null,null,null,null,null,null,null,null,null,null,null,null,null,null,null,null,null,null,null,null,null,null,null,null,null,null,null,null,null,null,null,null,null,null,null,null,null,null,null,null,null,null,null,null,null,null,null,null,null,null,null,null,null,null,null,null,null,null,null,null,null,null,null,"",null,"年月日\t\t0\t\t\t",0]
[177,null,null,null,null,null,null,null,null,null,null,null,null,null,null,null,null,null,null,null,null,null,null,null,null,null,null,null,null,null,null,null,null,null,null,null,null,null,null,null,null,null,null,null,null,null,null,null,null,null,null,null,null,null,null,null,null,null,null,null,null,null,null,null,null,null,null,null,null,null,null,null,null,null,null,null,null,null,null,null,null,null,null,null,null,null,null,null,null,null,null,null,null,null,null,null,null,null,null,null,null,null,null,null,null,null,null,null,null,null,null,null,null,null,null,null,null,null,null,null,null,null,null,null,null,null,null,null,null,null,null,null,null,null,null,null,null,null,null,null,null,null,null,null,null,null,null,null,null,null,null,null,null,null,null,null,null,null,null,null,null,null,null,null,null,null,null,null,null,null,null,null,null,null,null,null,null,null,null,null,null,null,null,null,null,null,null,null,null,null,null,null,null,null,null,null,null,null,null,null,null,null,null,null,null,null,null,null,null,null,null,null,null,null,null,null,null,"",null,"年月日\t\t0\t\t\t",0]
[178,null,null,null,null,null,null,null,null,null,null,null,null,null,null,null,null,null,null,null,null,null,null,null,null,null,null,null,null,null,null,null,null,null,null,null,null,null,null,null,null,null,null,null,null,null,null,null,null,null,null,null,null,null,null,null,null,null,null,null,null,null,null,null,null,null,null,null,null,null,null,null,null,null,null,null,null,null,null,null,null,null,null,null,null,null,null,null,null,null,null,null,null,null,null,null,null,null,null,null,null,null,null,null,null,null,null,null,null,null,null,null,null,null,null,null,null,null,null,null,null,null,null,null,null,null,null,null,null,null,null,null,null,null,null,null,null,null,null,null,null,null,null,null,null,null,null,null,null,null,null,null,null,null,null,null,null,null,null,null,null,null,null,null,null,null,null,null,null,null,null,null,null,null,null,null,null,null,null,null,null,null,null,null,null,null,null,null,null,null,null,null,null,null,null,null,null,null,null,null,null,null,null,null,null,null,null,null,null,null,null,null,null,null,null,null,null,"",null,"年月日\t\t0\t\t\t",0]
[187,null,null,null,null,null,null,null,null,null,null,null,null,null,null,null,null,null,null,null,null,null,null,null,null,null,null,null,null,null,null,null,null,null,null,null,null,null,null,null,null,null,null,null,null,null,null,null,null,null,null,null,null,null,null,null,null,null,null,null,null,null,null,null,null,null,null,null,null,null,null,null,null,null,null,null,null,null,null,null,null,null,null,null,null,null,null,null,null,null,null,null,null,null,null,null,null,null,null,null,null,null,null,null,null,null,null,null,null,null,null,null,null,null,null,null,null,null,null,null,null,null,null,null,null,null,null,null,null,null,null,null,null,null,null,null,null,null,null,null,null,null,null,null,null,null,null,null,null,null,null,null,null,null,null,null,null,null,null,null,null,null,null,null,null,null,null,null,null,null,null,null,null,null,null,null,null,null,null,null,null,null,null,null,null,null,null,null,null,null,null,null,null,null,null,null,null,null,null,null,null,null,null,null,null,null,null,null,null,null,null,null,null,null,null,null,null,"",null,"年月日\t\t0\t\t\t",0]
[196,null,null,null,null,null,null,null,null,null,null,null,null,null,null,null,null,null,null,null,null,null,null,null,null,null,null,null,null,null,null,null,null,null,null,null,null,null,null,null,null,null,null,null,null,null,null,null,null,null,null,null,null,null,null,null,null,null,null,null,null,null,null,null,null,null,null,null,null,null,null,null,null,null,null,null,null,null,null,null,null,null,null,null,null,null,null,null,null,null,null,null,null,null,null,null,null,null,null,null,null,null,null,null,null,null,null,null,null,null,null,null,null,null,null,null,null,null,null,null,null,null,null,null,null,null,null,null,null,null,null,null,null,null,null,null,null,null,null,null,null,null,null,null,null,null,null,null,null,null,null,null,null,null,null,null,null,null,null,null,null,null,null,null,null,null,null,null,null,null,null,null,null,null,null,null,null,null,null,null,null,null,null,null,null,null,null,null,null,null,null,null,null,null,null,null,null,null,null,null,null,null,null,null,null,null,null,null,null,null,null,null,null,null,null,null,null,"",null,"年月日\t\t0\t\t\t",0]
[204,null,null,null,null,null,null,null,null,null,null,null,null,null,null,null,null,null,null,null,null,null,null,null,null,null,null,null,null,null,null,null,null,null,null,null,null,null,null,null,null,null,null,null,null,null,null,null,null,null,null,null,null,null,null,null,null,null,null,null,null,null,null,null,null,null,null,null,null,null,null,null,null,null,null,null,null,null,null,null,null,null,null,null,null,null,null,null,null,null,null,null,null,null,null,null,null,null,null,null,null,null,null,null,null,null,null,null,null,null,null,null,null,null,null,null,null,null,null,null,null,null,null,null,null,null,null,null,null,null,null,null,null,null,null,null,null,null,null,null,null,null,null,null,null,null,null,null,null,null,null,null,null,null,null,null,null,null,null,null,null,null,null,null,null,null,null,null,null,null,null,null,null,null,null,null,null,null,null,null,null,null,null,null,null,null,null,null,null,null,null,null,null,null,null,null,null,null,null,null,null,null,null,null,null,null,null,null,null,null,null,null,null,null,null,null,null,"",null,"年月日\t\t0\t\t\t",0]
[213,null,null,null,null,null,null,null,null,null,null,null,null,null,null,null,null,null,null,null,null,null,null,null,null,null,null,null,null,null,null,null,null,null,null,null,null,null,null,null,null,null,null,null,null,null,null,null,null,null,null,null,null,null,null,null,null,null,null,null,null,null,null,null,null,null,null,null,null,null,null,null,null,null,null,null,null,null,null,null,null,null,null,null,null,null,null,null,null,null,null,null,null,null,null,null,null,null,null,null,null,null,null,null,null,null,null,null,null,null,null,null,null,null,null,null,null,null,null,null,null,null,null,null,null,null,null,null,null,null,null,null,null,null,null,null,null,null,null,null,null,null,null,null,null,null,null,null,null,null,null,null,null,null,null,null,null,null,null,null,null,null,null,null,null,null,null,null,null,null,null,null,null,null,null,null,null,null,null,null,null,null,null,null,null,null,null,null,null,null,null,null,null,null,null,null,null,null,null,null,null,null,null,null,null,null,null,null,null,null,null,null,null,null,null,null,null,"",null,"年月日\t\t0\t\t\t",0]
[222,null,null,null,null,null,null,null,null,null,null,null,null,null,null,null,null,null,null,null,null,null,null,null,null,null,null,null,null,null,null,null,null,null,null,null,null,null,null,null,null,null,null,null,null,null,null,null,null,null,null,null,null,null,null,null,null,null,null,null,null,null,null,null,null,null,null,null,null,null,null,null,null,null,null,null,null,null,null,null,null,null,null,null,null,null,null,null,null,null,null,null,null,null,null,null,null,null,null,null,null,null,null,null,null,null,null,null,null,null,null,null,null,null,null,null,null,null,null,null,null,null,null,null,null,null,null,null,null,null,null,null,null,null,null,null,null,null,null,null,null,null,null,null,null,null,null,null,null,null,null,null,null,null,null,null,null,null,null,null,null,null,null,null,null,null,null,null,null,null,null,null,null,null,null,null,null,null,null,null,null,null,null,null,null,null,null,null,null,null,null,null,null,null,null,null,null,null,null,null,null,null,null,null,null,null,null,null,null,null,null,null,null,null,null,null,null,"",null,"年月日\t\t0\t\t\t",0]
[231,null,null,null,null,null,null,null,null,null,null,null,null,null,null,null,null,null,null,null,null,null,null,null,null,null,null,null,null,null,null,null,null,null,null,null,null,null,null,null,null,null,null,null,null,null,null,null,null,null,null,null,null,null,null,null,null,null,null,null,null,null,null,null,null,null,null,null,null,null,null,null,null,null,null,null,null,null,null,null,null,null,null,null,null,null,null,null,null,null,null,null,null,null,null,null,null,null,null,null,null,null,null,null,null,null,null,null,null,null,null,null,null,null,null,null,null,null,null,null,null,null,null,null,null,null,null,null,null,null,null,null,null,null,null,null,null,null,null,null,null,null,null,null,null,null,null,null,null,null,null,null,null,null,null,null,null,null,null,null,null,null,null,null,null,null,null,null,null,null,null,null,null,null,null,null,null,null,null,null,null,null,null,null,null,null,null,null,null,null,null,null,null,null,null,null,null,null,null,null,null,null,null,null,null,null,null,null,null,null,null,null,null,null,null,null,null,"",null,"年月日\t\t0\t\t\t",0]
[240,null,null,null,null,null,null,null,null,null,null,null,null,null,null,null,null,null,null,null,null,null,null,null,null,null,null,null,null,null,null,null,null,null,null,null,null,null,null,null,null,null,null,null,null,null,null,null,null,null,null,null,null,null,null,null,null,null,null,null,null,null,null,null,null,null,null,null,null,null,null,null,null,null,null,null,null,null,null,null,null,null,null,null,null,null,null,null,null,null,null,null,null,null,null,null,null,null,null,null,null,null,null,null,null,null,null,null,null,null,null,null,null,null,null,null,null,null,null,null,null,null,null,null,null,null,null,null,null,null,null,null,null,null,null,null,null,null,null,null,null,null,null,null,null,null,null,null,null,null,null,null,null,null,null,null,null,null,null,null,null,null,null,null,null,null,null,null,null,null,null,null,null,null,null,null,null,null,null,null,null,null,null,null,null,null,null,null,null,null,null,null,null,null,null,null,null,null,null,null,null,null,null,null,null,null,null,null,null,null,null,null,null,null,null,null,null,"",null,"年月日\t\t0\t\t\t",0]
[242,null,null,null,null,null,null,null,null,null,null,null,null,null,null,null,null,null,null,null,null,null,null,null,null,null,null,null,null,null,null,null,null,null,null,null,null,null,null,null,null,null,null,null,null,null,null,null,null,null,null,null,null,null,null,null,null,null,null,null,null,null,null,null,null,null,null,null,null,null,null,null,null,null,null,null,null,null,null,null,null,null,null,null,null,null,null,null,null,null,null,null,null,null,null,null,null,null,null,null,null,null,null,null,null,null,null,null,null,null,null,null,null,null,null,null,null,null,null,null,null,null,null,null,null,null,null,null,null,null,null,null,null,null,null,null,null,null,null,null,null,null,null,null,null,null,null,null,null,null,null,null,null,null,null,null,null,null,null,null,null,null,null,null,null,null,null,null,null,null,null,null,null,null,null,null,null,null,null,null,null,null,null,null,null,null,null,null,null,null,null,null,null,null,null,null,null,null,null,null,null,null,null,null,null,null,null,null,null,null,null,null,null,null,null,null,null,"",null,"年月日\t\t0\t\t\t",0]
[249,null,null,null,null,null,null,null,null,null,null,null,null,null,null,null,null,null,null,null,null,null,null,null,null,null,null,null,null,null,null,null,null,null,null,null,null,null,null,null,null,null,null,null,null,null,null,null,null,null,null,null,null,null,null,null,null,null,null,null,null,null,null,null,null,null,null,null,null,null,null,null,null,null,null,null,null,null,null,null,null,null,null,null,null,null,null,null,null,null,null,null,null,null,null,null,null,null,null,null,null,null,null,null,null,null,null,null,null,null,null,null,null,null,null,null,null,null,null,null,null,null,null,null,null,null,null,null,null,null,null,null,null,null,null,null,null,null,null,null,null,null,null,null,null,null,null,null,null,null,null,null,null,null,null,null,null,null,null,null,null,null,null,null,null,null,null,null,null,null,null,null,null,null,null,null,null,null,null,null,null,null,null,null,null,null,null,null,null,null,null,null,null,null,null,null,null,null,null,null,null,null,null,null,null,null,null,null,null,null,null,null,null,null,null,null,null,"",null,"年月日\t\t0\t\t\t",0]
[258,null,null,null,null,null,null,null,null,null,null,null,null,null,null,null,null,null,null,null,null,null,null,null,null,null,null,null,null,null,null,null,null,null,null,null,null,null,null,null,null,null,null,null,null,null,null,null,null,null,null,null,null,null,null,null,null,null,null,null,null,null,null,null,null,null,null,null,null,null,null,null,null,null,null,null,null,null,null,null,null,null,null,null,null,null,null,null,null,null,null,null,null,null,null,null,null,null,null,null,null,null,null,null,null,null,null,null,null,null,null,null,null,null,null,null,null,null,null,null,null,null,null,null,null,null,null,null,null,null,null,null,null,null,null,null,null,null,null,null,null,null,null,null,null,null,null,null,null,null,null,null,null,null,null,null,null,null,null,null,null,null,null,null,null,null,null,null,null,null,null,null,null,null,null,null,null,null,null,null,null,null,null,null,null,null,null,null,null,null,null,null,null,null,null,null,null,null,null,null,null,null,null,null,null,null,null,null,null,null,null,null,null,null,null,null,null,"",null,"年月日\t\t0\t\t\t",0]
[267,null,null,null,null,null,null,null,null,null,null,null,null,null,null,null,null,null,null,null,null,null,null,null,null,null,null,null,null,null,null,null,null,null,null,null,null,null,null,null,null,null,null,null,null,null,null,null,null,null,null,null,null,null,null,null,null,null,null,null,null,null,null,null,null,null,null,null,null,null,null,null,null,null,null,null,null,null,null,null,null,null,null,null,null,null,null,null,null,null,null,null,null,null,null,null,null,null,null,null,null,null,null,null,null,null,null,null,null,null,null,null,null,null,null,null,null,null,null,null,null,null,null,null,null,null,null,null,null,null,null,null,null,null,null,null,null,null,null,null,null,null,null,null,null,null,null,null,null,null,null,null,null,null,null,null,null,null,null,null,null,null,null,null,null,null,null,null,null,null,null,null,null,null,null,null,null,null,null,null,null,null,null,null,null,null,null,null,null,null,null,null,null,null,null,null,null,null,null,null,null,null,null,null,null,null,null,null,null,null,null,null,null,null,null,null,null,"",null,"年月日\t\t0\t\t\t",0]
[276,null,null,null,null,null,null,null,null,null,null,null,null,null,null,null,null,null,null,null,null,null,null,null,null,null,null,null,null,null,null,null,null,null,null,null,null,null,null,null,null,null,null,null,null,null,null,null,null,null,null,null,null,null,null,null,null,null,null,null,null,null,null,null,null,null,null,null,null,null,null,null,null,null,null,null,null,null,null,null,null,null,null,null,null,null,null,null,null,null,null,null,null,null,null,null,null,null,null,null,null,null,null,null,null,null,null,null,null,null,null,null,null,null,null,null,null,null,null,null,null,null,null,null,null,null,null,null,null,null,null,null,null,null,null,null,null,null,null,null,null,null,null,null,null,null,null,null,null,null,null,null,null,null,null,null,null,null,null,null,null,null,null,null,null,null,null,null,null,null,null,null,null,null,null,null,null,null,null,null,null,null,null,null,null,null,null,null,null,null,null,null,null,null,null,null,null,null,null,null,null,null,null,null,null,null,null,null,null,null,null,null,null,null,null,null,null,"",null,"年月日\t\t0\t\t\t",0]
[280,null,null,null,null,null,null,null,null,null,null,null,null,null,null,null,null,null,null,null,null,null,null,null,null,null,null,null,null,null,null,null,null,null,null,null,null,null,null,null,null,null,null,null,null,null,null,null,null,null,null,null,null,null,null,null,null,null,null,null,null,null,null,null,null,null,null,null,null,null,null,null,null,null,null,null,null,null,null,null,null,null,null,null,null,null,null,null,null,null,null,null,null,null,null,null,null,null,null,null,null,null,null,null,null,null,null,null,null,null,null,null,null,null,null,null,null,null,null,null,null,null,null,null,null,null,null,null,null,null,null,null,null,null,null,null,null,null,null,null,null,null,null,null,null,null,null,null,null,null,null,null,null,null,null,null,null,null,null,null,null,null,null,null,null,null,null,null,null,null,null,null,null,null,null,null,null,null,null,null,null,null,null,null,null,null,null,null,null,null,null,null,null,null,null,null,null,null,null,null,null,null,null,null,null,null,null,null,null,null,null,null,null,null,null,null,null,"",null,"年月日\t\t0\t\t\t",0]
[293,null,null,null,null,null,null,null,null,null,null,null,null,null,null,null,null,null,null,null,null,null,null,null,null,null,null,null,null,null,null,null,null,null,null,null,null,null,null,null,null,null,null,null,null,null,null,null,null,null,null,null,null,null,null,null,null,null,null,null,null,null,null,null,null,null,null,null,null,null,null,null,null,null,null,null,null,null,null,null,null,null,null,null,null,null,null,null,null,null,null,null,null,null,null,null,null,null,null,null,null,null,null,null,null,null,null,null,null,null,null,null,null,null,null,null,null,null,null,null,null,null,null,null,null,null,null,null,null,null,null,null,null,null,null,null,null,null,null,null,null,null,null,null,null,null,null,null,null,null,null,null,null,null,null,null,null,null,null,null,null,null,null,null,null,null,null,null,null,null,null,null,null,null,null,null,null,null,null,null,null,null,null,null,null,null,null,null,null,null,null,null,null,null,null,null,null,null,null,null,null,null,null,null,null,null,null,null,null,null,null,null,null,null,null,null,null,"",null,"年月日\t\t0\t\t\t",0]
[302,null,null,null,null,null,null,null,null,null,null,null,null,null,null,null,null,null,null,null,null,null,null,null,null,null,null,null,null,null,null,null,null,null,null,null,null,null,null,null,null,null,null,null,null,null,null,null,null,null,null,null,null,null,null,null,null,null,null,null,null,null,null,null,null,null,null,null,null,null,null,null,null,null,null,null,null,null,null,null,null,null,null,null,null,null,null,null,null,null,null,null,null,null,null,null,null,null,null,null,null,null,null,null,null,null,null,null,null,null,null,null,null,null,null,null,null,null,null,null,null,null,null,null,null,null,null,null,null,null,null,null,null,null,null,null,null,null,null,null,null,null,null,null,null,null,null,null,null,null,null,null,null,null,null,null,null,null,null,null,null,null,null,null,null,null,null,null,null,null,null,null,null,null,null,null,null,null,null,null,null,null,null,null,null,null,null,null,null,null,null,null,null,null,null,null,null,null,null,null,null,null,null,null,null,null,null,null,null,null,null,null,null,null,null,null,null,"",null,"年月日\t\t0\t\t\t",0]
[303,null,null,null,null,null,null,null,null,null,null,null,null,null,null,null,null,null,null,null,null,null,null,null,null,null,null,null,null,null,null,null,null,null,null,null,null,null,null,null,null,null,null,null,null,null,null,null,null,null,null,null,null,null,null,null,null,null,null,null,null,null,null,null,null,null,null,null,null,null,null,null,null,null,null,null,null,null,null,null,null,null,null,null,null,null,null,null,null,null,null,null,null,null,null,null,null,null,null,null,null,null,null,null,null,null,null,null,null,null,null,null,null,null,null,null,null,null,null,null,null,null,null,null,null,null,null,null,null,null,null,null,null,null,null,null,null,null,null,null,null,null,null,null,null,null,null,null,null,null,null,null,null,null,null,null,null,null,null,null,null,null,null,null,null,null,null,null,null,null,null,null,null,null,null,null,null,null,null,null,null,null,null,null,null,null,null,null,null,null,null,null,null,null,null,null,null,null,null,null,null,null,null,null,null,null,null,null,null,null,null,null,null,null,null,null,null,"",null,"年月日\t\t0\t\t\t",0]
[312,null,null,null,null,null,null,null,null,null,null,null,null,null,null,null,null,null,null,null,null,null,null,null,null,null,null,null,null,null,null,null,null,null,null,null,null,null,null,null,null,null,null,null,null,null,null,null,null,null,null,null,null,null,null,null,null,null,null,null,null,null,null,null,null,null,null,null,null,null,null,null,null,null,null,null,null,null,null,null,null,null,null,null,null,null,null,null,null,null,null,null,null,null,null,null,null,null,null,null,null,null,null,null,null,null,null,null,null,null,null,null,null,null,null,null,null,null,null,null,null,null,null,null,null,null,null,null,null,null,null,null,null,null,null,null,null,null,null,null,null,null,null,null,null,null,null,null,null,null,null,null,null,null,null,null,null,null,null,null,null,null,null,null,null,null,null,null,null,null,null,null,null,null,null,null,null,null,null,null,null,null,null,null,null,null,null,null,null,null,null,null,null,null,null,null,null,null,null,null,null,null,null,null,null,null,null,null,null,null,null,null,null,null,null,null,null,"",null,"年月日\t\t0\t\t\t",0]
[321,null,null,null,null,null,null,null,null,null,null,null,null,null,null,null,null,null,null,null,null,null,null,null,null,null,null,null,null,null,null,null,null,null,null,null,null,null,null,null,null,null,null,null,null,null,null,null,null,null,null,null,null,null,null,null,null,null,null,null,null,null,null,null,null,null,null,null,null,null,null,null,null,null,null,null,null,null,null,null,null,null,null,null,null,null,null,null,null,null,null,null,null,null,null,null,null,null,null,null,null,null,null,null,null,null,null,null,null,null,null,null,null,null,null,null,null,null,null,null,null,null,null,null,null,null,null,null,null,null,null,null,null,null,null,null,null,null,null,null,null,null,null,null,null,null,null,null,null,null,null,null,null,null,null,null,null,null,null,null,null,null,null,null,null,null,null,null,null,null,null,null,null,null,null,null,null,null,null,null,null,null,null,null,null,null,null,null,null,null,null,null,null,null,null,null,null,null,null,null,null,null,null,null,null,null,null,null,null,null,null,null,null,null,null,null,null,{"$f":"IF(HI323=\"\",\"\",IF(LENB(INDIRECT(\"n\"&HI323+2))<15,VLOOKUP(HI323,$A$3:$T$9999,5,FALSE)&CHAR(9)&INDIRECT(\"gs\"&HI323+2)&CHAR(9)&CHAR(9)&CHAR(9)&VLOOKUP(HI323,$A$3:$T$9999,20,FALSE),VLOOKUP(HI323,$A$3:$T$9999,5,FALSE)&CHAR(9)&INDIRECT(\"gs\"&HI323+2)&CHAR(9)&CHAR(9)&VLOOKUP(HI323,$A$3:$T$9999,20,FALSE)))","v":""},null,{"$f":"IF(LENB(N323)<15,F323&\"年\"&G323&\"月\"&H323&\"日\"&CHAR(9)&E323&CHAR(9)&HM323&CHAR(9)&CHAR(9)&CHAR(9)&T323,F323&\"年\"&G323&\"月\"&H323&\"日\"&CHAR(9)&E323&CHAR(9)&HM323&CHAR(9)&CHAR(9)&T323)","v":"年月日\t\t0\t\t\t"},{"$f":"IF(LENB(N323)<15,N323,LEFT(N323,9)&\"(略)\")","v":0}]
[327,null,null,null,null,null,null,null,null,null,null,null,null,null,null,null,null,null,null,null,null,null,null,null,null,null,null,null,null,null,null,null,null,null,null,null,null,null,null,null,null,null,null,null,null,null,null,null,null,null,null,null,null,null,null,null,null,null,null,null,null,null,null,null,null,null,null,null,null,null,null,null,null,null,null,null,null,null,null,null,null,null,null,null,null,null,null,null,null,null,null,null,null,null,null,null,null,null,null,null,null,null,null,null,null,null,null,null,null,null,null,null,null,null,null,null,null,null,null,null,null,null,null,null,null,null,null,null,null,null,null,null,null,null,null,null,null,null,null,null,null,null,null,null,null,null,null,null,null,null,null,null,null,null,null,null,null,null,null,null,null,null,null,null,null,null,null,null,null,null,null,null,null,null,null,null,null,null,null,null,null,null,null,null,null,null,null,null,null,null,null,null,null,null,null,null,null,null,null,null,null,null,null,null,null,null,null,null,null,null,null,null,null,null,null,null,null,"",null,"年月日\t\t0\t\t\t",0]
[338,null,null,null,null,null,null,null,null,null,null,null,null,null,null,null,null,null,null,null,null,null,null,null,null,null,null,null,null,null,null,null,null,null,null,null,null,null,null,null,null,null,null,null,null,null,null,null,null,null,null,null,null,null,null,null,null,null,null,null,null,null,null,null,null,null,null,null,null,null,null,null,null,null,null,null,null,null,null,null,null,null,null,null,null,null,null,null,null,null,null,null,null,null,null,null,null,null,null,null,null,null,null,null,null,null,null,null,null,null,null,null,null,null,null,null,null,null,null,null,null,null,null,null,null,null,null,null,null,null,null,null,null,null,null,null,null,null,null,null,null,null,null,null,null,null,null,null,null,null,null,null,null,null,null,null,null,null,null,null,null,null,null,null,null,null,null,null,null,null,null,null,null,null,null,null,null,null,null,null,null,null,null,null,null,null,null,null,null,null,null,null,null,null,null,null,null,null,null,null,null,null,null,null,null,null,null,null,null,null,null,null,null,null,null,null,null,"",null,"年月日\t\t0\t\t\t",0]
[347,null,null,null,null,null,null,null,null,null,null,null,null,null,null,null,null,null,null,null,null,null,null,null,null,null,null,null,null,null,null,null,null,null,null,null,null,null,null,null,null,null,null,null,null,null,null,null,null,null,null,null,null,null,null,null,null,null,null,null,null,null,null,null,null,null,null,null,null,null,null,null,null,null,null,null,null,null,null,null,null,null,null,null,null,null,null,null,null,null,null,null,null,null,null,null,null,null,null,null,null,null,null,null,null,null,null,null,null,null,null,null,null,null,null,null,null,null,null,null,null,null,null,null,null,null,null,null,null,null,null,null,null,null,null,null,null,null,null,null,null,null,null,null,null,null,null,null,null,null,null,null,null,null,null,null,null,null,null,null,null,null,null,null,null,null,null,null,null,null,null,null,null,null,null,null,null,null,null,null,null,null,null,null,null,null,null,null,null,null,null,null,null,null,null,null,null,null,null,null,null,null,null,null,null,null,null,null,null,null,null,null,null,null,null,null,null,"",null,"年月日\t\t0\t\t\t",0]
[356,null,null,null,null,null,null,null,null,null,null,null,null,null,null,null,null,null,null,null,null,null,null,null,null,null,null,null,null,null,null,null,null,null,null,null,null,null,null,null,null,null,null,null,null,null,null,null,null,null,null,null,null,null,null,null,null,null,null,null,null,null,null,null,null,null,null,null,null,null,null,null,null,null,null,null,null,null,null,null,null,null,null,null,null,null,null,null,null,null,null,null,null,null,null,null,null,null,null,null,null,null,null,null,null,null,null,null,null,null,null,null,null,null,null,null,null,null,null,null,null,null,null,null,null,null,null,null,null,null,null,null,null,null,null,null,null,null,null,null,null,null,null,null,null,null,null,null,null,null,null,null,null,null,null,null,null,null,null,null,null,null,null,null,null,null,null,null,null,null,null,null,null,null,null,null,null,null,null,null,null,null,null,null,null,null,null,null,null,null,null,null,null,null,null,null,null,null,null,null,null,null,null,null,null,null,null,null,null,null,null,null,null,null,null,null,null,{"$f":"IF(HI358=\"\",\"\",IF(LENB(INDIRECT(\"n\"&HI358+2))<15,VLOOKUP(HI358,$A$3:$T$9999,5,FALSE)&CHAR(9)&INDIRECT(\"gs\"&HI358+2)&CHAR(9)&CHAR(9)&CHAR(9)&VLOOKUP(HI358,$A$3:$T$9999,20,FALSE),VLOOKUP(HI358,$A$3:$T$9999,5,FALSE)&CHAR(9)&INDIRECT(\"gs\"&HI358+2)&CHAR(9)&CHAR(9)&VLOOKUP(HI358,$A$3:$T$9999,20,FALSE)))","v":""},null,"年月日\t\t0\t\t\t",0]
[365,null,null,null,null,null,null,null,null,null,null,null,null,null,null,null,null,null,null,null,null,null,null,null,null,null,null,null,null,null,null,null,null,null,null,null,null,null,null,null,null,null,null,null,null,null,null,null,null,null,null,null,null,null,null,null,null,null,null,null,null,null,null,null,null,null,null,null,null,null,null,null,null,null,null,null,null,null,null,null,null,null,null,null,null,null,null,null,null,null,null,null,null,null,null,null,null,null,null,null,null,null,null,null,null,null,null,null,null,null,null,null,null,null,null,null,null,null,null,null,null,null,null,null,null,null,null,null,null,null,null,null,null,null,null,null,null,null,null,null,null,null,null,null,null,null,null,null,null,null,null,null,null,null,null,null,null,null,null,null,null,null,null,null,null,null,null,null,null,null,null,null,null,null,null,null,null,null,null,null,null,null,null,null,null,null,null,null,null,null,null,null,null,null,null,null,null,null,null,null,null,null,null,null,null,null,null,null,null,null,null,null,null,null,null,null,null,"",null,"年月日\t\t0\t\t\t",0]
[372,null,null,null,null,null,null,null,null,null,null,null,null,null,null,null,null,null,null,null,null,null,null,null,null,null,null,null,null,null,null,null,null,null,null,null,null,null,null,null,null,null,null,null,null,null,null,null,null,null,null,null,null,null,null,null,null,null,null,null,null,null,null,null,null,null,null,null,null,null,null,null,null,null,null,null,null,null,null,null,null,null,null,null,null,null,null,null,null,null,null,null,null,null,null,null,null,null,null,null,null,null,null,null,null,null,null,null,null,null,null,null,null,null,null,null,null,null,null,null,null,null,null,null,null,null,null,null,null,null,null,null,null,null,null,null,null,null,null,null,null,null,null,null,null,null,null,null,null,null,null,null,null,null,null,null,null,null,null,null,null,null,null,null,null,null,null,null,null,null,null,null,null,null,null,null,null,null,null,null,null,null,null,null,null,null,null,null,null,null,null,null,null,null,null,null,null,null,null,null,null,null,null,null,null,null,null,null,null,null,null,null,null,null,null,null,null,"",null,"年月日\t\t0\t\t\t",0]
[374,null,null,null,null,null,null,null,null,null,null,null,null,null,null,null,null,null,null,null,null,null,null,null,null,null,null,null,null,null,null,null,null,null,null,null,null,null,null,null,null,null,null,null,null,null,null,null,null,null,null,null,null,null,null,null,null,null,null,null,null,null,null,null,null,null,null,null,null,null,null,null,null,null,null,null,null,null,null,null,null,null,null,null,null,null,null,null,null,null,null,null,null,null,null,null,null,null,null,null,null,null,null,null,null,null,null,null,null,null,null,null,null,null,null,null,null,null,null,null,null,null,null,null,null,null,null,null,null,null,null,null,null,null,null,null,null,null,null,null,null,null,null,null,null,null,null,null,null,null,null,null,null,null,null,null,null,null,null,null,null,null,null,null,null,null,null,null,null,null,null,null,null,null,null,null,null,null,null,null,null,null,null,null,null,null,null,null,null,null,null,null,null,null,null,null,null,null,null,null,null,null,null,null,null,null,null,null,null,null,null,null,null,null,null,null,null,"",null,"年月日\t\t0\t\t\t",0]
[383,null,null,null,null,null,null,null,null,null,null,null,null,null,null,null,null,null,null,null,null,null,null,null,null,null,null,null,null,null,null,null,null,null,null,null,null,null,null,null,null,null,null,null,null,null,null,null,null,null,null,null,null,null,null,null,null,null,null,null,null,null,null,null,null,null,null,null,null,null,null,null,null,null,null,null,null,null,null,null,null,null,null,null,null,null,null,null,null,null,null,null,null,null,null,null,null,null,null,null,null,null,null,null,null,null,null,null,null,null,null,null,null,null,null,null,null,null,null,null,null,null,null,null,null,null,null,null,null,null,null,null,null,null,null,null,null,null,null,null,null,null,null,null,null,null,null,null,null,null,null,null,null,null,null,null,null,null,null,null,null,null,null,null,null,null,null,null,null,null,null,null,null,null,null,null,null,null,null,null,null,null,null,null,null,null,null,null,null,null,null,null,null,null,null,null,null,null,null,null,null,null,null,null,null,null,null,null,null,null,null,null,null,null,null,null,null,"",null,"年月日\t\t0\t\t\t",0]
[392,null,null,null,null,null,null,null,null,null,null,null,null,null,null,null,null,null,null,null,null,null,null,null,null,null,null,null,null,null,null,null,null,null,null,null,null,null,null,null,null,null,null,null,null,null,null,null,null,null,null,null,null,null,null,null,null,null,null,null,null,null,null,null,null,null,null,null,null,null,null,null,null,null,null,null,null,null,null,null,null,null,null,null,null,null,null,null,null,null,null,null,null,null,null,null,null,null,null,null,null,null,null,null,null,null,null,null,null,null,null,null,null,null,null,null,null,null,null,null,null,null,null,null,null,null,null,null,null,null,null,null,null,null,null,null,null,null,null,null,null,null,null,null,null,null,null,null,null,null,null,null,null,null,null,null,null,null,null,null,null,null,null,null,null,null,null,null,null,null,null,null,null,null,null,null,null,null,null,null,null,null,null,null,null,null,null,null,null,null,null,null,null,null,null,null,null,null,null,null,null,null,null,null,null,null,null,null,null,null,null,null,null,null,null,null,null,"",null,"年月日\t\t0\t\t\t",0]
[401,null,null,null,null,null,null,null,null,null,null,null,null,null,null,null,null,null,null,null,null,null,null,null,null,null,null,null,null,null,null,null,null,null,null,null,null,null,null,null,null,null,null,null,null,null,null,null,null,null,null,null,null,null,null,null,null,null,null,null,null,null,null,null,null,null,null,null,null,null,null,null,null,null,null,null,null,null,null,null,null,null,null,null,null,null,null,null,null,null,null,null,null,null,null,null,null,null,null,null,null,null,null,null,null,null,null,null,null,null,null,null,null,null,null,null,null,null,null,null,null,null,null,null,null,null,null,null,null,null,null,null,null,null,null,null,null,null,null,null,null,null,null,null,null,null,null,null,null,null,null,null,null,null,null,null,null,null,null,null,null,null,null,null,null,null,null,null,null,null,null,null,null,null,null,null,null,null,null,null,null,null,null,null,null,null,null,null,null,null,null,null,null,null,null,null,null,null,null,null,null,null,null,null,null,null,null,null,null,null,null,null,null,null,null,null,null,"",null,"年月日\t\t0\t\t\t",0]
[410,null,null,null,null,null,null,null,null,null,null,null,null,null,null,null,null,null,null,null,null,null,null,null,null,null,null,null,null,null,null,null,null,null,null,null,null,null,null,null,null,null,null,null,null,null,null,null,null,null,null,null,null,null,null,null,null,null,null,null,null,null,null,null,null,null,null,null,null,null,null,null,null,null,null,null,null,null,null,null,null,null,null,null,null,null,null,null,null,null,null,null,null,null,null,null,null,null,null,null,null,null,null,null,null,null,null,null,null,null,null,null,null,null,null,null,null,null,null,null,null,null,null,null,null,null,null,null,null,null,null,null,null,null,null,null,null,null,null,null,null,null,null,null,null,null,null,null,null,null,null,null,null,null,null,null,null,null,null,null,null,null,null,null,null,null,null,null,null,null,null,null,null,null,null,null,null,null,null,null,null,null,null,null,null,null,null,null,null,null,null,null,null,null,null,null,null,null,null,null,null,null,null,null,null,null,null,null,null,null,null,null,null,null,null,null,null,"",null,"年月日\t\t0\t\t\t",0]
[418,null,null,null,null,null,null,null,null,null,null,null,null,null,null,null,null,null,null,null,null,null,null,null,null,null,null,null,null,null,null,null,null,null,null,null,null,null,null,null,null,null,null,null,null,null,null,null,null,null,null,null,null,null,null,null,null,null,null,null,null,null,null,null,null,null,null,null,null,null,null,null,null,null,null,null,null,null,null,null,null,null,null,null,null,null,null,null,null,null,null,null,null,null,null,null,null,null,null,null,null,null,null,null,null,null,null,null,null,null,null,null,null,null,null,null,null,null,null,null,null,null,null,null,null,null,null,null,null,null,null,null,null,null,null,null,null,null,null,null,null,null,null,null,null,null,null,null,null,null,null,null,null,null,null,null,null,null,null,null,null,null,null,null,null,null,null,null,null,null,null,null,null,null,null,null,null,null,null,null,null,null,null,null,null,null,null,null,null,null,null,null,null,null,null,null,null,null,null,null,null,null,null,null,null,null,null,null,null,null,null,null,null,null,null,null,null,"",null,"年月日\t\t0\t\t\t",0]
[427,null,null,null,null,null,null,null,null,null,null,null,null,null,null,null,null,null,null,null,null,null,null,null,null,null,null,null,null,null,null,null,null,null,null,null,null,null,null,null,null,null,null,null,null,null,null,null,null,null,null,null,null,null,null,null,null,null,null,null,null,null,null,null,null,null,null,null,null,null,null,null,null,null,null,null,null,null,null,null,null,null,null,null,null,null,null,null,null,null,null,null,null,null,null,null,null,null,null,null,null,null,null,null,null,null,null,null,null,null,null,null,null,null,null,null,null,null,null,null,null,null,null,null,null,null,null,null,null,null,null,null,null,null,null,null,null,null,null,null,null,null,null,null,null,null,null,null,null,null,null,null,null,null,null,null,null,null,null,null,null,null,null,null,null,null,null,null,null,null,null,null,null,null,null,null,null,null,null,null,null,null,null,null,null,null,null,null,null,null,null,null,null,null,null,null,null,null,null,null,null,null,null,null,null,null,null,null,null,null,null,null,null,null,null,null,null,"",null,"年月日\t\t0\t\t\t",0]
[428,null,null,null,null,null,null,null,null,null,null,null,null,null,null,null,null,null,null,null,null,null,null,null,null,null,null,null,null,null,null,null,null,null,null,null,null,null,null,null,null,null,null,null,null,null,null,null,null,null,null,null,null,null,null,null,null,null,null,null,null,null,null,null,null,null,null,null,null,null,null,null,null,null,null,null,null,null,null,null,null,null,null,null,null,null,null,null,null,null,null,null,null,null,null,null,null,null,null,null,null,null,null,null,null,null,null,null,null,null,null,null,null,null,null,null,null,null,null,null,null,null,null,null,null,null,null,null,null,null,null,null,null,null,null,null,null,null,null,null,null,null,null,null,null,null,null,null,null,null,null,null,null,null,null,null,null,null,null,null,null,null,null,null,null,null,null,null,null,null,null,null,null,null,null,null,null,null,null,null,null,null,null,null,null,null,null,null,null,null,null,null,null,null,null,null,null,null,null,null,null,null,null,null,null,null,null,null,null,null,null,null,null,null,null,null,null,"",null,"年月日\t\t0\t\t\t",0]
[437,null,null,null,null,null,null,null,null,null,null,null,null,null,null,null,null,null,null,null,null,null,null,null,null,null,null,null,null,null,null,null,null,null,null,null,null,null,null,null,null,null,null,null,null,null,null,null,null,null,null,null,null,null,null,null,null,null,null,null,null,null,null,null,null,null,null,null,null,null,null,null,null,null,null,null,null,null,null,null,null,null,null,null,null,null,null,null,null,null,null,null,null,null,null,null,null,null,null,null,null,null,null,null,null,null,null,null,null,null,null,null,null,null,null,null,null,null,null,null,null,null,null,null,null,null,null,null,null,null,null,null,null,null,null,null,null,null,null,null,null,null,null,null,null,null,null,null,null,null,null,null,null,null,null,null,null,null,null,null,null,null,null,null,null,null,null,null,null,null,null,null,null,null,null,null,null,null,null,null,null,null,null,null,null,null,null,null,null,null,null,null,null,null,null,null,null,null,null,null,null,null,null,null,null,null,null,null,null,null,null,null,null,null,null,null,null,"",null,"年月日\t\t0\t\t\t",0]
[448,null,null,null,null,null,null,null,null,null,null,null,null,null,null,null,null,null,null,null,null,null,null,null,null,null,null,null,null,null,null,null,null,null,null,null,null,null,null,null,null,null,null,null,null,null,null,null,null,null,null,null,null,null,null,null,null,null,null,null,null,null,null,null,null,null,null,null,null,null,null,null,null,null,null,null,null,null,null,null,null,null,null,null,null,null,null,null,null,null,null,null,null,null,null,null,null,null,null,null,null,null,null,null,null,null,null,null,null,null,null,null,null,null,null,null,null,null,null,null,null,null,null,null,null,null,null,null,null,null,null,null,null,null,null,null,null,null,null,null,null,null,null,null,null,null,null,null,null,null,null,null,null,null,null,null,null,null,null,null,null,null,null,null,null,null,null,null,null,null,null,null,null,null,null,null,null,null,null,null,null,null,null,null,null,null,null,null,null,null,null,null,null,null,null,null,null,null,null,null,null,null,null,null,null,null,null,null,null,null,null,null,null,null,null,null,null,"",null,"年月日\t\t0\t\t\t",0]
[454,null,null,null,null,null,null,null,null,null,null,null,null,null,null,null,null,null,null,null,null,null,null,null,null,null,null,null,null,null,null,null,null,null,null,null,null,null,null,null,null,null,null,null,null,null,null,null,null,null,null,null,null,null,null,null,null,null,null,null,null,null,null,null,null,null,null,null,null,null,null,null,null,null,null,null,null,null,null,null,null,null,null,null,null,null,null,null,null,null,null,null,null,null,null,null,null,null,null,null,null,null,null,null,null,null,null,null,null,null,null,null,null,null,null,null,null,null,null,null,null,null,null,null,null,null,null,null,null,null,null,null,null,null,null,null,null,null,null,null,null,null,null,null,null,null,null,null,null,null,null,null,null,null,null,null,null,null,null,null,null,null,null,null,null,null,null,null,null,null,null,null,null,null,null,null,null,null,null,null,null,null,null,null,null,null,null,null,null,null,null,null,null,null,null,null,null,null,null,null,null,null,null,null,null,null,null,null,null,null,null,null,null,null,null,null,null,"",null,"年月日\t\t0\t\t\t",0]
[463,null,null,null,null,null,null,null,null,null,null,null,null,null,null,null,null,null,null,null,null,null,null,null,null,null,null,null,null,null,null,null,null,null,null,null,null,null,null,null,null,null,null,null,null,null,null,null,null,null,null,null,null,null,null,null,null,null,null,null,null,null,null,null,null,null,null,null,null,null,null,null,null,null,null,null,null,null,null,null,null,null,null,null,null,null,null,null,null,null,null,null,null,null,null,null,null,null,null,null,null,null,null,null,null,null,null,null,null,null,null,null,null,null,null,null,null,null,null,null,null,null,null,null,null,null,null,null,null,null,null,null,null,null,null,null,null,null,null,null,null,null,null,null,null,null,null,null,null,null,null,null,null,null,null,null,null,null,null,null,null,null,null,null,null,null,null,null,null,null,null,null,null,null,null,null,null,null,null,null,null,null,null,null,null,null,null,null,null,null,null,null,null,null,null,null,null,null,null,null,null,null,null,null,null,null,null,null,null,null,null,null,null,null,null,null,null,"",null,"年月日\t\t0\t\t\t",0]
[472,null,null,null,null,null,null,null,null,null,null,null,null,null,null,null,null,null,null,null,null,null,null,null,null,null,null,null,null,null,null,null,null,null,null,null,null,null,null,null,null,null,null,null,null,null,null,null,null,null,null,null,null,null,null,null,null,null,null,null,null,null,null,null,null,null,null,null,null,null,null,null,null,null,null,null,null,null,null,null,null,null,null,null,null,null,null,null,null,null,null,null,null,null,null,null,null,null,null,null,null,null,null,null,null,null,null,null,null,null,null,null,null,null,null,null,null,null,null,null,null,null,null,null,null,null,null,null,null,null,null,null,null,null,null,null,null,null,null,null,null,null,null,null,null,null,null,null,null,null,null,null,null,null,null,null,null,null,null,null,null,null,null,null,null,null,null,null,null,null,null,null,null,null,null,null,null,null,null,null,null,null,null,null,null,null,null,null,null,null,null,null,null,null,null,null,null,null,null,null,null,null,null,null,null,null,null,null,null,null,null,null,null,null,null,null,null,"",null,"年月日\t\t0\t\t\t",0]
[481,null,null,null,null,null,null,null,null,null,null,null,null,null,null,null,null,null,null,null,null,null,null,null,null,null,null,null,null,null,null,null,null,null,null,null,null,null,null,null,null,null,null,null,null,null,null,null,null,null,null,null,null,null,null,null,null,null,null,null,null,null,null,null,null,null,null,null,null,null,null,null,null,null,null,null,null,null,null,null,null,null,null,null,null,null,null,null,null,null,null,null,null,null,null,null,null,null,null,null,null,null,null,null,null,null,null,null,null,null,null,null,null,null,null,null,null,null,null,null,null,null,null,null,null,null,null,null,null,null,null,null,null,null,null,null,null,null,null,null,null,null,null,null,null,null,null,null,null,null,null,null,null,null,null,null,null,null,null,null,null,null,null,null,null,null,null,null,null,null,null,null,null,null,null,null,null,null,null,null,null,null,null,null,null,null,null,null,null,null,null,null,null,null,null,null,null,null,null,null,null,null,null,null,null,null,null,null,null,null,null,null,null,null,null,null,null,"",null,"年月日\t\t0\t\t\t",0]
[486,null,null,null,null,null,null,null,null,null,null,null,null,null,null,null,null,null,null,null,null,null,null,null,null,null,null,null,null,null,null,null,null,null,null,null,null,null,null,null,null,null,null,null,null,null,null,null,null,null,null,null,null,null,null,null,null,null,null,null,null,null,null,null,null,null,null,null,null,null,null,null,null,null,null,null,null,null,null,null,null,null,null,null,null,null,null,null,null,null,null,null,null,null,null,null,null,null,null,null,null,null,null,null,null,null,null,null,null,null,null,null,null,null,null,null,null,null,null,null,null,null,null,null,null,null,null,null,null,null,null,null,null,null,null,null,null,null,null,null,null,null,null,null,null,null,null,null,null,null,null,null,null,null,null,null,null,null,null,null,null,null,null,null,null,null,null,null,null,null,null,null,null,null,null,null,null,null,null,null,null,null,null,null,null,null,null,null,null,null,null,null,null,null,null,null,null,null,null,null,null,null,null,null,null,null,null,null,null,null,null,null,null,null,null,null,null,"",null,"年月日\t\t0\t\t\t",0]
[490,null,null,null,null,null,null,null,null,null,null,null,null,null,null,null,null,null,null,null,null,null,null,null,null,null,null,null,null,null,null,null,null,null,null,null,null,null,null,null,null,null,null,null,null,null,null,null,null,null,null,null,null,null,null,null,null,null,null,null,null,null,null,null,null,null,null,null,null,null,null,null,null,null,null,null,null,null,null,null,null,null,null,null,null,null,null,null,null,null,null,null,null,null,null,null,null,null,null,null,null,null,null,null,null,null,null,null,null,null,null,null,null,null,null,null,null,null,null,null,null,null,null,null,null,null,null,null,null,null,null,null,null,null,null,null,null,null,null,null,null,null,null,null,null,null,null,null,null,null,null,null,null,null,null,null,null,null,null,null,null,null,null,null,null,null,null,null,null,null,null,null,null,null,null,null,null,null,null,null,null,null,null,null,null,null,null,null,null,null,null,null,null,null,null,null,null,null,null,null,null,null,null,null,null,null,null,null,null,null,null,null,null,null,null,null,null,"",null,"年月日\t\t0\t\t\t",0]
[499,null,null,null,null,null,null,null,null,null,null,null,null,null,null,null,null,null,null,null,null,null,null,null,null,null,null,null,null,null,null,null,null,null,null,null,null,null,null,null,null,null,null,null,null,null,null,null,null,null,null,null,null,null,null,null,null,null,null,null,null,null,null,null,null,null,null,null,null,null,null,null,null,null,null,null,null,null,null,null,null,null,null,null,null,null,null,null,null,null,null,null,null,null,null,null,null,null,null,null,null,null,null,null,null,null,null,null,null,null,null,null,null,null,null,null,null,null,null,null,null,null,null,null,null,null,null,null,null,null,null,null,null,null,null,null,null,null,null,null,null,null,null,null,null,null,null,null,null,null,null,null,null,null,null,null,null,null,null,null,null,null,null,null,null,null,null,null,null,null,null,null,null,null,null,null,null,null,null,null,null,null,null,null,null,null,null,null,null,null,null,null,null,null,null,null,null,null,null,null,null,null,null,null,null,null,null,null,null,null,null,null,null,null,null,null,null,"",null,"年月日\t\t0\t\t\t",0]
[508,null,null,null,null,null,null,null,null,null,null,null,null,null,null,null,null,null,null,null,null,null,null,null,null,null,null,null,null,null,null,null,null,null,null,null,null,null,null,null,null,null,null,null,null,null,null,null,null,null,null,null,null,null,null,null,null,null,null,null,null,null,null,null,null,null,null,null,null,null,null,null,null,null,null,null,null,null,null,null,null,null,null,null,null,null,null,null,null,null,null,null,null,null,null,null,null,null,null,null,null,null,null,null,null,null,null,null,null,null,null,null,null,null,null,null,null,null,null,null,null,null,null,null,null,null,null,null,null,null,null,null,null,null,null,null,null,null,null,null,null,null,null,null,null,null,null,null,null,null,null,null,null,null,null,null,null,null,null,null,null,null,null,null,null,null,null,null,null,null,null,null,null,null,null,null,null,null,null,null,null,null,null,null,null,null,null,null,null,null,null,null,null,null,null,null,null,null,null,null,null,null,null,null,null,null,null,null,null,null,null,null,null,null,null,null,null,"",null,"年月日\t\t0\t\t\t",0]
[517,null,null,null,null,null,null,null,null,null,null,null,null,null,null,null,null,null,null,null,null,null,null,null,null,null,null,null,null,null,null,null,null,null,null,null,null,null,null,null,null,null,null,null,null,null,null,null,null,null,null,null,null,null,null,null,null,null,null,null,null,null,null,null,null,null,null,null,null,null,null,null,null,null,null,null,null,null,null,null,null,null,null,null,null,null,null,null,null,null,null,null,null,null,null,null,null,null,null,null,null,null,null,null,null,null,null,null,null,null,null,null,null,null,null,null,null,null,null,null,null,null,null,null,null,null,null,null,null,null,null,null,null,null,null,null,null,null,null,null,null,null,null,null,null,null,null,null,null,null,null,null,null,null,null,null,null,null,null,null,null,null,null,null,null,null,null,null,null,null,null,null,null,null,null,null,null,null,null,null,null,null,null,null,null,null,null,null,null,null,null,null,null,null,null,null,null,null,null,null,null,null,null,null,null,null,null,null,null,null,null,null,null,null,null,null,null,"",null,"年月日\t\t0\t\t\t",0]
[526,null,null,null,null,null,null,null,null,null,null,null,null,null,null,null,null,null,null,null,null,null,null,null,null,null,null,null,null,null,null,null,null,null,null,null,null,null,null,null,null,null,null,null,null,null,null,null,null,null,null,null,null,null,null,null,null,null,null,null,null,null,null,null,null,null,null,null,null,null,null,null,null,null,null,null,null,null,null,null,null,null,null,null,null,null,null,null,null,null,null,null,null,null,null,null,null,null,null,null,null,null,null,null,null,null,null,null,null,null,null,null,null,null,null,null,null,null,null,null,null,null,null,null,null,null,null,null,null,null,null,null,null,null,null,null,null,null,null,null,null,null,null,null,null,null,null,null,null,null,null,null,null,null,null,null,null,null,null,null,null,null,null,null,null,null,null,null,null,null,null,null,null,null,null,null,null,null,null,null,null,null,null,null,null,null,null,null,null,null,null,null,null,null,null,null,null,null,null,null,null,null,null,null,null,null,null,null,null,null,null,null,null,null,null,null,null,"",null,"年月日\t\t0\t\t\t",0]
[533,null,null,null,null,null,null,null,null,null,null,null,null,null,null,null,null,null,null,null,null,null,null,null,null,null,null,null,null,null,null,null,null,null,null,null,null,null,null,null,null,null,null,null,null,null,null,null,null,null,null,null,null,null,null,null,null,null,null,null,null,null,null,null,null,null,null,null,null,null,null,null,null,null,null,null,null,null,null,null,null,null,null,null,null,null,null,null,null,null,null,null,null,null,null,null,null,null,null,null,null,null,null,null,null,null,null,null,null,null,null,null,null,null,null,null,null,null,null,null,null,null,null,null,null,null,null,null,null,null,null,null,null,null,null,null,null,null,null,null,null,null,null,null,null,null,null,null,null,null,null,null,null,null,null,null,null,null,null,null,null,null,null,null,null,null,null,null,null,null,null,null,null,null,null,null,null,null,null,null,null,null,null,null,null,null,null,null,null,null,null,null,null,null,null,null,null,null,null,null,null,null,null,null,null,null,null,null,null,null,null,null,null,null,null,null,null,"",null,"年月日\t\t0\t\t\t",0]
[543,null,null,null,null,null,null,null,null,null,null,null,null,null,null,null,null,null,null,null,null,null,null,null,null,null,null,null,null,null,null,null,null,null,null,null,null,null,null,null,null,null,null,null,null,null,null,null,null,null,null,null,null,null,null,null,null,null,null,null,null,null,null,null,null,null,null,null,null,null,null,null,null,null,null,null,null,null,null,null,null,null,null,null,null,null,null,null,null,null,null,null,null,null,null,null,null,null,null,null,null,null,null,null,null,null,null,null,null,null,null,null,null,null,null,null,null,null,null,null,null,null,null,null,null,null,null,null,null,null,null,null,null,null,null,null,null,null,null,null,null,null,null,null,null,null,null,null,null,null,null,null,null,null,null,null,null,null,null,null,null,null,null,null,null,null,null,null,null,null,null,null,null,null,null,null,null,null,null,null,null,null,null,null,null,null,null,null,null,null,null,null,null,null,null,null,null,null,null,null,null,null,null,null,null,null,null,null,null,null,null,null,null,null,null,null,null,"",null,"年月日\t\t0\t\t\t",0]
[552,null,null,null,null,null,null,null,null,null,null,null,null,null,null,null,null,null,null,null,null,null,null,null,null,null,null,null,null,null,null,null,null,null,null,null,null,null,null,null,null,null,null,null,null,null,null,null,null,null,null,null,null,null,null,null,null,null,null,null,null,null,null,null,null,null,null,null,null,null,null,null,null,null,null,null,null,null,null,null,null,null,null,null,null,null,null,null,null,null,null,null,null,null,null,null,null,null,null,null,null,null,null,null,null,null,null,null,null,null,null,null,null,null,null,null,null,null,null,null,null,null,null,null,null,null,null,null,null,null,null,null,null,null,null,null,null,null,null,null,null,null,null,null,null,null,null,null,null,null,null,null,null,null,null,null,null,null,null,null,null,null,null,null,null,null,null,null,null,null,null,null,null,null,null,null,null,null,null,null,null,null,null,null,null,null,null,null,null,null,null,null,null,null,null,null,null,null,null,null,null,null,null,null,null,null,null,null,null,null,null,null,null,null,null,null,null,"",null,"年月日\t\t0\t\t\t",0]
[553,null,null,null,null,null,null,null,null,null,null,null,null,null,null,null,null,null,null,null,null,null,null,null,null,null,null,null,null,null,null,null,null,null,null,null,null,null,null,null,null,null,null,null,null,null,null,null,null,null,null,null,null,null,null,null,null,null,null,null,null,null,null,null,null,null,null,null,null,null,null,null,null,null,null,null,null,null,null,null,null,null,null,null,null,null,null,null,null,null,null,null,null,null,null,null,null,null,null,null,null,null,null,null,null,null,null,null,null,null,null,null,null,null,null,null,null,null,null,null,null,null,null,null,null,null,null,null,null,null,null,null,null,null,null,null,null,null,null,null,null,null,null,null,null,null,null,null,null,null,null,null,null,null,null,null,null,null,null,null,null,null,null,null,null,null,null,null,null,null,null,null,null,null,null,null,null,null,null,null,null,null,null,null,null,null,null,null,null,null,null,null,null,null,null,null,null,null,null,null,null,null,null,null,null,null,null,null,null,null,null,null,null,null,null,null,null,"",null,"年月日\t\t0\t\t\t",0]
[562,null,null,null,null,null,null,null,null,null,null,null,null,null,null,null,null,null,null,null,null,null,null,null,null,null,null,null,null,null,null,null,null,null,null,null,null,null,null,null,null,null,null,null,null,null,null,null,null,null,null,null,null,null,null,null,null,null,null,null,null,null,null,null,null,null,null,null,null,null,null,null,null,null,null,null,null,null,null,null,null,null,null,null,null,null,null,null,null,null,null,null,null,null,null,null,null,null,null,null,null,null,null,null,null,null,null,null,null,null,null,null,null,null,null,null,null,null,null,null,null,null,null,null,null,null,null,null,null,null,null,null,null,null,null,null,null,null,null,null,null,null,null,null,null,null,null,null,null,null,null,null,null,null,null,null,null,null,null,null,null,null,null,null,null,null,null,null,null,null,null,null,null,null,null,null,null,null,null,null,null,null,null,null,null,null,null,null,null,null,null,null,null,null,null,null,null,null,null,null,null,null,null,null,null,null,null,null,null,null,null,null,null,null,null,null,null,"",null,"年月日\t\t0\t\t\t",0]
[571,null,null,null,null,null,null,null,null,null,null,null,null,null,null,null,null,null,null,null,null,null,null,null,null,null,null,null,null,null,null,null,null,null,null,null,null,null,null,null,null,null,null,null,null,null,null,null,null,null,null,null,null,null,null,null,null,null,null,null,null,null,null,null,null,null,null,null,null,null,null,null,null,null,null,null,null,null,null,null,null,null,null,null,null,null,null,null,null,null,null,null,null,null,null,null,null,null,null,null,null,null,null,null,null,null,null,null,null,null,null,null,null,null,null,null,null,null,null,null,null,null,null,null,null,null,null,null,null,null,null,null,null,null,null,null,null,null,null,null,null,null,null,null,null,null,null,null,null,null,null,null,null,null,null,null,null,null,null,null,null,null,null,null,null,null,null,null,null,null,null,null,null,null,null,null,null,null,null,null,null,null,null,null,null,null,null,null,null,null,null,null,null,null,null,null,null,null,null,null,null,null,null,null,null,null,null,null,null,null,null,null,null,null,null,null,null,"",null,"年月日\t\t0\t\t\t",0]
[579,null,null,null,null,null,null,null,null,null,null,null,null,null,null,null,null,null,null,null,null,null,null,null,null,null,null,null,null,null,null,null,null,null,null,null,null,null,null,null,null,null,null,null,null,null,null,null,null,null,null,null,null,null,null,null,null,null,null,null,null,null,null,null,null,null,null,null,null,null,null,null,null,null,null,null,null,null,null,null,null,null,null,null,null,null,null,null,null,null,null,null,null,null,null,null,null,null,null,null,null,null,null,null,null,null,null,null,null,null,null,null,null,null,null,null,null,null,null,null,null,null,null,null,null,null,null,null,null,null,null,null,null,null,null,null,null,null,null,null,null,null,null,null,null,null,null,null,null,null,null,null,null,null,null,null,null,null,null,null,null,null,null,null,null,null,null,null,null,null,null,null,null,null,null,null,null,null,null,null,null,null,null,null,null,null,null,null,null,null,null,null,null,null,null,null,null,null,null,null,null,null,null,null,null,null,null,null,null,null,null,null,null,null,null,null,null,"",null,"年月日\t\t0\t\t\t",0]
[588,null,null,null,null,null,null,null,null,null,null,null,null,null,null,null,null,null,null,null,null,null,null,null,null,null,null,null,null,null,null,null,null,null,null,null,null,null,null,null,null,null,null,null,null,null,null,null,null,null,null,null,null,null,null,null,null,null,null,null,null,null,null,null,null,null,null,null,null,null,null,null,null,null,null,null,null,null,null,null,null,null,null,null,null,null,null,null,null,null,null,null,null,null,null,null,null,null,null,null,null,null,null,null,null,null,null,null,null,null,null,null,null,null,null,null,null,null,null,null,null,null,null,null,null,null,null,null,null,null,null,null,null,null,null,null,null,null,null,null,null,null,null,null,null,null,null,null,null,null,null,null,null,null,null,null,null,null,null,null,null,null,null,null,null,null,null,null,null,null,null,null,null,null,null,null,null,null,null,null,null,null,null,null,null,null,null,null,null,null,null,null,null,null,null,null,null,null,null,null,null,null,null,null,null,null,null,null,null,null,null,null,null,null,null,null,null,"",null,"年月日\t\t0\t\t\t",0]
[597,null,null,null,null,null,null,null,null,null,null,null,null,null,null,null,null,null,null,null,null,null,null,null,null,null,null,null,null,null,null,null,null,null,null,null,null,null,null,null,null,null,null,null,null,null,null,null,null,null,null,null,null,null,null,null,null,null,null,null,null,null,null,null,null,null,null,null,null,null,null,null,null,null,null,null,null,null,null,null,null,null,null,null,null,null,null,null,null,null,null,null,null,null,null,null,null,null,null,null,null,null,null,null,null,null,null,null,null,null,null,null,null,null,null,null,null,null,null,null,null,null,null,null,null,null,null,null,null,null,null,null,null,null,null,null,null,null,null,null,null,null,null,null,null,null,null,null,null,null,null,null,null,null,null,null,null,null,null,null,null,null,null,null,null,null,null,null,null,null,null,null,null,null,null,null,null,null,null,null,null,null,null,null,null,null,null,null,null,null,null,null,null,null,null,null,null,null,null,null,null,null,null,null,null,null,null,null,null,null,null,null,null,null,null,null,null,"",null,"年月日\t\t0\t\t\t",0]
[606,null,null,null,null,null,null,null,null,null,null,null,null,null,null,null,null,null,null,null,null,null,null,null,null,null,null,null,null,null,null,null,null,null,null,null,null,null,null,null,null,null,null,null,null,null,null,null,null,null,null,null,null,null,null,null,null,null,null,null,null,null,null,null,null,null,null,null,null,null,null,null,null,null,null,null,null,null,null,null,null,null,null,null,null,null,null,null,null,null,null,null,null,null,null,null,null,null,null,null,null,null,null,null,null,null,null,null,null,null,null,null,null,null,null,null,null,null,null,null,null,null,null,null,null,null,null,null,null,null,null,null,null,null,null,null,null,null,null,null,null,null,null,null,null,null,null,null,null,null,null,null,null,null,null,null,null,null,null,null,null,null,null,null,null,null,null,null,null,null,null,null,null,null,null,null,null,null,null,null,null,null,null,null,null,null,null,null,null,null,null,null,null,null,null,null,null,null,null,null,null,null,null,null,null,null,null,null,null,null,null,null,null,null,null,null,null,"",null,"年月日\t\t0\t\t\t",0]
[609,null,null,null,null,null,null,null,null,null,null,null,null,null,null,null,null,null,null,null,null,null,null,null,null,null,null,null,null,null,null,null,null,null,null,null,null,null,null,null,null,null,null,null,null,null,null,null,null,null,null,null,null,null,null,null,null,null,null,null,null,null,null,null,null,null,null,null,null,null,null,null,null,null,null,null,null,null,null,null,null,null,null,null,null,null,null,null,null,null,null,null,null,null,null,null,null,null,null,null,null,null,null,null,null,null,null,null,null,null,null,null,null,null,null,null,null,null,null,null,null,null,null,null,null,null,null,null,null,null,null,null,null,null,null,null,null,null,null,null,null,null,null,null,null,null,null,null,null,null,null,null,null,null,null,null,null,null,null,null,null,null,null,null,null,null,null,null,null,null,null,null,null,null,null,null,null,null,null,null,null,null,null,null,null,null,null,null,null,null,null,null,null,null,null,null,null,null,null,null,null,null,null,null,null,null,null,null,null,null,null,null,null,null,null,null,null,"",null,"年月日\t\t0\t\t\t",0]
[615,null,null,null,null,null,null,null,null,null,null,null,null,null,null,null,null,null,null,null,null,null,null,null,null,null,null,null,null,null,null,null,null,null,null,null,null,null,null,null,null,null,null,null,null,null,null,null,null,null,null,null,null,null,null,null,null,null,null,null,null,null,null,null,null,null,null,null,null,null,null,null,null,null,null,null,null,null,null,null,null,null,null,null,null,null,null,null,null,null,null,null,null,null,null,null,null,null,null,null,null,null,null,null,null,null,null,null,null,null,null,null,null,null,null,null,null,null,null,null,null,null,null,null,null,null,null,null,null,null,null,null,null,null,null,null,null,null,null,null,null,null,null,null,null,null,null,null,null,null,null,null,null,null,null,null,null,null,null,null,null,null,null,null,null,null,null,null,null,null,null,null,null,null,null,null,null,null,null,null,null,null,null,null,null,null,null,null,null,null,null,null,null,null,null,null,null,null,null,null,null,null,null,null,null,null,null,null,null,null,null,null,null,null,null,null,null,"",null,"年月日\t\t0\t\t\t",0]
[624,null,null,null,null,null,null,null,null,null,null,null,null,null,null,null,null,null,null,null,null,null,null,null,null,null,null,null,null,null,null,null,null,null,null,null,null,null,null,null,null,null,null,null,null,null,null,null,null,null,null,null,null,null,null,null,null,null,null,null,null,null,null,null,null,null,null,null,null,null,null,null,null,null,null,null,null,null,null,null,null,null,null,null,null,null,null,null,null,null,null,null,null,null,null,null,null,null,null,null,null,null,null,null,null,null,null,null,null,null,null,null,null,null,null,null,null,null,null,null,null,null,null,null,null,null,null,null,null,null,null,null,null,null,null,null,null,null,null,null,null,null,null,null,null,null,null,null,null,null,null,null,null,null,null,null,null,null,null,null,null,null,null,null,null,null,null,null,null,null,null,null,null,null,null,null,null,null,null,null,null,null,null,null,null,null,null,null,null,null,null,null,null,null,null,null,null,null,null,null,null,null,null,null,null,null,null,null,null,null,null,null,null,null,null,null,null,"",null,"年月日\t\t0\t\t\t",0]
[633,null,null,null,null,null,null,null,null,null,null,null,null,null,null,null,null,null,null,null,null,null,null,null,null,null,null,null,null,null,null,null,null,null,null,null,null,null,null,null,null,null,null,null,null,null,null,null,null,null,null,null,null,null,null,null,null,null,null,null,null,null,null,null,null,null,null,null,null,null,null,null,null,null,null,null,null,null,null,null,null,null,null,null,null,null,null,null,null,null,null,null,null,null,null,null,null,null,null,null,null,null,null,null,null,null,null,null,null,null,null,null,null,null,null,null,null,null,null,null,null,null,null,null,null,null,null,null,null,null,null,null,null,null,null,null,null,null,null,null,null,null,null,null,null,null,null,null,null,null,null,null,null,null,null,null,null,null,null,null,null,null,null,null,null,null,null,null,null,null,null,null,null,null,null,null,null,null,null,null,null,null,null,null,null,null,null,null,null,null,null,null,null,null,null,null,null,null,null,null,null,null,null,null,null,null,null,null,null,null,null,null,null,null,null,null,null,"",null,"年月日\t\t0\t\t\t",0]
[642,null,null,null,null,null,null,null,null,null,null,null,null,null,null,null,null,null,null,null,null,null,null,null,null,null,null,null,null,null,null,null,null,null,null,null,null,null,null,null,null,null,null,null,null,null,null,null,null,null,null,null,null,null,null,null,null,null,null,null,null,null,null,null,null,null,null,null,null,null,null,null,null,null,null,null,null,null,null,null,null,null,null,null,null,null,null,null,null,null,null,null,null,null,null,null,null,null,null,null,null,null,null,null,null,null,null,null,null,null,null,null,null,null,null,null,null,null,null,null,null,null,null,null,null,null,null,null,null,null,null,null,null,null,null,null,null,null,null,null,null,null,null,null,null,null,null,null,null,null,null,null,null,null,null,null,null,null,null,null,null,null,null,null,null,null,null,null,null,null,null,null,null,null,null,null,null,null,null,null,null,null,null,null,null,null,null,null,null,null,null,null,null,null,null,null,null,null,null,null,null,null,null,null,null,null,null,null,null,null,null,null,null,null,null,null,null,"",null,"年月日\t\t0\t\t\t",0]
[647,null,null,null,null,null,null,null,null,null,null,null,null,null,null,null,null,null,null,null,null,null,null,null,null,null,null,null,null,null,null,null,null,null,null,null,null,null,null,null,null,null,null,null,null,null,null,null,null,null,null,null,null,null,null,null,null,null,null,null,null,null,null,null,null,null,null,null,null,null,null,null,null,null,null,null,null,null,null,null,null,null,null,null,null,null,null,null,null,null,null,null,null,null,null,null,null,null,null,null,null,null,null,null,null,null,null,null,null,null,null,null,null,null,null,null,null,null,null,null,null,null,null,null,null,null,null,null,null,null,null,null,null,null,null,null,null,null,null,null,null,null,null,null,null,null,null,null,null,null,null,null,null,null,null,null,null,null,null,null,null,null,null,null,null,null,null,null,null,null,null,null,null,null,null,null,null,null,null,null,null,null,null,null,null,null,null,null,null,null,null,null,null,null,null,null,null,null,null,null,null,null,null,null,null,null,null,null,null,null,null,null,null,null,null,null,null,"",null,"年月日\t\t0\t\t\t",0]
[659,null,null,null,null,null,null,null,null,null,null,null,null,null,null,null,null,null,null,null,null,null,null,null,null,null,null,null,null,null,null,null,null,null,null,null,null,null,null,null,null,null,null,null,null,null,null,null,null,null,null,null,null,null,null,null,null,null,null,null,null,null,null,null,null,null,null,null,null,null,null,null,null,null,null,null,null,null,null,null,null,null,null,null,null,null,null,null,null,null,null,null,null,null,null,null,null,null,null,null,null,null,null,null,null,null,null,null,null,null,null,null,null,null,null,null,null,null,null,null,null,null,null,null,null,null,null,null,null,null,null,null,null,null,null,null,null,null,null,null,null,null,null,null,null,null,null,null,null,null,null,null,null,null,null,null,null,null,null,null,null,null,null,null,null,null,null,null,null,null,null,null,null,null,null,null,null,null,null,null,null,null,null,null,null,null,null,null,null,null,null,null,null,null,null,null,null,null,null,null,null,null,null,null,null,null,null,null,null,null,null,null,null,null,null,null,null,"",null,"年月日\t\t0\t\t\t",0]
[668,null,null,null,null,null,null,null,null,null,null,null,null,null,null,null,null,null,null,null,null,null,null,null,null,null,null,null,null,null,null,null,null,null,null,null,null,null,null,null,null,null,null,null,null,null,null,null,null,null,null,null,null,null,null,null,null,null,null,null,null,null,null,null,null,null,null,null,null,null,null,null,null,null,null,null,null,null,null,null,null,null,null,null,null,null,null,null,null,null,null,null,null,null,null,null,null,null,null,null,null,null,null,null,null,null,null,null,null,null,null,null,null,null,null,null,null,null,null,null,null,null,null,null,null,null,null,null,null,null,null,null,null,null,null,null,null,null,null,null,null,null,null,null,null,null,null,null,null,null,null,null,null,null,null,null,null,null,null,null,null,null,null,null,null,null,null,null,null,null,null,null,null,null,null,null,null,null,null,null,null,null,null,null,null,null,null,null,null,null,null,null,null,null,null,null,null,null,null,null,null,null,null,null,null,null,null,null,null,null,null,null,null,null,null,null,null,"",null,"年月日\t\t0\t\t\t",0]
[677,null,null,null,null,null,null,null,null,null,null,null,null,null,null,null,null,null,null,null,null,null,null,null,null,null,null,null,null,null,null,null,null,null,null,null,null,null,null,null,null,null,null,null,null,null,null,null,null,null,null,null,null,null,null,null,null,null,null,null,null,null,null,null,null,null,null,null,null,null,null,null,null,null,null,null,null,null,null,null,null,null,null,null,null,null,null,null,null,null,null,null,null,null,null,null,null,null,null,null,null,null,null,null,null,null,null,null,null,null,null,null,null,null,null,null,null,null,null,null,null,null,null,null,null,null,null,null,null,null,null,null,null,null,null,null,null,null,null,null,null,null,null,null,null,null,null,null,null,null,null,null,null,null,null,null,null,null,null,null,null,null,null,null,null,null,null,null,null,null,null,null,null,null,null,null,null,null,null,null,null,null,null,null,null,null,null,null,null,null,null,null,null,null,null,null,null,null,null,null,null,null,null,null,null,null,null,null,null,null,null,null,null,null,null,null,null,"",null,"年月日\t\t0\t\t\t",0]
[678,null,null,null,null,null,null,null,null,null,null,null,null,null,null,null,null,null,null,null,null,null,null,null,null,null,null,null,null,null,null,null,null,null,null,null,null,null,null,null,null,null,null,null,null,null,null,null,null,null,null,null,null,null,null,null,null,null,null,null,null,null,null,null,null,null,null,null,null,null,null,null,null,null,null,null,null,null,null,null,null,null,null,null,null,null,null,null,null,null,null,null,null,null,null,null,null,null,null,null,null,null,null,null,null,null,null,null,null,null,null,null,null,null,null,null,null,null,null,null,null,null,null,null,null,null,null,null,null,null,null,null,null,null,null,null,null,null,null,null,null,null,null,null,null,null,null,null,null,null,null,null,null,null,null,null,null,null,null,null,null,null,null,null,null,null,null,null,null,null,null,null,null,null,null,null,null,null,null,null,null,null,null,null,null,null,null,null,null,null,null,null,null,null,null,null,null,null,null,null,null,null,null,null,null,null,null,null,null,null,null,null,null,null,null,null,null,"",null,"年月日\t\t0\t\t\t",0]
[692,null,null,null,null,null,null,null,null,null,null,null,null,null,null,null,null,null,null,null,null,null,null,null,null,null,null,null,null,null,null,null,null,null,null,null,null,null,null,null,null,null,null,null,null,null,null,null,null,null,null,null,null,null,null,null,null,null,null,null,null,null,null,null,null,null,null,null,null,null,null,null,null,null,null,null,null,null,null,null,null,null,null,null,null,null,null,null,null,null,null,null,null,null,null,null,null,null,null,null,null,null,null,null,null,null,null,null,null,null,null,null,null,null,null,null,null,null,null,null,null,null,null,null,null,null,null,null,null,null,null,null,null,null,null,null,null,null,null,null,null,null,null,null,null,null,null,null,null,null,null,null,null,null,null,null,null,null,null,null,null,null,null,null,null,null,null,null,null,null,null,null,null,null,null,null,null,null,null,null,null,null,null,null,null,null,null,null,null,null,null,null,null,null,null,null,null,null,null,null,null,null,null,null,null,null,null,null,null,null,null,null,null,null,null,null,null,"",null,"年月日\t\t0\t\t\t",0]
[695,null,null,null,null,null,null,null,null,null,null,null,null,null,null,null,null,null,null,null,null,null,null,null,null,null,null,null,null,null,null,null,null,null,null,null,null,null,null,null,null,null,null,null,null,null,null,null,null,null,null,null,null,null,null,null,null,null,null,null,null,null,null,null,null,null,null,null,null,null,null,null,null,null,null,null,null,null,null,null,null,null,null,null,null,null,null,null,null,null,null,null,null,null,null,null,null,null,null,null,null,null,null,null,null,null,null,null,null,null,null,null,null,null,null,null,null,null,null,null,null,null,null,null,null,null,null,null,null,null,null,null,null,null,null,null,null,null,null,null,null,null,null,null,null,null,null,null,null,null,null,null,null,null,null,null,null,null,null,null,null,null,null,null,null,null,null,null,null,null,null,null,null,null,null,null,null,null,null,null,null,null,null,null,null,null,null,null,null,null,null,null,null,null,null,null,null,null,null,null,null,null,null,null,null,null,null,null,null,null,null,null,null,null,null,null,null,"",null,"年月日\t\t0\t\t\t",0]
[704,null,null,null,null,null,null,null,null,null,null,null,null,null,null,null,null,null,null,null,null,null,null,null,null,null,null,null,null,null,null,null,null,null,null,null,null,null,null,null,null,null,null,null,null,null,null,null,null,null,null,null,null,null,null,null,null,null,null,null,null,null,null,null,null,null,null,null,null,null,null,null,null,null,null,null,null,null,null,null,null,null,null,null,null,null,null,null,null,null,null,null,null,null,null,null,null,null,null,null,null,null,null,null,null,null,null,null,null,null,null,null,null,null,null,null,null,null,null,null,null,null,null,null,null,null,null,null,null,null,null,null,null,null,null,null,null,null,null,null,null,null,null,null,null,null,null,null,null,null,null,null,null,null,null,null,null,null,null,null,null,null,null,null,null,null,null,null,null,null,null,null,null,null,null,null,null,null,null,null,null,null,null,null,null,null,null,null,null,null,null,null,null,null,null,null,null,null,null,null,null,null,null,null,null,null,null,null,null,null,null,null,null,null,null,null,null,"",null,"年月日\t\t0\t\t\t",0]
[713,null,null,null,null,null,null,null,null,null,null,null,null,null,null,null,null,null,null,null,null,null,null,null,null,null,null,null,null,null,null,null,null,null,null,null,null,null,null,null,null,null,null,null,null,null,null,null,null,null,null,null,null,null,null,null,null,null,null,null,null,null,null,null,null,null,null,null,null,null,null,null,null,null,null,null,null,null,null,null,null,null,null,null,null,null,null,null,null,null,null,null,null,null,null,null,null,null,null,null,null,null,null,null,null,null,null,null,null,null,null,null,null,null,null,null,null,null,null,null,null,null,null,null,null,null,null,null,null,null,null,null,null,null,null,null,null,null,null,null,null,null,null,null,null,null,null,null,null,null,null,null,null,null,null,null,null,null,null,null,null,null,null,null,null,null,null,null,null,null,null,null,null,null,null,null,null,null,null,null,null,null,null,null,null,null,null,null,null,null,null,null,null,null,null,null,null,null,null,null,null,null,null,null,null,null,null,null,null,null,null,null,null,null,null,null,null,"",null,"年月日\t\t0\t\t\t",0]
[722,null,null,null,null,null,null,null,null,null,null,null,null,null,null,null,null,null,null,null,null,null,null,null,null,null,null,null,null,null,null,null,null,null,null,null,null,null,null,null,null,null,null,null,null,null,null,null,null,null,null,null,null,null,null,null,null,null,null,null,null,null,null,null,null,null,null,null,null,null,null,null,null,null,null,null,null,null,null,null,null,null,null,null,null,null,null,null,null,null,null,null,null,null,null,null,null,null,null,null,null,null,null,null,null,null,null,null,null,null,null,null,null,null,null,null,null,null,null,null,null,null,null,null,null,null,null,null,null,null,null,null,null,null,null,null,null,null,null,null,null,null,null,null,null,null,null,null,null,null,null,null,null,null,null,null,null,null,null,null,null,null,null,null,null,null,null,null,null,null,null,null,null,null,null,null,null,null,null,null,null,null,null,null,null,null,null,null,null,null,null,null,null,null,null,null,null,null,null,null,null,null,null,null,null,null,null,null,null,null,null,null,null,null,null,null,null,"",null,"年月日\t\t0\t\t\t",0]
[731,null,null,null,null,null,null,null,null,null,null,null,null,null,null,null,null,null,null,null,null,null,null,null,null,null,null,null,null,null,null,null,null,null,null,null,null,null,null,null,null,null,null,null,null,null,null,null,null,null,null,null,null,null,null,null,null,null,null,null,null,null,null,null,null,null,null,null,null,null,null,null,null,null,null,null,null,null,null,null,null,null,null,null,null,null,null,null,null,null,null,null,null,null,null,null,null,null,null,null,null,null,null,null,null,null,null,null,null,null,null,null,null,null,null,null,null,null,null,null,null,null,null,null,null,null,null,null,null,null,null,null,null,null,null,null,null,null,null,null,null,null,null,null,null,null,null,null,null,null,null,null,null,null,null,null,null,null,null,null,null,null,null,null,null,null,null,null,null,null,null,null,null,null,null,null,null,null,null,null,null,null,null,null,null,null,null,null,null,null,null,null,null,null,null,null,null,null,null,null,null,null,null,null,null,null,null,null,null,null,null,null,null,null,null,null,null,"",null,"年月日\t\t0\t\t\t",0]
[739,null,null,null,null,null,null,null,null,null,null,null,null,null,null,null,null,null,null,null,null,null,null,null,null,null,null,null,null,null,null,null,null,null,null,null,null,null,null,null,null,null,null,null,null,null,null,null,null,null,null,null,null,null,null,null,null,null,null,null,null,null,null,null,null,null,null,null,null,null,null,null,null,null,null,null,null,null,null,null,null,null,null,null,null,null,null,null,null,null,null,null,null,null,null,null,null,null,null,null,null,null,null,null,null,null,null,null,null,null,null,null,null,null,null,null,null,null,null,null,null,null,null,null,null,null,null,null,null,null,null,null,null,null,null,null,null,null,null,null,null,null,null,null,null,null,null,null,null,null,null,null,null,null,null,null,null,null,null,null,null,null,null,null,null,null,null,null,null,null,null,null,null,null,null,null,null,null,null,null,null,null,null,null,null,null,null,null,null,null,null,null,null,null,null,null,null,null,null,null,null,null,null,null,null,null,null,null,null,null,null,null,null,null,null,null,null,"",null,"年月日\t\t0\t\t\t",0]
[740,null,null,null,null,null,null,null,null,null,null,null,null,null,null,null,null,null,null,null,null,null,null,null,null,null,null,null,null,null,null,null,null,null,null,null,null,null,null,null,null,null,null,null,null,null,null,null,null,null,null,null,null,null,null,null,null,null,null,null,null,null,null,null,null,null,null,null,null,null,null,null,null,null,null,null,null,null,null,null,null,null,null,null,null,null,null,null,null,null,null,null,null,null,null,null,null,null,null,null,null,null,null,null,null,null,null,null,null,null,null,null,null,null,null,null,null,null,null,null,null,null,null,null,null,null,null,null,null,null,null,null,null,null,null,null,null,null,null,null,null,null,null,null,null,null,null,null,null,null,null,null,null,null,null,null,null,null,null,null,null,null,null,null,null,null,null,null,null,null,null,null,null,null,null,null,null,null,null,null,null,null,null,null,null,null,null,null,null,null,null,null,null,null,null,null,null,null,null,null,null,null,null,null,null,null,null,null,null,null,null,null,null,null,null,null,null,"",null,"年月日\t\t0\t\t\t",0]
[749,null,null,null,null,null,null,null,null,null,null,null,null,null,null,null,null,null,null,null,null,null,null,null,null,null,null,null,null,null,null,null,null,null,null,null,null,null,null,null,null,null,null,null,null,null,null,null,null,null,null,null,null,null,null,null,null,null,null,null,null,null,null,null,null,null,null,null,null,null,null,null,null,null,null,null,null,null,null,null,null,null,null,null,null,null,null,null,null,null,null,null,null,null,null,null,null,null,null,null,null,null,null,null,null,null,null,null,null,null,null,null,null,null,null,null,null,null,null,null,null,null,null,null,null,null,null,null,null,null,null,null,null,null,null,null,null,null,null,null,null,null,null,null,null,null,null,null,null,null,null,null,null,null,null,null,null,null,null,null,null,null,null,null,null,null,null,null,null,null,null,null,null,null,null,null,null,null,null,null,null,null,null,null,null,null,null,null,null,null,null,null,null,null,null,null,null,null,null,null,null,null,null,null,null,null,null,null,null,null,null,null,null,null,null,null,null,"",null,"年月日\t\t0\t\t\t",0]
[758,null,null,null,null,null,null,null,null,null,null,null,null,null,null,null,null,null,null,null,null,null,null,null,null,null,null,null,null,null,null,null,null,null,null,null,null,null,null,null,null,null,null,null,null,null,null,null,null,null,null,null,null,null,null,null,null,null,null,null,null,null,null,null,null,null,null,null,null,null,null,null,null,null,null,null,null,null,null,null,null,null,null,null,null,null,null,null,null,null,null,null,null,null,null,null,null,null,null,null,null,null,null,null,null,null,null,null,null,null,null,null,null,null,null,null,null,null,null,null,null,null,null,null,null,null,null,null,null,null,null,null,null,null,null,null,null,null,null,null,null,null,null,null,null,null,null,null,null,null,null,null,null,null,null,null,null,null,null,null,null,null,null,null,null,null,null,null,null,null,null,null,null,null,null,null,null,null,null,null,null,null,null,null,null,null,null,null,null,null,null,null,null,null,null,null,null,null,null,null,null,null,null,null,null,null,null,null,null,null,null,null,null,null,null,null,null,"",null,"年月日\t\t0\t\t\t",0]
[767,null,null,null,null,null,null,null,null,null,null,null,null,null,null,null,null,null,null,null,null,null,null,null,null,null,null,null,null,null,null,null,null,null,null,null,null,null,null,null,null,null,null,null,null,null,null,null,null,null,null,null,null,null,null,null,null,null,null,null,null,null,null,null,null,null,null,null,null,null,null,null,null,null,null,null,null,null,null,null,null,null,null,null,null,null,null,null,null,null,null,null,null,null,null,null,null,null,null,null,null,null,null,null,null,null,null,null,null,null,null,null,null,null,null,null,null,null,null,null,null,null,null,null,null,null,null,null,null,null,null,null,null,null,null,null,null,null,null,null,null,null,null,null,null,null,null,null,null,null,null,null,null,null,null,null,null,null,null,null,null,null,null,null,null,null,null,null,null,null,null,null,null,null,null,null,null,null,null,null,null,null,null,null,null,null,null,null,null,null,null,null,null,null,null,null,null,null,null,null,null,null,null,null,null,null,null,null,null,null,null,null,null,null,null,null,null,"",null,"年月日\t\t0\t\t\t",0]
[777,null,null,null,null,null,null,null,null,null,null,null,null,null,null,null,null,null,null,null,null,null,null,null,null,null,null,null,null,null,null,null,null,null,null,null,null,null,null,null,null,null,null,null,null,null,null,null,null,null,null,null,null,null,null,null,null,null,null,null,null,null,null,null,null,null,null,null,null,null,null,null,null,null,null,null,null,null,null,null,null,null,null,null,null,null,null,null,null,null,null,null,null,null,null,null,null,null,null,null,null,null,null,null,null,null,null,null,null,null,null,null,null,null,null,null,null,null,null,null,null,null,null,null,null,null,null,null,null,null,null,null,null,null,null,null,null,null,null,null,null,null,null,null,null,null,null,null,null,null,null,null,null,null,null,null,null,null,null,null,null,null,null,null,null,null,null,null,null,null,null,null,null,null,null,null,null,null,null,null,null,null,null,null,null,null,null,null,null,null,null,null,null,null,null,null,null,null,null,null,null,null,null,null,null,null,null,null,null,null,null,null,null,null,null,null,null,"",null,"年月日\t\t0\t\t\t",0]
[784,null,null,null,null,null,null,null,null,null,null,null,null,null,null,null,null,null,null,null,null,null,null,null,null,null,null,null,null,null,null,null,null,null,null,null,null,null,null,null,null,null,null,null,null,null,null,null,null,null,null,null,null,null,null,null,null,null,null,null,null,null,null,null,null,null,null,null,null,null,null,null,null,null,null,null,null,null,null,null,null,null,null,null,null,null,null,null,null,null,null,null,null,null,null,null,null,null,null,null,null,null,null,null,null,null,null,null,null,null,null,null,null,null,null,null,null,null,null,null,null,null,null,null,null,null,null,null,null,null,null,null,null,null,null,null,null,null,null,null,null,null,null,null,null,null,null,null,null,null,null,null,null,null,null,null,null,null,null,null,null,null,null,null,null,null,null,null,null,null,null,null,null,null,null,null,null,null,null,null,null,null,null,null,null,null,null,null,null,null,null,null,null,null,null,null,null,null,null,null,null,null,null,null,null,null,null,null,null,null,null,null,null,null,null,null,null,"",null,"年月日\t\t0\t\t\t",0]
[793,null,null,null,null,null,null,null,null,null,null,null,null,null,null,null,null,null,null,null,null,null,null,null,null,null,null,null,null,null,null,null,null,null,null,null,null,null,null,null,null,null,null,null,null,null,null,null,null,null,null,null,null,null,null,null,null,null,null,null,null,null,null,null,null,null,null,null,null,null,null,null,null,null,null,null,null,null,null,null,null,null,null,null,null,null,null,null,null,null,null,null,null,null,null,null,null,null,null,null,null,null,null,null,null,null,null,null,null,null,null,null,null,null,null,null,null,null,null,null,null,null,null,null,null,null,null,null,null,null,null,null,null,null,null,null,null,null,null,null,null,null,null,null,null,null,null,null,null,null,null,null,null,null,null,null,null,null,null,null,null,null,null,null,null,null,null,null,null,null,null,null,null,null,null,null,null,null,null,null,null,null,null,null,null,null,null,null,null,null,null,null,null,null,null,null,null,null,null,null,null,null,null,null,null,null,null,null,null,null,null,null,null,null,null,null,null,"",null,"年月日\t\t0\t\t\t",0]
[802,null,null,null,null,null,null,null,null,null,null,null,null,null,null,null,null,null,null,null,null,null,null,null,null,null,null,null,null,null,null,null,null,null,null,null,null,null,null,null,null,null,null,null,null,null,null,null,null,null,null,null,null,null,null,null,null,null,null,null,null,null,null,null,null,null,null,null,null,null,null,null,null,null,null,null,null,null,null,null,null,null,null,null,null,null,null,null,null,null,null,null,null,null,null,null,null,null,null,null,null,null,null,null,null,null,null,null,null,null,null,null,null,null,null,null,null,null,null,null,null,null,null,null,null,null,null,null,null,null,null,null,null,null,null,null,null,null,null,null,null,null,null,null,null,null,null,null,null,null,null,null,null,null,null,null,null,null,null,null,null,null,null,null,null,null,null,null,null,null,null,null,null,null,null,null,null,null,null,null,null,null,null,null,null,null,null,null,null,null,null,null,null,null,null,null,null,null,null,null,null,null,null,null,null,null,null,null,null,null,null,null,null,null,null,null,null,"",null,"年月日\t\t0\t\t\t",0]
[803,null,null,null,null,null,null,null,null,null,null,null,null,null,null,null,null,null,null,null,null,null,null,null,null,null,null,null,null,null,null,null,null,null,null,null,null,null,null,null,null,null,null,null,null,null,null,null,null,null,null,null,null,null,null,null,null,null,null,null,null,null,null,null,null,null,null,null,null,null,null,null,null,null,null,null,null,null,null,null,null,null,null,null,null,null,null,null,null,null,null,null,null,null,null,null,null,null,null,null,null,null,null,null,null,null,null,null,null,null,null,null,null,null,null,null,null,null,null,null,null,null,null,null,null,null,null,null,null,null,null,null,null,null,null,null,null,null,null,null,null,null,null,null,null,null,null,null,null,null,null,null,null,null,null,null,null,null,null,null,null,null,null,null,null,null,null,null,null,null,null,null,null,null,null,null,null,null,null,null,null,null,null,null,null,null,null,null,null,null,null,null,null,null,null,null,null,null,null,null,null,null,null,null,null,null,null,null,null,null,null,null,null,null,null,null,null,"",null,"年月日\t\t0\t\t\t",0]
[815,null,null,null,null,null,null,null,null,null,null,null,null,null,null,null,null,null,null,null,null,null,null,null,null,null,null,null,null,null,null,null,null,null,null,null,null,null,null,null,null,null,null,null,null,null,null,null,null,null,null,null,null,null,null,null,null,null,null,null,null,null,null,null,null,null,null,null,null,null,null,null,null,null,null,null,null,null,null,null,null,null,null,null,null,null,null,null,null,null,null,null,null,null,null,null,null,null,null,null,null,null,null,null,null,null,null,null,null,null,null,null,null,null,null,null,null,null,null,null,null,null,null,null,null,null,null,null,null,null,null,null,null,null,null,null,null,null,null,null,null,null,null,null,null,null,null,null,null,null,null,null,null,null,null,null,null,null,null,null,null,null,null,null,null,null,null,null,null,null,null,null,null,null,null,null,null,null,null,null,null,null,null,null,null,null,null,null,null,null,null,null,null,null,null,null,null,null,null,null,null,null,null,null,null,null,null,null,null,null,null,null,null,null,null,null,null,"",null,"年月日\t\t0\t\t\t",0]
[820,null,null,null,null,null,null,null,null,null,null,null,null,null,null,null,null,null,null,null,null,null,null,null,null,null,null,null,null,null,null,null,null,null,null,null,null,null,null,null,null,null,null,null,null,null,null,null,null,null,null,null,null,null,null,null,null,null,null,null,null,null,null,null,null,null,null,null,null,null,null,null,null,null,null,null,null,null,null,null,null,null,null,null,null,null,null,null,null,null,null,null,null,null,null,null,null,null,null,null,null,null,null,null,null,null,null,null,null,null,null,null,null,null,null,null,null,null,null,null,null,null,null,null,null,null,null,null,null,null,null,null,null,null,null,null,null,null,null,null,null,null,null,null,null,null,null,null,null,null,null,null,null,null,null,null,null,null,null,null,null,null,null,null,null,null,null,null,null,null,null,null,null,null,null,null,null,null,null,null,null,null,null,null,null,null,null,null,null,null,null,null,null,null,null,null,null,null,null,null,null,null,null,null,null,null,null,null,null,null,null,null,null,null,null,null,null,"",null,"年月日\t\t0\t\t\t",0]
[829,null,null,null,null,null,null,null,null,null,null,null,null,null,null,null,null,null,null,null,null,null,null,null,null,null,null,null,null,null,null,null,null,null,null,null,null,null,null,null,null,null,null,null,null,null,null,null,null,null,null,null,null,null,null,null,null,null,null,null,null,null,null,null,null,null,null,null,null,null,null,null,null,null,null,null,null,null,null,null,null,null,null,null,null,null,null,null,null,null,null,null,null,null,null,null,null,null,null,null,null,null,null,null,null,null,null,null,null,null,null,null,null,null,null,null,null,null,null,null,null,null,null,null,null,null,null,null,null,null,null,null,null,null,null,null,null,null,null,null,null,null,null,null,null,null,null,null,null,null,null,null,null,null,null,null,null,null,null,null,null,null,null,null,null,null,null,null,null,null,null,null,null,null,null,null,null,null,null,null,null,null,null,null,null,null,null,null,null,null,null,null,null,null,null,null,null,null,null,null,null,null,null,null,null,null,null,null,null,null,null,null,null,null,null,null,null,"",null,"年月日\t\t0\t\t\t",0]
[838,null,null,null,null,null,null,null,null,null,null,null,null,null,null,null,null,null,null,null,null,null,null,null,null,null,null,null,null,null,null,null,null,null,null,null,null,null,null,null,null,null,null,null,null,null,null,null,null,null,null,null,null,null,null,null,null,null,null,null,null,null,null,null,null,null,null,null,null,null,null,null,null,null,null,null,null,null,null,null,null,null,null,null,null,null,null,null,null,null,null,null,null,null,null,null,null,null,null,null,null,null,null,null,null,null,null,null,null,null,null,null,null,null,null,null,null,null,null,null,null,null,null,null,null,null,null,null,null,null,null,null,null,null,null,null,null,null,null,null,null,null,null,null,null,null,null,null,null,null,null,null,null,null,null,null,null,null,null,null,null,null,null,null,null,null,null,null,null,null,null,null,null,null,null,null,null,null,null,null,null,null,null,null,null,null,null,null,null,null,null,null,null,null,null,null,null,null,null,null,null,null,null,null,null,null,null,null,null,null,null,null,null,null,null,null,null,"",null,"年月日\t\t0\t\t\t",0]
[847,null,null,null,null,null,null,null,null,null,null,null,null,null,null,null,null,null,null,null,null,null,null,null,null,null,null,null,null,null,null,null,null,null,null,null,null,null,null,null,null,null,null,null,null,null,null,null,null,null,null,null,null,null,null,null,null,null,null,null,null,null,null,null,null,null,null,null,null,null,null,null,null,null,null,null,null,null,null,null,null,null,null,null,null,null,null,null,null,null,null,null,null,null,null,null,null,null,null,null,null,null,null,null,null,null,null,null,null,null,null,null,null,null,null,null,null,null,null,null,null,null,null,null,null,null,null,null,null,null,null,null,null,null,null,null,null,null,null,null,null,null,null,null,null,null,null,null,null,null,null,null,null,null,null,null,null,null,null,null,null,null,null,null,null,null,null,null,null,null,null,null,null,null,null,null,null,null,null,null,null,null,null,null,null,null,null,null,null,null,null,null,null,null,null,null,null,null,null,null,null,null,null,null,null,null,null,null,null,null,null,null,null,null,null,null,null,"",null,"年月日\t\t0\t\t\t",0]
[853,null,null,null,null,null,null,null,null,null,null,null,null,null,null,null,null,null,null,null,null,null,null,null,null,null,null,null,null,null,null,null,null,null,null,null,null,null,null,null,null,null,null,null,null,null,null,null,null,null,null,null,null,null,null,null,null,null,null,null,null,null,null,null,null,null,null,null,null,null,null,null,null,null,null,null,null,null,null,null,null,null,null,null,null,null,null,null,null,null,null,null,null,null,null,null,null,null,null,null,null,null,null,null,null,null,null,null,null,null,null,null,null,null,null,null,null,null,null,null,null,null,null,null,null,null,null,null,null,null,null,null,null,null,null,null,null,null,null,null,null,null,null,null,null,null,null,null,null,null,null,null,null,null,null,null,null,null,null,null,null,null,null,null,null,null,null,null,null,null,null,null,null,null,null,null,null,null,null,null,null,null,null,null,null,null,null,null,null,null,null,null,null,null,null,null,null,null,null,null,null,null,null,null,null,null,null,null,null,null,null,null,null,null,null,null,null,"",null,"年月日\t\t0\t\t\t",0]
[864,null,null,null,null,null,null,null,null,null,null,null,null,null,null,null,null,null,null,null,null,null,null,null,null,null,null,null,null,null,null,null,null,null,null,null,null,null,null,null,null,null,null,null,null,null,null,null,null,null,null,null,null,null,null,null,null,null,null,null,null,null,null,null,null,null,null,null,null,null,null,null,null,null,null,null,null,null,null,null,null,null,null,null,null,null,null,null,null,null,null,null,null,null,null,null,null,null,null,null,null,null,null,null,null,null,null,null,null,null,null,null,null,null,null,null,null,null,null,null,null,null,null,null,null,null,null,null,null,null,null,null,null,null,null,null,null,null,null,null,null,null,null,null,null,null,null,null,null,null,null,null,null,null,null,null,null,null,null,null,null,null,null,null,null,null,null,null,null,null,null,null,null,null,null,null,null,null,null,null,null,null,null,null,null,null,null,null,null,null,null,null,null,null,null,null,null,null,null,null,null,null,null,null,null,null,null,null,null,null,null,null,null,null,null,null,null,"",null,"年月日\t\t0\t\t\t",0]
[865,null,null,null,null,null,null,null,null,null,null,null,null,null,null,null,null,null,null,null,null,null,null,null,null,null,null,null,null,null,null,null,null,null,null,null,null,null,null,null,null,null,null,null,null,null,null,null,null,null,null,null,null,null,null,null,null,null,null,null,null,null,null,null,null,null,null,null,null,null,null,null,null,null,null,null,null,null,null,null,null,null,null,null,null,null,null,null,null,null,null,null,null,null,null,null,null,null,null,null,null,null,null,null,null,null,null,null,null,null,null,null,null,null,null,null,null,null,null,null,null,null,null,null,null,null,null,null,null,null,null,null,null,null,null,null,null,null,null,null,null,null,null,null,null,null,null,null,null,null,null,null,null,null,null,null,null,null,null,null,null,null,null,null,null,null,null,null,null,null,null,null,null,null,null,null,null,null,null,null,null,null,null,null,null,null,null,null,null,null,null,null,null,null,null,null,null,null,null,null,null,null,null,null,null,null,null,null,null,null,null,null,null,null,null,null,null,"",null,"年月日\t\t0\t\t\t",0]
[874,null,null,null,null,null,null,null,null,null,null,null,null,null,null,null,null,null,null,null,null,null,null,null,null,null,null,null,null,null,null,null,null,null,null,null,null,null,null,null,null,null,null,null,null,null,null,null,null,null,null,null,null,null,null,null,null,null,null,null,null,null,null,null,null,null,null,null,null,null,null,null,null,null,null,null,null,null,null,null,null,null,null,null,null,null,null,null,null,null,null,null,null,null,null,null,null,null,null,null,null,null,null,null,null,null,null,null,null,null,null,null,null,null,null,null,null,null,null,null,null,null,null,null,null,null,null,null,null,null,null,null,null,null,null,null,null,null,null,null,null,null,null,null,null,null,null,null,null,null,null,null,null,null,null,null,null,null,null,null,null,null,null,null,null,null,null,null,null,null,null,null,null,null,null,null,null,null,null,null,null,null,null,null,null,null,null,null,null,null,null,null,null,null,null,null,null,null,null,null,null,null,null,null,null,null,null,null,null,null,null,null,null,null,null,null,null,"",null,"年月日\t\t0\t\t\t",0]
[883,null,null,null,null,null,null,null,null,null,null,null,null,null,null,null,null,null,null,null,null,null,null,null,null,null,null,null,null,null,null,null,null,null,null,null,null,null,null,null,null,null,null,null,null,null,null,null,null,null,null,null,null,null,null,null,null,null,null,null,null,null,null,null,null,null,null,null,null,null,null,null,null,null,null,null,null,null,null,null,null,null,null,null,null,null,null,null,null,null,null,null,null,null,null,null,null,null,null,null,null,null,null,null,null,null,null,null,null,null,null,null,null,null,null,null,null,null,null,null,null,null,null,null,null,null,null,null,null,null,null,null,null,null,null,null,null,null,null,null,null,null,null,null,null,null,null,null,null,null,null,null,null,null,null,null,null,null,null,null,null,null,null,null,null,null,null,null,null,null,null,null,null,null,null,null,null,null,null,null,null,null,null,null,null,null,null,null,null,null,null,null,null,null,null,null,null,null,null,null,null,null,null,null,null,null,null,null,null,null,null,null,null,null,null,null,null,"",null,"年月日\t\t0\t\t\t",0]
[891,null,null,null,null,null,null,null,null,null,null,null,null,null,null,null,null,null,null,null,null,null,null,null,null,null,null,null,null,null,null,null,null,null,null,null,null,null,null,null,null,null,null,null,null,null,null,null,null,null,null,null,null,null,null,null,null,null,null,null,null,null,null,null,null,null,null,null,null,null,null,null,null,null,null,null,null,null,null,null,null,null,null,null,null,null,null,null,null,null,null,null,null,null,null,null,null,null,null,null,null,null,null,null,null,null,null,null,null,null,null,null,null,null,null,null,null,null,null,null,null,null,null,null,null,null,null,null,null,null,null,null,null,null,null,null,null,null,null,null,null,null,null,null,null,null,null,null,null,null,null,null,null,null,null,null,null,null,null,null,null,null,null,null,null,null,null,null,null,null,null,null,null,null,null,null,null,null,null,null,null,null,null,null,null,null,null,null,null,null,null,null,null,null,null,null,null,null,null,null,null,null,null,null,null,null,null,null,null,null,null,null,null,null,null,null,null,"",null,"年月日\t\t0\t\t\t",0]
[null,null,null,null,null,null,null,null,null,null,null,null,null,null,null,null,null,null,null,null,null,null,null,null,null,null,null,null,null,null,null,null,null,null,null,null,null,null,null,null,null,null,null,null,null,null,null,null,null,null,null,null,null,null,null,null,null,null,null,null,null,null,null,null,null,null,null,null,null,null,null,null,null,null,null,null,null,null,null,null,null,null,null,null,null,null,null,null,null,null,null,null,null,null,null,null,null,null,null,null,null,null,null,null,null,null,null,null,null,null,null,null,null,null,null,null,null,null,null,null,null,null,null,null,null,null,null,null,null,null,null,null,null,null,null,null,null,null,null,null,null,null,null,null,null,null,null,null,null,null,null,null,null,null,null,null,null,null,null,null,null,null,null,null,null,null,null,null,null,null,null,null,null,null,null,null,null,null,null,null,null,null,null,null,null,null,null,null,null,null,null,null,null,null,null,null,null,null,null,null,null,null,null,null,null,null,null,null,null,null,null,null,null,null,null,null,null,"",null,"年月日\t\t0\t\t\t",0]
[null,null,null,null,null,null,null,null,null,null,null,null,null,null,null,null,null,null,null,null,null,null,null,null,null,null,null,null,null,null,null,null,null,null,null,null,null,null,null,null,null,null,null,null,null,null,null,null,null,null,null,null,null,null,null,null,null,null,null,null,null,null,null,null,null,null,null,null,null,null,null,null,null,null,null,null,null,null,null,null,null,null,null,null,null,null,null,null,null,null,null,null,null,null,null,null,null,null,null,null,null,null,null,null,null,null,null,null,null,null,null,null,null,null,null,null,null,null,null,null,null,null,null,null,null,null,null,null,null,null,null,null,null,null,null,null,null,null,null,null,null,null,null,null,null,null,null,null,null,null,null,null,null,null,null,null,null,null,null,null,null,null,null,null,null,null,null,null,null,null,null,null,null,null,null,null,null,null,null,null,null,null,null,null,null,null,null,null,null,null,null,null,null,null,null,null,null,null,null,null,null,null,null,null,null,null,null,null,null,null,null,null,null,null,null,null,null,"",null,"年月日\t\t0\t\t\t",0]
[null,null,null,null,null,null,null,null,null,null,null,null,null,null,null,null,null,null,null,null,null,null,null,null,null,null,null,null,null,null,null,null,null,null,null,null,null,null,null,null,null,null,null,null,null,null,null,null,null,null,null,null,null,null,null,null,null,null,null,null,null,null,null,null,null,null,null,null,null,null,null,null,null,null,null,null,null,null,null,null,null,null,null,null,null,null,null,null,null,null,null,null,null,null,null,null,null,null,null,null,null,null,null,null,null,null,null,null,null,null,null,null,null,null,null,null,null,null,null,null,null,null,null,null,null,null,null,null,null,null,null,null,null,null,null,null,null,null,null,null,null,null,null,null,null,null,null,null,null,null,null,null,null,null,null,null,null,null,null,null,null,null,null,null,null,null,null,null,null,null,null,null,null,null,null,null,null,null,null,null,null,null,null,null,null,null,null,null,null,null,null,null,null,null,null,null,null,null,null,null,null,null,null,null,null,null,null,null,null,null,null,null,null,null,null,null,null,"",null,"年月日\t\t0\t\t\t",0]
[null,null,null,null,null,null,null,null,null,null,null,null,null,null,null,null,null,null,null,null,null,null,null,null,null,null,null,null,null,null,null,null,null,null,null,null,null,null,null,null,null,null,null,null,null,null,null,null,null,null,null,null,null,null,null,null,null,null,null,null,null,null,null,null,null,null,null,null,null,null,null,null,null,null,null,null,null,null,null,null,null,null,null,null,null,null,null,null,null,null,null,null,null,null,null,null,null,null,null,null,null,null,null,null,null,null,null,null,null,null,null,null,null,null,null,null,null,null,null,null,null,null,null,null,null,null,null,null,null,null,null,null,null,null,null,null,null,null,null,null,null,null,null,null,null,null,null,null,null,null,null,null,null,null,null,null,null,null,null,null,null,null,null,null,null,null,null,null,null,null,null,null,null,null,null,null,null,null,null,null,null,null,null,null,null,null,null,null,null,null,null,null,null,null,null,null,null,null,null,null,null,null,null,null,null,null,null,null,null,null,null,null,null,null,null,null,null,"",null,"年月日\t\t0\t\t\t",0]
[null,null,null,null,null,null,null,null,null,null,null,null,null,null,null,null,null,null,null,null,null,null,null,null,null,null,null,null,null,null,null,null,null,null,null,null,null,null,null,null,null,null,null,null,null,null,null,null,null,null,null,null,null,null,null,null,null,null,null,null,null,null,null,null,null,null,null,null,null,null,null,null,null,null,null,null,null,null,null,null,null,null,null,null,null,null,null,null,null,null,null,null,null,null,null,null,null,null,null,null,null,null,null,null,null,null,null,null,null,null,null,null,null,null,null,null,null,null,null,null,null,null,null,null,null,null,null,null,null,null,null,null,null,null,null,null,null,null,null,null,null,null,null,null,null,null,null,null,null,null,null,null,null,null,null,null,null,null,null,null,null,null,null,null,null,null,null,null,null,null,null,null,null,null,null,null,null,null,null,null,null,null,null,null,null,null,null,null,null,null,null,null,null,null,null,null,null,null,null,null,null,null,null,null,null,null,null,null,null,null,null,null,null,null,null,null,null,"",null,"年月日\t\t0\t\t\t",0]
[null,null,null,null,null,null,null,null,null,null,null,null,null,null,null,null,null,null,null,null,null,null,null,null,null,null,null,null,null,null,null,null,null,null,null,null,null,null,null,null,null,null,null,null,null,null,null,null,null,null,null,null,null,null,null,null,null,null,null,null,null,null,null,null,null,null,null,null,null,null,null,null,null,null,null,null,null,null,null,null,null,null,null,null,null,null,null,null,null,null,null,null,null,null,null,null,null,null,null,null,null,null,null,null,null,null,null,null,null,null,null,null,null,null,null,null,null,null,null,null,null,null,null,null,null,null,null,null,null,null,null,null,null,null,null,null,null,null,null,null,null,null,null,null,null,null,null,null,null,null,null,null,null,null,null,null,null,null,null,null,null,null,null,null,null,null,null,null,null,null,null,null,null,null,null,null,null,null,null,null,null,null,null,null,null,null,null,null,null,null,null,null,null,null,null,null,null,null,null,null,null,null,null,null,null,null,null,null,null,null,null,null,null,null,null,null,null,"",null,"年月日\t\t0\t\t\t",0]
[null,null,null,null,null,null,null,null,null,null,null,null,null,null,null,null,null,null,null,null,null,null,null,null,null,null,null,null,null,null,null,null,null,null,null,null,null,null,null,null,null,null,null,null,null,null,null,null,null,null,null,null,null,null,null,null,null,null,null,null,null,null,null,null,null,null,null,null,null,null,null,null,null,null,null,null,null,null,null,null,null,null,null,null,null,null,null,null,null,null,null,null,null,null,null,null,null,null,null,null,null,null,null,null,null,null,null,null,null,null,null,null,null,null,null,null,null,null,null,null,null,null,null,null,null,null,null,null,null,null,null,null,null,null,null,null,null,null,null,null,null,null,null,null,null,null,null,null,null,null,null,null,null,null,null,null,null,null,null,null,null,null,null,null,null,null,null,null,null,null,null,null,null,null,null,null,null,null,null,null,null,null,null,null,null,null,null,null,null,null,null,null,null,null,null,null,null,null,null,null,null,null,null,null,null,null,null,null,null,null,null,null,null,null,null,null,null,"",null,"年月日\t\t0\t\t\t",0]
[null,null,null,null,null,null,null,null,null,null,null,null,null,null,null,null,null,null,null,null,null,null,null,null,null,null,null,null,null,null,null,null,null,null,null,null,null,null,null,null,null,null,null,null,null,null,null,null,null,null,null,null,null,null,null,null,null,null,null,null,null,null,null,null,null,null,null,null,null,null,null,null,null,null,null,null,null,null,null,null,null,null,null,null,null,null,null,null,null,null,null,null,null,null,null,null,null,null,null,null,null,null,null,null,null,null,null,null,null,null,null,null,null,null,null,null,null,null,null,null,null,null,null,null,null,null,null,null,null,null,null,null,null,null,null,null,null,null,null,null,null,null,null,null,null,null,null,null,null,null,null,null,null,null,null,null,null,null,null,null,null,null,null,null,null,null,null,null,null,null,null,null,null,null,null,null,null,null,null,null,null,null,null,null,null,null,null,null,null,null,null,null,null,null,null,null,null,null,null,null,null,null,null,null,null,null,null,null,null,null,null,null,null,null,null,null,null,"",null,"年月日\t\t0\t\t\t",0]
[null,null,null,null,null,null,null,null,null,null,null,null,null,null,null,null,null,null,null,null,null,null,null,null,null,null,null,null,null,null,null,null,null,null,null,null,null,null,null,null,null,null,null,null,null,null,null,null,null,null,null,null,null,null,null,null,null,null,null,null,null,null,null,null,null,null,null,null,null,null,null,null,null,null,null,null,null,null,null,null,null,null,null,null,null,null,null,null,null,null,null,null,null,null,null,null,null,null,null,null,null,null,null,null,null,null,null,null,null,null,null,null,null,null,null,null,null,null,null,null,null,null,null,null,null,null,null,null,null,null,null,null,null,null,null,null,null,null,null,null,null,null,null,null,null,null,null,null,null,null,null,null,null,null,null,null,null,null,null,null,null,null,null,null,null,null,null,null,null,null,null,null,null,null,null,null,null,null,null,null,null,null,null,null,null,null,null,null,null,null,null,null,null,null,null,null,null,null,null,null,null,null,null,null,null,null,null,null,null,null,null,null,null,null,null,null,null,"",null,"年月日\t\t0\t\t\t",0]
[null,null,null,null,null,null,null,null,null,null,null,null,null,null,null,null,null,null,null,null,null,null,null,null,null,null,null,null,null,null,null,null,null,null,null,null,null,null,null,null,null,null,null,null,null,null,null,null,null,null,null,null,null,null,null,null,null,null,null,null,null,null,null,null,null,null,null,null,null,null,null,null,null,null,null,null,null,null,null,null,null,null,null,null,null,null,null,null,null,null,null,null,null,null,null,null,null,null,null,null,null,null,null,null,null,null,null,null,null,null,null,null,null,null,null,null,null,null,null,null,null,null,null,null,null,null,null,null,null,null,null,null,null,null,null,null,null,null,null,null,null,null,null,null,null,null,null,null,null,null,null,null,null,null,null,null,null,null,null,null,null,null,null,null,null,null,null,null,null,null,null,null,null,null,null,null,null,null,null,null,null,null,null,null,null,null,null,null,null,null,null,null,null,null,null,null,null,null,null,null,null,null,null,null,null,null,null,null,null,null,null,null,null,null,null,null,null,"",null,"年月日\t\t0\t\t\t",0]
[null,null,null,null,null,null,null,null,null,null,null,null,null,null,null,null,null,null,null,null,null,null,null,null,null,null,null,null,null,null,null,null,null,null,null,null,null,null,null,null,null,null,null,null,null,null,null,null,null,null,null,null,null,null,null,null,null,null,null,null,null,null,null,null,null,null,null,null,null,null,null,null,null,null,null,null,null,null,null,null,null,null,null,null,null,null,null,null,null,null,null,null,null,null,null,null,null,null,null,null,null,null,null,null,null,null,null,null,null,null,null,null,null,null,null,null,null,null,null,null,null,null,null,null,null,null,null,null,null,null,null,null,null,null,null,null,null,null,null,null,null,null,null,null,null,null,null,null,null,null,null,null,null,null,null,null,null,null,null,null,null,null,null,null,null,null,null,null,null,null,null,null,null,null,null,null,null,null,null,null,null,null,null,null,null,null,null,null,null,null,null,null,null,null,null,null,null,null,null,null,null,null,null,null,null,null,null,null,null,null,null,null,null,null,null,null,null,"",null,"年月日\t\t0\t\t\t",0]
[null,null,null,null,null,null,null,null,null,null,null,null,null,null,null,null,null,null,null,null,null,null,null,null,null,null,null,null,null,null,null,null,null,null,null,null,null,null,null,null,null,null,null,null,null,null,null,null,null,null,null,null,null,null,null,null,null,null,null,null,null,null,null,null,null,null,null,null,null,null,null,null,null,null,null,null,null,null,null,null,null,null,null,null,null,null,null,null,null,null,null,null,null,null,null,null,null,null,null,null,null,null,null,null,null,null,null,null,null,null,null,null,null,null,null,null,null,null,null,null,null,null,null,null,null,null,null,null,null,null,null,null,null,null,null,null,null,null,null,null,null,null,null,null,null,null,null,null,null,null,null,null,null,null,null,null,null,null,null,null,null,null,null,null,null,null,null,null,null,null,null,null,null,null,null,null,null,null,null,null,null,null,null,null,null,null,null,null,null,null,null,null,null,null,null,null,null,null,null,null,null,null,null,null,null,null,null,null,null,null,null,null,null,null,null,null,null,"",null,"年月日\t\t0\t\t\t",0]
[null,null,null,null,null,null,null,null,null,null,null,null,null,null,null,null,null,null,null,null,null,null,null,null,null,null,null,null,null,null,null,null,null,null,null,null,null,null,null,null,null,null,null,null,null,null,null,null,null,null,null,null,null,null,null,null,null,null,null,null,null,null,null,null,null,null,null,null,null,null,null,null,null,null,null,null,null,null,null,null,null,null,null,null,null,null,null,null,null,null,null,null,null,null,null,null,null,null,null,null,null,null,null,null,null,null,null,null,null,null,null,null,null,null,null,null,null,null,null,null,null,null,null,null,null,null,null,null,null,null,null,null,null,null,null,null,null,null,null,null,null,null,null,null,null,null,null,null,null,null,null,null,null,null,null,null,null,null,null,null,null,null,null,null,null,null,null,null,null,null,null,null,null,null,null,null,null,null,null,null,null,null,null,null,null,null,null,null,null,null,null,null,null,null,null,null,null,null,null,null,null,null,null,null,null,null,null,null,null,null,null,null,null,null,null,null,null,"",null,"年月日\t\t0\t\t\t",0]
[null,null,null,null,null,null,null,null,null,null,null,null,null,null,null,null,null,null,null,null,null,null,null,null,null,null,null,null,null,null,null,null,null,null,null,null,null,null,null,null,null,null,null,null,null,null,null,null,null,null,null,null,null,null,null,null,null,null,null,null,null,null,null,null,null,null,null,null,null,null,null,null,null,null,null,null,null,null,null,null,null,null,null,null,null,null,null,null,null,null,null,null,null,null,null,null,null,null,null,null,null,null,null,null,null,null,null,null,null,null,null,null,null,null,null,null,null,null,null,null,null,null,null,null,null,null,null,null,null,null,null,null,null,null,null,null,null,null,null,null,null,null,null,null,null,null,null,null,null,null,null,null,null,null,null,null,null,null,null,null,null,null,null,null,null,null,null,null,null,null,null,null,null,null,null,null,null,null,null,null,null,null,null,null,null,null,null,null,null,null,null,null,null,null,null,null,null,null,null,null,null,null,null,null,null,null,null,null,null,null,null,null,null,null,null,null,null,"",null,"年月日\t\t0\t\t\t",0]
[null,null,null,null,null,null,null,null,null,null,null,null,null,null,null,null,null,null,null,null,null,null,null,null,null,null,null,null,null,null,null,null,null,null,null,null,null,null,null,null,null,null,null,null,null,null,null,null,null,null,null,null,null,null,null,null,null,null,null,null,null,null,null,null,null,null,null,null,null,null,null,null,null,null,null,null,null,null,null,null,null,null,null,null,null,null,null,null,null,null,null,null,null,null,null,null,null,null,null,null,null,null,null,null,null,null,null,null,null,null,null,null,null,null,null,null,null,null,null,null,null,null,null,null,null,null,null,null,null,null,null,null,null,null,null,null,null,null,null,null,null,null,null,null,null,null,null,null,null,null,null,null,null,null,null,null,null,null,null,null,null,null,null,null,null,null,null,null,null,null,null,null,null,null,null,null,null,null,null,null,null,null,null,null,null,null,null,null,null,null,null,null,null,null,null,null,null,null,null,null,null,null,null,null,null,null,null,null,null,null,null,null,null,null,null,null,null,"",null,"年月日\t\t0\t\t\t",0]
[null,null,null,null,null,null,null,null,null,null,null,null,null,null,null,null,null,null,null,null,null,null,null,null,null,null,null,null,null,null,null,null,null,null,null,null,null,null,null,null,null,null,null,null,null,null,null,null,null,null,null,null,null,null,null,null,null,null,null,null,null,null,null,null,null,null,null,null,null,null,null,null,null,null,null,null,null,null,null,null,null,null,null,null,null,null,null,null,null,null,null,null,null,null,null,null,null,null,null,null,null,null,null,null,null,null,null,null,null,null,null,null,null,null,null,null,null,null,null,null,null,null,null,null,null,null,null,null,null,null,null,null,null,null,null,null,null,null,null,null,null,null,null,null,null,null,null,null,null,null,null,null,null,null,null,null,null,null,null,null,null,null,null,null,null,null,null,null,null,null,null,null,null,null,null,null,null,null,null,null,null,null,null,null,null,null,null,null,null,null,null,null,null,null,null,null,null,null,null,null,null,null,null,null,null,null,null,null,null,null,null,null,null,null,null,null,null,"",null,"年月日\t\t0\t\t\t",0]
[null,null,null,null,null,null,null,null,null,null,null,null,null,null,null,null,null,null,null,null,null,null,null,null,null,null,null,null,null,null,null,null,null,null,null,null,null,null,null,null,null,null,null,null,null,null,null,null,null,null,null,null,null,null,null,null,null,null,null,null,null,null,null,null,null,null,null,null,null,null,null,null,null,null,null,null,null,null,null,null,null,null,null,null,null,null,null,null,null,null,null,null,null,null,null,null,null,null,null,null,null,null,null,null,null,null,null,null,null,null,null,null,null,null,null,null,null,null,null,null,null,null,null,null,null,null,null,null,null,null,null,null,null,null,null,null,null,null,null,null,null,null,null,null,null,null,null,null,null,null,null,null,null,null,null,null,null,null,null,null,null,null,null,null,null,null,null,null,null,null,null,null,null,null,null,null,null,null,null,null,null,null,null,null,null,null,null,null,null,null,null,null,null,null,null,null,null,null,null,null,null,null,null,null,null,null,null,null,null,null,null,null,null,null,null,null,null,{"$f":"IF(HI1027=\"\",\"\",IF(LENB(INDIRECT(\"n\"&HI1027+2))<15,VLOOKUP(HI1027,$A$3:$T$9999,5,FALSE)&CHAR(9)&INDIRECT(\"gs\"&HI1027+2)&CHAR(9)&CHAR(9)&CHAR(9)&VLOOKUP(HI1027,$A$3:$T$9999,20,FALSE),VLOOKUP(HI1027,$A$3:$T$9999,5,FALSE)&CHAR(9)&INDIRECT(\"gs\"&HI1027+2)&CHAR(9)&CHAR(9)&VLOOKUP(HI1027,$A$3:$T$9999,20,FALSE)))","v":""},null,{"$f":"IF(LENB(N1027)<15,F1027&\"年\"&G1027&\"月\"&H1027&\"日\"&CHAR(9)&E1027&CHAR(9)&HM1027&CHAR(9)&CHAR(9)&CHAR(9)&T1027,F1027&\"年\"&G1027&\"月\"&H1027&\"日\"&CHAR(9)&E1027&CHAR(9)&HM1027&CHAR(9)&CHAR(9)&T1027)","v":"年月日\t\t0\t\t\t"},{"$f":"IF(LENB(N1027)<15,N1027,LEFT(N1027,9)&\"(略)\")","v":0}]
[null,null,null,null,null,null,null,null,null,null,null,null,null,null,null,null,null,null,null,null,null,null,null,null,null,null,null,null,null,null,null,null,null,null,null,null,null,null,null,null,null,null,null,null,null,null,null,null,null,null,null,null,null,null,null,null,null,null,null,null,null,null,null,null,null,null,null,null,null,null,null,null,null,null,null,null,null,null,null,null,null,null,null,null,null,null,null,null,null,null,null,null,null,null,null,null,null,null,null,null,null,null,null,null,null,null,null,null,null,null,null,null,null,null,null,null,null,null,null,null,null,null,null,null,null,null,null,null,null,null,null,null,null,null,null,null,null,null,null,null,null,null,null,null,null,null,null,null,null,null,null,null,null,null,null,null,null,null,null,null,null,null,null,null,null,null,null,null,null,null,null,null,null,null,null,null,null,null,null,null,null,null,null,null,null,null,null,null,null,null,null,null,null,null,null,null,null,null,null,null,null,null,null,null,null,null,null,null,null,null,null,null,null,null,null,null,null,"",null,"年月日\t\t0\t\t\t",0]
[null,null,null,null,null,null,null,null,null,null,null,null,null,null,null,null,null,null,null,null,null,null,null,null,null,null,null,null,null,null,null,null,null,null,null,null,null,null,null,null,null,null,null,null,null,null,null,null,null,null,null,null,null,null,null,null,null,null,null,null,null,null,null,null,null,null,null,null,null,null,null,null,null,null,null,null,null,null,null,null,null,null,null,null,null,null,null,null,null,null,null,null,null,null,null,null,null,null,null,null,null,null,null,null,null,null,null,null,null,null,null,null,null,null,null,null,null,null,null,null,null,null,null,null,null,null,null,null,null,null,null,null,null,null,null,null,null,null,null,null,null,null,null,null,null,null,null,null,null,null,null,null,null,null,null,null,null,null,null,null,null,null,null,null,null,null,null,null,null,null,null,null,null,null,null,null,null,null,null,null,null,null,null,null,null,null,null,null,null,null,null,null,null,null,null,null,null,null,null,null,null,null,null,null,null,null,null,null,null,null,null,null,null,null,null,null,null,"",null,"年月日\t\t0\t\t\t",0]
[null,null,null,null,null,null,null,null,null,null,null,null,null,null,null,null,null,null,null,null,null,null,null,null,null,null,null,null,null,null,null,null,null,null,null,null,null,null,null,null,null,null,null,null,null,null,null,null,null,null,null,null,null,null,null,null,null,null,null,null,null,null,null,null,null,null,null,null,null,null,null,null,null,null,null,null,null,null,null,null,null,null,null,null,null,null,null,null,null,null,null,null,null,null,null,null,null,null,null,null,null,null,null,null,null,null,null,null,null,null,null,null,null,null,null,null,null,null,null,null,null,null,null,null,null,null,null,null,null,null,null,null,null,null,null,null,null,null,null,null,null,null,null,null,null,null,null,null,null,null,null,null,null,null,null,null,null,null,null,null,null,null,null,null,null,null,null,null,null,null,null,null,null,null,null,null,null,null,null,null,null,null,null,null,null,null,null,null,null,null,null,null,null,null,null,null,null,null,null,null,null,null,null,null,null,null,null,null,null,null,null,null,null,null,null,null,null,"",null,"年月日\t\t0\t\t\t",0]
[null,null,null,null,null,null,null,null,null,null,null,null,null,null,null,null,null,null,null,null,null,null,null,null,null,null,null,null,null,null,null,null,null,null,null,null,null,null,null,null,null,null,null,null,null,null,null,null,null,null,null,null,null,null,null,null,null,null,null,null,null,null,null,null,null,null,null,null,null,null,null,null,null,null,null,null,null,null,null,null,null,null,null,null,null,null,null,null,null,null,null,null,null,null,null,null,null,null,null,null,null,null,null,null,null,null,null,null,null,null,null,null,null,null,null,null,null,null,null,null,null,null,null,null,null,null,null,null,null,null,null,null,null,null,null,null,null,null,null,null,null,null,null,null,null,null,null,null,null,null,null,null,null,null,null,null,null,null,null,null,null,null,null,null,null,null,null,null,null,null,null,null,null,null,null,null,null,null,null,null,null,null,null,null,null,null,null,null,null,null,null,null,null,null,null,null,null,null,null,null,null,null,null,null,null,null,null,null,null,null,null,null,null,null,null,null,null,"",null,"年月日\t\t0\t\t\t",0]
[null,null,null,null,null,null,null,null,null,null,null,null,null,null,null,null,null,null,null,null,null,null,null,null,null,null,null,null,null,null,null,null,null,null,null,null,null,null,null,null,null,null,null,null,null,null,null,null,null,null,null,null,null,null,null,null,null,null,null,null,null,null,null,null,null,null,null,null,null,null,null,null,null,null,null,null,null,null,null,null,null,null,null,null,null,null,null,null,null,null,null,null,null,null,null,null,null,null,null,null,null,null,null,null,null,null,null,null,null,null,null,null,null,null,null,null,null,null,null,null,null,null,null,null,null,null,null,null,null,null,null,null,null,null,null,null,null,null,null,null,null,null,null,null,null,null,null,null,null,null,null,null,null,null,null,null,null,null,null,null,null,null,null,null,null,null,null,null,null,null,null,null,null,null,null,null,null,null,null,null,null,null,null,null,null,null,null,null,null,null,null,null,null,null,null,null,null,null,null,null,null,null,null,null,null,null,null,null,null,null,null,null,null,null,null,null,null,"",null,"年月日\t\t0\t\t\t",0]
[null,null,null,null,null,null,null,null,null,null,null,null,null,null,null,null,null,null,null,null,null,null,null,null,null,null,null,null,null,null,null,null,null,null,null,null,null,null,null,null,null,null,null,null,null,null,null,null,null,null,null,null,null,null,null,null,null,null,null,null,null,null,null,null,null,null,null,null,null,null,null,null,null,null,null,null,null,null,null,null,null,null,null,null,null,null,null,null,null,null,null,null,null,null,null,null,null,null,null,null,null,null,null,null,null,null,null,null,null,null,null,null,null,null,null,null,null,null,null,null,null,null,null,null,null,null,null,null,null,null,null,null,null,null,null,null,null,null,null,null,null,null,null,null,null,null,null,null,null,null,null,null,null,null,null,null,null,null,null,null,null,null,null,null,null,null,null,null,null,null,null,null,null,null,null,null,null,null,null,null,null,null,null,null,null,null,null,null,null,null,null,null,null,null,null,null,null,null,null,null,null,null,null,null,null,null,null,null,null,null,null,null,null,null,null,null,null,"",null,"年月日\t\t0\t\t\t",0]
[null,null,null,null,null,null,null,null,null,null,null,null,null,null,null,null,null,null,null,null,null,null,null,null,null,null,null,null,null,null,null,null,null,null,null,null,null,null,null,null,null,null,null,null,null,null,null,null,null,null,null,null,null,null,null,null,null,null,null,null,null,null,null,null,null,null,null,null,null,null,null,null,null,null,null,null,null,null,null,null,null,null,null,null,null,null,null,null,null,null,null,null,null,null,null,null,null,null,null,null,null,null,null,null,null,null,null,null,null,null,null,null,null,null,null,null,null,null,null,null,null,null,null,null,null,null,null,null,null,null,null,null,null,null,null,null,null,null,null,null,null,null,null,null,null,null,null,null,null,null,null,null,null,null,null,null,null,null,null,null,null,null,null,null,null,null,null,null,null,null,null,null,null,null,null,null,null,null,null,null,null,null,null,null,null,null,null,null,null,null,null,null,null,null,null,null,null,null,null,null,null,null,null,null,null,null,null,null,null,null,null,null,null,null,null,null,null,"",null,"年月日\t\t0\t\t\t",0]
[null,null,null,null,null,null,null,null,null,null,null,null,null,null,null,null,null,null,null,null,null,null,null,null,null,null,null,null,null,null,null,null,null,null,null,null,null,null,null,null,null,null,null,null,null,null,null,null,null,null,null,null,null,null,null,null,null,null,null,null,null,null,null,null,null,null,null,null,null,null,null,null,null,null,null,null,null,null,null,null,null,null,null,null,null,null,null,null,null,null,null,null,null,null,null,null,null,null,null,null,null,null,null,null,null,null,null,null,null,null,null,null,null,null,null,null,null,null,null,null,null,null,null,null,null,null,null,null,null,null,null,null,null,null,null,null,null,null,null,null,null,null,null,null,null,null,null,null,null,null,null,null,null,null,null,null,null,null,null,null,null,null,null,null,null,null,null,null,null,null,null,null,null,null,null,null,null,null,null,null,null,null,null,null,null,null,null,null,null,null,null,null,null,null,null,null,null,null,null,null,null,null,null,null,null,null,null,null,null,null,null,null,null,null,null,null,null,"",null,"年月日\t\t0\t\t\t",0]
[null,null,null,null,null,null,null,null,null,null,null,null,null,null,null,null,null,null,null,null,null,null,null,null,null,null,null,null,null,null,null,null,null,null,null,null,null,null,null,null,null,null,null,null,null,null,null,null,null,null,null,null,null,null,null,null,null,null,null,null,null,null,null,null,null,null,null,null,null,null,null,null,null,null,null,null,null,null,null,null,null,null,null,null,null,null,null,null,null,null,null,null,null,null,null,null,null,null,null,null,null,null,null,null,null,null,null,null,null,null,null,null,null,null,null,null,null,null,null,null,null,null,null,null,null,null,null,null,null,null,null,null,null,null,null,null,null,null,null,null,null,null,null,null,null,null,null,null,null,null,null,null,null,null,null,null,null,null,null,null,null,null,null,null,null,null,null,null,null,null,null,null,null,null,null,null,null,null,null,null,null,null,null,null,null,null,null,null,null,null,null,null,null,null,null,null,null,null,null,null,null,null,null,null,null,null,null,null,null,null,null,null,null,null,null,null,null,"",null,"年月日\t\t0\t\t\t",0]
[null,null,null,null,null,null,null,null,null,null,null,null,null,null,null,null,null,null,null,null,null,null,null,null,null,null,null,null,null,null,null,null,null,null,null,null,null,null,null,null,null,null,null,null,null,null,null,null,null,null,null,null,null,null,null,null,null,null,null,null,null,null,null,null,null,null,null,null,null,null,null,null,null,null,null,null,null,null,null,null,null,null,null,null,null,null,null,null,null,null,null,null,null,null,null,null,null,null,null,null,null,null,null,null,null,null,null,null,null,null,null,null,null,null,null,null,null,null,null,null,null,null,null,null,null,null,null,null,null,null,null,null,null,null,null,null,null,null,null,null,null,null,null,null,null,null,null,null,null,null,null,null,null,null,null,null,null,null,null,null,null,null,null,null,null,null,null,null,null,null,null,null,null,null,null,null,null,null,null,null,null,null,null,null,null,null,null,null,null,null,null,null,null,null,null,null,null,null,null,null,null,null,null,null,null,null,null,null,null,null,null,null,null,null,null,null,null,"",null,"年月日\t\t0\t\t\t",0]
[null,null,null,null,null,null,null,null,null,null,null,null,null,null,null,null,null,null,null,null,null,null,null,null,null,null,null,null,null,null,null,null,null,null,null,null,null,null,null,null,null,null,null,null,null,null,null,null,null,null,null,null,null,null,null,null,null,null,null,null,null,null,null,null,null,null,null,null,null,null,null,null,null,null,null,null,null,null,null,null,null,null,null,null,null,null,null,null,null,null,null,null,null,null,null,null,null,null,null,null,null,null,null,null,null,null,null,null,null,null,null,null,null,null,null,null,null,null,null,null,null,null,null,null,null,null,null,null,null,null,null,null,null,null,null,null,null,null,null,null,null,null,null,null,null,null,null,null,null,null,null,null,null,null,null,null,null,null,null,null,null,null,null,null,null,null,null,null,null,null,null,null,null,null,null,null,null,null,null,null,null,null,null,null,null,null,null,null,null,null,null,null,null,null,null,null,null,null,null,null,null,null,null,null,null,null,null,null,null,null,null,null,null,null,null,null,null,"",null,"年月日\t\t0\t\t\t",0]
[null,null,null,null,null,null,null,null,null,null,null,null,null,null,null,null,null,null,null,null,null,null,null,null,null,null,null,null,null,null,null,null,null,null,null,null,null,null,null,null,null,null,null,null,null,null,null,null,null,null,null,null,null,null,null,null,null,null,null,null,null,null,null,null,null,null,null,null,null,null,null,null,null,null,null,null,null,null,null,null,null,null,null,null,null,null,null,null,null,null,null,null,null,null,null,null,null,null,null,null,null,null,null,null,null,null,null,null,null,null,null,null,null,null,null,null,null,null,null,null,null,null,null,null,null,null,null,null,null,null,null,null,null,null,null,null,null,null,null,null,null,null,null,null,null,null,null,null,null,null,null,null,null,null,null,null,null,null,null,null,null,null,null,null,null,null,null,null,null,null,null,null,null,null,null,null,null,null,null,null,null,null,null,null,null,null,null,null,null,null,null,null,null,null,null,null,null,null,null,null,null,null,null,null,null,null,null,null,null,null,null,null,null,null,null,null,null,"",null,"年月日\t\t0\t\t\t",0]
[null,null,null,null,null,null,null,null,null,null,null,null,null,null,null,null,null,null,null,null,null,null,null,null,null,null,null,null,null,null,null,null,null,null,null,null,null,null,null,null,null,null,null,null,null,null,null,null,null,null,null,null,null,null,null,null,null,null,null,null,null,null,null,null,null,null,null,null,null,null,null,null,null,null,null,null,null,null,null,null,null,null,null,null,null,null,null,null,null,null,null,null,null,null,null,null,null,null,null,null,null,null,null,null,null,null,null,null,null,null,null,null,null,null,null,null,null,null,null,null,null,null,null,null,null,null,null,null,null,null,null,null,null,null,null,null,null,null,null,null,null,null,null,null,null,null,null,null,null,null,null,null,null,null,null,null,null,null,null,null,null,null,null,null,null,null,null,null,null,null,null,null,null,null,null,null,null,null,null,null,null,null,null,null,null,null,null,null,null,null,null,null,null,null,null,null,null,null,null,null,null,null,null,null,null,null,null,null,null,null,null,null,null,null,null,null,null,"",null,"年月日\t\t0\t\t\t",0]
[null,null,null,null,null,null,null,null,null,null,null,null,null,null,null,null,null,null,null,null,null,null,null,null,null,null,null,null,null,null,null,null,null,null,null,null,null,null,null,null,null,null,null,null,null,null,null,null,null,null,null,null,null,null,null,null,null,null,null,null,null,null,null,null,null,null,null,null,null,null,null,null,null,null,null,null,null,null,null,null,null,null,null,null,null,null,null,null,null,null,null,null,null,null,null,null,null,null,null,null,null,null,null,null,null,null,null,null,null,null,null,null,null,null,null,null,null,null,null,null,null,null,null,null,null,null,null,null,null,null,null,null,null,null,null,null,null,null,null,null,null,null,null,null,null,null,null,null,null,null,null,null,null,null,null,null,null,null,null,null,null,null,null,null,null,null,null,null,null,null,null,null,null,null,null,null,null,null,null,null,null,null,null,null,null,null,null,null,null,null,null,null,null,null,null,null,null,null,null,null,null,null,null,null,null,null,null,null,null,null,null,null,null,null,null,null,null,"",null,"年月日\t\t0\t\t\t",0]
[null,null,null,null,null,null,null,null,null,null,null,null,null,null,null,null,null,null,null,null,null,null,null,null,null,null,null,null,null,null,null,null,null,null,null,null,null,null,null,null,null,null,null,null,null,null,null,null,null,null,null,null,null,null,null,null,null,null,null,null,null,null,null,null,null,null,null,null,null,null,null,null,null,null,null,null,null,null,null,null,null,null,null,null,null,null,null,null,null,null,null,null,null,null,null,null,null,null,null,null,null,null,null,null,null,null,null,null,null,null,null,null,null,null,null,null,null,null,null,null,null,null,null,null,null,null,null,null,null,null,null,null,null,null,null,null,null,null,null,null,null,null,null,null,null,null,null,null,null,null,null,null,null,null,null,null,null,null,null,null,null,null,null,null,null,null,null,null,null,null,null,null,null,null,null,null,null,null,null,null,null,null,null,null,null,null,null,null,null,null,null,null,null,null,null,null,null,null,null,null,null,null,null,null,null,null,null,null,null,null,null,null,null,null,null,null,null,"",null,"年月日\t\t0\t\t\t",0]
[null,null,null,null,null,null,null,null,null,null,null,null,null,null,null,null,null,null,null,null,null,null,null,null,null,null,null,null,null,null,null,null,null,null,null,null,null,null,null,null,null,null,null,null,null,null,null,null,null,null,null,null,null,null,null,null,null,null,null,null,null,null,null,null,null,null,null,null,null,null,null,null,null,null,null,null,null,null,null,null,null,null,null,null,null,null,null,null,null,null,null,null,null,null,null,null,null,null,null,null,null,null,null,null,null,null,null,null,null,null,null,null,null,null,null,null,null,null,null,null,null,null,null,null,null,null,null,null,null,null,null,null,null,null,null,null,null,null,null,null,null,null,null,null,null,null,null,null,null,null,null,null,null,null,null,null,null,null,null,null,null,null,null,null,null,null,null,null,null,null,null,null,null,null,null,null,null,null,null,null,null,null,null,null,null,null,null,null,null,null,null,null,null,null,null,null,null,null,null,null,null,null,null,null,null,null,null,null,null,null,null,null,null,null,null,null,null,"",null,"年月日\t\t0\t\t\t",0]
[null,null,null,null,null,null,null,null,null,null,null,null,null,null,null,null,null,null,null,null,null,null,null,null,null,null,null,null,null,null,null,null,null,null,null,null,null,null,null,null,null,null,null,null,null,null,null,null,null,null,null,null,null,null,null,null,null,null,null,null,null,null,null,null,null,null,null,null,null,null,null,null,null,null,null,null,null,null,null,null,null,null,null,null,null,null,null,null,null,null,null,null,null,null,null,null,null,null,null,null,null,null,null,null,null,null,null,null,null,null,null,null,null,null,null,null,null,null,null,null,null,null,null,null,null,null,null,null,null,null,null,null,null,null,null,null,null,null,null,null,null,null,null,null,null,null,null,null,null,null,null,null,null,null,null,null,null,null,null,null,null,null,null,null,null,null,null,null,null,null,null,null,null,null,null,null,null,null,null,null,null,null,null,null,null,null,null,null,null,null,null,null,null,null,null,null,null,null,null,null,null,null,null,null,null,null,null,null,null,null,null,null,null,null,null,null,null,"",null,"年月日\t\t0\t\t\t",0]
[null,null,null,null,null,null,null,null,null,null,null,null,null,null,null,null,null,null,null,null,null,null,null,null,null,null,null,null,null,null,null,null,null,null,null,null,null,null,null,null,null,null,null,null,null,null,null,null,null,null,null,null,null,null,null,null,null,null,null,null,null,null,null,null,null,null,null,null,null,null,null,null,null,null,null,null,null,null,null,null,null,null,null,null,null,null,null,null,null,null,null,null,null,null,null,null,null,null,null,null,null,null,null,null,null,null,null,null,null,null,null,null,null,null,null,null,null,null,null,null,null,null,null,null,null,null,null,null,null,null,null,null,null,null,null,null,null,null,null,null,null,null,null,null,null,null,null,null,null,null,null,null,null,null,null,null,null,null,null,null,null,null,null,null,null,null,null,null,null,null,null,null,null,null,null,null,null,null,null,null,null,null,null,null,null,null,null,null,null,null,null,null,null,null,null,null,null,null,null,null,null,null,null,null,null,null,null,null,null,null,null,null,null,null,null,null,null,"",null,"年月日\t\t0\t\t\t",0]
[null,null,null,null,null,null,null,null,null,null,null,null,null,null,null,null,null,null,null,null,null,null,null,null,null,null,null,null,null,null,null,null,null,null,null,null,null,null,null,null,null,null,null,null,null,null,null,null,null,null,null,null,null,null,null,null,null,null,null,null,null,null,null,null,null,null,null,null,null,null,null,null,null,null,null,null,null,null,null,null,null,null,null,null,null,null,null,null,null,null,null,null,null,null,null,null,null,null,null,null,null,null,null,null,null,null,null,null,null,null,null,null,null,null,null,null,null,null,null,null,null,null,null,null,null,null,null,null,null,null,null,null,null,null,null,null,null,null,null,null,null,null,null,null,null,null,null,null,null,null,null,null,null,null,null,null,null,null,null,null,null,null,null,null,null,null,null,null,null,null,null,null,null,null,null,null,null,null,null,null,null,null,null,null,null,null,null,null,null,null,null,null,null,null,null,null,null,null,null,null,null,null,null,null,null,null,null,null,null,null,null,null,null,null,null,null,null,"",null,"年月日\t\t0\t\t\t",0]
[null,null,null,null,null,null,null,null,null,null,null,null,null,null,null,null,null,null,null,null,null,null,null,null,null,null,null,null,null,null,null,null,null,null,null,null,null,null,null,null,null,null,null,null,null,null,null,null,null,null,null,null,null,null,null,null,null,null,null,null,null,null,null,null,null,null,null,null,null,null,null,null,null,null,null,null,null,null,null,null,null,null,null,null,null,null,null,null,null,null,null,null,null,null,null,null,null,null,null,null,null,null,null,null,null,null,null,null,null,null,null,null,null,null,null,null,null,null,null,null,null,null,null,null,null,null,null,null,null,null,null,null,null,null,null,null,null,null,null,null,null,null,null,null,null,null,null,null,null,null,null,null,null,null,null,null,null,null,null,null,null,null,null,null,null,null,null,null,null,null,null,null,null,null,null,null,null,null,null,null,null,null,null,null,null,null,null,null,null,null,null,null,null,null,null,null,null,null,null,null,null,null,null,null,null,null,null,null,null,null,null,null,null,null,null,null,null,"",null,"年月日\t\t0\t\t\t",0]
[null,null,null,null,null,null,null,null,null,null,null,null,null,null,null,null,null,null,null,null,null,null,null,null,null,null,null,null,null,null,null,null,null,null,null,null,null,null,null,null,null,null,null,null,null,null,null,null,null,null,null,null,null,null,null,null,null,null,null,null,null,null,null,null,null,null,null,null,null,null,null,null,null,null,null,null,null,null,null,null,null,null,null,null,null,null,null,null,null,null,null,null,null,null,null,null,null,null,null,null,null,null,null,null,null,null,null,null,null,null,null,null,null,null,null,null,null,null,null,null,null,null,null,null,null,null,null,null,null,null,null,null,null,null,null,null,null,null,null,null,null,null,null,null,null,null,null,null,null,null,null,null,null,null,null,null,null,null,null,null,null,null,null,null,null,null,null,null,null,null,null,null,null,null,null,null,null,null,null,null,null,null,null,null,null,null,null,null,null,null,null,null,null,null,null,null,null,null,null,null,null,null,null,null,null,null,null,null,null,null,null,null,null,null,null,null,null,"",null,"年月日\t\t0\t\t\t",0]
[null,null,null,null,null,null,null,null,null,null,null,null,null,null,null,null,null,null,null,null,null,null,null,null,null,null,null,null,null,null,null,null,null,null,null,null,null,null,null,null,null,null,null,null,null,null,null,null,null,null,null,null,null,null,null,null,null,null,null,null,null,null,null,null,null,null,null,null,null,null,null,null,null,null,null,null,null,null,null,null,null,null,null,null,null,null,null,null,null,null,null,null,null,null,null,null,null,null,null,null,null,null,null,null,null,null,null,null,null,null,null,null,null,null,null,null,null,null,null,null,null,null,null,null,null,null,null,null,null,null,null,null,null,null,null,null,null,null,null,null,null,null,null,null,null,null,null,null,null,null,null,null,null,null,null,null,null,null,null,null,null,null,null,null,null,null,null,null,null,null,null,null,null,null,null,null,null,null,null,null,null,null,null,null,null,null,null,null,null,null,null,null,null,null,null,null,null,null,null,null,null,null,null,null,null,null,null,null,null,null,null,null,null,null,null,null,null,"",null,"年月日\t\t0\t\t\t",0]
[null,null,null,null,null,null,null,null,null,null,null,null,null,null,null,null,null,null,null,null,null,null,null,null,null,null,null,null,null,null,null,null,null,null,null,null,null,null,null,null,null,null,null,null,null,null,null,null,null,null,null,null,null,null,null,null,null,null,null,null,null,null,null,null,null,null,null,null,null,null,null,null,null,null,null,null,null,null,null,null,null,null,null,null,null,null,null,null,null,null,null,null,null,null,null,null,null,null,null,null,null,null,null,null,null,null,null,null,null,null,null,null,null,null,null,null,null,null,null,null,null,null,null,null,null,null,null,null,null,null,null,null,null,null,null,null,null,null,null,null,null,null,null,null,null,null,null,null,null,null,null,null,null,null,null,null,null,null,null,null,null,null,null,null,null,null,null,null,null,null,null,null,null,null,null,null,null,null,null,null,null,null,null,null,null,null,null,null,null,null,null,null,null,null,null,null,null,null,null,null,null,null,null,null,null,null,null,null,null,null,null,null,null,null,null,null,null,"",null,"年月日\t\t0\t\t\t",0]
[null,null,null,null,null,null,null,null,null,null,null,null,null,null,null,null,null,null,null,null,null,null,null,null,null,null,null,null,null,null,null,null,null,null,null,null,null,null,null,null,null,null,null,null,null,null,null,null,null,null,null,null,null,null,null,null,null,null,null,null,null,null,null,null,null,null,null,null,null,null,null,null,null,null,null,null,null,null,null,null,null,null,null,null,null,null,null,null,null,null,null,null,null,null,null,null,null,null,null,null,null,null,null,null,null,null,null,null,null,null,null,null,null,null,null,null,null,null,null,null,null,null,null,null,null,null,null,null,null,null,null,null,null,null,null,null,null,null,null,null,null,null,null,null,null,null,null,null,null,null,null,null,null,null,null,null,null,null,null,null,null,null,null,null,null,null,null,null,null,null,null,null,null,null,null,null,null,null,null,null,null,null,null,null,null,null,null,null,null,null,null,null,null,null,null,null,null,null,null,null,null,null,null,null,null,null,null,null,null,null,null,null,null,null,null,null,null,"",null,"年月日\t\t0\t\t\t",0]
[null,null,null,null,null,null,null,null,null,null,null,null,null,null,null,null,null,null,null,null,null,null,null,null,null,null,null,null,null,null,null,null,null,null,null,null,null,null,null,null,null,null,null,null,null,null,null,null,null,null,null,null,null,null,null,null,null,null,null,null,null,null,null,null,null,null,null,null,null,null,null,null,null,null,null,null,null,null,null,null,null,null,null,null,null,null,null,null,null,null,null,null,null,null,null,null,null,null,null,null,null,null,null,null,null,null,null,null,null,null,null,null,null,null,null,null,null,null,null,null,null,null,null,null,null,null,null,null,null,null,null,null,null,null,null,null,null,null,null,null,null,null,null,null,null,null,null,null,null,null,null,null,null,null,null,null,null,null,null,null,null,null,null,null,null,null,null,null,null,null,null,null,null,null,null,null,null,null,null,null,null,null,null,null,null,null,null,null,null,null,null,null,null,null,null,null,null,null,null,null,null,null,null,null,null,null,null,null,null,null,null,null,null,null,null,null,null,"",null,"年月日\t\t0\t\t\t",0]
[null,null,null,null,null,null,null,null,null,null,null,null,null,null,null,null,null,null,null,null,null,null,null,null,null,null,null,null,null,null,null,null,null,null,null,null,null,null,null,null,null,null,null,null,null,null,null,null,null,null,null,null,null,null,null,null,null,null,null,null,null,null,null,null,null,null,null,null,null,null,null,null,null,null,null,null,null,null,null,null,null,null,null,null,null,null,null,null,null,null,null,null,null,null,null,null,null,null,null,null,null,null,null,null,null,null,null,null,null,null,null,null,null,null,null,null,null,null,null,null,null,null,null,null,null,null,null,null,null,null,null,null,null,null,null,null,null,null,null,null,null,null,null,null,null,null,null,null,null,null,null,null,null,null,null,null,null,null,null,null,null,null,null,null,null,null,null,null,null,null,null,null,null,null,null,null,null,null,null,null,null,null,null,null,null,null,null,null,null,null,null,null,null,null,null,null,null,null,null,null,null,null,null,null,null,null,null,null,null,null,null,null,null,null,null,null,null,"",null,"年月日\t\t0\t\t\t",0]
[null,null,null,null,null,null,null,null,null,null,null,null,null,null,null,null,null,null,null,null,null,null,null,null,null,null,null,null,null,null,null,null,null,null,null,null,null,null,null,null,null,null,null,null,null,null,null,null,null,null,null,null,null,null,null,null,null,null,null,null,null,null,null,null,null,null,null,null,null,null,null,null,null,null,null,null,null,null,null,null,null,null,null,null,null,null,null,null,null,null,null,null,null,null,null,null,null,null,null,null,null,null,null,null,null,null,null,null,null,null,null,null,null,null,null,null,null,null,null,null,null,null,null,null,null,null,null,null,null,null,null,null,null,null,null,null,null,null,null,null,null,null,null,null,null,null,null,null,null,null,null,null,null,null,null,null,null,null,null,null,null,null,null,null,null,null,null,null,null,null,null,null,null,null,null,null,null,null,null,null,null,null,null,null,null,null,null,null,null,null,null,null,null,null,null,null,null,null,null,null,null,null,null,null,null,null,null,null,null,null,null,null,null,null,null,null,null,"",null,"年月日\t\t0\t\t\t",0]
[null,null,null,null,null,null,null,null,null,null,null,null,null,null,null,null,null,null,null,null,null,null,null,null,null,null,null,null,null,null,null,null,null,null,null,null,null,null,null,null,null,null,null,null,null,null,null,null,null,null,null,null,null,null,null,null,null,null,null,null,null,null,null,null,null,null,null,null,null,null,null,null,null,null,null,null,null,null,null,null,null,null,null,null,null,null,null,null,null,null,null,null,null,null,null,null,null,null,null,null,null,null,null,null,null,null,null,null,null,null,null,null,null,null,null,null,null,null,null,null,null,null,null,null,null,null,null,null,null,null,null,null,null,null,null,null,null,null,null,null,null,null,null,null,null,null,null,null,null,null,null,null,null,null,null,null,null,null,null,null,null,null,null,null,null,null,null,null,null,null,null,null,null,null,null,null,null,null,null,null,null,null,null,null,null,null,null,null,null,null,null,null,null,null,null,null,null,null,null,null,null,null,null,null,null,null,null,null,null,null,null,null,null,null,null,null,null,"",null,"年月日\t\t0\t\t\t",0]
[null,null,null,null,null,null,null,null,null,null,null,null,null,null,null,null,null,null,null,null,null,null,null,null,null,null,null,null,null,null,null,null,null,null,null,null,null,null,null,null,null,null,null,null,null,null,null,null,null,null,null,null,null,null,null,null,null,null,null,null,null,null,null,null,null,null,null,null,null,null,null,null,null,null,null,null,null,null,null,null,null,null,null,null,null,null,null,null,null,null,null,null,null,null,null,null,null,null,null,null,null,null,null,null,null,null,null,null,null,null,null,null,null,null,null,null,null,null,null,null,null,null,null,null,null,null,null,null,null,null,null,null,null,null,null,null,null,null,null,null,null,null,null,null,null,null,null,null,null,null,null,null,null,null,null,null,null,null,null,null,null,null,null,null,null,null,null,null,null,null,null,null,null,null,null,null,null,null,null,null,null,null,null,null,null,null,null,null,null,null,null,null,null,null,null,null,null,null,null,null,null,null,null,null,null,null,null,null,null,null,null,null,null,null,null,null,null,"",null,"年月日\t\t0\t\t\t",0]
[null,null,null,null,null,null,null,null,null,null,null,null,null,null,null,null,null,null,null,null,null,null,null,null,null,null,null,null,null,null,null,null,null,null,null,null,null,null,null,null,null,null,null,null,null,null,null,null,null,null,null,null,null,null,null,null,null,null,null,null,null,null,null,null,null,null,null,null,null,null,null,null,null,null,null,null,null,null,null,null,null,null,null,null,null,null,null,null,null,null,null,null,null,null,null,null,null,null,null,null,null,null,null,null,null,null,null,null,null,null,null,null,null,null,null,null,null,null,null,null,null,null,null,null,null,null,null,null,null,null,null,null,null,null,null,null,null,null,null,null,null,null,null,null,null,null,null,null,null,null,null,null,null,null,null,null,null,null,null,null,null,null,null,null,null,null,null,null,null,null,null,null,null,null,null,null,null,null,null,null,null,null,null,null,null,null,null,null,null,null,null,null,null,null,null,null,null,null,null,null,null,null,null,null,null,null,null,null,null,null,null,null,null,null,null,null,null,"",null,"年月日\t\t0\t\t\t",0]
[null,null,null,null,null,null,null,null,null,null,null,null,null,null,null,null,null,null,null,null,null,null,null,null,null,null,null,null,null,null,null,null,null,null,null,null,null,null,null,null,null,null,null,null,null,null,null,null,null,null,null,null,null,null,null,null,null,null,null,null,null,null,null,null,null,null,null,null,null,null,null,null,null,null,null,null,null,null,null,null,null,null,null,null,null,null,null,null,null,null,null,null,null,null,null,null,null,null,null,null,null,null,null,null,null,null,null,null,null,null,null,null,null,null,null,null,null,null,null,null,null,null,null,null,null,null,null,null,null,null,null,null,null,null,null,null,null,null,null,null,null,null,null,null,null,null,null,null,null,null,null,null,null,null,null,null,null,null,null,null,null,null,null,null,null,null,null,null,null,null,null,null,null,null,null,null,null,null,null,null,null,null,null,null,null,null,null,null,null,null,null,null,null,null,null,null,null,null,null,null,null,null,null,null,null,null,null,null,null,null,null,null,null,null,null,null,null,"",null,"年月日\t\t0\t\t\t",0]
[null,null,null,null,null,null,null,null,null,null,null,null,null,null,null,null,null,null,null,null,null,null,null,null,null,null,null,null,null,null,null,null,null,null,null,null,null,null,null,null,null,null,null,null,null,null,null,null,null,null,null,null,null,null,null,null,null,null,null,null,null,null,null,null,null,null,null,null,null,null,null,null,null,null,null,null,null,null,null,null,null,null,null,null,null,null,null,null,null,null,null,null,null,null,null,null,null,null,null,null,null,null,null,null,null,null,null,null,null,null,null,null,null,null,null,null,null,null,null,null,null,null,null,null,null,null,null,null,null,null,null,null,null,null,null,null,null,null,null,null,null,null,null,null,null,null,null,null,null,null,null,null,null,null,null,null,null,null,null,null,null,null,null,null,null,null,null,null,null,null,null,null,null,null,null,null,null,null,null,null,null,null,null,null,null,null,null,null,null,null,null,null,null,null,null,null,null,null,null,null,null,null,null,null,null,null,null,null,null,null,null,null,null,null,null,null,null,"",null,"年月日\t\t0\t\t\t",0]
[null,null,null,null,null,null,null,null,null,null,null,null,null,null,null,null,null,null,null,null,null,null,null,null,null,null,null,null,null,null,null,null,null,null,null,null,null,null,null,null,null,null,null,null,null,null,null,null,null,null,null,null,null,null,null,null,null,null,null,null,null,null,null,null,null,null,null,null,null,null,null,null,null,null,null,null,null,null,null,null,null,null,null,null,null,null,null,null,null,null,null,null,null,null,null,null,null,null,null,null,null,null,null,null,null,null,null,null,null,null,null,null,null,null,null,null,null,null,null,null,null,null,null,null,null,null,null,null,null,null,null,null,null,null,null,null,null,null,null,null,null,null,null,null,null,null,null,null,null,null,null,null,null,null,null,null,null,null,null,null,null,null,null,null,null,null,null,null,null,null,null,null,null,null,null,null,null,null,null,null,null,null,null,null,null,null,null,null,null,null,null,null,null,null,null,null,null,null,null,null,null,null,null,null,null,null,null,null,null,null,null,null,null,null,null,null,null,"",null,"年月日\t\t0\t\t\t",0]
[null,null,null,null,null,null,null,null,null,null,null,null,null,null,null,null,null,null,null,null,null,null,null,null,null,null,null,null,null,null,null,null,null,null,null,null,null,null,null,null,null,null,null,null,null,null,null,null,null,null,null,null,null,null,null,null,null,null,null,null,null,null,null,null,null,null,null,null,null,null,null,null,null,null,null,null,null,null,null,null,null,null,null,null,null,null,null,null,null,null,null,null,null,null,null,null,null,null,null,null,null,null,null,null,null,null,null,null,null,null,null,null,null,null,null,null,null,null,null,null,null,null,null,null,null,null,null,null,null,null,null,null,null,null,null,null,null,null,null,null,null,null,null,null,null,null,null,null,null,null,null,null,null,null,null,null,null,null,null,null,null,null,null,null,null,null,null,null,null,null,null,null,null,null,null,null,null,null,null,null,null,null,null,null,null,null,null,null,null,null,null,null,null,null,null,null,null,null,null,null,null,null,null,null,null,null,null,null,null,null,null,null,null,null,null,null,null,"",null,"年月日\t\t0\t\t\t",0]
[null,null,null,null,null,null,null,null,null,null,null,null,null,null,null,null,null,null,null,null,null,null,null,null,null,null,null,null,null,null,null,null,null,null,null,null,null,null,null,null,null,null,null,null,null,null,null,null,null,null,null,null,null,null,null,null,null,null,null,null,null,null,null,null,null,null,null,null,null,null,null,null,null,null,null,null,null,null,null,null,null,null,null,null,null,null,null,null,null,null,null,null,null,null,null,null,null,null,null,null,null,null,null,null,null,null,null,null,null,null,null,null,null,null,null,null,null,null,null,null,null,null,null,null,null,null,null,null,null,null,null,null,null,null,null,null,null,null,null,null,null,null,null,null,null,null,null,null,null,null,null,null,null,null,null,null,null,null,null,null,null,null,null,null,null,null,null,null,null,null,null,null,null,null,null,null,null,null,null,null,null,null,null,null,null,null,null,null,null,null,null,null,null,null,null,null,null,null,null,null,null,null,null,null,null,null,null,null,null,null,null,null,null,null,null,null,null,"",null,"年月日\t\t0\t\t\t",0]
[null,null,null,null,null,null,null,null,null,null,null,null,null,null,null,null,null,null,null,null,null,null,null,null,null,null,null,null,null,null,null,null,null,null,null,null,null,null,null,null,null,null,null,null,null,null,null,null,null,null,null,null,null,null,null,null,null,null,null,null,null,null,null,null,null,null,null,null,null,null,null,null,null,null,null,null,null,null,null,null,null,null,null,null,null,null,null,null,null,null,null,null,null,null,null,null,null,null,null,null,null,null,null,null,null,null,null,null,null,null,null,null,null,null,null,null,null,null,null,null,null,null,null,null,null,null,null,null,null,null,null,null,null,null,null,null,null,null,null,null,null,null,null,null,null,null,null,null,null,null,null,null,null,null,null,null,null,null,null,null,null,null,null,null,null,null,null,null,null,null,null,null,null,null,null,null,null,null,null,null,null,null,null,null,null,null,null,null,null,null,null,null,null,null,null,null,null,null,null,null,null,null,null,null,null,null,null,null,null,null,null,null,null,null,null,null,null,"",null,"年月日\t\t0\t\t\t",0]
[null,null,null,null,null,null,null,null,null,null,null,null,null,null,null,null,null,null,null,null,null,null,null,null,null,null,null,null,null,null,null,null,null,null,null,null,null,null,null,null,null,null,null,null,null,null,null,null,null,null,null,null,null,null,null,null,null,null,null,null,null,null,null,null,null,null,null,null,null,null,null,null,null,null,null,null,null,null,null,null,null,null,null,null,null,null,null,null,null,null,null,null,null,null,null,null,null,null,null,null,null,null,null,null,null,null,null,null,null,null,null,null,null,null,null,null,null,null,null,null,null,null,null,null,null,null,null,null,null,null,null,null,null,null,null,null,null,null,null,null,null,null,null,null,null,null,null,null,null,null,null,null,null,null,null,null,null,null,null,null,null,null,null,null,null,null,null,null,null,null,null,null,null,null,null,null,null,null,null,null,null,null,null,null,null,null,null,null,null,null,null,null,null,null,null,null,null,null,null,null,null,null,null,null,null,null,null,null,null,null,null,null,null,null,null,null,null,"",null,null,0]
[null,null,null,null,null,null,null,null,null,null,null,null,null,null,null,null,null,null,null,null,null,null,null,null,null,null,null,null,null,null,null,null,null,null,null,null,null,null,null,null,null,null,null,null,null,null,null,null,null,null,null,null,null,null,null,null,null,null,null,null,null,null,null,null,null,null,null,null,null,null,null,null,null,null,null,null,null,null,null,null,null,null,null,null,null,null,null,null,null,null,null,null,null,null,null,null,null,null,null,null,null,null,null,null,null,null,null,null,null,null,null,null,null,null,null,null,null,null,null,null,null,null,null,null,null,null,null,null,null,null,null,null,null,null,null,null,null,null,null,null,null,null,null,null,null,null,null,null,null,null,null,null,null,null,null,null,null,null,null,null,null,null,null,null,null,null,null,null,null,null,null,null,null,null,null,null,null,null,null,null,null,null,null,null,null,null,null,null,null,null,null,null,null,null,null,null,null,null,null,null,null,null,null,null,null,null,null,null,null,null,null,null,null,null,null,null,null,"",null,null,0]
[null,null,null,null,null,null,null,null,null,null,null,null,null,null,null,null,null,null,null,null,null,null,null,null,null,null,null,null,null,null,null,null,null,null,null,null,null,null,null,null,null,null,null,null,null,null,null,null,null,null,null,null,null,null,null,null,null,null,null,null,null,null,null,null,null,null,null,null,null,null,null,null,null,null,null,null,null,null,null,null,null,null,null,null,null,null,null,null,null,null,null,null,null,null,null,null,null,null,null,null,null,null,null,null,null,null,null,null,null,null,null,null,null,null,null,null,null,null,null,null,null,null,null,null,null,null,null,null,null,null,null,null,null,null,null,null,null,null,null,null,null,null,null,null,null,null,null,null,null,null,null,null,null,null,null,null,null,null,null,null,null,null,null,null,null,null,null,null,null,null,null,null,null,null,null,null,null,null,null,null,null,null,null,null,null,null,null,null,null,null,null,null,null,null,null,null,null,null,null,null,null,null,null,null,null,null,null,null,null,null,null,null,null,null,null,null,null,null,null,null,0]
[null,null,null,null,null,null,null,null,null,null,null,null,null,null,null,null,null,null,null,null,null,null,null,null,null,null,null,null,null,null,null,null,null,null,null,null,null,null,null,null,null,null,null,null,null,null,null,null,null,null,null,null,null,null,null,null,null,null,null,null,null,null,null,null,null,null,null,null,null,null,null,null,null,null,null,null,null,null,null,null,null,null,null,null,null,null,null,null,null,null,null,null,null,null,null,null,null,null,null,null,null,null,null,null,null,null,null,null,null,null,null,null,null,null,null,null,null,null,null,null,null,null,null,null,null,null,null,null,null,null,null,null,null,null,null,null,null,null,null,null,null,null,null,null,null,null,null,null,null,null,null,null,null,null,null,null,null,null,null,null,null,null,null,null,null,null,null,null,null,null,null,null,null,null,null,null,null,null,null,null,null,null,null,null,null,null,null,null,null,null,null,null,null,null,null,null,null,null,null,null,null,null,null,null,null,null,null,null,null,null,null,null,null,null,null,null,null,null,null,null,0]

{"sheet":"リスト","index":1,"n_rows":215,"n_cols":9,"rows_kept":215,"cut":false,"hidden":true,"merged":[]}
["選択","対応セル","入力セル","対応セル","結合セル","泊対応セル","入力セル","対応セル","入力セル"]
["有・無","命令年","BI5","命令年","BI5:BO9","旅行年","AK12","命令年","BI5"]
["有","命令月","BR5","命令月","BR5:BV9","旅行月","AS12","命令月","BR5"]
["無","命令日","BZ5","命令日","BZ5:CD9","旅行日","BA12","命令日","BZ5"]
[null,"氏名","BA10","氏名","BA10:CG11","泊数1","AY15","氏名","BA10"]
[null,"旅行年1","O12","旅行年1","O12:R12","泊数2","AY16","旅行年1","O12"]
[null,"旅行月1","U12","旅行月1","U12:X12","泊数3","AY17","旅行月1","U12"]
[null,"旅行日1","Z12","旅行日1","Z12:AB12","泊数4","AY18","旅行日1","Z12"]
[null,"旅行年2","AK12","旅行年2","AK12:AN12","泊数5","AY19","旅行年2","AK12"]
[null,"旅行月2","AS12","旅行月2","AS12:AV12","泊数6","AY20","旅行月2","AS12"]
[null,"旅行日3","BA12","旅行日3","BA12:BE12","宿泊費1","BI15","旅行日3","BA12"]
[null,"泊","BL12","泊","BL12:BP12","宿泊費2","BI16","泊","BL12"]
[null,"日",null,"用務","A15:P20","宿泊費3","BI17","日","BU12"]
[null,"用務1","A15","用務先","S15:AX20","宿泊費4","BI18","用務1","A15"]
[null,"用務2","A16","泊数","AY15:BF20","宿泊費5","BI19","用務2","A16"]
[null,"用務3","A17","宿泊費","BI15:BP20","宿泊費6","BI20","用務3","A17"]
[null,"用務4","A18","朝食～夕食","BS15:CG20","朝食1","BS15","用務4","A18"]
[null,"用務5","A19","公用車","E22:F22","朝食2","BS16","用務5","A19"]
[null,"用務6","A20","自家用車","P22:Q22","朝食3","BS17","用務6","A20"]
[null,"用務先1","S15","距離","AC21:AH23","朝食4","BS18","用務先1","S15"]
[null,"用務先2","S16","同乗","AN22:AP22","朝食5","BS19","用務先2","S16"]
[null,"用務先3","S17","徒歩","BJ22:BL22","朝食6","BS20","用務先3","S17"]
[null,"用務先4","S18","発公署","E25:F25","夕食1","CA15","用務先4","S18"]
[null,"用務先5","S19","発公署名","K25:O25","夕食2","CA16","用務先5","S19"]
[null,"用務先6","S20","発自宅","AG25:AI25","夕食3","CA17","用務先6","S20"]
[null,"泊数1","AY15","往復","BL25:BN25","夕食4","CA18","泊数1","AY15"]
[null,"泊数2","AY16","経路順","B29:I38","夕食5","CA19","泊数2","AY16"]
[null,"泊数3","AY17","乗り換え","L29:Q38","夕食6","CA20","泊数3","AY17"]
[null,"泊数4","AY18","どこまで","T29:AE38",null,null,"泊数4","AY18"]
[null,"泊数5","AY19","私鉄","AH29:AM38",null,null,"泊数5","AY19"]
[null,"泊数6","AY20","バス","AT29:AW38",null,null,"泊数6","AY20"]
[null,"宿泊費1","BI15","自家用車","BL29:BT38",null,null,"宿泊費1","BI15"]
[null,"宿泊費2","BI16","タクシー","CA29:CF38",null,null,"宿泊費2","BI16"]
[null,"宿泊費3","BI17","帰公署","F40:G40",null,null,"宿泊費3","BI17"]
[null,"宿泊費4","BI18","帰公署名","L40:R40",null,null,"宿泊費4","BI18"]
[null,"宿泊費5","BI19","帰着自宅","AL40:AM40",null,null,"宿泊費5","BI19"]
[null,"宿泊費6","BI20","調整1","F43:L43",null,null,"宿泊費6","BI20"]
[null,"朝食1","BS15","調整2","O43:AC43",null,null,"朝食1","BS15"]
[null,"朝食2","BS16","調整3","AE43:AN43",null,null,"朝食2","BS16"]
[null,"朝食3","BS17","調整4","F45:L45",null,null,"朝食3","BS17"]
[null,"朝食4","BS18","調整5","O45:AC45",null,null,"朝食4","BS18"]
[null,"朝食5","BS19","調整6","AE45:AN45",null,null,"朝食5","BS19"]
[null,"朝食6","BS20","プリペイト","BO42:CE45",null,null,"朝食6","BS20"]
[null,"夕食1","CA15","同乗者1","O47:X49",null,null,"夕食1","CA15"]
[null,"夕食2","CA16","同乗者2","Z47:AI49",null,null,"夕食2","CA16"]
[null,"夕食3","CA17","交通不便","N50:O50",null,null,"夕食3","CA17"]
[null,"夕食4","CA18","緊急","V50:W50",null,null,"夕食4","CA18"]
[null,"夕食5","CA19","時間外","AA50:AB50",null,null,"夕食5","CA19"]
[null,"夕食6","CA20","運搬","F50:G50",null,null,"夕食6","CA20"]
[null,"公用車","E22","多目的地","F52:G52",null,null,"公用車","E22"]
[null,"自家用車","P22","その他","N52:O52",null,null,"自家用車","P22"]
[null,"距離","AC21","その他理由","Y51:AD53",null,null,"距離","AC21"]
[null,"同乗","AN22","チケット","AW47:AX47",null,null,"同乗","AN22"]
[null,"徒歩","BJ22","旅費請求","BH47:BJ47",null,null,"徒歩","BJ22"]
[null,"発公署","E25","同乗","BV47:BX47",null,null,"発公署","E25"]
[null,"発公署名","K25","交通不便","AV50:AW50",null,null,"発公署名","K25"]
[null,"発自宅","AG25","緊急","BG50:BI50",null,null,"発自宅","AG25"]
[null,"往復","BL25","時間外","BO50:BQ50",null,null,"往復","BL25"]
[null,"経路順1","B29","運搬","CA50:CC50",null,null,"経路順1","B29"]
[null,"経路順2","B30","多目的地","AV52:AW52",null,null,"経路順2","B30"]
[null,"経路順3","B31","その他","BG52:BI52",null,null,"経路順3","B31"]
[null,"経路順4","B32","その他理由","BR51:CF53",null,null,"経路順4","B32"]
[null,"経路順5","B33","有料道路区間1","I54:S54",null,null,"経路順5","B33"]
[null,"経路順6","B34","有料道路区間2","V54:AT54",null,null,"経路順6","B34"]
[null,"経路順7","B35","有料道路区間3","AW54:BN54",null,null,"経路順7","B35"]
[null,"経路順8","B36","時間短縮1","J56:K56",null,null,"経路順8","B36"]
[null,"経路順9","B37","利用が一般的1","V56:W56",null,null,"経路順9","B37"]
[null,"経路順10","B38","通勤区間1","J58:K58",null,null,"経路順10","B38"]
[null,"どこから1","C29","時間短縮2","AG56:AI56",null,null,"どこから1","C29"]
[null,"どこから2","C30","利用が一般的2","AW56:AX56",null,null,"どこから2","C30"]
[null,"どこから3","C31","通勤区間2","AG58:AI58",null,null,"どこから3","C31"]
[null,"どこから4","C32","有料道路合計","BO56:CD57",null,null,"どこから4","C32"]
[null,"どこから5","C33","駐車場名1","I60:S60",null,null,"どこから5","C33"]
[null,"どこから6","C34","駐車場名2","V60:AT60",null,null,"どこから6","C34"]
[null,"どこから7","C35","駐車場名3","AW60:BN60",null,null,"どこから7","C35"]
[null,"どこから8","C36","駐車場理由1","J62:K62",null,null,"どこから8","C36"]
[null,"どこから9","C37","駐車場理由2","AG62:AI62",null,null,"どこから9","C37"]
[null,"どこから10","C38","駐車場合計","BO62:CD62",null,null,"どこから10","C38"]
[null,"乗り換え1","L29","別途支給","F65:G65",null,null,"乗り換え1","L29"]
[null,"乗り換え2","L30","別途支給金額","N65:AC65",null,null,"乗り換え2","L30"]
[null,"乗り換え3","L31","別途支給先","AK65:BT65",null,null,"乗り換え3","L31"]
[null,"乗り換え4","L32","備考1","N67:AE67",null,null,"乗り換え4","L32"]
[null,"乗り換え5","L33","備考2","AX67:CG67",null,null,"乗り換え5","L33"]
[null,"乗り換え6","L34","備考3","N68:CG68",null,null,"乗り換え6","L34"]
[null,"乗り換え7","L35","備考4","E69:CG69",null,null,"乗り換え7","L35"]
[null,"乗り換え8","L36",null,null,null,null,"乗り換え8","L36"]
[null,"乗り換え9","L37",null,null,null,null,"乗り換え9","L37"]
[null,"乗り換え10","L38",null,null,null,null,"乗り換え10","L38"]
[null,"どこまで1","T29",null,null,null,null,"どこまで1","T29"]
[null,"どこまで2","T30",null,null,null,null,"どこまで2","T30"]
[null,"どこまで3","T31",null,null,null,null,"どこまで3","T31"]
[null,"どこまで4","T32",null,null,null,null,"どこまで4","T32"]
[null,"どこまで5","T33",null,null,null,null,"どこまで5","T33"]
[null,"どこまで6","T34",null,null,null,null,"どこまで6","T34"]
[null,"どこまで7","T35",null,null,null,null,"どこまで7","T35"]
[null,"どこまで8","T36",null,null,null,null,"どこまで8","T36"]
[null,"どこまで9","T37",null,null,null,null,"どこまで9","T37"]
[null,"どこまで10","T38",null,null,null,null,"どこまで10","T38"]
[null,"バス1","AB29",null,null,null,null,"バス1","AB29"]
[null,"バス2","AB30",null,null,null,null,"バス2","AB30"]
[null,"バス3","AB31",null,null,null,null,"バス3","AB31"]
[null,"バス4","AB32",null,null,null,null,"バス4","AB32"]
[null,"バス5","AB33",null,null,null,null,"バス5","AB33"]
[null,"バス6","AB34",null,null,null,null,"バス6","AB34"]
[null,"バス7","AB35",null,null,null,null,"バス7","AB35"]
[null,"バス8","AB36",null,null,null,null,"バス8","AB36"]
[null,"バス9","AB37",null,null,null,null,"バス9","AB37"]
[null,"バス10","AB38",null,null,null,null,"バス10","AB38"]
[null,"車使用1","AD29",null,null,null,null,"車使用1","AD29"]
[null,"車使用2","AD30",null,null,null,null,"車使用2","AD30"]
[null,"車使用3","AD31",null,null,null,null,"車使用3","AD31"]
[null,"車使用4","AD32",null,null,null,null,"車使用4","AD32"]
[null,"車使用5","AD33",null,null,null,null,"車使用5","AD33"]
[null,"車使用6","AD34",null,null,null,null,"車使用6","AD34"]
[null,"車使用7","AD35",null,null,null,null,"車使用7","AD35"]
[null,"車使用8","AD36",null,null,null,null,"車使用8","AD36"]
[null,"車使用9","AD37",null,null,null,null,"車使用9","AD37"]
[null,"車使用10","AD38",null,null,null,null,"車使用10","AD38"]
[null,"私鉄1","AH29",null,null,null,null,"私鉄1","AH29"]
[null,"私鉄2","AH30",null,null,null,null,"私鉄2","AH30"]
[null,"私鉄3","AH31",null,null,null,null,"私鉄3","AH31"]
[null,"私鉄4","AH32",null,null,null,null,"私鉄4","AH32"]
[null,"私鉄5","AH33",null,null,null,null,"私鉄5","AH33"]
[null,"私鉄6","AH34",null,null,null,null,"私鉄6","AH34"]
[null,"私鉄7","AH35",null,null,null,null,"私鉄7","AH35"]
[null,"私鉄8","AH36",null,null,null,null,"私鉄8","AH36"]
[null,"私鉄9","AH37",null,null,null,null,"私鉄9","AH37"]
[null,"私鉄10","AH38",null,null,null,null,"私鉄10","AH38"]
[null,"バス1","AT29",null,null,null,null,"バス1","AT29"]
[null,"バス2","AT30",null,null,null,null,"バス2","AT30"]
[null,"バス3","AT31",null,null,null,null,"バス3","AT31"]
[null,"バス4","AT32",null,null,null,null,"バス4","AT32"]
[null,"バス5","AT33",null,null,null,null,"バス5","AT33"]
[null,"バス6","AT34",null,null,null,null,"バス6","AT34"]
[null,"バス7","AT35",null,null,null,null,"バス7","AT35"]
[null,"バス8","AT36",null,null,null,null,"バス8","AT36"]
[null,"バス9","AT37",null,null,null,null,"バス9","AT37"]
[null,"バス10","AT38",null,null,null,null,"バス10","AT38"]
[null,"自家用車1","BL29",null,null,null,null,"自家用車1","BL29"]
[null,"自家用車2","BL30",null,null,null,null,"自家用車2","BL30"]
[null,"自家用車3","BL31",null,null,null,null,"自家用車3","BL31"]
[null,"自家用車4","BL32",null,null,null,null,"自家用車4","BL32"]
[null,"自家用車5","BL33",null,null,null,null,"自家用車5","BL33"]
[null,"自家用車6","BL34",null,null,null,null,"自家用車6","BL34"]
[null,"自家用車7","BL35",null,null,null,null,"自家用車7","BL35"]
[null,"自家用車8","BL36",null,null,null,null,"自家用車8","BL36"]
[null,"自家用車9","BL37",null,null,null,null,"自家用車9","BL37"]
[null,"自家用車10","BL38",null,null,null,null,"自家用車10","BL38"]
[null,"タクシー1","CA29",null,null,null,null,"タクシー1","CA29"]
[null,"タクシー2","CA30",null,null,null,null,"タクシー2","CA30"]
[null,"タクシー3","CA31",null,null,null,null,"タクシー3","CA31"]
[null,"タクシー4","CA32",null,null,null,null,"タクシー4","CA32"]
[null,"タクシー5","CA33",null,null,null,null,"タクシー5","CA33"]
[null,"タクシー6","CA34",null,null,null,null,"タクシー6","CA34"]
[null,"タクシー7","CA35",null,null,null,null,"タクシー7","CA35"]
[null,"タクシー8","CA36",null,null,null,null,"タクシー8","CA36"]
[null,"タクシー9","CA37",null,null,null,null,"タクシー9","CA37"]
[null,"タクシー10","CA38",null,null,null,null,"タクシー10","CA38"]
[null,"帰公署","F40",null,null,null,null,"帰公署","F40"]
[null,"帰公署名","L40",null,null,null,null,"帰公署名","L40"]
[null,"帰着自宅","AL40",null,null,null,null,"帰着自宅","AL40"]
[null,"調整1","F43",null,null,null,null,"調整1","F43"]
[null,"調整2","O43",null,null,null,null,"調整2","O43"]
[null,"調整3","X43",null,null,null,null,"調整3","X43"]
[null,"調整4","AE43",null,null,null,null,"調整4","AE43"]
[null,"調整5","F45",null,null,null,null,"調整5","F45"]
[null,"調整6","O45",null,null,null,null,"調整6","O45"]
[null,"調整7","X45",null,null,null,null,"調整7","X45"]
[null,"調整8","AE45",null,null,null,null,"調整8","AE45"]
[null,"プリペイト","BO42",null,null,null,null,"プリペイト","BO42"]
[null,"同乗者1","O47",null,null,null,null,"同乗者1","O47"]
[null,"同乗者2","O48",null,null,null,null,"同乗者2","O48"]
[null,"同乗者3","O49",null,null,null,null,"同乗者3","O49"]
[null,"同乗者4","Z47",null,null,null,null,"同乗者4","Z47"]
[null,"同乗者5","Z48",null,null,null,null,"同乗者5","Z48"]
[null,"同乗者6","Z49",null,null,null,null,"同乗者6","Z49"]
[null,"交通不便","F50",null,null,null,null,"交通不便","F50"]
[null,"緊急","N50",null,null,null,null,"緊急","N50"]
[null,"時間外","V50",null,null,null,null,"時間外","V50"]
[null,"運搬","AA50",null,null,null,null,"運搬","AA50"]
[null,"多目的地","F52",null,null,null,null,"多目的地","F52"]
[null,"その他","N52",null,null,null,null,"その他","N52"]
[null,"その他理由","Y51",null,null,null,null,"その他理由","Y51"]
[null,"チケット","AW47",null,null,null,null,"チケット","AW47"]
[null,"旅費請求","BH47",null,null,null,null,"旅費請求","BH47"]
[null,"同乗","BW47",null,null,null,null,"同乗","BW47"]
[null,"緊急","BH50",null,null,null,null,"緊急","BH50"]
[null,"時間外","BO50",null,null,null,null,"時間外","BO50"]
[null,"運搬","CA50",null,null,null,null,"運搬","CA50"]
[null,"多目的地","AV52",null,null,null,null,"多目的地","AV52"]
[null,"その他","BG52",null,null,null,null,"その他","BG52"]
[null,"その他理由","BR51",null,null,null,null,"その他理由","BR51"]
[null,"有料道路区間1","I54",null,null,null,null,"有料道路区間1","I54"]
[null,"有料道路区間2","V54",null,null,null,null,"有料道路区間2","V54"]
[null,"有料道路区間3","AF54",null,null,null,null,"有料道路区間3","AF54"]
[null,"有料道路区間4","AW54",null,null,null,null,"有料道路区間4","AW54"]
[null,"時間短縮1","J56",null,null,null,null,"時間短縮1","J56"]
[null,"利用が一般的1","V56",null,null,null,null,"利用が一般的1","V56"]
[null,"通勤区間1","J58",null,null,null,null,"通勤区間1","J58"]
[null,"時間短縮2","AG56",null,null,null,null,"時間短縮2","AG56"]
[null,"利用が一般的2","AW56",null,null,null,null,"利用が一般的2","AW56"]
[null,"通勤区間2","AG58",null,null,null,null,"通勤区間2","AG58"]
[null,"有料道路合計","BO56",null,null,null,null,"有料道路合計","BO56"]
[null,"駐車場名1","I60",null,null,null,null,"駐車場名1","I60"]
[null,"駐車場理由1","J62",null,null,null,null,"駐車場理由1","J62"]
[null,"駐車場名2","AF60",null,null,null,null,"駐車場名2","AF60"]
[null,"駐車場理由2","AG62",null,null,null,null,"駐車場理由2","AG62"]
[null,"駐車場合計","BO62",null,null,null,null,"駐車場合計","BO62"]
[null,"別途支給","F65",null,null,null,null,"別途支給","F65"]
[null,"別途支給金額","N65",null,null,null,null,"別途支給金額","N65"]
[null,"別途支給先","AK65",null,null,null,null,"別途支給先","AK65"]
[null,"備考1","N67",null,null,null,null,"備考1","N67"]
[null,"備考2","AX67",null,null,null,null,"備考2","AX67"]
[null,"備考3","N68",null,null,null,null,"備考3","N68"]
[null,"備考4","E69",null,null,null,null,"備考4","E69"]

{"sheet":"基礎データ","index":2,"n_rows":68,"n_cols":49,"rows_kept":68,"cut":false,"hidden":false,"merged":[[0,0,0,3],[0,17,1,17],[0,18,1,18],[0,19,1,19],[0,20,1,20],[0,4,0,11],[1,10,1,11],[1,6,1,7],[1,8,1,9],[1,4,1,5],[14,13,14,15],[15,13,15,15],[16,13,16,15],[17,13,17,15],[18,13,18,15],[19,13,19,15],[20,13,20,15],[21,13,21,15],[22,13,22,15],[23,13,23,15],[24,13,24,15],[25,13,25,15],[26,13,26,15],[27,13,27,15],[28,13,28,15]]}
["ここを変えてください",null,null,null,"通勤手当利用調整",null,null,null,null,null,null,null,null,"乗車駅","乗り換え","降車駅",null,"№","用務名","№","用務先","用務先住所他",null,"学校名",null,null,null,"出発地・帰着地","経路",null,"主要用務先","距離数",null,"部会名","研　　究　　主　　題","用務先","用務先２","文字数",null,"文字数区切り",null,"出張日",null,"用務名",null,"コピーして使用","用務先市町村","用務先","参考\nコピーして使用"]
["名前","職名","職員番号","住所","名鉄",null,"地下鉄",null,"ＪＲ",null,"通勤同一",null,null,"赤池","金山","赤池",null,null,null,null,null,"用務先が官公庁なら左に同じそうでない場合は住所",null,null,null,"地下鉄",null,"学校","全経路自家用車",null,"豊明小学校",null,null,"午前","「被災地の実情と被災者の声から、震災を考える～能登半島地震での避難所運営を通して～」","豊明市（豊明市文化会館）",null,{"$f":"LEN(AI2)","v":42},null,27,null,"2025-07-30",null,"令和７年度　愛知地区教育研究会夏季研修会",null,{"$f":"+AU2&\"(\"&AV2&\")\"","v":"日進市(日進市立北小学校)"},"日進市","日進市立北小学校",{"$f":"LEFT(AV2,IF(ISERROR(FIND(\"市\",AV2))=TRUE,FIND(\"町\",AV2),FIND(\"市\",AV2)))","v":"日進市"}]
[null,null,null,null,null,null,null,null,null,null,null,null,null,"学校","金山/栄","学校",null,1,"ICT教育推進委員会",1,"名古屋市中区栄(愛知県医師会館)","名古屋市中区栄",null,"豊明市立豊明小学校",null,"名鉄",null,"自宅","全経路同乗",null,"中央小学校",null,null,"午後","「子どもの事実から『学力』を視点に学校づくりを問い直す」","豊明市（豊明市文化会館）",null,{"$f":"LEN(AI3)","v":28},null,54,null,"入力日",null,null,null,{"$f":"+AU3&\"(\"&AV3&\")\"","v":"東郷町(東郷町立諸輪中学校)"},"東郷町","東郷町立諸輪中学校",{"$f":"LEFT(AV3,IF(ISERROR(FIND(\"市\",AV3))=TRUE,FIND(\"町\",AV3),FIND(\"市\",AV3)))","v":"東郷町"}]
[null,null,null,null,null,null,null,null,null,null,null,null,null,"金山","上前津","金山",null,2,"愛知地区教育研究会教科部会",2,"名古屋市中区新栄(愛知県教育会館)","名古屋市中区新栄",null,"豊明市立中央小学校",null,"近鉄",null,"なし","全経路徒歩",null,"沓掛小学校",null,null,null,null,null,null,0,null,null,null,{"$f":"TODAY()","v":"2025-07-07"},null,null,null,"長久手市(長久手市立長久手中学校)","長久手市","長久手市立長久手中学校","長久手市"]
[null,null,null,null,null,null,null,null,null,null,null,null,null,"栄","栄","栄",null,3,"愛知地区小中学校長会",3,"名古屋市中村区名駅(ウィンクあいち)","名古屋市中村区名駅",null,"豊明市立沓掛小学校",null,"ＪＲ",null,null,"交通機関",null,"双峰小学校",null,null,null,null,null,null,0,null,null,null,null,null,null,null,"日進市(日進市立日進北中学校)","日進市","日進市立日進北中学校","日進市"]
[null,null,null,null,null,null,null,null,null,null,null,null,null,"前後","前後","市役所",null,4,"愛日管内校長会議",4,"東郷町(愛知県総合教育センター)","東郷町(愛知県総合教育センター)",null,"豊明市立栄小学校",null,"回数券",null,null,"その他",null,"三崎小学校",null,null,null,null,null,null,0,null,null,null,null,null,null,null,"東郷町(東郷町立音貝小学校)","東郷町","東郷町立音貝小学校","東郷町"]
[null,null,null,null,null,null,null,null,null,null,null,null,null,"センター前","名古屋","前後",null,5,"愛日小学校教育課程委員会",5,"豊明市(愛知県学校給食総合センター)","豊明市(愛知県学校給食総合センター)",null,"豊明市立二村台小学校",null,"通勤同一",null,null,null,null,"大宮小学校",null,null,null,null,null,null,0,null,null,null,null,null,null,null,"東郷町(東郷町立春木台小学校)","東郷町","東郷町立春木台小学校","東郷町"]
[null,null,null,null,null,null,null,null,null,null,null,null,null,"豊明団地","丸の内","名古屋",null,6,"尾張教育研究会愛日支部研究集会",6,"豊明市(大宮小学校)","豊明市(大宮小学校)",null,"豊明市立三崎小学校",null,"車使用",null,null,null,null,"唐竹小学校",null,null,null,null,null,null,0,null,null,null,null,null,null,null,"日進市(日進市立梨の木小学校)","日進市","日進市立梨の木小学校","日進市"]
[null,null,null,null,null,null,null,null,null,null,null,null,null,"名古屋",null,null,null,7,"学校給食献立打合会議",7,"豊明市(唐竹小学校)","豊明市(唐竹小学校)",null,"豊明市立大宮小学校",null,"車同乗",null,null,null,null,"舘小学校",null,null,null,null,null,null,0,null,null,null,null,null,null,null,"日進市(日進市立日進西中学校)","日進市","日進市立日進西中学校","日進市"]
[null,null,null,null,null,null,null,null,null,null,null,null,null,null,null,null,null,8,"学校給食センター運営委員会",8,"豊明市(沓掛小学校)","豊明市(沓掛小学校)",null,"豊明市立舘小学校",null,"バス",null,null,null,null,"豊明中学校",null,null,null,null,null,null,0,null,null,null,null,null,null,null,"日進市(日進市立相野山小学校)","日進市","日進市立相野山小学校","日進市"]
[null,null,null,null,null,null,null,null,null,null,null,null,null,null,null,null,null,9,"家庭訪問",9,"豊明市(沓掛中学校)","豊明市(沓掛中学校)",null,null,null,"タクシー",null,null,null,null,"栄中学校",null,null,null,null,null,null,0,null,null,null,null,null,null,null,"豊明市(豊明市立沓掛小学校)","豊明市","豊明市立沓掛小学校","豊明市"]
[null,null,null,null,null,null,null,null,null,null,null,null,null,null,null,null,null,null,"給与事務説明会",10,null,null,null,null,null,null,null,null,null,null,"沓掛中学校",null,null,null,null,null,null,0,null,null,null,null,null,null,null,null,null,null,{"$error":"#VALUE!"}]
[null,null,null,null,null,null,null,null,null,null,null,null,null,null,null,null,null,11,"教科用図書集計事務説明会",11,"豊明市(栄中学校)","豊明市(栄中学校)",null,"豊明市立栄中学校",null,null,null,null,null,null,"豊明市(市役所)",null,null,null,null,null,null,0,null,null,null,null,null,null,null,"東郷町(東郷町立東郷小学校)","東郷町","東郷町立東郷小学校","東郷町"]
[null,null,null,null,null,null,null,null,null,null,null,null,null,null,null,null,null,12,"共同実施ブロック会議",12,"豊明市(学校給食ｾﾝﾀｰ栄調理場)","豊明市(学校給食ｾﾝﾀｰ栄調理場)",null,"豊明市立沓掛中学校",null,null,null,null,null,null,"文化会館",null,null,null,null,null,null,0,null,null,null,null,null,null,null,"日進市(日進市立東小学校)","日進市","日進市立東小学校","日進市"]
[null,null,null,null,null,null,null,null,null,null,null,null,null,null,null,null,null,13,null,null,null,null,null,null,null,null,null,null,null,null,null,null,null,null,null,null,null,0]
[null,null,null,null,null,null,null,null,null,null,null,null,null,null,null,null,null,14,null,null,null,null,null,null,null,null,null,null,null,null,null,null,null,null,null,null,null,0]
[null,null,null,null,null,null,null,null,null,null,null,null,null,null,null,null,null,15,null,null,null,null,null,null,null,null,null,null,null,null,null,null,null,null,null,null,null,0]
[null,null,null,null,null,null,null,null,null,null,null,null,null,null,null,null,null,16,null,null,null,null,null,null,null,null,null,null,null,null,null,null,null,null,null,null,null,0]
[null,null,null,null,null,null,null,null,null,null,null,null,null,null,null,null,null,17,null,null,null,null,null,null,null,null,null,null,null,null,null,null,null,null,null,null,null,0]
[null,null,null,null,null,null,null,null,null,null,null,null,null,null,null,null,null,18,null,null,null,null,null,null,null,null,null,null,null,null,null,null,null,null,null,null,null,0]
[null,null,null,null,null,null,null,null,null,null,null,null,null,"については貸切バス使用",null,null,null,19,"小中学校作品展後片付け",19,"豊明市(中央公民館)","豊明市(中央公民館)",null,null,null,null,null,null,null,null,null,null,null,null,null,null,null,0,null,null,null,null,null,null,null,"東郷町(東郷町立諸輪小学校)","東郷町","東郷町立諸輪小学校","東郷町"]
[null,null,null,null,null,null,null,null,null,null,null,null,null,null,null,null,null,20,"小中学校作品展作品展示",20,"豊明市(中央小学校)","豊明市(中央小学校)",null,null,null,null,null,null,null,null,null,null,null,null,null,null,null,0,null,null,null,null,null,null,null,"東郷町(東郷町立東郷中学校)","東郷町","東郷町立東郷中学校","東郷町"]
[null,null,null,null,null,null,null,null,null,null,null,null,null,"については徒歩",null,null,null,21,"少年消防クラブ担当者会",21,"豊明市(豊明市学校給食ｾﾝﾀｰ中央調理場)","豊明市(豊明市学校給食ｾﾝﾀｰ中央調理場)",null,null,null,null,null,null,null,null,null,null,null,null,null,null,null,0,null,null,null,null,null,null,null,"豊明市(豊明市立舘小学校)","豊明市","豊明市立舘小学校","豊明市"]
[null,null,null,null,null,null,null,null,null,null,null,null,null,"旅行命令は往路のみ",null,null,null,22,"教職員定期健康診断",22,"豊明市(勅使会館)","豊明市(勅使会館)",null,null,null,null,null,null,null,null,null,null,null,null,null,null,null,0,null,null,null,null,null,null,null,"()",null,null,{"$error":"#VALUE!"}]
[null,null,null,null,null,null,null,null,null,null,null,null,null,null,null,null,null,23,"第  学年修学旅行引率",23,"豊明市(豊明市立図書館)","豊明市(豊明市立図書館)",null,null,null,null,null,null,null,null,null,null,null,null,null,null,null,0,null,null,null,null,null,null,null,"東郷町(東郷町立兵庫小学校)","東郷町","東郷町立兵庫小学校","東郷町"]
[null,null,null,null,null,null,null,null,null,null,null,null,null,null,null,null,null,24,"第  学年修学旅行事前調査",24,"豊明市(愛知県立豊明高等学校)","豊明市(愛知県立豊明高等学校)",null,null,null,null,null,null,null,null,null,null,null,null,null,null,null,0]
[null,null,null,null,null,null,null,null,null,null,null,null,null,null,null,null,null,25,"第  学年野外活動引率",25,"豊明市(豊明小学校)","豊明市(豊明小学校)",null,null,null,null,null,null,null,null,null,null,null,null,null,null,null,0]
[null,null,null,null,null,null,null,null,null,null,null,null,null,null,null,null,null,26,"第  学年野外活動事前調査",26,"豊明市(豊明中学校)","豊明市(豊明中学校)"]
[null,null,null,null,null,null,null,null,null,null,null,null,null,null,null,null,null,27,"第　学年遠足引率"]
[null,null,null,null,null,null,null,null,null,null,null,null,null,null,null,null,null,28,"第　学年遠足事前調査"]
[null,null,null,null,null,null,null,null,null,null,null,null,null,null,null,null,null,29,"第　学年校外学習引率"]
[null,null,null,null,null,null,null,null,null,null,null,null,null,null,null,null,null,30,"第　学年校外学習事前調査"]
[null,null,null,null,null,null,null,null,null,null,null,null,null,null,null,null,null,31,"第　学年社会見学引率"]
[null,null,null,null,null,null,null,null,null,null,null,null,null,null,null,null,null,32,"第　学年社会見学事前調査"]
[null,null,null,null,null,null,null,null,null,null,null,null,null,null,null,null,null,33,"第４学年クリーンセンター見学引率"]
[null,null,null,null,null,null,null,null,null,null,null,null,null,null,null,null,null,34,"中小体連愛知地区支所中学校体育大会"]
[null,null,null,null,null,null,null,null,null,null,null,null,null,null,null,null,null,35,"豊明市学校事務職員会議"]
[null,null,null,null,null,null,null,null,null,null,null,null,null,null,null,null,null,36,"豊明市教頭会議"]
[null,null,null,null,null,null,null,null,null,null,null,null,null,null,null,null,null,37,"豊明市教頭会研究推進委員会",37,"豊明市新田町","豊明市新田町"]
[null,null,null,null,null,null,null,null,null,null,null,null,null,null,null,null,null,null,"豊明市教務主任会議",38,"豊明市前後町","豊明市前後町"]
[null,null,null,null,null,null,null,null,null,null,null,null,null,null,null,null,null,39,"豊明市教務主任会研究推進委員会",39,"豊明市西川町","豊明市西川町"]
[null,null,null,null,null,null,null,null,null,null,null,null,null,null,null,null,null,40,"豊明市現職教育委員会",40,"豊明市二村台","豊明市二村台"]
[]
[null,null,null,null,null,null,null,null,null,null,null,null,null,null,null,null,null,42,"豊明市校務主任会議",42,"豊明市三崎町","豊明市三崎町"]
[]
[null,null,null,null,null,null,null,null,null,null,null,null,null,null,null,null,null,44,"豊明市小中学校教職員安全衛生委員会",44,"名古屋市昭和区(愛知県勤労会館)","名古屋市昭和区(愛知県勤労会館)"]
[]
[]
[]
[null,null,null,null,null,null,null,null,null,null,null,null,null,null,null,null,null,48,"豊明市保健主事会議",48,"名古屋市中区(日本特殊陶業市民会館)"]
[null,null,null,null,null,null,null,null,null,null,null,null,null,null,null,null,null,49,"豊明市養護教諭会議",49,"名古屋市東区(愛知教育大学附属名古屋小学校)","名古屋市東区(愛知教育大学附属名古屋小学校)"]
[null,null,null,null,null,null,null,null,null,null,null,null,null,null,null,null,null,50,"豊明市養護教諭会研究推進委員会",50,"名古屋市東区(愛知芸術文化センター)","名古屋市東区(愛知芸術文化センター)"]
[null,null,null,null,null,null,null,null,null,null,null,null,null,null,null,null,null,51,"夏休み日誌編集委員会",51,"名古屋市中村区名駅(花車ビル)","名古屋市中村区名駅"]
[null,null,null,null,null,null,null,null,null,null,null,null,null,null,null,null,null,null,null,52,"東浦町(東部知多クリーンセンター)"]
[null,null,null,null,null,null,null,null,null,null,null,null,null,null,null,null,null,53,"副読本担当者会議",53,"名古屋市東区（ｳｨﾙあいち）","名古屋市東区（ｳｨﾙあいち）"]
[null,null,null,null,null,null,null,null,null,null,null,null,null,null,null,null,null,54,"フレンドひまわり担任の会",54,"名古屋市千種区覚王山通（ﾙﾌﾞﾗ王山）"]
[null,null,null,null,null,null,null,null,null,null,null,null,null,null,null,null,null,55,"野外活動担当者会議",55,"名古屋市中川区（名古屋市中川文化小劇場）","名古屋市中川区（名古屋市中川文化小劇場）"]
[null,null,null,null,null,null,null,null,null,null,null,null,null,null,null,null,null,null,null,56,"別添実施計画書のとおり"]
[null,null,null,null,null,null,null,null,null,null,null,null,null,null,null,null,null,57,null,57]
[null,null,null,null,null,null,null,null,null,null,null,null,null,null,null,null,null,58,null,58]
[null,null,null,null,null,null,null,null,null,null,null,null,null,null,null,null,null,59,null,59]
[null,null,null,null,null,null,null,null,null,null,null,null,null,null,null,null,null,60,null,60]
[]
[null,null,null,null,null,null,null,null,null,null,null,null,null,null,null,null,null,62,null,62]
[]
[]
[]
[null,null,null,null,null,null,null,null,null,null,null,null,null,null,null,null,null,66,null,66]

{"sheet":"旅行命令","index":3,"n_rows":160,"n_cols":110,"rows_kept":160,"cut":false,"hidden":false,"merged":[[86,50,86,57],[86,58,86,59],[86,60,86,67],[86,68,86,69],[87,50,87,57],[87,58,87,59],[87,60,87,67],[38,54,40,84],[39,19,39,36],[67,13,67,84],[66,35,66,48],[66,49,66,84],[66,31,66,34],[81,16,81,49],[57,32,57,34],[48,14,48,23],[53,19,53,20],[43,5,43,11],[44,5,44,11],[46,4,46,5],[41,40,44,65],[44,30,44,39],[31,17,31,18],[31,31,31,32],[31,33,31,38],[33,19,33,26],[33,39,33,40],[31,42,31,44],[87,70,87,77],[87,78,87,84],[85,70,85,77],[85,78,85,84],[86,70,86,77],[86,78,86,84],[31,78,31,83],[79,82,79,84],[73,82,77,84],[61,66,61,81],[58,66,58,81],[54,82,58,84],[64,72,64,84],[60,82,62,84],[80,72,80,76],[80,68,80,71],[87,68,87,69],[85,60,85,67],[85,68,85,69],[58,86,58,87],[30,19,30,26],[11,68,11,71],[11,72,11,76],[11,77,11,84],[14,58,14,59],[15,58,15,59],[16,58,16,59],[12,16,12,49],[13,16,13,49],[14,18,14,49],[15,18,15,49],[16,18,16,49],[18,18,18,49],[19,18,19,49],[30,29,30,30],[30,33,30,38],[12,78,12,84],[13,78,13,84],[14,78,14,84],[15,78,15,84],[16,78,16,84],[17,78,17,84],[18,78,18,84],[0,107,1,109],[2,107,3,108],[5,107,6,109],[34,72,34,74],[26,60,26,74],[38,0,40,2],[32,45,32,48],[33,17,33,18],[34,9,34,10],[34,11,34,16],[4,52,8,59],[24,40,24,48],[24,10,24,14],[20,0,22,2],[17,0,17,15],[12,0,12,15],[14,0,14,15],[11,36,11,39],[11,40,11,43],[19,78,19,84],[33,75,33,77],[34,75,34,77],[33,72,33,74],[33,56,33,58],[66,0,68,3],[68,4,68,84],[66,4,66,12],[66,13,66,30],[45,0,62,0],[19,58,19,59],[59,4,59,7],[60,4,62,7],[45,2,47,2],[37,60,37,62],[29,75,29,77],[30,75,30,77],[45,12,45,34],[43,30,43,39],[42,14,42,22],[43,14,43,22],[39,37,39,38],[53,8,53,18],[51,13,51,14],[47,12,47,13],[48,12,48,13],[46,14,46,23],[47,14,47,23],[46,8,46,9],[46,6,46,7],[57,9,57,10],[49,5,49,6],[49,7,49,11],[32,27,32,28],[7,107,8,108],[89,4,89,5],[89,15,89,16],[89,39,89,41],[49,21,49,22],[46,12,46,13],[49,13,49,14],[49,15,49,18],[87,18,87,49],[86,18,86,49],[51,5,51,6],[51,7,51,11],[74,0,75,9],[74,10,77,17],[74,18,77,24],[74,25,77,32],[76,0,77,9],[82,18,82,49],[71,27,72,40],[59,8,59,18],[61,32,61,34],[63,4,63,84],[64,5,64,6],[64,7,64,12],[87,16,87,17],[27,2,27,8],[28,33,28,38],[28,42,28,44],[29,33,29,38],[29,42,29,44],[30,39,30,40],[30,27,30,28],[86,0,86,15],[86,16,86,17],[42,0,43,4],[41,0,41,4],[41,12,41,13],[39,5,39,6],[53,1,58,3],[53,4,53,7],[48,2,52,2],[54,4,58,7],[45,1,52,1],[1,0,2,26],[9,0,10,9],[9,10,10,28],[9,29,10,32],[9,33,10,44],[1,41,2,47],[5,0,6,9],[5,10,8,17],[5,18,8,24],[5,25,8,32],[7,0,8,9],[4,0,4,9],[4,10,4,17],[4,18,4,24],[2,27,3,40],[4,25,4,32],[4,33,8,51],[9,45,10,51],[0,27,1,40],[11,28,11,30],[14,16,14,17],[13,0,13,15],[11,44,11,47],[15,0,15,15],[15,16,15,17],[11,52,11,56],[11,57,11,62],[11,63,11,67],[11,48,11,51],[11,0,11,9],[11,10,11,13],[11,14,11,17],[11,18,11,19],[11,20,11,23],[11,25,11,27],[11,31,11,35],[14,60,14,67],[15,60,15,67],[14,50,14,57],[15,50,15,57],[12,50,12,59],[13,50,13,59],[12,60,12,69],[13,60,13,69],[28,2,28,8],[28,9,28,10],[16,0,16,15],[16,16,16,17],[21,4,21,5],[21,15,21,16],[21,39,21,41],[19,0,19,15],[19,16,19,17],[26,0,37,0],[26,2,26,26],[26,27,26,40],[34,17,34,18],[18,0,18,15],[18,16,18,17],[17,16,17,17],[31,9,31,10],[31,11,31,16],[30,2,30,8],[30,9,30,10],[20,6,22,14],[20,17,22,27],[20,28,22,33],[20,34,22,36],[23,0,25,2],[23,6,25,9],[23,15,25,15],[23,16,25,31],[24,4,24,5],[30,31,30,32],[30,17,30,18],[28,29,28,30],[28,19,28,26],[29,2,29,8],[29,19,29,26],[29,27,29,28],[29,31,29,32],[28,11,28,16],[30,11,30,16],[29,9,29,10],[29,11,29,16],[28,27,28,28],[29,29,29,30],[29,17,29,18],[28,17,28,18],[28,31,28,32],[27,19,27,26],[41,5,41,11],[27,9,27,18],[31,2,31,8],[34,2,34,8],[32,2,32,8],[34,39,34,40],[33,29,33,30],[32,31,32,32],[34,33,34,38],[32,33,32,38],[33,11,33,16],[32,9,32,10],[32,11,32,16],[32,17,32,18],[31,19,31,26],[31,29,31,30],[31,27,31,28],[31,39,31,40],[33,2,33,8],[33,9,33,10],[27,27,27,40],[29,39,29,40],[39,39,39,44],[39,11,39,17],[35,2,35,8],[36,33,36,38],[36,2,36,8],[36,9,36,10],[36,11,36,16],[44,12,44,13],[44,14,44,22],[41,30,41,39],[42,30,42,39],[42,12,42,13],[43,12,43,13],[41,14,41,22],[41,23,41,28],[37,2,37,8],[37,9,37,10],[37,11,37,16],[37,17,37,18],[37,19,37,26],[36,17,36,18],[35,11,35,16],[39,7,39,10],[42,5,42,11],[44,0,44,4],[40,5,40,39],[98,19,100,26],[98,27,100,27],[98,28,100,28],[101,29,103,29],[80,0,80,9],[80,10,80,13],[80,14,80,17],[80,18,80,19],[95,1,97,1],[95,2,97,8],[95,9,97,10],[95,17,97,18],[95,19,97,26],[94,27,94,40],[101,39,103,40],[101,31,103,32],[101,33,103,38],[101,1,103,1],[101,2,103,8],[101,9,103,10],[101,11,103,16],[101,17,103,18],[101,19,103,26],[101,27,103,27],[81,50,81,59],[82,68,82,69],[82,70,82,77],[82,16,82,17],[80,77,80,84],[80,28,80,30],[80,31,80,35],[80,36,80,39],[80,40,80,43],[80,44,80,47],[80,48,80,51],[82,50,82,57],[82,78,82,84],[95,28,97,28],[94,0,124,0],[94,2,94,26],[92,4,92,5],[92,32,92,34],[92,38,92,39],[92,40,92,48],[98,29,100,29],[98,30,100,30],[98,39,100,40],[98,41,100,42],[98,45,100,48],[98,31,100,32],[98,33,100,38],[98,1,100,1],[98,2,100,8],[98,9,100,10],[98,11,100,16],[98,17,100,18],[98,79,100,83],[84,50,84,57],[82,58,82,59],[82,60,82,67],[98,84,100,84],[99,43,99,44],[99,51,99,53],[99,56,99,58],[99,61,99,63],[99,76,99,78],[98,64,100,71],[98,72,100,74],[98,49,100,49],[95,79,97,83],[95,84,97,84],[96,43,96,44],[96,51,96,53],[96,56,96,58],[96,61,96,63],[96,76,96,78],[95,49,97,49],[95,72,97,74],[95,64,97,71],[95,41,97,42],[95,45,97,48],[95,33,97,38],[95,29,97,29],[95,30,97,30],[95,31,97,32],[95,39,97,40],[95,11,97,16],[95,27,97,27],[101,28,103,28],[101,30,103,30],[101,79,103,83],[101,84,103,84],[102,43,102,44],[102,51,102,53],[102,56,102,58],[102,61,102,63],[102,76,102,78],[101,64,103,71],[101,72,103,74],[101,41,103,42],[101,45,103,48],[101,49,103,49],[104,28,106,28],[104,29,106,29],[104,30,106,30],[104,39,106,40],[104,41,106,42],[104,45,106,48],[104,31,106,32],[104,33,106,38],[104,1,106,1],[104,2,106,8],[104,9,106,10],[104,11,106,16],[104,17,106,18],[104,19,106,26],[104,27,106,27],[104,49,106,49],[104,79,106,83],[104,84,106,84],[105,43,105,44],[105,51,105,53],[105,56,105,58],[105,61,105,63],[105,76,105,78],[104,64,106,71],[104,72,106,74],[107,29,109,29],[107,30,109,30],[107,39,109,40],[107,41,109,42],[107,45,109,48],[107,49,109,49],[107,31,109,32],[107,33,109,38],[107,1,109,1],[107,2,109,8],[107,9,109,10],[107,11,109,16],[107,17,109,18],[107,19,109,26],[107,27,109,27],[107,28,109,28],[107,79,109,83],[107,84,109,84],[108,43,108,44],[108,51,108,53],[108,56,108,58],[108,61,108,63],[108,76,108,78],[107,64,109,71],[107,72,109,74],[110,29,112,29],[110,30,112,30],[110,39,112,40],[110,41,112,42],[110,45,112,48],[110,49,112,49],[110,31,112,32],[110,33,112,38],[110,1,112,1],[110,2,112,8],[110,9,112,10],[110,11,112,16],[110,17,112,18],[110,19,112,26],[110,27,112,27],[110,28,112,28],[110,79,112,83],[110,84,112,84],[111,43,111,44],[111,51,111,53],[111,56,111,58],[111,61,111,63],[111,76,111,78],[110,64,112,71],[110,72,112,74],[113,29,115,29],[113,30,115,30],[113,39,115,40],[113,41,115,42],[113,45,115,48],[113,49,115,49],[113,31,115,32],[113,33,115,38],[113,1,115,1],[113,2,115,8],[113,9,115,10],[113,11,115,16],[113,17,115,18],[113,19,115,26],[113,27,115,27],[113,28,115,28],[113,79,115,83],[113,84,115,84],[114,43,114,44],[114,51,114,53],[114,56,114,58],[114,61,114,63],[114,76,114,78],[113,64,115,71],[113,72,115,74],[116,29,118,29],[116,30,118,30],[116,39,118,40],[116,41,118,42],[116,45,118,48],[116,49,118,49],[116,31,118,32],[116,33,118,38],[116,1,118,1],[116,2,118,8],[116,9,118,10],[116,11,118,16],[116,17,118,18],[116,19,118,26],[116,27,118,27],[116,28,118,28],[116,79,118,83],[116,84,118,84],[117,43,117,44],[117,51,117,53],[117,56,117,58],[117,61,117,63],[117,76,117,78],[116,64,118,71],[116,72,118,74],[119,84,121,84],[120,43,120,44],[120,51,120,53],[120,56,120,58],[120,61,120,63],[120,76,120,78],[119,64,121,71],[119,72,121,74],[119,29,121,29],[119,30,121,30],[119,39,121,40],[119,41,121,42],[119,45,121,48],[119,49,121,49],[119,31,121,32],[119,33,121,38],[122,1,124,1],[122,2,124,8],[122,9,124,10],[122,11,124,16],[122,17,124,18],[122,19,124,26],[122,27,124,27],[122,28,124,28],[119,79,121,83],[119,1,121,1],[119,2,121,8],[119,9,121,10],[119,11,121,16],[119,17,121,18],[119,19,121,26],[119,27,121,27],[119,28,121,28],[125,54,127,84],[126,5,126,6],[126,37,126,38],[126,39,126,44],[126,45,126,53],[122,79,124,83],[122,84,124,84],[123,43,123,44],[123,51,123,53],[123,56,123,58],[123,61,123,63],[123,76,123,78],[122,64,124,71],[122,72,124,74],[122,29,124,29],[122,30,124,30],[122,39,124,40],[122,41,124,42],[122,45,124,48],[122,49,124,49],[122,31,124,32],[122,33,124,38],[129,0,130,4],[130,5,131,11],[130,12,131,13],[130,14,131,22],[131,0,131,4],[125,0,127,2],[125,7,127,10],[125,11,127,17],[125,18,127,18],[128,0,128,4],[128,5,129,11],[128,12,129,13],[128,14,129,22],[125,19,127,36],[128,30,129,39],[128,40,131,65],[128,66,131,82],[128,83,131,84],[133,48,133,49],[133,59,133,61],[130,30,131,39],[132,40,134,45],[133,73,133,75],[136,18,136,20],[136,21,136,22],[128,23,129,28],[128,29,129,29],[130,23,131,28],[130,29,131,29],[134,21,134,29],[132,21,132,29],[133,21,133,29],[132,0,149,0],[132,1,139,3],[132,4,134,7],[132,31,139,39],[140,1,145,3],[140,4,140,7],[133,9,133,10],[133,11,133,12],[133,13,133,14],[135,4,139,7],[144,9,144,10],[144,32,144,34],[140,8,140,18],[140,19,140,20],[140,21,140,30],[140,31,140,45],[138,11,138,15],[138,16,138,17],[138,18,138,22],[136,11,136,15],[136,16,136,17],[136,9,136,10],[138,9,138,10],[141,4,145,7],[148,32,148,34],[147,66,149,81],[147,4,149,7],[140,46,140,47],[142,32,142,34],[136,66,136,68],[136,78,136,80],[137,24,139,29],[137,69,139,83],[138,58,138,60],[140,66,140,84],[140,48,140,65],[136,47,136,48],[136,23,136,25],[136,26,136,27],[138,47,138,48],[136,58,136,60],[135,40,139,45],[141,66,145,81],[141,82,145,84],[142,9,142,10],[142,21,142,22],[142,48,142,49],[146,21,146,30],[146,31,146,45],[153,4,153,84],[150,0,152,3],[150,4,150,84],[153,0,155,3],[154,4,154,84],[155,4,155,14],[152,4,152,84],[155,15,155,84],[151,5,151,6],[151,7,151,12],[151,13,151,28],[151,29,151,35],[151,36,151,71],[151,72,151,84],[146,46,146,47],[146,1,149,3],[146,4,146,7],[146,8,146,18],[146,19,146,20],[147,82,149,84],[148,9,148,10],[146,48,146,65],[146,66,146,84],[94,41,94,49],[91,66,93,84],[92,63,92,65],[70,41,71,84],[65,4,65,84],[79,77,79,81],[78,10,79,28],[78,0,79,9],[91,0,93,2],[91,6,93,9],[83,78,83,84],[84,58,84,59],[84,60,84,67],[84,68,84,69],[84,70,84,77],[81,60,81,69],[81,70,81,77],[88,6,90,14],[81,0,81,15],[82,0,82,15],[80,52,80,56],[80,57,80,62],[80,63,80,67],[84,18,84,49],[44,23,44,28],[43,23,43,28],[37,39,37,40],[37,42,37,44],[37,56,37,58],[37,63,37,71],[36,60,36,62],[36,51,36,53],[37,51,37,53],[36,39,36,40],[36,45,36,48],[36,42,36,44],[37,27,37,28],[37,29,37,30],[37,31,37,32],[37,33,37,38],[42,23,42,28],[32,29,32,30],[32,39,32,40],[36,27,36,28],[34,29,34,30],[35,39,35,40],[35,45,35,48],[34,42,34,44],[32,42,32,44],[32,19,32,26],[36,19,36,26],[34,31,34,32],[33,33,33,38],[35,9,35,10],[35,19,35,26],[34,27,34,28],[34,19,34,26],[35,29,35,30],[35,27,35,28],[35,17,35,18],[36,29,36,30],[33,27,33,28],[94,95,94,96],[36,63,36,71],[51,86,51,87],[35,56,35,58],[35,78,35,83],[35,75,35,77],[35,51,35,53],[34,78,34,83],[34,63,34,71],[94,60,94,74],[94,75,94,84],[53,66,53,84],[53,48,53,65],[94,50,94,54],[83,60,83,67],[83,68,83,69],[83,70,83,77],[50,69,52,83],[51,58,51,60],[36,78,36,83],[36,75,36,77],[94,55,94,59],[81,78,81,84],[37,45,37,48],[50,24,52,29],[46,25,46,34],[49,23,49,25],[53,46,53,47],[49,78,49,80],[53,21,53,30],[55,48,55,49],[62,66,62,81],[55,32,55,34],[60,66,60,81],[53,31,53,45],[46,48,46,49],[46,59,46,61],[46,73,46,75],[49,47,49,48],[49,58,49,60],[55,21,55,22],[57,66,57,81],[55,66,56,81],[48,40,52,45],[51,47,51,48],[59,31,59,45],[49,26,49,27],[45,35,52,39],[80,20,80,23],[80,25,80,27],[78,45,79,51],[78,52,78,84],[78,33,79,44],[78,29,79,32],[59,46,59,47],[59,48,59,65],[59,66,59,84],[59,21,59,30],[70,0,71,26],[69,27,70,40],[73,67,77,68],[73,0,73,9],[73,10,73,17],[73,18,73,24],[61,9,61,10],[59,19,59,20],[59,1,62,3],[67,4,67,12],[63,0,65,3],[64,13,64,28],[64,36,64,71],[64,29,64,35],[55,9,55,10],[73,25,73,32],[73,33,77,51],[73,52,77,59],[73,60,77,66],[24,32,24,34],[36,56,36,58],[35,42,35,44],[34,51,34,53],[36,31,36,32],[34,45,34,48],[33,42,33,44],[33,51,33,53],[49,66,49,68],[26,41,27,49],[35,31,35,32],[35,33,35,38],[33,31,33,32],[24,38,24,39],[45,40,47,45],[47,25,47,34],[48,25,48,34],[28,56,28,58],[31,60,31,62],[39,45,39,53],[30,42,30,44],[30,45,30,48],[28,39,28,40],[29,56,29,58],[30,56,30,58],[29,45,29,48],[28,45,28,48],[29,51,29,53],[33,45,33,48],[32,75,32,77],[32,56,32,58],[32,63,32,71],[32,51,32,53],[31,72,31,74],[31,56,31,58],[31,51,31,53],[32,72,32,74],[31,45,31,48],[31,75,31,77],[31,63,31,71],[32,60,32,62],[91,10,93,14],[91,15,93,15],[84,78,84,84],[85,0,85,15],[85,16,85,17],[83,0,83,15],[83,16,83,17],[84,0,84,15],[84,16,84,17],[83,18,83,49],[83,50,83,57],[83,58,83,59],[85,18,85,49],[85,50,85,57],[85,58,85,59],[88,64,90,84],[91,16,93,31],[88,34,90,36],[88,42,90,60],[89,61,89,63],[88,17,90,27],[88,28,90,33],[88,0,90,2],[87,0,87,15],[40,101,40,104],[46,101,46,105],[27,102,27,103],[14,86,14,87],[41,66,44,82],[41,83,44,84],[37,78,37,83],[37,75,37,77],[36,72,36,74],[37,72,37,74],[35,63,35,71],[30,63,30,71],[30,72,30,74],[27,60,27,74],[29,60,29,62],[28,72,28,74],[28,63,28,71],[28,60,28,62],[29,72,29,74],[29,63,29,71],[32,78,32,83],[30,60,30,62],[33,60,33,62],[33,63,33,71],[14,68,14,69],[15,68,15,69],[16,68,16,69],[17,68,17,69],[18,68,18,69],[24,63,24,65],[26,50,27,54],[26,55,27,59],[20,42,22,60],[16,60,16,67],[17,60,17,67],[18,60,18,67],[19,60,19,67],[16,50,16,57],[17,50,17,57],[18,50,18,57],[19,50,19,57],[20,64,22,84],[21,61,21,63],[19,68,19,69],[26,75,27,84],[17,58,17,59],[18,58,18,59],[17,18,17,49],[0,103,0,105],[6,103,7,103],[7,104,7,105],[13,101,13,105],[23,66,25,84],[4,69,8,73],[4,74,8,76],[4,60,8,66],[4,67,8,68],[4,82,8,84],[4,77,8,81],[12,70,12,77],[13,70,13,77],[14,70,14,77],[15,70,15,77],[16,70,16,77],[1,77,3,81],[1,70,3,74],[1,60,3,64],[21,87,24,88],[15,86,15,87],[17,86,19,86],[21,86,24,86],[17,87,19,88],[9,52,10,84],[79,57,79,61],[79,52,79,56],[79,62,79,66],[79,67,79,71],[79,72,79,76],[73,69,77,73],[73,74,77,76],[73,77,77,81],[34,56,34,58],[35,60,35,62],[34,60,34,62],[30,51,30,53],[28,51,28,53],[35,72,35,74],[33,78,33,83],[30,78,30,83],[28,75,28,77],[28,78,28,83],[29,78,29,83],[17,70,17,77],[18,70,18,77],[19,70,19,77],[54,66,54,81]]}
["様式1（その２）（第5条関係）",null,null,null,null,null,null,null,null,null,null,null,null,null,null,null,null,null,null,null,null,null,null,null,null,null,null,"命　　令",null,null,null,null,null,null,null,null,null,null,null,null,null,null,null,null,null,null,null,null,null,null,null,null,null,null,null,null,null,null,null,null,null,null,null,null,null,null,null,null,null,null,null,null,null,null,null,null,null,null,null,null,null,null,null,null,null,null,null,null,null,"№","用務名","№","用務先","用務先住所他",null,"１乗車駅","１乗り換え","１降車駅",null,"名前",null,"職員番号",null,"通勤手当利用調整",null,null,null,"旅行期間 - 1日"]
["旅　　行",null,null,null,null,null,null,null,null,null,null,null,null,null,null,null,null,null,null,null,null,null,null,null,null,null,null,null,null,null,null,null,null,null,null,null,null,null,null,null,null,"書",null,null,null,null,null,null,null,null,null,null,null,null,null,null,null,null,null,null,null,null,null,null,null,null,null,null,null,null,null,null,null,null,null,null,null,null,null,null,null,null,null,null,null,null,null,null,null,null,null,null,null,null,null,null,null,null,null,{"$f":"IF(基礎データ!A3=0,\"\",基礎データ!A3)","v":""},null,{"$f":"VLOOKUP($BA$10,基礎データ!$A$3:$L$52,3,FALSE)","v":{"$error":"#N/A"}},null,{"$f":"基礎データ!E2","v":"名鉄"},{"$f":"VLOOKUP($BA$10,基礎データ!$A$3:$L$52,5,FALSE)","v":{"$error":"#N/A"}},{"$f":"VLOOKUP($BA$10,基礎データ!$A$3:$L$52,6,FALSE)","v":{"$error":"#N/A"}}]
[null,null,null,null,null,null,null,null,null,null,null,null,null,null,null,null,null,null,null,null,null,null,null,null,null,null,null,"依　　頼",null,null,null,null,null,null,null,null,null,null,null,null,null,null,null,null,null,null,null,null,null,null,null,null,null,null,null,null,null,null,null,null,null,null,null,null,null,null,null,null,null,null,null,null,null,null,null,null,null,null,null,null,null,null,null,null,null,null,null,null,null,1,{"$f":"基礎データ!V2","v":"用務先が官公庁なら左に同じそうでない場合は住所"},1,{"$f":"基礎データ!AA2","v":0},null,null,{"$f":"基礎データ!P2","v":"赤池"},{"$f":"基礎データ!Q2","v":0},{"$f":"基礎データ!R2","v":0},null,{"$f":"IF(基礎データ!A4=0,\"\",基礎データ!A4)","v":""},null,{"$f":"INT(CX2/100000)","v":{"$error":"#N/A"}},null,{"$f":"基礎データ!G2","v":"地下鉄"},{"$f":"VLOOKUP($BA$10,基礎データ!$A$3:$L$52,7,FALSE)","v":{"$error":"#N/A"}},{"$f":"VLOOKUP($BA$10,基礎データ!$A$3:$L$52,8,FALSE)","v":{"$error":"#N/A"}},null,{"$f":"DATE(O12+1988,U12,Z12)-1","v":"1987-11-29"},null,{"$f":"DD3","v":32110}]
[null,null,null,null,null,null,null,null,null,null,null,null,null,null,null,null,null,null,null,null,null,null,null,null,null,null,null,null,null,null,null,null,null,null,null,null,null,null,null,null,null,null,null,null,null,null,null,null,null,null,null,null,null,null,null,null,null,null,null,null,null,null,null,null,null,null,null,null,null,null,null,null,null,null,null,null,null,null,null,null,null,null,null,null,null,null,null,null,null,2,{"$f":"基礎データ!V3","v":"名古屋市中区栄"},2,{"$f":"基礎データ!AA3","v":0},null,null,{"$f":"基礎データ!P3","v":"学校"},{"$f":"基礎データ!Q3","v":0},{"$f":"基礎データ!R3","v":1},null,{"$f":"IF(基礎データ!A5=0,\"\",基礎データ!A5)","v":""},null,{"$f":"INT((CX2-CX3*100000)/10000)","v":{"$error":"#N/A"}},null,{"$f":"基礎データ!I2","v":"ＪＲ"},{"$f":"VLOOKUP($BA$10,基礎データ!$A$3:$L$52,9,FALSE)","v":{"$error":"#N/A"}},{"$f":"VLOOKUP($BA$10,基礎データ!$A$3:$L$52,10,FALSE)","v":{"$error":"#N/A"}},null,null,null,{"$f":"WEEKDAY(DD3)","v":1}]
["決裁欄",null,null,null,null,null,null,null,null,null,"校長",null,null,null,null,null,null,null,null,null,null,null,null,null,null,null,null,null,null,null,null,null,null,"旅行命令年月日",null,null,null,null,null,null,null,null,null,null,null,null,null,null,null,null,null,null,{"$f":"+IF(BI5=31,\"平成\",\"令和\")","v":"令和"},null,null,null,null,null,null,null,null,null,null,null,null,null,null,"年",null,null,null,null,null,null,"月",null,null,null,null,null,null,null,"日",null,null,null,null,null,null,3,{"$f":"基礎データ!V4","v":"名古屋市中区新栄"},3,{"$f":"基礎データ!AA4","v":0},null,null,{"$f":"基礎データ!P4","v":"金山"},{"$f":"基礎データ!Q4","v":0},{"$f":"基礎データ!R4","v":2},null,{"$f":"IF(基礎データ!A6=0,\"\",基礎データ!A6)","v":""},null,{"$f":"INT((CX2-CX3*100000-CX4*10000)/1000)","v":{"$error":"#N/A"}},null,{"$f":"基礎データ!K2","v":"通勤同一"},{"$f":"VLOOKUP($BA$10,基礎データ!$A$3:$L$52,11,FALSE)","v":{"$error":"#N/A"}},{"$f":"VLOOKUP($BA$10,基礎データ!$A$3:$L$52,12,FALSE)","v":{"$error":"#N/A"}}]
["自家用車",null,null,null,null,null,null,null,null,null,null,null,null,null,null,null,null,null,null,null,null,null,null,null,null,null,null,null,null,null,null,null,null,null,null,null,null,null,null,null,null,null,null,null,null,null,null,null,null,null,null,null,null,null,null,null,null,null,null,null,null,null,null,null,null,null,null,null,null,null,null,null,null,null,null,null,null,null,null,null,null,null,null,null,null,null,null,null,null,4,{"$f":"基礎データ!V5","v":"名古屋市中村区名駅"},4,{"$f":"基礎データ!AA5","v":0},null,null,{"$f":"基礎データ!P5","v":"栄"},{"$f":"基礎データ!Q5","v":0},{"$f":"基礎データ!R5","v":3},null,{"$f":"IF(基礎データ!A7=0,\"\",基礎データ!A7)","v":""},null,{"$f":"INT((CX2-CX3*100000-CX4*10000-CX5*1000)/100)","v":{"$error":"#N/A"}},null,null,null,null,null,"旅行命令年月日"]
[null,null,null,null,null,null,null,null,null,null,null,null,null,null,null,null,null,null,null,null,null,null,null,null,null,null,null,null,null,null,null,null,null,null,null,null,null,null,null,null,null,null,null,null,null,null,null,null,null,null,null,null,null,null,null,null,null,null,null,null,null,null,null,null,null,null,null,null,null,null,null,null,null,null,null,null,null,null,null,null,null,null,null,null,null,null,null,null,null,5,{"$f":"基礎データ!V6","v":"東郷町(愛知県総合教育センター)"},5,{"$f":"基礎データ!AA6","v":0},null,null,{"$f":"基礎データ!P6","v":"市役所"},{"$f":"基礎データ!Q6","v":0},{"$f":"基礎データ!R6","v":4},null,{"$f":"IF(基礎データ!A8=0,\"\",基礎データ!A8)","v":""},null,{"$f":"INT((CX2-CX3*100000-CX4*10000-CX5*1000-CX6*100)/10)","v":{"$error":"#N/A"}},null,"通勤同一",{"$f":"IF(ISNA(VLOOKUP($CZ$7,$CZ$2:$DB$5,2,FALSE))=TRUE,\" \",VLOOKUP($CZ$7,$CZ$2:$DB$5,2,FALSE))","v":" "},{"$f":"IF(ISNA(VLOOKUP($CZ$7,$CZ$2:$DB$5,3,FALSE))=TRUE,\" \",VLOOKUP($CZ$7,$CZ$2:$DB$5,3,FALSE))","v":" "}]
["等使用承認欄",null,null,null,null,null,null,null,null,null,null,null,null,null,null,null,null,null,null,null,null,null,null,null,null,null,null,null,null,null,null,null,null,null,null,null,null,null,null,null,null,null,null,null,null,null,null,null,null,null,null,null,null,null,null,null,null,null,null,null,null,null,null,null,null,null,null,null,null,null,null,null,null,null,null,null,null,null,null,null,null,null,null,null,null,null,null,null,null,6,{"$f":"基礎データ!V7","v":"豊明市(愛知県学校給食総合センター)"},6,{"$f":"基礎データ!AA7","v":0},null,null,{"$f":"基礎データ!P7","v":"前後"},{"$f":"基礎データ!Q7","v":0},{"$f":"基礎データ!R7","v":5},null,{"$f":"IF(基礎データ!A9=0,\"\",基礎データ!A9)","v":""},null,{"$f":"CX2-CX3*100000-CX4*10000-CX5*1000-CX6*100-CX7*10","v":{"$error":"#N/A"}},null,null,{"$f":"IF(DA7=\" \",\" \",\"通勤同一：\"&DA7&\"～\"&DB7)","v":" "},null,null,{"$f":"IF(DF4=7,DD3-1,IF(DF4=1,DD3-2,DD3))","v":"1987-11-27"},null,{"$f":"DD8","v":32108}]
[null,null,null,null,null,null,null,null,null,null,null,null,null,null,null,null,null,null,null,null,null,null,null,null,null,null,null,null,null,null,null,null,null,null,null,null,null,null,null,null,null,null,null,null,null,null,null,null,null,null,null,null,null,null,null,null,null,null,null,null,null,null,null,null,null,null,null,null,null,null,null,null,null,null,null,null,null,null,null,null,null,null,null,null,null,null,null,null,null,7,{"$f":"基礎データ!V8","v":"豊明市(大宮小学校)"},7,{"$f":"基礎データ!AA8","v":0},null,null,{"$f":"基礎データ!P8","v":"名古屋"},{"$f":"基礎データ!Q8","v":0},{"$f":"基礎データ!R8","v":6},null,{"$f":"IF(基礎データ!A10=0,\"\",基礎データ!A10)","v":""},null,"職名",null,null,null,null,null,null,null,{"$f":"WEEKDAY(DD8)","v":6}]
["所属名",null,null,null,null,null,null,null,null,null,null,null,null,null,null,null,null,null,null,null,null,null,null,null,null,null,null,null,null,"職名",null,null,null,{"$f":"CX10","v":{"$error":"#N/A"}},null,null,null,null,null,null,null,null,null,null,null,"氏名",null,null,null,null,null,null,null,null,null,null,null,null,null,null,null,null,null,null,null,null,null,null,null,null,null,null,null,null,null,null,null,null,null,null,null,null,null,null,null,null,null,null,null,8,{"$f":"基礎データ!V9","v":"豊明市(唐竹小学校)"},8,{"$f":"基礎データ!AA9","v":0},null,null,{"$f":"基礎データ!P9","v":0},{"$f":"基礎データ!Q9","v":0},{"$f":"基礎データ!R9","v":7},null,{"$f":"IF(基礎データ!A11=0,\"\",基礎データ!A11)","v":""},null,{"$f":"VLOOKUP($BA$10,基礎データ!$A$3:$L$52,2,FALSE)","v":{"$error":"#N/A"}}]
[null,null,null,null,null,null,null,null,null,null,null,null,null,null,null,null,null,null,null,null,null,null,null,null,null,null,null,null,null,null,null,null,null,null,null,null,null,null,null,null,null,null,null,null,null,null,null,null,null,null,null,null,null,null,null,null,null,null,null,null,null,null,null,null,null,null,null,null,null,null,null,null,null,null,null,null,null,null,null,null,null,null,null,null,null,null,null,null,null,9,{"$f":"基礎データ!V10","v":"豊明市(沓掛小学校)"},9,{"$f":"基礎データ!AA10","v":0},null,null,{"$f":"基礎データ!P10","v":0},{"$f":"基礎データ!Q10","v":0},{"$f":"基礎データ!R10","v":8},null,{"$f":"IF(基礎データ!A12=0,\"\",基礎データ!A12)","v":""},null,"自宅住所"]
["旅行期間",null,null,null,null,null,null,null,null,null,{"$f":"+IF(O12=31,\"平成\",\"令和\")","v":"令和"},null,null,null,null,null,null,null,"年",null,null,null,null,null,"月",null,null,null,"日～",null,null,"令和",null,null,null,null,null,null,null,null,"年",null,null,null,null,null,null,null,"月",null,null,null,null,null,null,null,null,"日（",null,null,null,null,null,null,null,null,null,null,"泊",null,null,null,{"$f":"基礎データ!$CC$10","v":0},null,null,null,null,"日）",null,null,null,null,null,null,null,null,null,null,null,10,{"$f":"基礎データ!V11","v":"豊明市(沓掛中学校)"},10,{"$f":"基礎データ!AA11","v":0},null,null,{"$f":"基礎データ!P11","v":0},{"$f":"基礎データ!Q11","v":0},{"$f":"基礎データ!R11","v":9},null,{"$f":"IF(基礎データ!A13=0,\"\",基礎データ!A13)","v":""},null,{"$f":"VLOOKUP($BA$10,基礎データ!$A$3:$L$52,4,FALSE)","v":{"$error":"#N/A"}}]
["用務",null,null,null,null,null,null,null,null,null,null,null,null,null,null,null,"用務先",null,null,null,null,null,null,null,null,null,null,null,null,null,null,null,null,null,null,null,null,null,null,null,null,null,null,null,null,null,null,null,null,null,"泊数",null,null,null,null,null,null,null,null,null,"宿泊費",null,null,null,null,null,null,null,null,null,"朝食",null,null,null,null,null,null,null,"夕食",null,null,null,null,null,null,null,null,null,null,11,{"$f":"基礎データ!V12","v":0},11,{"$f":"基礎データ!AA12","v":0},null,null,{"$f":"基礎データ!P12","v":0},{"$f":"基礎データ!Q12","v":0},{"$f":"基礎データ!R12","v":0},null,{"$f":"IF(基礎データ!A14=0,\"\",基礎データ!A14)","v":""}]
["任意団体が主催の出張は（協議題）も記入",null,null,null,null,null,null,null,null,null,null,null,null,null,null,null,"リストにない場合は市町名［名古屋市は区も］を入力。　後に官公庁は(官公庁名)を記入。違う場合は住所を入力。",null,null,null,null,null,null,null,null,null,null,null,null,null,null,null,null,null,null,null,null,null,null,null,null,null,null,null,null,null,null,null,null,null,null,null,null,null,null,null,null,null,null,null,null,null,null,null,null,null,null,null,null,null,null,null,null,null,null,null,null,null,null,null,null,null,null,null,null,null,null,null,null,12,{"$f":"基礎データ!V13","v":"豊明市(栄中学校)"},12,{"$f":"基礎データ!AA13","v":0},null,null,"２乗車駅","３乗車駅","４乗車駅",null,{"$f":"IF(基礎データ!A15=0,\"\",基礎データ!A15)","v":""},null,"通勤手当利用調整１"]
[null,null,null,null,null,null,null,null,null,null,null,null,null,null,null,null,"①",null,null,null,null,null,null,null,null,null,null,null,null,null,null,null,null,null,null,null,null,null,null,null,null,null,null,null,null,null,null,null,null,null,null,null,null,null,null,null,null,null,"泊",null,null,null,null,null,null,null,null,null,"円",null,null,null,null,null,null,null,null,null,null,null,null,null,null,null,null,null,"その他の標準文言",null,null,13,{"$f":"基礎データ!V14","v":"豊明市(学校給食ｾﾝﾀｰ栄調理場)"},13,{"$f":"基礎データ!AA14","v":0},null,null,null,null,null,null,{"$f":"IF(基礎データ!A16=0,\"\",基礎データ!A16)","v":""},null,{"$f":"CY15","v":0},{"$f":"IF(DA15=0,0,1)","v":0},{"$f":"CZ2","v":"名鉄"},{"$f":"IF(OR($AB$29=$CZ15,$AD$29=$CZ15,$AB$30=$CZ15,$AD$30=$CZ15,$AB$31=$CZ15,$AD$31=$CZ15,$AB$32=$CZ15,$AD$32=$CZ15,$AB$33=$CZ15,$AD$33=$CZ15,$AB$34=$CZ15,$AD$34=$CZ15,$AB$35=$CZ15,$AD$35=CZ15,$AB$36=$CZ15,$AD$36=$CZ15,$AB$37=$CZ15,$AD$37=$CZ15,$AB$38=$CZ15,$AD$38=$CZ15),DA2,0)","v":0},{"$f":"IF(DA15>0,DB2,0)","v":0}]
[null,null,null,null,null,null,null,null,null,null,null,null,null,null,null,null,"②",null,null,null,null,null,null,null,null,null,null,null,null,null,null,null,null,null,null,null,null,null,null,null,null,null,null,null,null,null,null,null,null,null,null,null,null,null,null,null,null,null,"泊",null,null,null,null,null,null,null,null,null,"円",null,null,null,null,null,null,null,null,null,null,null,null,null,null,null,null,null,"公務時間の確保",null,null,14,{"$f":"基礎データ!V15","v":0},14,{"$f":"基礎データ!AA15","v":0},null,null,{"$f":"T29","v":0},{"$f":"T30","v":0},{"$f":"T31","v":0},null,{"$f":"IF(基礎データ!A17=0,\"\",基礎データ!A17)","v":""},null,{"$f":"IF(CY16=0,0,CX15+1)","v":0},{"$f":"IF(DA16=0,0,1)","v":0},{"$f":"CZ3","v":"地下鉄"},{"$f":"IF(OR($AB$29=$CZ16,$AD$29=$CZ16,$AB$30=$CZ16,$AD$30=$CZ16,$AB$31=$CZ16,$AD$31=$CZ16,$AB$32=$CZ16,$AD$32=$CZ16,$AB$33=$CZ16,$AD$33=$CZ16,$AB$34=$CZ16,$AD$34=$CZ16,$AB$35=$CZ16,$AD$35=CZ16,$AB$36=$CZ16,$AD$36=$CZ16,$AB$37=$CZ16,$AD$37=$CZ16,$AB$38=$CZ16,$AD$38=$CZ16),DA3,0)","v":0},{"$f":"IF(DA16>0,DB3,0)","v":0}]
[null,null,null,null,null,null,null,null,null,null,null,null,null,null,null,null,"③",null,null,null,null,null,null,null,null,null,null,null,null,null,null,null,null,null,null,null,null,null,null,null,null,null,null,null,null,null,null,null,null,null,null,null,null,null,null,null,null,null,"泊",null,null,null,null,null,null,null,null,null,"円",null,null,null,null,null,null,null,null,null,null,null,null,null,null,null,null,null,null,null,null,15,{"$f":"基礎データ!V16","v":0},15,{"$f":"基礎データ!AA16","v":0},null,null,{"$f":"基礎データ!$P2","v":"赤池"},{"$f":"基礎データ!$P2","v":"赤池"},{"$f":"基礎データ!$P2","v":"赤池"},null,{"$f":"IF(基礎データ!A18=0,\"\",基礎データ!A18)","v":""},null,{"$f":"IF(CY17=0,0,CY15+CY16+1)","v":0},{"$f":"IF(DA17=0,0,1)","v":0},{"$f":"CZ4","v":"ＪＲ"},{"$f":"IF(OR($AB$29=$CZ17,$AD$29=$CZ17,$AB$30=$CZ17,$AD$30=$CZ17,$AB$31=$CZ17,$AD$31=$CZ17,$AB$32=$CZ17,$AD$32=$CZ17,$AB$33=$CZ17,$AD$33=$CZ17,$AB$34=$CZ17,$AD$34=$CZ17,$AB$35=$CZ17,$AD$35=CZ17,$AB$36=$CZ17,$AD$36=$CZ17,$AB$37=$CZ17,$AD$37=$CZ17,$AB$38=$CZ17,$AD$38=$CZ17),DA4,0)","v":0},{"$f":"IF(DA17>0,DB4,0)","v":0}]
[null,null,null,null,null,null,null,null,null,null,null,null,null,null,null,null,"④",null,null,null,null,null,null,null,null,null,null,null,null,null,null,null,null,null,null,null,null,null,null,null,null,null,null,null,null,null,null,null,null,null,null,null,null,null,null,null,null,null,"泊",null,null,null,null,null,null,null,null,null,"円",null,null,null,null,null,null,null,null,null,null,null,null,null,null,null,null,null,null,"よく使うとこ",null,16,{"$f":"基礎データ!V17","v":0},16,{"$f":"基礎データ!AA17","v":0},null,null,{"$f":"基礎データ!P3","v":"学校"},{"$f":"基礎データ!$P3","v":"学校"},{"$f":"基礎データ!$P3","v":"学校"},null,{"$f":"IF(基礎データ!A19=0,\"\",基礎データ!A19)","v":""},null,{"$f":"IF(CY18=0,0,CY15+CY16+CY17+1)","v":0},{"$f":"IF(DA18=0,0,1)","v":0},{"$f":"CZ5","v":"通勤同一"},{"$f":"IF(OR($AB$29=$CZ18,$AD$29=$CZ18,$AB$30=$CZ18,$AD$30=$CZ18,$AB$31=$CZ18,$AD$31=$CZ18,$AB$32=$CZ18,$AD$32=$CZ18,$AB$33=$CZ18,$AD$33=$CZ18,$AB$34=$CZ18,$AD$34=$CZ18,$AB$35=$CZ18,$AD$35=CZ18,$AB$36=$CZ18,$AD$36=$CZ18,$AB$37=$CZ18,$AD$37=$CZ18,$AB$38=$CZ18,$AD$38=$CZ18),DA5,0)","v":0},{"$f":"IF(DA18>0,DB5,0)","v":0}]
[null,null,null,null,null,null,null,null,null,null,null,null,null,null,null,null,"⑤",null,null,null,null,null,null,null,null,null,null,null,null,null,null,null,null,null,null,null,null,null,null,null,null,null,null,null,null,null,null,null,null,null,null,null,null,null,null,null,null,null,"泊",null,null,null,null,null,null,null,null,null,"円",null,null,null,null,null,null,null,null,null,null,null,null,null,null,null,null,null,null,null,null,17,{"$f":"基礎データ!V18","v":0},17,{"$f":"基礎データ!AA18","v":0},null,null,{"$f":"基礎データ!P4","v":"金山"},{"$f":"基礎データ!$P4","v":"金山"},{"$f":"基礎データ!$P4","v":"金山"},null,{"$f":"IF(基礎データ!A20=0,\"\",基礎データ!A20)","v":""},null,{"$f":"MAX(CX15:CX18)+1","v":1}]
[null,null,null,null,null,null,null,null,null,null,null,null,null,null,null,null,"⑥",null,null,null,null,null,null,null,null,null,null,null,null,null,null,null,null,null,null,null,null,null,null,null,null,null,null,null,null,null,null,null,null,null,null,null,null,null,null,null,null,null,"泊",null,null,null,null,null,null,null,null,null,"円",null,null,null,null,null,null,null,null,null,null,null,null,null,null,null,null,null,null,null,null,18,{"$f":"基礎データ!V19","v":0},18,{"$f":"基礎データ!AA19","v":0},null,null,{"$f":"基礎データ!P5","v":"栄"},{"$f":"基礎データ!$P5","v":"栄"},{"$f":"基礎データ!$P5","v":"栄"},null,{"$f":"IF(基礎データ!A21=0,\"\",基礎データ!A21)","v":""},null,{"$f":"MAX(CX16:CX19)+1","v":2}]
["方法",null,null,null,null,null,"全経路公用車",null,null,null,null,null,null,null,null,null,null,"全経路自家用車",null,null,null,null,null,null,null,null,null,null,null,null,null,null,null,null,"ｷﾛ",null,null,null,null,null,null,null,"全経路自家用車同乗",null,null,null,null,null,null,null,null,null,null,null,null,null,null,null,null,null,null,null,null,null,"全経路徒歩（自転車）",null,null,null,null,null,null,null,null,null,null,null,null,null,null,null,null,null,null,null,null,null,null,null,null,19,{"$f":"基礎データ!V20","v":0},19,{"$f":"基礎データ!AA20","v":0},null,null,{"$f":"基礎データ!P6","v":"市役所"},{"$f":"基礎データ!$P6","v":"市役所"},{"$f":"基礎データ!$P6","v":"市役所"},null,{"$f":"IF(基礎データ!A22=0,\"\",基礎データ!A22)","v":""},null,{"$f":"MAX(CX17:CX20)+1","v":3}]
[null,null,null,null,null,null,null,null,null,null,null,null,null,null,null,null,null,null,null,null,null,null,null,null,null,null,null,null,null,null,null,null,null,null,null,null,null,null,null,null,null,null,null,null,null,null,null,null,null,null,null,null,null,null,null,null,null,null,null,null,null,null,null,null,null,null,null,null,null,null,null,null,null,null,null,null,null,null,null,null,null,null,null,null,null,null,null,"たまに使うとこ",null,20,{"$f":"基礎データ!V21","v":"豊明市(中央公民館)"},20,{"$f":"基礎データ!AA21","v":0},null,null,{"$f":"基礎データ!P7","v":"前後"},{"$f":"基礎データ!$P7","v":"前後"},{"$f":"基礎データ!$P7","v":"前後"},null,{"$f":"IF(基礎データ!A23=0,\"\",基礎データ!A23)","v":""},null,{"$f":"MAX(CX18:CX21)+1","v":4}]
[null,null,null,null,null,null,null,null,null,null,null,null,null,null,null,null,null,null,null,null,null,null,null,null,null,null,null,null,null,null,null,null,null,null,null,null,null,null,null,null,null,null,null,null,null,null,null,null,null,null,null,null,null,null,null,null,null,null,null,null,null,null,null,null,null,null,null,null,null,null,null,null,null,null,null,null,null,null,null,null,null,null,null,null,null,null,null,null,null,21,{"$f":"基礎データ!V22","v":"豊明市(中央小学校)"},21,{"$f":"基礎データ!AA22","v":0},null,null,{"$f":"基礎データ!P8","v":"名古屋"},{"$f":"基礎データ!$P8","v":"名古屋"},{"$f":"基礎データ!$P8","v":"名古屋"},null,{"$f":"IF(基礎データ!A24=0,\"\",基礎データ!A24)","v":""}]
["出発地",null,null,null,null,null,"公署 (",null,null,null,null,null,null,null,null,"）","所属以外の公署から出発するときのみ記入",null,null,null,null,null,null,null,null,null,null,null,null,null,null,null,null,null,null,null,null,null,null,null,null,null,null,null,null,null,null,null,null,null,null,null,null,null,null,null,null,null,null,null,null,null,null,null,null,null,"往復",null,null,null,null,null,null,null,null,null,null,null,null,null,null,null,null,null,null,null,null,null,null,22,{"$f":"基礎データ!V23","v":"豊明市(豊明市学校給食ｾﾝﾀｰ中央調理場)"},22,{"$f":"基礎データ!AA23","v":0},null,null,{"$f":"基礎データ!P9","v":0},{"$f":"基礎データ!$P9","v":0},{"$f":"基礎データ!$P9","v":0},null,{"$f":"IF(基礎データ!A25=0,\"\",基礎データ!A25)","v":""},null,"日数",{"$f":"IF(BU12>0,BU12,IF((AK12+AS12+BA12)=0,1,0))","v":1}]
[null,null,null,null,null,null,null,null,null,null,null,null,null,null,null,null,null,null,null,null,null,null,null,null,null,null,null,null,null,null,null,null,null,null,null,"自宅",null,null,"（",null,{"$f":"IF(AG25=\"×\",VLOOKUP(BA10,基礎データ!$A$2:$D$102,4,FALSE),\"\")","v":""},null,null,null,null,null,null,null,null,"）",null,null,null,null,null,null,null,null,null,null,null,null,null,null,null,null,null,null,null,null,null,null,null,null,null,null,null,null,null,null,null,null,null,null,null,null,null,null,null,23,{"$f":"基礎データ!V24","v":"豊明市(勅使会館)"},23,{"$f":"基礎データ!AA24","v":0},null,null,{"$f":"基礎データ!P10","v":0},{"$f":"基礎データ!$P10","v":0},{"$f":"基礎データ!$P10","v":0},null,{"$f":"IF(基礎データ!A26=0,\"\",基礎データ!A26)","v":""},null,"公署発",{"$f":"IF(E25=\"×\",1,0)","v":0},"公署着",{"$f":"IF(F40=\"×\",1,0)","v":0}]
[null,null,null,null,null,null,null,null,null,null,null,null,null,null,null,null,null,null,null,null,null,null,null,null,null,null,null,null,null,null,null,null,null,null,null,null,null,null,null,null,null,null,null,null,null,null,null,null,null,null,null,null,null,null,null,null,null,null,null,null,null,null,null,null,null,null,null,null,null,null,null,null,null,null,null,null,null,null,null,null,null,null,null,null,null,null,null,null,null,24,{"$f":"基礎データ!V25","v":"豊明市(豊明市立図書館)"},24,{"$f":"基礎データ!AA25","v":0},null,null,{"$f":"基礎データ!P11","v":0},{"$f":"基礎データ!$P11","v":0},{"$f":"基礎データ!$P11","v":0},null,{"$f":"IF(基礎データ!A27=0,\"\",基礎データ!A27)","v":""},null,"公署発同日",{"$f":"IF(AND(CY24=1,CY25=1),1,0)","v":0},"公署着同日",{"$f":"IF(AND(CY24=1,DA25=1),1,0)","v":0}]
["旅行経路",null,"経路内容（駅、バス停名等）",null,null,null,null,null,null,null,null,null,null,null,null,null,null,null,null,null,null,null,null,null,null,null,null,"鉄道等移動方法",null,null,null,null,null,null,null,null,null,null,null,null,null,"バス",null,null,null,null,null,null,null,null,"回数券",null,null,null,null,"公用車",null,null,null,null,"自家用車",null,null,null,null,null,null,null,null,null,null,null,null,null,null,"タクシー",null,null,null,null,null,null,null,null,null,null,null,null,null,25,{"$f":"基礎データ!V26","v":"豊明市(愛知県立豊明高等学校)"},25,{"$f":"基礎データ!AA26","v":0},null,null,{"$f":"基礎データ!P12","v":0},{"$f":"基礎データ!$P12","v":0},{"$f":"基礎データ!$P12","v":0},null,{"$f":"IF(基礎データ!A28=0,\"\",基礎データ!A28)","v":""}]
[null,"経路順","どこから",null,null,null,null,null,null,"乗り換え二つ以上は○○／△△",null,null,null,null,null,null,null,null,null,"どこまで",null,null,null,null,null,null,null,"バス,車使用,同乗,等もここで選ぶ",null,null,null,null,null,null,null,null,null,null,null,null,null,null,null,null,null,null,null,null,null,null,null,null,null,null,null,null,null,null,null,null,"車使用,同乗,通勤同一",null,null,null,null,null,null,null,null,null,null,null,null,null,null,null,null,null,null,null,null,null,null,null,null,null,null,null,null,26,{"$f":"基礎データ!V27","v":"豊明市(豊明小学校)"},26,{"$f":"基礎データ!AA27","v":0},null,null,"５乗車駅","６乗車駅","７乗車駅",null,{"$f":"IF(基礎データ!A29=0,\"\",基礎データ!A29)","v":""},null,{"$f":"CR62&CS62","v":"地下鉄1"},"移動方法"]
[null,null,null,null,null,null,null,null,null,"－（",null,null,null,null,null,null,null,"）－",null,null,null,null,null,null,null,null,null,null,null,null,null,"（",null,null,null,null,null,null,null,"）",null,null,{"$f":"IF(OR($CY29=9,$CZ29=9),\"×\",\" \")","v":" "},null,null,null,null,null,null,"円",null,{"$f":"IF(OR($CY29=5,$CZ29=5),\"×\",\" \")","v":" "},null,null,null,null,{"$f":"IF(OR($CY29=11,$CZ29=11),\"×\",\" \")","v":" "},null,null,null,{"$f":"IF(OR($CY29=6,$CZ29=6,CY29=7,CZ29=7,CY29=8,CZ29=8),\"×\",\" \")","v":" "},null,null,null,null,null,null,null,null,null,null,null,"ｷﾛ",null,null,{"$f":"IF(OR($CY29=10,$CZ29=10),\"×\",\" \")","v":" "},null,null,null,null,null,null,null,null,"円",null,null,null,null,27,{"$f":"基礎データ!V28","v":"豊明市(豊明中学校)"},27,{"$f":"基礎データ!AA28","v":0},null,null,null,null,null,null,{"$f":"IF(基礎データ!A30=0,\"\",基礎データ!A30)","v":""},null,"名鉄2",{"$f":"VLOOKUP(AB29,$CR$61:$CS$72,2,FALSE)","v":0},{"$f":"VLOOKUP(AD29,$CR$61:$CS$72,2,FALSE)","v":0},null,"通勤同一"]
[null,null,null,null,null,null,null,null,null,"－（",null,null,null,null,null,null,null,"）－",null,null,null,null,null,null,null,null,null,null,null,null,null,"（",null,null,null,null,null,null,null,"）",null,null,{"$f":"IF(OR(CY30=9,CZ30=9),\"×\",\" \")","v":" "},null,null,null,null,null,null,"円",null," ",null,null,null,null,{"$f":"IF(OR($CY30=11,$CZ30=11),\"×\",\" \")","v":" "},null,null,null,{"$f":"IF(OR($CY30=6,$CZ30=6,CY30=7,CZ30=7,CY30=8,CZ30=8),\"×\",\" \")","v":" "},null,null,null,null,null,null,null,null,null,null,null,"ｷﾛ",null,null,{"$f":"IF(OR($CY30=10,$CZ30=10),\"×\",\" \")","v":" "},null,null,null,null,null,null,null,null,"円",null,null,null,null,28,{"$f":"基礎データ!V29","v":0},28,{"$f":"基礎データ!AA29","v":0},null,null,{"$f":"T32","v":0},{"$f":"T33","v":0},{"$f":"T34","v":0},null,{"$f":"IF(基礎データ!A31=0,\"\",基礎データ!A31)","v":""},null,"近鉄3",0,0,null,{"$f":"COUNTIF(CY29:CZ38,6)","v":0}]
[null,null,null,null,null,null,null,null,null,"－（",null,null,null,null,null,null,null,"）－",null,null,null,null,null,null,null,null,null,null,null,null,null,"（",null,null,null,null,null,null,null,"）",null,null," ",null,null,null,null,null,null,"円",null," ",null,null,null,null," ",null,null,null," ",null,null,null,null,null,null,null,null,null,null,null,"ｷﾛ",null,null," ",null,null,null,null,null,null,null,null,"円",null,null,null,null,29,{"$f":"基礎データ!V30","v":0},29,{"$f":"基礎データ!AA30","v":0},null,null,{"$f":"基礎データ!$P2","v":"赤池"},{"$f":"基礎データ!$P2","v":"赤池"},{"$f":"基礎データ!$P2","v":"赤池"},null,{"$f":"IF(基礎データ!A32=0,\"\",基礎データ!A32)","v":""},null,"JR4",0,0,null,"車使用"]
[null,null,null,null,null,null,null,null,null,"－（",null,null,null,null,null,null,null,"）－",null,null,null,null,null,null,null,null,null,null,null,null,null,"（",null,null,null,null,null,null,null,"）",null,null,{"$f":"IF(OR(CY32=9,CZ32=9),\"×\",\" \")","v":" "},null,null,null,null,null,null,"円",null," ",null,null,null,null," ",null,null,null," ",null,null,null,null,null,null,null,null,null,null,null,"ｷﾛ",null,null," ",null,null,null,null,null,null,null,null,"円",null,null,null,null,30,{"$f":"基礎データ!V31","v":0},30,{"$f":"基礎データ!AA31","v":0},null,null,{"$f":"基礎データ!$P3","v":"学校"},{"$f":"基礎データ!$P3","v":"学校"},{"$f":"基礎データ!$P3","v":"学校"},null,{"$f":"IF(基礎データ!A33=0,\"\",基礎データ!A33)","v":""},null,"回数券5",0,0,null,{"$f":"COUNTIF(CY29:CZ38,7)","v":0}]
[null,null,null,null,null,null,null,null,null,"－（",null,null,null,null,null,null,null,"）－",null,null,null,null,null,null,null,null,null,null,null,null,null,"（",null,null,null,null,null,null,null,"）",null,null,{"$f":"IF(OR(CY33=9,CZ33=9),\"×\",\" \")","v":" "},null,null,null,null,null,null,"円",null," ",null,null,null,null," ",null,null,null," ",null,null,null,null,null,null,null,null,null,null,null,"ｷﾛ",null,null," ",null,null,null,null,null,null,null,null,"円",null,null,null,null,31,{"$f":"基礎データ!V32","v":0},31,{"$f":"基礎データ!AA32","v":0},null,null,{"$f":"基礎データ!$P4","v":"金山"},{"$f":"基礎データ!$P4","v":"金山"},{"$f":"基礎データ!$P4","v":"金山"},null,{"$f":"IF(基礎データ!A34=0,\"\",基礎データ!A34)","v":""},null,"通勤同一6",0,0,null,"全経路車使用"]
[null,null,null,null,null,null,null,null,null,"－（",null,null,null,null,null,null,null,"）－",null,null,null,null,null,null,null,null,null,null,null,null,null,"（",null,null,null,null,null,null,null,"）",null,null,{"$f":"IF(OR(CY34=9,CZ34=9),\"×\",\" \")","v":" "},null,null,null,null,null,null,"円",null," ",null,null,null,null," ",null,null,null," ",null,null,null,null,null,null,null,null,null,null,null,"ｷﾛ",null,null," ",null,null,null,null,null,null,null,null,"円",null,null,null,null,32,{"$f":"基礎データ!V33","v":0},32,{"$f":"基礎データ!AA33","v":0},null,null,{"$f":"基礎データ!$P5","v":"栄"},{"$f":"基礎データ!$P5","v":"栄"},{"$f":"基礎データ!$P5","v":"栄"},null,{"$f":"IF(基礎データ!A35=0,\"\",基礎データ!A35)","v":""},null,"車使用7",0,0,null,{"$f":"IF(P22=\"×\",1,0)","v":0}]
[null,null,null,null,null,null,null,null,null,"－（",null,null,null,null,null,null,null,"）－",null,null,null,null,null,null,null,null,null,null,null,null,null,"（",null,null,null,null,null,null,null,"）",null,null,{"$f":"IF(OR(CY35=9,CZ35=9),\"×\",\" \")","v":" "},null,null,null,null,null,null,"円",null," ",null,null,null,null," ",null,null,null," ",null,null,null,null,null,null,null,null,null,null,null,"ｷﾛ",null,null," ",null,null,null,null,null,null,null,null,"円",null,null,null,null,33,{"$f":"基礎データ!V34","v":0},33,{"$f":"基礎データ!AA34","v":0},null,null,{"$f":"基礎データ!$P6","v":"市役所"},{"$f":"基礎データ!$P6","v":"市役所"},{"$f":"基礎データ!$P6","v":"市役所"},null,{"$f":"IF(基礎データ!A36=0,\"\",基礎データ!A36)","v":""},null,"車同乗8",0,0,null,"車同乗"]
[null,null,null,null,null,null,null,null,null,"－（",null,null,null,null,null,null,null,"）－",null,null,null,null,null,null,null,null,null,null,null,null,null,"（",null,null,null,null,null,null,null,"）",null,null,{"$f":"IF(OR(CY36=9,CZ36=9),\"×\",\" \")","v":" "},null,null,null,null,null,null,"円",null," ",null,null,null,null," ",null,null,null," ",null,null,null,null,null,null,null,null,null,null,null,"ｷﾛ",null,null," ",null,null,null,null,null,null,null,null,"円",null,null,null,null,34,{"$f":"基礎データ!V35","v":0},34,{"$f":"基礎データ!AA35","v":0},null,null,{"$f":"基礎データ!$P7","v":"前後"},{"$f":"基礎データ!$P7","v":"前後"},{"$f":"基礎データ!$P7","v":"前後"},null,{"$f":"IF(基礎データ!A37=0,\"\",基礎データ!A37)","v":""},null,"バス9",0,0,null,{"$f":"COUNTIF(CY29:CZ38,8)","v":0}]
[null,null,null,null,null,null,null,null,null,"－（",null,null,null,null,null,null,null,"）－",null,null,null,null,null,null,null,null,null,null,null,null,null,"（",null,null,null,null,null,null,null,"）",null,null," ",null,null,null,null,null,null,"円",null," ",null,null,null,null," ",null,null,null," ",null,null,null,null,null,null,null,null,null,null,null,"ｷﾛ",null,null," ",null,null,null,null,null,null,null,null,"円",null,null,null,null,35,{"$f":"基礎データ!V36","v":0},35,{"$f":"基礎データ!AA36","v":0},null,null,{"$f":"基礎データ!$P8","v":"名古屋"},{"$f":"基礎データ!$P8","v":"名古屋"},{"$f":"基礎データ!$P8","v":"名古屋"},null,{"$f":"IF(基礎データ!A38=0,\"\",基礎データ!A38)","v":""},null,"タクシー10",0,0,null,"全経路車同乗"]
[null,null,null,null,null,null,null,null,null,"－（",null,null,null,null,null,null,null,"）－",null,null,null,null,null,null,null,null,null,null,null,null,null,"（",null,null,null,null,null,null,null,"）",null,null," ",null,null,null,null,null,null,"円",null," ",null,null,null,null," ",null,null,null," ",null,null,null,null,null,null,null,null,null,null,null,"ｷﾛ",null,null," ",null,null,null,null,null,null,null,null,"円",null,null,null,null,36,{"$f":"基礎データ!V37","v":0},36,{"$f":"基礎データ!AA37","v":0},null,null,{"$f":"基礎データ!$P9","v":0},{"$f":"基礎データ!$P9","v":0},{"$f":"基礎データ!$P9","v":0},null,{"$f":"IF(基礎データ!A39=0,\"\",基礎データ!A39)","v":""},null,"公用車11",0,0,null,{"$f":"IF(AN22=\"×\",1,0)","v":0}]
["帰着地",null,null,null,null,null,null,null,null,null,null,null,null,null,null,null,null,null,null,null,null,null,null,null,null,null,null,null,null,null,null,null,null,null,null,null,null,null,null,null,null,null,null,null,null,null,null,null,null,null,null,null,null,null,"）",null,null,null,null,null,null,null,null,null,null,null,null,null,null,null,null,null,null,null,null,null,null,null,null,null,null,null,null,null,null,null,null,null,null,37,{"$f":"基礎データ!V38","v":0},37,{"$f":"基礎データ!AA38","v":0},null,null,{"$f":"基礎データ!$P10","v":0},{"$f":"基礎データ!$P10","v":0},{"$f":"基礎データ!$P10","v":0},null,{"$f":"IF(基礎データ!A40=0,\"\",基礎データ!A40)","v":""}]
[null,null,null,null,null,null,null,"公署 (",null,null,null,null,null,null,null,null,null,null,"）","所属以外の公署から帰着するときのみ記入",null,null,null,null,null,null,null,null,null,null,null,null,null,null,null,null,null,null,null,"自宅　（",null,null,null,null,null,{"$f":"IF(AL40=\"×\",CX12,0)","v":0},null,null,null,null,null,null,null,null,null,null,null,null,null,null,null,null,null,null,null,null,null,null,null,null,null,null,null,null,null,null,null,null,null,null,null,null,null,null,null,null,null,null,null,38,{"$f":"基礎データ!V39","v":"豊明市新田町"},38,{"$f":"基礎データ!AA39","v":0},null,null,{"$f":"基礎データ!$P11","v":0},{"$f":"基礎データ!$P11","v":0},{"$f":"基礎データ!$P11","v":0},null,{"$f":"IF(基礎データ!A41=0,\"\",基礎データ!A41)","v":""}]
[null,null,null,null,null,"↓通勤手当利用調整を変更する場合は下の黄色のセルに入力、消す場合は０を入力",null,null,null,null,null,null,null,null,null,null,null,null,null,null,null,null,null,null,null,null,null,null,null,null,null,null,null,null,null,null,null,null,null,null,null,null,null,null,null,null,null,null,null,null,null,null,null,null,null,null,null,null,null,null,null,null,null,null,null,null,null,null,null,null,null,null,null,null,null,null,null,null,null,null,null,null,null,null,null,null,null,null,null,39,{"$f":"基礎データ!V40","v":"豊明市前後町"},39,{"$f":"基礎データ!AA40","v":0},null,null,{"$f":"基礎データ!$P12","v":0},{"$f":"基礎データ!$P12","v":0},{"$f":"基礎データ!$P12","v":0},null,{"$f":"IF(基礎データ!A42=0,\"\",基礎データ!A42)","v":""},null,"通勤手当利用調整変更"]
["通勤手当利用調整",null,null,null,null,{"$f":"IF(CX42=FALSE,F43,VLOOKUP(1,$CX$15:$DB$22,4,FALSE))","v":0},null,null,null,null,null,null,"－",null,{"$f":"IF(CY42=FALSE,O43,VLOOKUP(1,$CX$15:$DB$22,5,FALSE))","v":0},null,null,null,null,null,null,null,null,{"$f":"IF(CZ42=FALSE,X43,VLOOKUP(2,$CX$15:$DB$22,4,FALSE))","v":0},null,null,null,null,null,"－",{"$f":"IF(DA42=FALSE,AE43,VLOOKUP(2,$CX$15:$DB$22,5,FALSE))","v":0},null,null,null,null,null,null,null,null,null,"プリペイドカード（公用）利用調整\n（合計額を記入）",null,null,null,null,null,null,null,null,null,null,null,null,null,null,null,null,null,null,null,null,null,null,null,null,null,null,null,null,null,null,null,null,null,null,null,null,null,null,null,null,null,null,"円",null,null,null,null,null,40,{"$f":"基礎データ!V41","v":"豊明市西川町"},40,{"$f":"基礎データ!AA41","v":0},null,null,"８乗車駅","９乗車駅","１０乗車駅",null,{"$f":"IF(基礎データ!A43=0,\"\",基礎データ!A43)","v":""},null,{"$f":"ISBLANK(F43)","v":true},{"$f":"ISBLANK(O43)","v":true},{"$f":"ISBLANK(X43)","v":true},{"$f":"ISBLANK(AE43)","v":true}]
["定期券・回数券・自家用車",null,null,null,null,null,null,null,null,null,null,null,null,null,null,null,null,null,null,null,null,null,null,null,null,null,null,null,null,null,null,null,null,null,null,null,null,null,null,null,null,null,null,null,null,null,null,null,null,null,null,null,null,null,null,null,null,null,null,null,null,null,null,null,null,null,null,null,null,null,null,null,null,null,null,null,null,null,null,null,null,null,null,null,null,null,null,null,null,41,{"$f":"基礎データ!V42","v":"豊明市二村台"},41,{"$f":"基礎データ!AA42","v":0},null,null,null,null,null,null,{"$f":"IF(基礎データ!A44=0,\"\",基礎データ!A44)","v":""}]
[null,null,null,null,null,{"$f":"IF(CX44=FALSE,F45,VLOOKUP(3,$CX$15:$DB$22,4,FALSE))","v":0},null,null,null,null,null,null,"－",null,{"$f":"IF(CY44=FALSE,O45,VLOOKUP(3,$CX$15:$DB$22,5,FALSE))","v":0},null,null,null,null,null,null,null,null,{"$f":"IF(CZ44=FALSE,X45,VLOOKUP(4,$CX$15:$DB$22,4,FALSE))","v":0},null,null,null,null,null,"－",{"$f":"IF(DA44=FALSE,AE45,VLOOKUP(4,$CX$15:$DB$22,5,FALSE))","v":0},null,null,null,null,null,null,null,null,null,null,null,null,null,null,null,null,null,null,null,null,null,null,null,null,null,null,null,null,null,null,null,null,null,null,null,null,null,null,null,null,null,null,null,null,null,null,null,null,null,null,null,null,null,null,null,null,null,null,42,{"$f":"基礎データ!V43","v":0},42,{"$f":"基礎データ!AA43","v":0},null,null,{"$f":"T35","v":0},{"$f":"T36","v":0},{"$f":"T37","v":0},null,{"$f":"IF(基礎データ!A45=0,\"\",基礎データ!A45)","v":""},null,{"$f":"ISBLANK(F45)","v":true},{"$f":"ISBLANK(O45)","v":true},{"$f":"ISBLANK(X45)","v":true},{"$f":"ISBLANK(AE45)","v":true}]
["（重複区間を記載）",null,null,null,null,null,null,null,null,null,null,null,"－",null,null,null,null,null,null,null,null,null,null,null,null,null,null,null,null,null,null,null,null,null,null,null,null,null,null,null,null,null,null,null,null,null,null,null,null,null,null,null,null,null,null,null,null,null,null,null,null,null,null,null,null,null,null,null,null,null,null,null,null,null,null,null,null,null,null,null,null,null,null,null,null,null,null,null,null,43,{"$f":"基礎データ!V44","v":"豊明市三崎町"},43,{"$f":"基礎データ!AA44","v":0},null,null,{"$f":"基礎データ!$P2","v":"赤池"},{"$f":"基礎データ!$P2","v":"赤池"},{"$f":"基礎データ!$P2","v":"赤池"},null,{"$f":"IF(基礎データ!A46=0,\"\",基礎データ!A46)","v":""}]
["使用申請","自家用車","状況",null,null,null,null,null,null,null,null,null,"同乗者又は運転者入力",null,null,null,null,null,null,null,null,null,null,null,null,null,null,null,null,null,null,null,null,null,null,"タクシー",null,null,null,null,"状況",null,null,null,null,null,null,null,null,null,null,null,null,null,null,null,null,null,null,null,null,null,null,null,null,null,null,null,null,null,null,null,null,null,null,null,null,null,null,null,null,null,null,null,null,null,null,null,null,null,{"$f":"基礎データ!V45","v":0},null,{"$f":"基礎データ!AA45","v":0},null,null,{"$f":"基礎データ!$P3","v":"学校"},{"$f":"基礎データ!$P3","v":"学校"},{"$f":"基礎データ!$P3","v":"学校"},null,{"$f":"IF(基礎データ!A47=0,\"\",基礎データ!A47)","v":""}]
[null,null,null,null,{"$f":"IF(A15=\"赴任\",\" \",IF((DB30+DB32+DB34)>0,\"×\",0))","v":0},null,"運転",null,{"$f":"IF((DB36+DB38)>0,\"×\",0)","v":0},null,"同乗",null,1,null,null,null,null,null,null,null,null,null,null,null,4,null,null,null,null,null,null,null,null,null,null,null,null,null,null,null,null,null,null,null,null,null,null,null,null,null,"チケット",null,null,null,null,null,null,null,null,null,null,null,"旅費請求",null,null,null,null,null,null,null,null,null,null,null,null,null,"同　乗",null,null,null,null,null,null,null,null,null,null,null,null,44,{"$f":"基礎データ!V46","v":"名古屋市昭和区(愛知県勤労会館)"},44,{"$f":"基礎データ!AA46","v":0},null,null,{"$f":"基礎データ!$P4","v":"金山"},{"$f":"基礎データ!$P4","v":"金山"},{"$f":"基礎データ!$P4","v":"金山"},null,{"$f":"IF(基礎データ!A48=0,\"\",基礎データ!A48)","v":""},null,"通勤手当利用調整2"]
[null,null,null,null,null,null,null,null,null,null,null,null,2,null,null,null,null,null,null,null,null,null,null,null,5,null,null,null,null,null,null,null,null,null,null,null,null,null,null,null,null,null,null,null,null,null,null,null,null,null,null,null,null,null,null,null,null,null,null,null,null,null,null,null,null,null,null,null,null,null,null,null,null,null,null,null,null,null,null,null,null,null,null,null,null,null,null,null,null,45,{"$f":"基礎データ!V47","v":0},45,{"$f":"基礎データ!AA47","v":0},null,null,{"$f":"基礎データ!$P5","v":"栄"},{"$f":"基礎データ!$P5","v":"栄"},{"$f":"基礎データ!$P5","v":"栄"},null,{"$f":"IF(基礎データ!A49=0,\"\",基礎データ!A49)","v":""},null,{"$f":"CY48","v":0},{"$f":"IF(DA48=0,0,1)","v":0},1,{"$f":"F42","v":0},{"$f":"O42","v":0}]
[null,null,"理由",null,null,null,null,null,null,null,null,null,3,null,null,null,null,null,null,null,null,null,null,null,6,null,null,null,null,null,null,null,null,null,null,null,null,null,null,null,"理由",null,null,null,null,null,null,null,null,null,null,null,null,null,null,null,null,null,null,null,null,null,null,null,null,null,null,null,null,null,null,null,null,null,null,null,null,null,null,null,null,null,null,null,null,null,"理由(その他以外)","交通不便用",null,46,{"$f":"基礎データ!V48","v":0},46,{"$f":"基礎データ!AA48","v":0},null,null,{"$f":"基礎データ!$P6","v":"市役所"},{"$f":"基礎データ!$P6","v":"市役所"},{"$f":"基礎データ!$P6","v":"市役所"},null,{"$f":"IF(基礎データ!A50=0,\"\",基礎データ!A50)","v":""},null,{"$f":"IF(CY49=0,0,CX48+1)","v":0},{"$f":"IF(DA49=0,0,1)","v":0},2,{"$f":"X42","v":0},{"$f":"AE42","v":0},"同乗者名"]
[null,null,null,null,null,null,null,"交通不便",null,null,null,null,null,null,null,"緊急",null,null,null,null,null,null,null,"時間外",null,null,null,null,"運搬",null,null,null,null,null,null,null,null,null,null,null,null,null,null,null,null,null,null,null,null,"交通不便",null,null,null,null,null,null,null,null,null,null,null,"緊急",null,null,null,null,null,null,null,"時間外",null,null,null,null,null,null,null,null,null,null,null,"運搬",null,null,null,null,{"$f":"CY74","v":0},0,null,47,{"$f":"基礎データ!V49","v":0},47,{"$f":"基礎データ!AA49","v":0},null,null,{"$f":"基礎データ!$P7","v":"前後"},{"$f":"基礎データ!$P7","v":"前後"},{"$f":"基礎データ!$P7","v":"前後"},null,{"$f":"IF(基礎データ!A51=0,\"\",基礎データ!A51)","v":""},null,{"$f":"IF(CY50=0,0,CY48+CY49+1)","v":0},{"$f":"IF(DA50=0,0,1)","v":0},3,{"$f":"F44","v":0},{"$f":"O44","v":0},{"$f":"O47","v":0}]
[null,null,null,null,null,null,null,null,null,null,null,null,null,null,null,null,null,null,null,null,null,null,null,null,null,null,null,null,null,null,null,null,null,null,null,null,null,null,null,null,null,null,null,null,null,null,null,null,null,null,null,null,null,null,null,null,null,null,null,null,null,null,null,null,null,null,null,null,null,null,null,null,null,null,null,null,null,null,null,null,null,null,null,null,null,null,null,null,null,48,{"$f":"基礎データ!V50","v":0},48,{"$f":"基礎データ!AA50","v":0},null,null,{"$f":"基礎データ!$P8","v":"名古屋"},{"$f":"基礎データ!$P8","v":"名古屋"},{"$f":"基礎データ!$P8","v":"名古屋"},null,{"$f":"IF(基礎データ!A52=0,\"\",基礎データ!A52)","v":""},null,{"$f":"IF(CY51=0,0,CY48+CY49+CY50+1)","v":0},{"$f":"IF(DA51=0,0,1)","v":0},4,{"$f":"X44","v":0},{"$f":"AE44","v":0},{"$f":"O48","v":0}]
[null,null,null,null,null,null,null,"多目的地",null,null,null,null,null,null,null,"その他",null,null,null,null,null,null,null,null,null,null,null,null,null,null,null,null,null,null,null,null,null,null,null,null,null,null,null,null,null,null,null,null,null,"多目的地",null,null,null,null,null,null,null,null,null,null,null,"その他",null,null,null,null,null,null,null,null,null,null,null,null,null,null,null,null,null,null,null,null,null,null,null,null,"重複その他判定",null,null,49,{"$f":"基礎データ!V51","v":"名古屋市東区(愛知教育大学附属名古屋小学校)"},49,{"$f":"基礎データ!AA51","v":0},null,null,{"$f":"基礎データ!$P9","v":0},{"$f":"基礎データ!$P9","v":0},{"$f":"基礎データ!$P9","v":0},null,{"$f":"IF(基礎データ!A53=0,\"\",基礎データ!A53)","v":""},null,{"$f":"MAX(CX48:CX51)+1","v":1},null,null,null,null,{"$f":"O49","v":0}]
[null,null,null,null,null,null,null,null,null,null,null,null,null,null,null,null,null,null,null,null,null,null,null,null,null,null,null,null,null,null,null,null,null,null,null,null,null,null,null,null,null,null,null,null,null,null,null,null,null,null,null,null,null,null,null,null,null,null,null,null,null,null,null,null,null,null,null,null,null,null,null,null,null,null,null,null,null,null,null,null,null,null,null,null,null,null,"赴任・自家用車",{"$f":"IF(A15=\"赴任\",0,IF(OR(E47=\"×\",I47=\"×\"),1,0))","v":0},null,50,{"$f":"基礎データ!V52","v":"名古屋市東区(愛知芸術文化センター)"},50,{"$f":"基礎データ!AA52","v":0},null,null,{"$f":"基礎データ!$P10","v":0},{"$f":"基礎データ!$P10","v":0},{"$f":"基礎データ!$P10","v":0},null,null,null,{"$f":"MAX(CX49:CX52)+1","v":2},null,null,null,null,{"$f":"Z47","v":0}]
[null,"有料道路",null,null,"区間",null,null,null,null,null,null,null,null,null,null,null,null,null,null,"－",null,null,null,null,null,null,null,null,null,null,null,null,null,null,null,null,null,null,null,null,null,null,null,null,null,null,"－",null,null,null,null,null,null,null,null,null,null,null,null,null,null,null,null,null,null,null,"有料道路合計額",null,null,null,null,null,null,null,null,null,null,null,null,null,null,null,null,null,null,null,"重複",{"$f":"IF(CI50>0,IF(N52<>\"×\",0,2),1)","v":1},null,51,{"$f":"基礎データ!V53","v":"名古屋市中村区名駅"},51,{"$f":"基礎データ!AA53","v":0},null,null,{"$f":"基礎データ!$P11","v":0},{"$f":"基礎データ!$P11","v":0},{"$f":"基礎データ!$P11","v":0},null,null,null,{"$f":"MAX(CX50:CX53)+1","v":3},null,null,null,null,{"$f":"Z48","v":0}]
[null,null,null,null,"理由",null,null,null,null,null,null,null,null,null,null,null,null,null,null,null,null,null,null,null,null,null,null,null,null,null,null,null,null,null,null,null,null,null,null,null,null,null,null,null,null,null,null,null,null,null,null,null,null,null,null,null,null,null,null,null,null,null,null,null,null,null,null,null,null,null,null,null,null,null,null,null,null,null,null,null,null,null,"円",null,null,null,null,{"$f":"CJ53*CJ54","v":0},null,52,{"$f":"基礎データ!V54","v":0},52,{"$f":"基礎データ!AA54","v":0},null,null,{"$f":"基礎データ!$P12","v":0},{"$f":"基礎データ!$P12","v":0},{"$f":"基礎データ!$P12","v":0},null,null,null,{"$f":"MAX(CX51:CX54)+1","v":4},null,null,null,null,{"$f":"Z49","v":0}]
[null,null,null,null,null,null,null,null,null,null,null,"時間短縮",null,null,null,null,null,null,null,null,null,null,null,"利用が一般的",null,null,null,null,null,null,null,null,null,null,null,"時間短縮",null,null,null,null,null,null,null,null,null,null,null,null,null,null,"利用が一般的",null,null,null,null,null,null,null,null,null,null,null,null,null,null,null,null,null,null,null,null,null,null,null,null,null,null,null,null,null,null,null,null,null,null,null,null,null,null,53,{"$f":"基礎データ!V55","v":"名古屋市東区（ｳｨﾙあいち）"},53,{"$f":"基礎データ!AA55","v":0},null,null,null,null,null,null,null,null,null,null,null,null,null,{"$f":"COUNT(DC50:DC55)","v":6}]
[null,null,null,null,null,null,null,null,null,null,null,null,null,null,null,null,null,null,null,null,null,null,null,null,null,null,null,null,null,null,null,null,null,null,null,null,null,null,null,null,null,null,null,null,null,null,null,null,null,null,null,null,null,null,null,null,null,null,null,null,null,null,null,null,null,null,null,null,null,null,null,null,null,null,null,null,null,null,null,null,null,null,null,null,null,null,null,null,null,52,{"$f":"基礎データ!V56","v":0},52,{"$f":"基礎データ!AA56","v":0},null,null,{"$f":"基礎データ!$P14","v":0},{"$f":"基礎データ!$P14","v":0},{"$f":"基礎データ!$P14","v":0},null,null,null,{"$f":"MAX(CX53:CX56)+1","v":5}]
[null,null,null,null,null,null,null,null,null,null,null,"通勤区間（併給調整）",null,null,null,null,null,null,null,null,null,null,null,null,null,null,null,null,null,null,null,null,null,null,null,"通勤区間（併給調整）",null,null,null,null,null,null,null,null,null,null,null,null,null,null,null,null,null,null,null,null,null,null,null,null,null,null,null,null,null,null,null,null,null,null,null,null,null,null,null,null,null,null,null,null,null,null,null,null,null,null,null,null,null,53,{"$f":"基礎データ!V57","v":"名古屋市中川区（名古屋市中川文化小劇場）"},53,{"$f":"基礎データ!AA57","v":0}]
[null,null,null,null,null,null,null,null,null,null,null,null,null,null,null,null,null,null,null,null,null,null,null,null,null,null,null,null,null,null,null,null,null,null,null,null,null,null,null,null,null,null,null,null,null,null,null,null,null,null,null,null,null,null,null,null,null,null,null,null,null,null,null,null,null,null,null,null,null,null,null,null,null,null,null,null,null,null,null,null,null,null,null,null,null,null,"自家用車申請理由判定用",null,null,54,{"$f":"基礎データ!V56","v":0},54,{"$f":"基礎データ!AA56","v":0}]
[null,"駐車場",null,null,"場所",null,null,null,null,null,null,null,null,null,null,null,null,null,null,"－",null,null,null,null,null,null,null,null,null,null,null,null,null,null,null,null,null,null,null,null,null,null,null,null,null,null,"－",null,null,null,null,null,null,null,null,null,null,null,null,null,null,null,null,null,null,null,"駐車場合計額",null,null,null,null,null,null,null,null,null,null,null,null,null,null,null,null,null,null,null,"自家用車or同乗",{"$f":"IF(OR(J134=\"×\",N134=\"×\"),1,0)","v":0},null,55,{"$f":"基礎データ!V57","v":"名古屋市中川区（名古屋市中川文化小劇場）"},55,null,null,null,"移動手段","番号"]
[null,null,null,null,null,null,null,null,null,null,null,null,null,null,null,null,null,null,null,null,null,null,null,null,null,null,null,null,null,null,null,null,null,null,null,null,null,null,null,null,null,null,null,null,null,null,null,null,null,null,null,null,null,null,null,null,null,null,null,null,null,null,null,null,null,null,null,null,null,null,null,null,null,null,null,null,null,null,null,null,null,null,"円",null,null,null,"用務先",{"$f":"+COUNTA(S15:AX20)","v":0},null,56,{"$f":"基礎データ!V58","v":0},56,{"$f":"基礎データ!AA58","v":0},null,null,0,0]
[null,null,null,null,null,null,null,null,null,null,null,"利用が一般的かつ合理的経路",null,null,null,null,null,null,null,null,null,null,null,null,null,null,null,null,null,null,null,null,null,null,null,"利用が一般的かつ合理的経路",null,null,null,null,null,null,null,null,null,null,null,null,null,null,null,null,null,null,null,null,null,null,null,null,null,null,null,null,null,null,null,null,null,null,null,null,null,null,null,null,null,null,null,null,null,null,null,null,null,null,null,null,null,57,{"$f":"基礎データ!V59","v":0},57,{"$f":"基礎データ!AA59","v":0},null,null,"地下鉄",1]
[null,null,null,null,null,null,null,null,null,null,null,null,null,null,null,null,null,null,null,null,null,null,null,null,null,null,null,null,null,null,null,null,null,null,null,null,null,null,null,null,null,null,null,null,null,null,null,null,null,null,null,null,null,null,null,null,null,null,null,null,null,null,null,null,null,null,null,null,null,null,null,null,null,null,null,null,null,null,null,null,null,null,null,null,null,null,"素点","理由","点数",58,{"$f":"基礎データ!V60","v":0},58,{"$f":"基礎データ!AA60","v":0},null,null,"名鉄",2]
["別 途 支 給",null,null,null,null,null,null,null,null,null,null,null,null,null,null,null,null,null,null,null,null,null,null,null,null,null,null,null,null,null,null,null,null,null,null,null,null,null,null,null,null,null,null,null,null,null,null,null,null,null,null,null,null,null,null,null,null,null,null,null,null,null,null,null,null,null,null,null,null,null,null,null,null,null,null,null,null,null,null,null,null,null,null,null,null,null,4,"交通不便",{"$f":"+IF(CJ60=1,IF(OR(AND(AG25=\"×\",BL25=\"×\"),F50=\"×\"),CI64,0),0)","v":0},59,{"$f":"基礎データ!V61","v":0},59,{"$f":"基礎データ!AA61","v":0},null,null,"近鉄",3]
[null,null,null,null,null,null,null,"あり　（金額",null,null,null,null,null,null,null,null,null,null,null,null,null,null,null,null,null,null,null,null,null,null,null,null,null,null,null,null,null,null,null,null,null,null,null,null,null,null,null,null,null,null,null,null,null,null,null,null,null,null,null,null,null,null,null,null,null,null,null,null,null,null,null,null,null,null,null,null,null,null,null,null,null,null,null,null,null,null,6,"緊急",{"$f":"+IF(CJ60=1,IF(N50=\"×\",CI65,0),0)","v":0},60,{"$f":"基礎データ!V62","v":0},60,{"$f":"基礎データ!AA62","v":0},null,null,"JR",4]
[null,null,null,null,null,null,null,null,null,null,null,null,null,null,null,null,null,null,null,null,null,null,null,null,null,null,null,null,null,null,null,null,null,null,null,null,null,null,null,null,null,null,null,null,null,null,null,null,null,null,null,null,null,null,null,null,null,null,null,null,null,null,null,null,null,null,null,null,null,null,null,null,null,null,null,null,null,null,null,null,null,null,null,null,null,null,5,"時間外",{"$f":"+IF(CJ60=1,IF(V50=\"×\",CI66,0),0)","v":0},61,{"$f":"基礎データ!V63","v":0},61,{"$f":"基礎データ!AA63","v":0},null,null,"回数券",5]
["備　　　　考",null,null,null,null,null,null,null,null,null,null,null,null,null,null,null,null,null,null,null,null,null,null,null,null,null,null,null,null,null,null,null,null,null,null,null,null,null,null,null,null,null,null,null,null,null,null,null,null,null,null,null,null,null,null,null,null,null,null,null,null,null,null,null,null,null,null,null,null,null,null,null,null,null,null,null,null,null,null,null,null,null,null,null,null,null,3,"運搬",{"$f":"+IF(CJ60=1,IF(AA50=\"×\",CI67,0),0)","v":0},62,{"$f":"基礎データ!V64","v":0},62,{"$f":"基礎データ!AA64","v":0},null,null,"通勤同一",6,null,null,null,null,"交通不便",{"$f":"IF(F50=\"×\",1,0)","v":0}]
[null,null,null,null,"何を使って",null,null,null,null,null,null,null,null,null,null,null,null,null,null,null,null,null,null,null,null,null,null,null,null,null,null,null,null,null,null,null,null,null,null,null,null,null,null,null,null,null,null,null,null,null,null,null,null,null,null,null,null,null,null,null,null,null,null,null,null,null,null,null,null,null,null,null,null,null,null,null,null,null,null,null,null,null,null,null,null,null,2,"多目的地",{"$f":"+IF(CJ60=0,0,IF(CJ61>1,CI68,0))","v":0},63,{"$f":"基礎データ!V65","v":0},63,{"$f":"基礎データ!AA65","v":0},null,null,"車使用",7,null,null,null,null,"緊急",{"$f":"IF(N50=\"×\",1,0)","v":0}]
[null,null,null,null,null,null,null,null,null,null,null,null,null,null,null,null,null,null,null,null,null,null,null,null,null,null,null,null,null,null,null,null,null,null,null,null,null,null,null,null,null,null,null,null,null,null,null,null,null,null,null,null,null,null,null,null,null,null,null,null,null,null,null,null,null,null,null,null,null,null,null,null,null,null,null,null,null,null,null,null,null,null,null,null,null,null,1,"その他",{"$f":"+IF(CJ60=1,CI69,0)","v":0},64,{"$f":"基礎データ!V66","v":0},64,{"$f":"基礎データ!AA66","v":0},null,null,"車同乗",8,null,null,null,null,"時間外",{"$f":"IF(V50=\"×\",1,0)","v":0}]
["様式1（その２）（第5条関係）",null,null,null,null,null,null,null,null,null,null,null,null,null,null,null,null,null,null,null,null,null,null,null,null,null,null,"命　　令",null,null,null,null,null,null,null,null,null,null,null,null,null,null,null,null,null,null,null,null,null,null,null,null,null,null,null,null,null,null,null,null,null,null,null,null,null,null,null,null,null,null,null,null,null,null,null,null,null,null,null,null,null,null,null,null,null,null,null,"判定",{"$f":"+MAX(CK64:CK69)","v":0},65,{"$f":"基礎データ!V67","v":0},65,{"$f":"基礎データ!AA67","v":0},null,null,"バス",9,null,null,null,null,"運搬",{"$f":"IF(AA50=\"×\",1,0)","v":0}]
["旅　　行",null,null,null,null,null,null,null,null,null,null,null,null,null,null,null,null,null,null,null,null,null,null,null,null,null,null,null,null,null,null,null,null,null,null,null,null,null,null,null,null,"書",null,null,null,null,null,null,null,null,null,null,null,null,null,null,null,null,null,null,null,null,null,null,null,null,null,null,null,null,null,null,null,null,null,null,null,null,null,null,null,null,null,null,null,null,null,null,null,null,null,null,null,null,null,"タクシー",10,null,null,null,null,"多目的地",{"$f":"IF(F52=\"×\",1,0)","v":0}]
[null,null,null,null,null,null,null,null,null,null,null,null,null,null,null,null,null,null,null,null,null,null,null,null,null,null,null,"依　　頼",null,null,null,null,null,null,null,null,null,null,null,null,null,null,null,null,null,null,null,null,null,null,null,null,null,null,null,null,null,null,null,null,null,null,null,null,null,null,null,null,null,null,null,null,null,null,null,null,null,null,null,null,null,null,null,null,null,null,null,null,null,null,null,null,"備考","学校名",null,"公用車",11,null,null,null,null,"その他",{"$f":"IF(N52=\"×\",1,0)","v":0}]
[null,null,null,null,null,null,null,null,null,null,null,null,null,null,null,null,null,null,null,null,null,null,null,null,null,null,null,null,null,null,null,null,null,null,null,null,null,null,null,null,null,null,null,null,null,null,null,null,null,null,null,null,null,null,null,null,null,null,null,null,null,null,null,null,null,null,null,null,null,null,null,null,null,null,null,null,null,null,null,null,null,null,null,null,null,null,null,null,null,null,null,null,null,{"$f":"基礎データ!AE1","v":"主要用務先"},null,null,null,null,null,null,null,"理由",{"$f":"IF(Y51>0,1,0)","v":0}]
["決裁欄",null,null,null,null,null,null,null,null,null,"校長",null,null,null,null,null,null,null,null,null,null,null,null,null,null,null,null,null,null,null,null,null,null,"旅行命令年月日",null,null,null,null,null,null,null,null,null,null,null,null,null,null,null,null,null,null,{"$f":"IF(BI74=31,\"平成\",BA5)","v":"令和"},null,null,null,null,null,null,null,{"$f":"BI5","v":0},null,null,null,null,null,null,"年",null,{"$f":"BR5","v":0},null,null,null,null,"月",null,null,{"$f":"BZ5","v":0},null,null,null,null,"日",null,null,null,null,null,null,null,null,null,{"$f":"基礎データ!P16","v":0},{"$f":"基礎データ!AE2","v":"豊明小学校"},null,null,null,null,null,null,null,"計",{"$f":"SUM(CY67:CY73)","v":0}]
["自家用車",null,null,null,null,null,null,null,null,null,null,null,null,null,null,null,null,null,null,null,null,null,null,null,null,null,null,null,null,null,null,null,null,null,null,null,null,null,null,null,null,null,null,null,null,null,null,null,null,null,null,null,null,null,null,null,null,null,null,null,null,null,null,null,null,null,null,null,null,null,null,null,null,null,null,null,null,null,null,null,null,null,null,null,null,null,null,null,null,null,null,null,{"$f":"基礎データ!P17","v":0},{"$f":"基礎データ!AE3","v":"中央小学校"}]
[null,null,null,null,null,null,null,null,null,null,null,null,null,null,null,null,null,null,null,null,null,null,null,null,null,null,null,null,null,null,null,null,null,null,null,null,null,null,null,null,null,null,null,null,null,null,null,null,null,null,null,null,null,null,null,null,null,null,null,null,null,null,null,null,null,null,null,null,null,null,null,null,null,null,null,null,null,null,null,null,null,null,null,null,null,null,null,null,null,null,null,null,{"$f":"基礎データ!P18","v":0},{"$f":"基礎データ!AE4","v":"沓掛小学校"}]
["等使用承認欄",null,null,null,null,null,null,null,null,null,null,null,null,null,null,null,null,null,null,null,null,null,null,null,null,null,null,null,null,null,null,null,null,null,null,null,null,null,null,null,null,null,null,null,null,null,null,null,null,null,null,null,null,null,null,null,null,null,null,null,null,null,null,null,null,null,null,null,null,null,null,null,null,null,null,null,null,null,null,null,null,null,null,null,null,null,null,null,null,null,null,null,{"$f":"基礎データ!P19","v":0},{"$f":"基礎データ!AE5","v":"双峰小学校"}]
[null,null,null,null,null,null,null,null,null,null,null,null,null,null,null,null,null,null,null,null,null,null,null,null,null,null,null,null,null,null,null,null,null,null,null,null,null,null,null,null,null,null,null,null,null,null,null,null,null,null,null,null,null,null,null,null,null,null,null,null,null,null,null,null,null,null,null,null,null,null,null,null,null,null,null,null,null,null,null,null,null,null,null,null,null,null,null,null,null,null,null,null,{"$f":"基礎データ!P20","v":0},{"$f":"基礎データ!AE6","v":"三崎小学校"},null,"順","計","名前","職名","職名名前","　組み合わせ","1行目","2行目","3行目"]
["所属名",null,null,null,null,null,null,null,null,null,{"$f":"K10","v":0},null,null,null,null,null,null,null,null,null,null,null,null,null,null,null,null,null,null,"職名",null,null,null,{"$f":"IFERROR(AH10,\"\")","v":""},null,null,null,null,null,null,null,null,null,null,null,"氏名\n職番",null,null,null,null,null,null,{"$f":"+BA10","v":0},null,null,null,null,null,null,null,null,null,null,null,null,null,null,null,null,null,null,null,null,null,null,null,null,null,null,null,null,null,null,null,null,null,null,null,null,null,null,null,{"$f":"基礎データ!P21","v":0},{"$f":"基礎データ!AE7","v":"大宮小学校"},null,{"$f":"RANK(DA79,$DA$79:$DA$84,)","v":1},{"$f":"IF(CT79=0,0,1)","v":0},{"$f":"O47","v":0},{"$f":"IF(ISNA(VLOOKUP(CT79,基礎データ!$A$3:$B$52,2,FALSE))=TRUE,\"\",VLOOKUP(CT79,基礎データ!$A$3:$B$52,2,FALSE))","v":""},{"$f":"CU79&CT79","v":"0"},1,null,{"$f":"VLOOKUP(1,$CR$79:$CV$85,5,FALSE)","v":"0"},null,{"$f":"IF(CT79=0,0,6)","v":0}]
[null,null,null,null,null,null,null,null,null,null,null,null,null,null,null,null,null,null,null,null,null,null,null,null,null,null,null,null,null,null,null,null,null,null,null,null,null,null,null,null,null,null,null,null,null,null,null,null,null,null,null,null,{"$f":"IFERROR(MID(VLOOKUP(BA10,基礎データ!A3:C999,3,FALSE),1,1),\"\")","v":""},null,null,null,null,{"$f":"IFERROR(MID(VLOOKUP(BA10,基礎データ!A3:C999,3,FALSE),2,1),\"\")","v":""},null,null,null,null,{"$f":"IFERROR(MID(VLOOKUP(BA10,基礎データ!A3:C999,3,FALSE),3,1),\"\")","v":""},null,null,null,null,{"$f":"IFERROR(MID(VLOOKUP(BA10,基礎データ!A3:C999,3,FALSE),4,1),\"\")","v":""},null,null,null,null,{"$f":"IFERROR(MID(VLOOKUP(BA10,基礎データ!A3:C999,3,FALSE),5,1),\"\")","v":""},null,null,null,null,{"$f":"IFERROR(MID(VLOOKUP(BA10,基礎データ!A3:C999,3,FALSE),6,1),\"\")","v":""},null,null,null,null,{"$f":"IFERROR(MID(VLOOKUP(BA10,基礎データ!A3:C999,3,FALSE),7,1),\"\")","v":""},null,null,null,null,null,null,null,null,null,{"$f":"基礎データ!P22","v":0},{"$f":"基礎データ!AE8","v":"唐竹小学校"},null,1,0,{"$f":"O48","v":0},{"$f":"IF(ISNA(VLOOKUP(CT80,基礎データ!$A$3:$B$52,2,FALSE))=TRUE,\"\",VLOOKUP(CT80,基礎データ!$A$3:$B$52,2,FALSE))","v":""},"0",2,{"$f":"VLOOKUP(1,$CR$79:$CV$85,5,FALSE)","v":"0"},{"$f":"VLOOKUP(2,$CR$79:$CV$85,5,FALSE)","v":{"$error":"#N/A"}},null,{"$f":"IF(CT80=0,0,5)","v":0}]
["旅行期間",null,null,null,null,null,null,null,null,null,{"$f":"IF(O81=31,\"平成\",K12)","v":"令和"},null,null,null,{"$f":"O12","v":0},null,null,null,"年",null,{"$f":"U12","v":0},null,null,null,"月",{"$f":"Z12","v":0},null,null,"日～",null,null,null,null,null,null,null,{"$f":"AK12","v":0},null,null,null,"年",null,null,null,{"$f":"AS12","v":0},null,null,null,"月",null,null,null,{"$f":"BA12","v":0},null,null,null,null,"日（",null,null,null,null,null,{"$f":"BL12","v":0},null,null,null,null,"泊",null,null,null,{"$f":"CY24","v":1},null,null,null,null,"日）",null,null,null,null,null,null,null,null,null,null,null,null,null,null,{"$f":"基礎データ!P23","v":0},{"$f":"基礎データ!AE9","v":"舘小学校"},null,1,0,{"$f":"O49","v":0},{"$f":"IF(ISNA(VLOOKUP(CT81,基礎データ!$A$3:$B$52,2,FALSE))=TRUE,\"\",VLOOKUP(CT81,基礎データ!$A$3:$B$52,2,FALSE))","v":""},"0",3,{"$f":"VLOOKUP(1,$CR$79:$CV$85,5,FALSE)","v":"0"},{"$f":"VLOOKUP(2,$CR$79:$CV$85,5,FALSE)","v":{"$error":"#N/A"}},{"$f":"VLOOKUP(3,$CR$79:$CV$85,5,FALSE)","v":{"$error":"#N/A"}},{"$f":"IF(CT81=0,0,4)","v":0}]
["用務",null,null,null,null,null,null,null,null,null,null,null,null,null,null,null,"用務先",null,null,null,null,null,null,null,null,null,null,null,null,null,null,null,null,null,null,null,null,null,null,null,null,null,null,null,null,null,null,null,null,null,"泊数",null,null,null,null,null,null,null,null,null,"宿泊費",null,null,null,null,null,null,null,null,null,"朝食",null,null,null,null,null,null,null,"夕食",null,null,null,null,null,null,null,null,null,null,null,"用務先",null,{"$f":"基礎データ!P24","v":0},{"$f":"基礎データ!AE10","v":"豊明中学校"},null,1,0,{"$f":"Z47","v":0},{"$f":"IF(ISNA(VLOOKUP(CT82,基礎データ!$A$3:$B$52,2,FALSE))=TRUE,\"\",VLOOKUP(CT82,基礎データ!$A$3:$B$52,2,FALSE))","v":""},"0",4,{"$f":"VLOOKUP(1,$CR$79:$CV$85,5,FALSE)","v":"0"},{"$f":"VLOOKUP(2,$CR$79:$CV$85,5,FALSE)","v":{"$error":"#N/A"}},{"$f":"VLOOKUP(3,$CR$79:$CV$84,5,FALSE)&\"，\"&VLOOKUP(4,$CR$79:$CV$84,5,FALSE)","v":{"$error":"#N/A"}},{"$f":"IF(CT82=0,0,3)","v":0}]
[{"$f":"A15","v":0},null,null,null,null,null,null,null,null,null,null,null,null,null,null,null,"①",null,{"$f":"S15","v":0},null,null,null,null,null,null,null,null,null,null,null,null,null,null,null,null,null,null,null,null,null,null,null,null,null,null,null,null,null,null,null,{"$f":"IF(AY15=\"\",\"\",AY15)","v":""},null,null,null,null,null,null,null,"泊",null,{"$f":"IF(BI15=\"\",\"\",BI15)","v":""},null,null,null,null,null,null,null,"円",null,{"$f":"IF(BS15=\"\",\"\",BS15)","v":""},null,null,null,null,null,null,null,{"$f":"IF(CA15=\"\",\"\",CA15)","v":""},null,{"$f":"CC15","v":0},null,null,"泊",null,null,null,null,null,null,{"$f":"IF(ISNA(VLOOKUP(S15,$CO$2:$CP$70,2,FALSE))=TRUE,S15,VLOOKUP(S15,$CO$2:$CP$70,2,FALSE))","v":0},null,{"$f":"基礎データ!P25","v":0},{"$f":"基礎データ!AE11","v":"栄中学校"},null,1,0,{"$f":"Z48","v":0},{"$f":"IF(ISNA(VLOOKUP(CT83,基礎データ!$A$3:$B$52,2,FALSE))=TRUE,\"\",VLOOKUP(CT83,基礎データ!$A$3:$B$52,2,FALSE))","v":""},"0",5,{"$f":"VLOOKUP(1,$CR$79:$CV$85,5,FALSE)","v":"0"},{"$f":"VLOOKUP(2,$CR$79:$CV$84,5,FALSE)&\"，\"&VLOOKUP(3,$CR$79:$CV$84,5,FALSE)","v":{"$error":"#N/A"}},{"$f":"VLOOKUP(4,$CR$79:$CV$84,5,FALSE)&\"，\"&VLOOKUP(5,$CR$79:$CV$84,5,FALSE)","v":{"$error":"#N/A"}},{"$f":"IF(CT83=0,0,2)","v":0}]
[{"$f":"IF(A16=\"\",\"\",A16)","v":""},null,null,null,null,null,null,null,null,null,null,null,null,null,null,null,"②",null,{"$f":"IF(S16=\"\",\"\",S16)","v":""},null,null,null,null,null,null,null,null,null,null,null,null,null,null,null,null,null,null,null,null,null,null,null,null,null,null,null,null,null,null,null,{"$f":"IF(AY16=\"\",\"\",AY16)","v":""},null,null,null,null,null,null,null,"泊",null,{"$f":"IF(BI16=\"\",\"\",BI16)","v":""},null,null,null,null,null,null,null,"円",null,{"$f":"IF(BS16=\"\",\"\",BS16)","v":""},null,null,null,null,null,null,null,{"$f":"IF(CA16=\"\",\"\",CA16)","v":""},null,0,null,null,"泊",null,null,null,null,null,null,0,null,{"$f":"基礎データ!P26","v":0},{"$f":"基礎データ!AE12","v":"沓掛中学校"},null,1,0,{"$f":"Z49","v":0},{"$f":"IF(ISNA(VLOOKUP(CT84,基礎データ!$A$3:$B$52,2,FALSE))=TRUE,\"\",VLOOKUP(CT84,基礎データ!$A$3:$B$52,2,FALSE))","v":""},"0",6,{"$f":"VLOOKUP(1,$CR$79:$CV$84,5,FALSE)&\"，\"&VLOOKUP(2,$CR$79:$CV$84,5,FALSE)","v":{"$error":"#N/A"}},{"$f":"VLOOKUP(3,$CR$79:$CV$84,5,FALSE)&\"，\"&VLOOKUP(4,$CR$79:$CV$84,5,FALSE)","v":{"$error":"#N/A"}},{"$f":"VLOOKUP(5,$CR$79:$CV$84,5,FALSE)&\"，\"&VLOOKUP(6,$CR$79:$CV$84,5,FALSE)","v":{"$error":"#N/A"}},{"$f":"IF(CT84=0,0,1)","v":0}]
[{"$f":"IF(A17=\"\",\"\",A17)","v":""},null,null,null,null,null,null,null,null,null,null,null,null,null,null,null,"③",null,{"$f":"IF(S17=\"\",\"\",S17)","v":""},null,null,null,null,null,null,null,null,null,null,null,null,null,null,null,null,null,null,null,null,null,null,null,null,null,null,null,null,null,null,null,"",null,null,null,null,null,null,null,"泊",null,"",null,null,null,null,null,null,null,"円",null,"",null,null,null,null,null,null,null,{"$f":"IF(CA17=\"\",\"\",CA17)","v":""},null,0,null,null,"泊",null,null,null,null,null,null,0,null,{"$f":"基礎データ!P27","v":0},{"$f":"基礎データ!AE13","v":"豊明市(市役所)"},null,null,{"$f":"SUM(CS79:CS84)","v":0},null,null,null,null,{"$f":"IF(CS85=0,0,VLOOKUP($CS$85,$CW$79:$CZ$84,2,FALSE))","v":0},{"$f":"IF(CS85=0,0,VLOOKUP($CS$85,$CW$79:$CZ$84,3,FALSE))","v":0},{"$f":"IF(CS85=0,0,VLOOKUP($CS$85,$CW$79:$CZ$84,4,FALSE))","v":0}]
["",null,null,null,null,null,null,null,null,null,null,null,null,null,null,null,"④",null,"",null,null,null,null,null,null,null,null,null,null,null,null,null,null,null,null,null,null,null,null,null,null,null,null,null,null,null,null,null,null,null,"",null,null,null,null,null,null,null,"泊",null,"",null,null,null,null,null,null,null,"円",null,"",null,null,null,null,null,null,null,"",null,0,null,null,"泊",null,null,null,null,null,null,0,null,{"$f":"基礎データ!P28","v":0}]
["",null,null,null,null,null,null,null,null,null,null,null,null,null,null,null,"⑤",null,"",null,null,null,null,null,null,null,null,null,null,null,null,null,null,null,null,null,null,null,null,null,null,null,null,null,null,null,null,null,null,null,"",null,null,null,null,null,null,null,"泊",null,"",null,null,null,null,null,null,null,"円",null,"",null,null,null,null,null,null,null,"",null,0,null,null,"泊",null,null,null,null,null,null,0,null,{"$f":"基礎データ!P29","v":0}]
["",null,null,null,null,null,null,null,null,null,null,null,null,null,null,null,"⑥",null,"",null,null,null,null,null,null,null,null,null,null,null,null,null,null,null,null,null,null,null,null,null,null,null,null,null,null,null,null,null,null,null,"",null,null,null,null,null,null,null,"泊",null,"",null,null,null,null,null,null,null,"円",null,"",null,null,null,null,null,null,null,"",null,0,null,null,"泊",null,null,null,null,null,null,0]
["方法",null,null,null,null,null,"全経路公用車",null,null,null,null,null,null,null,null,null,null,"全経路自家用車",null,null,null,null,null,null,null,null,null,null,{"$f":"IF(AC21=0,\"．\",AC21)","v":"．"},null,null,null,null,null,"ｷﾛ",null,null,null,null,null,null,null,"全経路自家用車同乗",null,null,null,null,null,null,null,null,null,null,null,null,null,null,null,null,null,null,null,null,null,"全経路徒歩（自転車）"]
[null,null,null,null,{"$f":"E22","v":0},null,null,null,null,null,null,null,null,null,null,{"$f":"P22","v":0},null,null,null,null,null,null,null,null,null,null,null,null,null,null,null,null,null,null,null,null,null,null,null,{"$f":"AN22","v":0},null,null,null,null,null,null,null,null,null,null,null,null,null,null,null,null,null,null,null,null,null,{"$f":"BJ22","v":0}]
[]
["出発地",null,null,null,null,null,"公署 (",null,null,null,{"$f":"K25","v":0},null,null,null,null,"）","所属以外の公署から出発するときのみ記入",null,null,null,null,null,null,null,null,null,null,null,null,null,null,null,null,null,null,null,null,null,null,null,null,null,null,null,null,null,null,null,null,null,null,null,null,null,null,null,null,null,null,null,null,null,null,null,null,null,"往復"]
[null,null,null,null,{"$f":"E25","v":0},null,null,null,null,null,null,null,null,null,null,null,null,null,null,null,null,null,null,null,null,null,null,null,null,null,null,null,{"$f":"AG25","v":0},null,null,"自宅",null,null,"（",null,{"$f":"AO25","v":""},null,null,null,null,null,null,null,null,"）",null,null,null,null,null,null,null,null,null,null,null,null,null,{"$f":"BL25","v":0}]
[]
["旅行経路","経路順","経路内容（駅、バス停名等）",null,null,null,null,null,null,null,null,null,null,null,null,null,null,null,null,null,null,null,null,null,null,null,null,"鉄道",null,null,null,null,null,null,null,null,null,null,null,null,null,"バス",null,null,null,null,null,null,null,null,"回数券",null,null,null,null,"公用車",null,null,null,null,"自家用車",null,null,null,null,null,null,null,null,null,null,null,null,null,null,"タクシー",null,null,null,null,null,null,null,null,null,null,null,null,null,null,null,null,null,null,null,"移動方法"]
[null,{"$f":"IF(C96=0,\"\",B29)","v":""},{"$f":"C29","v":0},null,null,null,null,null,null,"－（",null,{"$f":"L29","v":0},null,null,null,null,null,"）－",null,{"$f":"T29","v":0},null,null,null,null,null,null,null,{"$f":"IF(OR(CR97=1,CS97=1),\"○\",\" \")","v":" "},{"$f":"IF(OR($CR97=2,$CS97=2),\"○\",\" \")","v":" "},{"$f":"IF(OR($CR97=3,$CS97=3),\"○\",\" \")","v":" "},{"$f":"IF(OR($CR97=4,$CS97=4),\"○\",\" \")","v":" "},"（",null,{"$f":"AH29","v":0},null,null,null,null,null,"）",null,null,null,null,null,{"$f":"AT29","v":0},null,null,null,"円",null,null,null,null,null,null,null,null,null,null,null,null,null,null,{"$f":"IF(OR(CR97=6,CS97=6),\"(通勤)\",IF(OR(CR97=8,CS97=8),\"(同乗)\",IF(BL29>0,BL29,\".\")))","v":"."},null,null,null,null,null,null,null,"ｷﾛ",null,null,null,null,null,null,{"$f":"CA29","v":0},null,null,null,null,"円"]
[null,null,null,null,null,null,null,null,null,null,null,null,null,null,null,null,null,null,null,null,null,null,null,null,null,null,null,null,null,null,null,null,null,null,null,null,null,null,null,null,null,null,null,{"$f":"IF(OR(CR97=9,CS97=9),\"×\",\" \")","v":" "},null,null,null,null,null,null,null,{"$f":"IF(OR($CR97=5,$CS97=5),\"×\",\" \")","v":" "},null,null,null,null,{"$f":"IF(OR($CR97=11,$CS97=11),\"×\",\" \")","v":" "},null,null,null,null,{"$f":"IF(OR($CR97=6,$CS97=6,CR97=7,CS97=7,CR97=8,CS97=8),\"×\",\" \")","v":" "},null,null,null,null,null,null,null,null,null,null,null,null,null,null,{"$f":"IF(OR($CR97=10,$CS97=10),\"×\",\" \")","v":" "},null,null,null,null,null,null,null,null,null,null,null,null,null,null,null,null,null,null,{"$f":"VLOOKUP(AB29,$CR$61:$CS$72,2,FALSE)","v":0},{"$f":"VLOOKUP(AD29,$CR$61:$CS$72,2,FALSE)","v":0}]
[]
[null,{"$f":"B30","v":0},{"$f":"C30","v":0},null,null,null,null,null,null,"－（",null,{"$f":"L30","v":0},null,null,null,null,null,"）－",null,{"$f":"T30","v":0},null,null,null,null,null,null,null,{"$f":"IF(OR(CR100=1,CS100=1),\"○\",\" \")","v":" "},{"$f":"IF(OR($CR100=2,$CS100=2),\"○\",\" \")","v":" "},{"$f":"IF(OR($CR100=3,$CS100=3),\"○\",\" \")","v":" "},{"$f":"IF(OR($CR100=4,$CS100=4),\"○\",\" \")","v":" "},"（",null,{"$f":"AH30","v":0},null,null,null,null,null,"）",null,null,null,null,null,{"$f":"AT30","v":0},null,null,null,"円",null,null,null,null,null,null,null,null,null,null,null,null,null,null,{"$f":"IF(OR(CR100=6,CS100=6),\"(通勤)\",IF(OR(CR100=8,CS100=8),\"(同乗)\",IF(BL30>0,BL30,\".\")))","v":"."},null,null,null,null,null,null,null,"ｷﾛ",null,null,null,null,null,null,{"$f":"CA30","v":0},null,null,null,null,"円"]
[null,null,null,null,null,null,null,null,null,null,null,null,null,null,null,null,null,null,null,null,null,null,null,null,null,null,null,null,null,null,null,null,null,null,null,null,null,null,null,null,null,null,null,{"$f":"IF(OR(CR100=9,CS100=9),\"×\",\" \")","v":" "},null,null,null,null,null,null,null,{"$f":"IF(OR($CR100=5,$CS100=5),\"×\",\" \")","v":" "},null,null,null,null,{"$f":"IF(OR($CR100=11,$CS100=11),\"×\",\" \")","v":" "},null,null,null,null,{"$f":"IF(OR($CR100=6,$CS100=6,CR100=7,CS100=7,CR100=8,CS100=8),\"×\",\" \")","v":" "},null,null,null,null,null,null,null,null,null,null,null,null,null,null,{"$f":"IF(OR($CR100=10,$CS100=10),\"×\",\" \")","v":" "},null,null,null,null,null,null,null,null,null,null,null,null,null,null,null,null,null,null,{"$f":"VLOOKUP(AB30,$CR$61:$CS$72,2,FALSE)","v":0},{"$f":"VLOOKUP(AD30,$CR$61:$CS$72,2,FALSE)","v":0}]
[]
[null,{"$f":"B31","v":0},{"$f":"C31","v":0},null,null,null,null,null,null,"－（",null,{"$f":"L31","v":0},null,null,null,null,null,"）－",null,{"$f":"T31","v":0},null,null,null,null,null,null,null,{"$f":"IF(OR(CR103=1,CS103=1),\"○\",\" \")","v":" "},{"$f":"IF(OR($CR103=2,$CS103=2),\"○\",\" \")","v":" "},{"$f":"IF(OR($CR103=3,$CS103=3),\"○\",\" \")","v":" "},{"$f":"IF(OR($CR103=4,$CS103=4),\"○\",\" \")","v":" "},"（",null,{"$f":"AH31","v":0},null,null,null,null,null,"）",null,null,null,null,null,{"$f":"AT31","v":0},null,null,null,"円",null,null,null,null,null,null,null,null,null,null,null,null,null,null,{"$f":"IF(OR(CR103=6,CS103=6),\"(通勤)\",IF(OR(CR103=8,CS103=8),\"(同乗)\",IF(BL31>0,BL31,\".\")))","v":"."},null,null,null,null,null,null,null,"ｷﾛ",null,null,null,null,null,null,{"$f":"CA31","v":0},null,null,null,null,"円"]
[null,null,null,null,null,null,null,null,null,null,null,null,null,null,null,null,null,null,null,null,null,null,null,null,null,null,null,null,null,null,null,null,null,null,null,null,null,null,null,null,null,null,null,{"$f":"IF(OR(CR103=9,CS103=9),\"×\",\" \")","v":" "},null,null,null,null,null,null,null,{"$f":"IF(OR($CR103=5,$CS103=5),\"×\",\" \")","v":" "},null,null,null,null,{"$f":"IF(OR($CR103=11,$CS103=11),\"×\",\" \")","v":" "},null,null,null,null,{"$f":"IF(OR($CR103=6,$CS103=6,CR103=7,CS103=7,CR103=8,CS103=8),\"×\",\" \")","v":" "},null,null,null,null,null,null,null,null,null,null,null,null,null,null,{"$f":"IF(OR($CR103=10,$CS103=10),\"×\",\" \")","v":" "},null,null,null,null,null,null,null,null,null,null,null,null,null,null,null,null,null,null,{"$f":"VLOOKUP(AB31,$CR$61:$CS$72,2,FALSE)","v":0},{"$f":"VLOOKUP(AD31,$CR$61:$CS$72,2,FALSE)","v":0}]
[]
[null,{"$f":"B32","v":0},{"$f":"C32","v":0},null,null,null,null,null,null,"－（",null,{"$f":"L32","v":0},null,null,null,null,null,"）－",null,{"$f":"T32","v":0},null,null,null,null,null,null,null,{"$f":"IF(OR(CR106=1,CS106=1),\"○\",\" \")","v":" "},{"$f":"IF(OR($CR106=2,$CS106=2),\"○\",\" \")","v":" "},{"$f":"IF(OR($CR106=3,$CS106=3),\"○\",\" \")","v":" "},{"$f":"IF(OR($CR106=4,$CS106=4),\"○\",\" \")","v":" "},"（",null,{"$f":"AH32","v":0},null,null,null,null,null,"）",null,null,null,null,null,{"$f":"AT32","v":0},null,null,null,"円",null,null,null,null,null,null,null,null,null,null,null,null,null,null,{"$f":"IF(OR(CR106=6,CS106=6),\"(通勤)\",IF(OR(CR106=8,CS106=8),\"(同乗)\",IF(BL32>0,BL32,\".\")))","v":"."},null,null,null,null,null,null,null,"ｷﾛ",null,null,null,null,null,null,{"$f":"CA32","v":0},null,null,null,null,"円"]
[null,null,null,null,null,null,null,null,null,null,null,null,null,null,null,null,null,null,null,null,null,null,null,null,null,null,null,null,null,null,null,null,null,null,null,null,null,null,null,null,null,null,null,{"$f":"IF(OR(CR106=9,CS106=9),\"×\",\" \")","v":" "},null,null,null,null,null,null,null,{"$f":"IF(OR($CR106=5,$CS106=5),\"×\",\" \")","v":" "},null,null,null,null,{"$f":"IF(OR($CR106=11,$CS106=11),\"×\",\" \")","v":" "},null,null,null,null,{"$f":"IF(OR($CR106=6,$CS106=6,CR106=7,CS106=7,CR106=8,CS106=8),\"×\",\" \")","v":" "},null,null,null,null,null,null,null,null,null,null,null,null,null,null,{"$f":"IF(OR($CR106=10,$CS106=10),\"×\",\" \")","v":" "},null,null,null,null,null,null,null,null,null,null,null,null,null,null,null,null,null,null,{"$f":"VLOOKUP(AB32,$CR$61:$CS$72,2,FALSE)","v":0},{"$f":"VLOOKUP(AD32,$CR$61:$CS$72,2,FALSE)","v":0}]
[]
[null,{"$f":"B33","v":0},{"$f":"C33","v":0},null,null,null,null,null,null,"－（",null,{"$f":"L33","v":0},null,null,null,null,null,"）－",null,{"$f":"T33","v":0},null,null,null,null,null,null,null,{"$f":"IF(OR(CR109=1,CS109=1),\"○\",\" \")","v":" "},{"$f":"IF(OR($CR109=2,$CS109=2),\"○\",\" \")","v":" "},{"$f":"IF(OR($CR109=3,$CS109=3),\"○\",\" \")","v":" "},{"$f":"IF(OR($CR109=4,$CS109=4),\"○\",\" \")","v":" "},"（",null,{"$f":"AH33","v":0},null,null,null,null,null,"）",null,null,null,null,null,{"$f":"AT33","v":0},null,null,null,"円",null,null,null,null,null,null,null,null,null,null,null,null,null,null,{"$f":"IF(OR(CR109=6,CS109=6),\"(通勤)\",IF(OR(CR109=8,CS109=8),\"(同乗)\",IF(BL33>0,BL33,\".\")))","v":"."},null,null,null,null,null,null,null,"ｷﾛ",null,null,null,null,null,null,{"$f":"CA33","v":0},null,null,null,null,"円"]
[null,null,null,null,null,null,null,null,null,null,null,null,null,null,null,null,null,null,null,null,null,null,null,null,null,null,null,null,null,null,null,null,null,null,null,null,null,null,null,null,null,null,null,{"$f":"IF(OR(CR109=9,CS109=9),\"×\",\" \")","v":" "},null,null,null,null,null,null,null,{"$f":"IF(OR($CR109=5,$CS109=5),\"×\",\" \")","v":" "},null,null,null,null,{"$f":"IF(OR($CR109=11,$CS109=11),\"×\",\" \")","v":" "},null,null,null,null,{"$f":"IF(OR($CR109=6,$CS109=6,CR109=7,CS109=7,CR109=8,CS109=8),\"×\",\" \")","v":" "},null,null,null,null,null,null,null,null,null,null,null,null,null,null,{"$f":"IF(OR($CR109=10,$CS109=10),\"×\",\" \")","v":" "},null,null,null,null,null,null,null,null,null,null,null,null,null,null,null,null,null,null,{"$f":"VLOOKUP(AB33,$CR$61:$CS$72,2,FALSE)","v":0},{"$f":"VLOOKUP(AD33,$CR$61:$CS$72,2,FALSE)","v":0}]
[]
[null,{"$f":"B34","v":0},{"$f":"C34","v":0},null,null,null,null,null,null,"－（",null,{"$f":"L34","v":0},null,null,null,null,null,"）－",null,{"$f":"T34","v":0},null,null,null,null,null,null,null,{"$f":"IF(OR(CR112=1,CS112=1),\"○\",\" \")","v":" "},{"$f":"IF(OR($CR112=2,$CS112=2),\"○\",\" \")","v":" "},{"$f":"IF(OR($CR112=3,$CS112=3),\"○\",\" \")","v":" "},{"$f":"IF(OR($CR112=4,$CS112=4),\"○\",\" \")","v":" "},"（",null,{"$f":"AH34","v":0},null,null,null,null,null,"）",null,null,null,null,null,{"$f":"AT34","v":0},null,null,null,"円",null,null,null,null,null,null,null,null,null,null,null,null,null,null,{"$f":"IF(OR(CR112=6,CS112=6),\"(通勤)\",IF(OR(CR112=8,CS112=8),\"(同乗)\",IF(BL34>0,BL34,\".\")))","v":"."},null,null,null,null,null,null,null,"ｷﾛ",null,null,null,null,null,null,{"$f":"CA34","v":0},null,null,null,null,"円"]
[null,null,null,null,null,null,null,null,null,null,null,null,null,null,null,null,null,null,null,null,null,null,null,null,null,null,null,null,null,null,null,null,null,null,null,null,null,null,null,null,null,null,null,{"$f":"IF(OR(CR112=9,CS112=9),\"×\",\" \")","v":" "},null,null,null,null,null,null,null,{"$f":"IF(OR($CR112=5,$CS112=5),\"×\",\" \")","v":" "},null,null,null,null,{"$f":"IF(OR($CR112=11,$CS112=11),\"×\",\" \")","v":" "},null,null,null,null,{"$f":"IF(OR($CR112=6,$CS112=6,CR112=7,CS112=7,CR112=8,CS112=8),\"×\",\" \")","v":" "},null,null,null,null,null,null,null,null,null,null,null,null,null,null,{"$f":"IF(OR($CR112=10,$CS112=10),\"×\",\" \")","v":" "},null,null,null,null,null,null,null,null,null,null,null,null,null,null,null,null,null,null,{"$f":"VLOOKUP(AB34,$CR$61:$CS$72,2,FALSE)","v":0},{"$f":"VLOOKUP(AD34,$CR$61:$CS$72,2,FALSE)","v":0}]
[]
[null,{"$f":"B35","v":0},{"$f":"C35","v":0},null,null,null,null,null,null,"－（",null,{"$f":"L35","v":0},null,null,null,null,null,"）－",null,{"$f":"T35","v":0},null,null,null,null,null,null,null,{"$f":"IF(OR(CR115=1,CS115=1),\"○\",\" \")","v":" "},{"$f":"IF(OR($CR115=2,$CS115=2),\"○\",\" \")","v":" "},{"$f":"IF(OR($CR115=3,$CS115=3),\"○\",\" \")","v":" "},{"$f":"IF(OR($CR115=4,$CS115=4),\"○\",\" \")","v":" "},"（",null,{"$f":"AH35","v":0},null,null,null,null,null,"）",null,null,null,null,null,{"$f":"AT35","v":0},null,null,null,"円",null,null,null,null,null,null,null,null,null,null,null,null,null,null,{"$f":"IF(OR(CR115=6,CS115=6),\"(通勤)\",IF(OR(CR115=8,CS115=8),\"(同乗)\",IF(BL35>0,BL35,\".\")))","v":"."},null,null,null,null,null,null,null,"ｷﾛ",null,null,null,null,null,null,{"$f":"CA35","v":0},null,null,null,null,"円"]
[null,null,null,null,null,null,null,null,null,null,null,null,null,null,null,null,null,null,null,null,null,null,null,null,null,null,null,null,null,null,null,null,null,null,null,null,null,null,null,null,null,null,null,{"$f":"IF(OR(CR115=9,CS115=9),\"×\",\" \")","v":" "},null,null,null,null,null,null,null,{"$f":"IF(OR($CR115=5,$CS115=5),\"×\",\" \")","v":" "},null,null,null,null,{"$f":"IF(OR($CR115=11,$CS115=11),\"×\",\" \")","v":" "},null,null,null,null,{"$f":"IF(OR($CR115=6,$CS115=6,CR115=7,CS115=7,CR115=8,CS115=8),\"×\",\" \")","v":" "},null,null,null,null,null,null,null,null,null,null,null,null,null,null,{"$f":"IF(OR($CR115=10,$CS115=10),\"×\",\" \")","v":" "},null,null,null,null,null,null,null,null,null,null,null,null,null,null,null,null,null,null,{"$f":"VLOOKUP(AB35,$CR$61:$CS$72,2,FALSE)","v":0},{"$f":"VLOOKUP(AD35,$CR$61:$CS$72,2,FALSE)","v":0}]
[]
[null,{"$f":"B36","v":0},{"$f":"C36","v":0},null,null,null,null,null,null,"－（",null,{"$f":"L36","v":0},null,null,null,null,null,"）－",null,{"$f":"T36","v":0},null,null,null,null,null,null,null,{"$f":"IF(OR(CR118=1,CS118=1),\"○\",\" \")","v":" "},{"$f":"IF(OR($CR118=2,$CS118=2),\"○\",\" \")","v":" "},{"$f":"IF(OR($CR118=3,$CS118=3),\"○\",\" \")","v":" "},{"$f":"IF(OR($CR118=4,$CS118=4),\"○\",\" \")","v":" "},"（",null,{"$f":"AH36","v":0},null,null,null,null,null,"）",null,null,null,null,null,{"$f":"AT36","v":0},null,null,null,"円",null,null,null,null,null,null,null,null,null,null,null,null,null,null,{"$f":"IF(OR(CR118=6,CS118=6),\"(通勤)\",IF(OR(CR118=8,CS118=8),\"(同乗)\",IF(BL36>0,BL36,\".\")))","v":"."},null,null,null,null,null,null,null,"ｷﾛ",null,null,null,null,null,null,{"$f":"CA36","v":0},null,null,null,null,"円"]
[null,null,null,null,null,null,null,null,null,null,null,null,null,null,null,null,null,null,null,null,null,null,null,null,null,null,null,null,null,null,null,null,null,null,null,null,null,null,null,null,null,null,null,{"$f":"IF(OR(CR118=9,CS118=9),\"×\",\" \")","v":" "},null,null,null,null,null,null,null,{"$f":"IF(OR($CR118=5,$CS118=5),\"×\",\" \")","v":" "},null,null,null,null,{"$f":"IF(OR($CR118=11,$CS118=11),\"×\",\" \")","v":" "},null,null,null,null,{"$f":"IF(OR($CR118=6,$CS118=6,CR118=7,CS118=7,CR118=8,CS118=8),\"×\",\" \")","v":" "},null,null,null,null,null,null,null,null,null,null,null,null,null,null,{"$f":"IF(OR($CR118=10,$CS118=10),\"×\",\" \")","v":" "},null,null,null,null,null,null,null,null,null,null,null,null,null,null,null,null,null,null,{"$f":"VLOOKUP(AB36,$CR$61:$CS$72,2,FALSE)","v":0},{"$f":"VLOOKUP(AD36,$CR$61:$CS$72,2,FALSE)","v":0}]
[]
[null,{"$f":"B37","v":0},{"$f":"C37","v":0},null,null,null,null,null,null,"－（",null,{"$f":"L37","v":0},null,null,null,null,null,"）－",null,{"$f":"T37","v":0},null,null,null,null,null,null,null,{"$f":"IF(OR(CR121=1,CS121=1),\"○\",\" \")","v":" "},{"$f":"IF(OR($CR121=2,$CS121=2),\"○\",\" \")","v":" "},{"$f":"IF(OR($CR121=3,$CS121=3),\"○\",\" \")","v":" "},{"$f":"IF(OR($CR121=4,$CS121=4),\"○\",\" \")","v":" "},"（",null,{"$f":"AH37","v":0},null,null,null,null,null,"）",null,null,null,null,null,{"$f":"AT37","v":0},null,null,null,"円",null,null,null,null,null,null,null,null,null,null,null,null,null,null,{"$f":"IF(OR(CR121=6,CS121=6),\"(通勤)\",IF(OR(CR121=8,CS121=8),\"(同乗)\",IF(BL37>0,BL37,\".\")))","v":"."},null,null,null,null,null,null,null,"ｷﾛ",null,null,null,null,null,null,{"$f":"CA37","v":0},null,null,null,null,"円"]
[null,null,null,null,null,null,null,null,null,null,null,null,null,null,null,null,null,null,null,null,null,null,null,null,null,null,null,null,null,null,null,null,null,null,null,null,null,null,null,null,null,null,null,{"$f":"IF(OR(CR121=9,CS121=9),\"×\",\" \")","v":" "},null,null,null,null,null,null,null,{"$f":"IF(OR($CR121=5,$CS121=5),\"×\",\" \")","v":" "},null,null,null,null,{"$f":"IF(OR($CR121=11,$CS121=11),\"×\",\" \")","v":" "},null,null,null,null,{"$f":"IF(OR($CR121=6,$CS121=6,CR121=7,CS121=7,CR121=8,CS121=8),\"×\",\" \")","v":" "},null,null,null,null,null,null,null,null,null,null,null,null,null,null,{"$f":"IF(OR($CR121=10,$CS121=10),\"×\",\" \")","v":" "},null,null,null,null,null,null,null,null,null,null,null,null,null,null,null,null,null,null,{"$f":"VLOOKUP(AB37,$CR$61:$CS$72,2,FALSE)","v":0},{"$f":"VLOOKUP(AD37,$CR$61:$CS$72,2,FALSE)","v":0}]
[]
[null,{"$f":"B38","v":0},{"$f":"C38","v":0},null,null,null,null,null,null,"－（",null,{"$f":"L38","v":0},null,null,null,null,null,"）－",null,{"$f":"T38","v":0},null,null,null,null,null,null,null,{"$f":"IF(OR(CR124=1,CS124=1),\"○\",\" \")","v":" "},{"$f":"IF(OR($CR124=2,$CS124=2),\"○\",\" \")","v":" "},{"$f":"IF(OR($CR124=3,$CS124=3),\"○\",\" \")","v":" "},{"$f":"IF(OR($CR124=4,$CS124=4),\"○\",\" \")","v":" "},"（",null,{"$f":"AH38","v":0},null,null,null,null,null,"）",null,null,null,null,null,{"$f":"AT38","v":0},null,null,null,"円",null,null,null,null,null,null,null,null,null,null,null,null,null,null,{"$f":"IF(OR(CR124=6,CS124=6),\"(通勤)\",IF(OR(CR124=8,CS124=8),\"(同乗)\",IF(BL38>0,BL38,\".\")))","v":"."},null,null,null,null,null,null,null,"ｷﾛ",null,null,null,null,null,null,{"$f":"CA38","v":0},null,null,null,null,"円"]
[null,null,null,null,null,null,null,null,null,null,null,null,null,null,null,null,null,null,null,null,null,null,null,null,null,null,null,null,null,null,null,null,null,null,null,null,null,null,null,null,null,null,null,{"$f":"IF(OR(CR124=9,CS124=9),\"×\",\" \")","v":" "},null,null,null,null,null,null,null,{"$f":"IF(OR($CR124=5,$CS124=5),\"×\",\" \")","v":" "},null,null,null,null,{"$f":"IF(OR($CR124=11,$CS124=11),\"×\",\" \")","v":" "},null,null,null,null,{"$f":"IF(OR($CR124=6,$CS124=6,CR124=7,CS124=7,CR124=8,CS124=8),\"×\",\" \")","v":" "},null,null,null,null,null,null,null,null,null,null,null,null,null,null,{"$f":"IF(OR($CR124=10,$CS124=10),\"×\",\" \")","v":" "},null,null,null,null,null,null,null,null,null,null,null,null,null,null,null,null,null,null,{"$f":"VLOOKUP(AB38,$CR$61:$CS$72,2,FALSE)","v":0},{"$f":"VLOOKUP(AD38,$CR$61:$CS$72,2,FALSE)","v":0}]
[]
["帰着地",null,null,null,null,null,null,"公署 (",null,null,null,{"$f":"L40","v":0},null,null,null,null,null,null,"）","所属以外の公署から帰着するときのみ記入",null,null,null,null,null,null,null,null,null,null,null,null,null,null,null,null,null,null,null,null,null,null,null,null,null,null,null,null,null,null,null,null,null,null,"）"]
[null,null,null,null,null,{"$f":"F40","v":0},null,null,null,null,null,null,null,null,null,null,null,null,null,null,null,null,null,null,null,null,null,null,null,null,null,null,null,null,null,null,null,{"$f":"AL40","v":0},null,"自宅　（",null,null,null,null,null,{"$f":"AT40","v":0}]
[]
["通勤手当利用調整",null,null,null,null,{"$f":"VLOOKUP(1,$CX$48:$DB$55,4,FALSE)","v":0},null,null,null,null,null,null,"－",null,{"$f":"VLOOKUP(1,$CX$48:$DB$55,5,FALSE)","v":0},null,null,null,null,null,null,null,null,{"$f":"VLOOKUP(2,$CX$48:$DB$55,4,FALSE)","v":0},null,null,null,null,null,"－",{"$f":"VLOOKUP(2,$CX$48:$DB$55,5,FALSE)","v":0},null,null,null,null,null,null,null,null,null,"プリペイドカード（公用）利用調整\n（合計額を記入）",null,null,null,null,null,null,null,null,null,null,null,null,null,null,null,null,null,null,null,null,null,null,null,null,null,{"$f":"BO42","v":0},null,null,null,null,null,null,null,null,null,null,null,null,null,null,null,null,"円"]
["定期券・回数券・自家用車"]
[null,null,null,null,null,{"$f":"VLOOKUP(3,$CX$48:$DB$55,4,FALSE)","v":0},null,null,null,null,null,null,"－",null,{"$f":"VLOOKUP(3,$CX$48:$DB$55,5,FALSE)","v":0},null,null,null,null,null,null,null,null,{"$f":"VLOOKUP(4,$CX$48:$DB$55,4,FALSE)","v":0},null,null,null,null,null,"－",{"$f":"VLOOKUP(4,$CX$48:$DB$55,5,FALSE)","v":0}]
["（重複区間を記載）"]
["使用申請","自家用車",null,null,"状況",null,null,null,null,null,null,null,null,null,null,null,null,null,null,null,null,{"$f":"CX85","v":0},null,null,null,null,null,null,null,null,null,"タクシー",null,null,null,null,null,null,null,null,"状況"]
[null,null,null,null,null,null,null,null,null,{"$f":"E47","v":0},null,"運転",null,{"$f":"I47","v":0},null,"同乗",null,null,null,null,null,{"$f":"CY85","v":0},null,null,null,null,null,null,null,null,null,null,null,null,null,null,null,null,null,null,null,null,null,null,null,null,null,null,{"$f":"AW47","v":0},null,"チケット",null,null,null,null,null,null,null,null,{"$f":"BH47","v":0},null,null,"旅費請求",null,null,null,null,null,null,null,null,null,null,{"$f":"BV47","v":0},null,null,"同　乗"]
[null,null,null,null,null,null,null,null,null,null,null,null,null,null,null,null,null,null,null,null,null,{"$f":"CZ85","v":0}]
[null,null,null,null,"理由",null,null,null,null,null,null,null,null,null,null,null,null,null,null,null,null,null,null,null,null,null,null,null,null,null,null,null,null,null,null,null,null,null,null,null,"理由"]
[null,null,null,null,null,null,null,null,null,{"$f":"+IF($CK$70=4,\"×\",\"\")","v":""},null,"交通不便",null,null,null,null,{"$f":"+IF($CK$70=6,\"×\",\"\")","v":""},null,"緊急",null,null,{"$f":"+IF($CK$70=5,\"×\",\"\")","v":""},null,"時間外",null,null,{"$f":"+IF($CK$70=3,\"×\",\"\")","v":""},null,"運搬",null,null,null,null,null,null,null,null,null,null,null,null,null,null,null,null,null,null,{"$f":"AV50","v":0},null,"交通不便",null,null,null,null,null,null,null,null,{"$f":"BG50","v":0},null,null,"緊急",null,null,null,null,{"$f":"BO50","v":0},null,null,"時間外",null,null,null,null,null,null,null,null,{"$f":"CA50","v":0},null,null,"運搬"]
[null,null,null,null,null,null,null,null,null,null,null,null,null,null,null,null,null,null,null,null,null,null,null,null,{"$f":"IF(Q139=\"\",\"\",IF(Y51=\"\",CI16,Y51))","v":""},null,null,null,null,null,null,null,null,null,null,null,null,null,null,null,null,null,null,null,null,null,null,null,null,null,null,null,null,null,null,null,null,null,null,null,null,null,null,null,null,null,null,null,null,{"$f":"BR51","v":0}]
[null,null,null,null,null,null,null,null,null,{"$f":"+IF($CK$70=2,\"×\",\"\")","v":""},null,"多目的地",null,null,null,null,{"$f":"+IF($CK$70=1,\"×\",\"\")","v":""},null,"その他",null,null,null,null,null,null,null,null,null,null,null,null,null,null,null,null,null,null,null,null,null,null,null,null,null,null,null,null,{"$f":"AV52","v":0},null,"多目的地",null,null,null,null,null,null,null,null,{"$f":"BG52","v":0},null,null,"その他"]
[]
[null,"有料道路",null,null,"区間",null,null,null,{"$f":"I54","v":0},null,null,null,null,null,null,null,null,null,null,"－",null,{"$f":"V54","v":0},null,null,null,null,null,null,null,null,null,{"$f":"AF54","v":0},null,null,null,null,null,null,null,null,null,null,null,null,null,null,"－",null,{"$f":"AW54","v":0},null,null,null,null,null,null,null,null,null,null,null,null,null,null,null,null,null,"有料道路合計額"]
[null,null,null,null,"理由",null,null,null,null,null,null,null,null,null,null,null,null,null,null,null,null,null,null,null,null,null,null,null,null,null,null,null,null,null,null,null,null,null,null,null,null,null,null,null,null,null,null,null,null,null,null,null,null,null,null,null,null,null,null,null,null,null,null,null,null,null,null,null,null,null,null,null,null,null,null,null,null,null,null,null,null,null,"円"]
[null,null,null,null,null,null,null,null,null,{"$f":"J56","v":0},null,"時間短縮",null,null,null,null,null,null,null,null,null,{"$f":"V56","v":0},null,"利用が一般的",null,null,null,null,null,null,null,null,{"$f":"AG56","v":0},null,null,"時間短縮",null,null,null,null,null,null,null,null,null,null,null,null,{"$f":"AW56","v":0},null,"利用が一般的"]
[]
[null,null,null,null,null,null,null,null,null,{"$f":"J58","v":0},null,"通勤区間（併給調整）",null,null,null,null,null,null,null,null,null,null,null,null,null,null,null,null,null,null,null,null,{"$f":"AG58","v":0},null,null,"通勤区間（併給調整）"]
[]
[null,"駐車場",null,null,"場所",null,null,null,{"$f":"I60","v":0},null,null,null,null,null,null,null,null,null,null,"－",null,{"$f":"V60","v":0},null,null,null,null,null,null,null,null,null,{"$f":"AF60","v":0},null,null,null,null,null,null,null,null,null,null,null,null,null,null,"－",null,{"$f":"AW60","v":0},null,null,null,null,null,null,null,null,null,null,null,null,null,null,null,null,null,"駐車場合計額"]
[null,null,null,null,"理由",null,null,null,null,null,null,null,null,null,null,null,null,null,null,null,null,null,null,null,null,null,null,null,null,null,null,null,null,null,null,null,null,null,null,null,null,null,null,null,null,null,null,null,null,null,null,null,null,null,null,null,null,null,null,null,null,null,null,null,null,null,null,null,null,null,null,null,null,null,null,null,null,null,null,null,null,null,"円"]
[null,null,null,null,null,null,null,null,null,{"$f":"J62","v":0},null,"利用が一般的かつ合理的経路",null,null,null,null,null,null,null,null,null,null,null,null,null,null,null,null,null,null,null,null,{"$f":"AG62","v":0},null,null,"利用が一般的かつ合理的経路"]
[]
["別 途 支 給"]
[null,null,null,null,null,{"$f":"F65","v":0},null,"あり　（金額",null,null,null,null,null,{"$f":"N65","v":0},null,null,null,null,null,null,null,null,null,null,null,null,null,null,null,"、支払者",null,null,null,null,null,null,{"$f":"AK65","v":0},null,null,null,null,null,null,null,null,null,null,null,null,null,null,null,null,null,null,null,null,null,null,null,null,null,null,null,null,null,null,null,null,null,null,null,"）"]
[]
["備　　　　考",null,null,null,{"$f":"IF(N67>0,N67&AF67&AX67,0)","v":0}]
[null,null,null,null,{"$f":"N68","v":0}]
[null,null,null,null,{"$f":"IF(DB30>0,DA8,\" \")","v":" "},null,null,null,null,null,null,null,null,null,null,{"$f":"E69","v":0}]
["備考","１　用紙の大きさは、日本工業規格Ａ４とする。"]
[null,"２　この様式は、旅行者が条例第１条第１項に規定する県費負担教職員である場合に使用すること。"]
[null,"３　旅行命令書として用いる場合には、旅行者が記入すること。"]
[null,"４　この様式により難い事由がある場合には、県教育委員会は、知事と協議して別に様式を定めることができる。"]

{"sheet":"県外視察報告書","index":4,"n_rows":119,"n_cols":26,"rows_kept":119,"cut":false,"hidden":true,"merged":[[14,1,21,1],[14,2,18,2],[14,3,14,13],[31,1,35,2],[31,3,31,13],[32,3,32,13],[33,3,33,13],[34,3,34,13],[35,3,35,13],[22,1,30,2],[22,3,22,13],[23,3,23,13],[24,3,24,13],[25,3,25,13],[26,3,26,13],[27,3,27,13],[28,3,28,13],[29,3,29,13],[30,3,30,13],[14,15,15,19],[15,3,15,13],[16,3,16,13],[17,3,17,13],[17,15,18,15],[18,3,18,13],[19,2,21,2],[19,3,19,5],[19,6,19,9],[19,10,19,13],[20,3,20,5],[20,6,20,9],[20,10,20,13],[21,3,21,5],[21,6,21,9],[21,10,21,13],[8,9,8,13],[10,1,10,13],[11,1,12,13],[12,15,13,19],[13,1,13,2],[13,3,13,5],[13,6,13,9],[13,10,13,13],[3,16,3,17],[4,16,4,17],[7,5,7,6],[7,8,7,9],[7,10,7,12],[1,4,3,9],[1,10,1,11],[1,12,1,13],[2,10,3,11],[2,12,3,13]]}
[]
[null,null,"様式１－２",null,"研究視察旅行報告書",null,null,null,null,null,"校長",null,"教頭"]
[]
[]
[]
[null,null,null,null,null,null,null,"平成",31,"年",3,"月",18,"日"]
[null,{"$f":"P18&\"長  殿\"","v":"0長  殿"}]
[null,null,null,null,null,"職　名",null,"教諭","氏　名",null,"佐藤　幸子",null,null,"印"]
[]
[]
[null,"　　下記のとおり研究視察しましたので、報告します。"]
[null,"記"]
[null,null,null,null,null,null,null,null,null,null,null,null,null,null,null,"リストにない場合は一番下に追加してください"]
[null,"出張期間",null,"2019-03-16",null,null,"2019-03-16",null,null,null,{"$f":"IF(G14=\"\",\"\",\"( \"&G14-D14&\"泊\"&G14-D14+1&\"日\"&\" )\")","v":"( 0泊1日 )"}]
[null,"視察先","所在地\n\n\n宿泊地",null,null,null,null,null,null,null,null,null,null,null,null,"基礎データ"]
[null,null,null,"東京都文京区大塚"]
[null,null,null,null,null,null,null,null,null,null,null,null,null,null,null,"学校名","報告書名","場所","氏名","職名"]
[null,null,null,null,null,null,null,null,null,null,null,null,null,null,null,{"$f":"旅行命令!K10","v":0},"研究視察旅行報告書",null,{"$f":"IF(基礎データ!A3=\"\",\"\",基礎データ!A3)","v":""},{"$f":"IF(基礎データ!B3=\"\",\"\",基礎データ!B3)","v":""}]
[null,null,null,null,null,null,null,null,null,null,null,null,null,null,null,null,null,null,{"$f":"IF(基礎データ!A4=\"\",\"\",基礎データ!A4)","v":""},{"$f":"IF(基礎データ!B4=\"\",\"\",基礎データ!B4)","v":""}]
[null,null,"会　場","名称",null,null,"主催者又は相手方職員",null,null,null,"電話",null,null,null,null,null,null,null,{"$f":"IF(基礎データ!A5=\"\",\"\",基礎データ!A5)","v":""},{"$f":"IF(基礎データ!B5=\"\",\"\",基礎データ!B5)","v":""}]
[null,null,null,"筑波大学付属小学校",null,null,"苦手教科ビギナー研究会",null,null,null,"０３－３９４６－１９０８",null,null,null,null,null,null,null,{"$f":"IF(基礎データ!A6=\"\",\"\",基礎データ!A6)","v":""},{"$f":"IF(基礎データ!B6=\"\",\"\",基礎データ!B6)","v":""}]
[null,null,null,null,null,null,null,null,null,null,null,null,null,null,null,null,null,null,{"$f":"IF(基礎データ!A7=\"\",\"\",基礎データ!A7)","v":""},{"$f":"IF(基礎データ!B7=\"\",\"\",基礎データ!B7)","v":""}]
[null,"報　告　事　項",null,"国語セミナー",null,null,null,null,null,null,null,null,null,null,null,null,null,null,{"$f":"IF(基礎データ!A8=\"\",\"\",基礎データ!A8)","v":""},{"$f":"IF(基礎データ!B8=\"\",\"\",基礎データ!B8)","v":""}]
[null,null,null,"○物語文は、１．２．３年生は場面分け、４．５．６年生はまるごと読み。",null,null,null,null,null,null,null,null,null,null,null,null,null,null,{"$f":"IF(基礎データ!A9=\"\",\"\",基礎データ!A9)","v":""},{"$f":"IF(基礎データ!B9=\"\",\"\",基礎データ!B9)","v":""}]
[null,null,null,"○教材のしかけを使う。Ｗｈich型課題の発問がよい。",null,null,null,null,null,null,null,null,null,null,null,null,null,null,{"$f":"IF(基礎データ!A10=\"\",\"\",基礎データ!A10)","v":""},{"$f":"IF(基礎データ!B10=\"\",\"\",基礎データ!B10)","v":""}]
[null,null,null,"道徳セミナー",null,null,null,null,null,null,null,null,null,null,null,null,null,null,{"$f":"IF(基礎データ!A11=\"\",\"\",基礎データ!A11)","v":""},{"$f":"IF(基礎データ!B11=\"\",\"\",基礎データ!B11)","v":""}]
[null,null,null,"○模擬授業　４年「みんな　いっしょ」",null,null,null,null,null,null,null,null,null,null,null,null,null,null,{"$f":"IF(基礎データ!A12=\"\",\"\",基礎データ!A12)","v":""},{"$f":"IF(基礎データ!B12=\"\",\"\",基礎データ!B12)","v":""}]
[null,null,null,"○内容項目の本質に向かう発問。",null,null,null,null,null,null,null,null,null,null,null,null,null,null,{"$f":"IF(基礎データ!A13=\"\",\"\",基礎データ!A13)","v":""},{"$f":"IF(基礎データ!B13=\"\",\"\",基礎データ!B13)","v":""}]
[null,null,null,"○深く考えるテーマ発問型、子どもとつくる生きた授業。",null,null,null,null,null,null,null,null,null,null,null,null,null,null,{"$f":"IF(基礎データ!A14=\"\",\"\",基礎データ!A14)","v":""},{"$f":"IF(基礎データ!B14=\"\",\"\",基礎データ!B14)","v":""}]
[null,null,null,"音楽セミナー",null,null,null,null,null,null,null,null,null,null,null,null,null,null,{"$f":"IF(基礎データ!A15=\"\",\"\",基礎データ!A15)","v":""},{"$f":"IF(基礎データ!B15=\"\",\"\",基礎データ!B15)","v":""}]
[null,null,null,"○音楽の学力→共通事項など窓口として、子どもが音楽に関わるようにする。",null,null,null,null,null,null,null,null,null,null,null,null,null,null,{"$f":"IF(基礎データ!A16=\"\",\"\",基礎データ!A16)","v":""},{"$f":"IF(基礎データ!B16=\"\",\"\",基礎データ!B16)","v":""}]
[null,"備　　考",null,null,null,null,null,null,null,null,null,null,null,null,null,null,null,null,{"$f":"IF(基礎データ!A17=\"\",\"\",基礎データ!A17)","v":""},{"$f":"IF(基礎データ!B17=\"\",\"\",基礎データ!B17)","v":""}]
[null,null,null,null,null,null,null,null,null,null,null,null,null,null,null,null,null,null,{"$f":"IF(基礎データ!A18=\"\",\"\",基礎データ!A18)","v":""},{"$f":"IF(基礎データ!B18=\"\",\"\",基礎データ!B18)","v":""}]
[null,null,null,null,null,null,null,null,null,null,null,null,null,null,null,null,null,null,{"$f":"IF(基礎データ!A19=\"\",\"\",基礎データ!A19)","v":""},{"$f":"IF(基礎データ!B19=\"\",\"\",基礎データ!B19)","v":""}]
[null,null,null,null,null,null,null,null,null,null,null,null,null,null,null,null,null,null,{"$f":"IF(基礎データ!A20=\"\",\"\",基礎データ!A20)","v":""},{"$f":"IF(基礎データ!B20=\"\",\"\",基礎データ!B20)","v":""}]
[null,null,null,null,null,null,null,null,null,null,null,null,null,null,null,null,null,null,{"$f":"IF(基礎データ!A21=\"\",\"\",基礎データ!A21)","v":""},{"$f":"IF(基礎データ!B21=\"\",\"\",基礎データ!B21)","v":""}]
[null,null,null,null,null,null,null,null,null,null,null,null,null,null,null,null,null,null,{"$f":"IF(基礎データ!A22=\"\",\"\",基礎データ!A22)","v":""},{"$f":"IF(基礎データ!B22=\"\",\"\",基礎データ!B22)","v":""}]
[null,null,null,null,null,null,null,null,null,null,null,null,null,null,null,null,null,null,{"$f":"IF(基礎データ!A23=\"\",\"\",基礎データ!A23)","v":""},{"$f":"IF(基礎データ!B23=\"\",\"\",基礎データ!B23)","v":""}]
[null,null,null,null,null,null,null,null,null,null,null,null,null,null,null,null,null,null,{"$f":"IF(基礎データ!A24=\"\",\"\",基礎データ!A24)","v":""},{"$f":"IF(基礎データ!B24=\"\",\"\",基礎データ!B24)","v":""}]
[null,null,null,null,null,null,null,null,null,null,null,null,null,null,null,null,null,null,{"$f":"IF(基礎データ!A25=\"\",\"\",基礎データ!A25)","v":""},{"$f":"IF(基礎データ!B25=\"\",\"\",基礎データ!B25)","v":""}]
[null,null,null,null,null,null,null,null,null,null,null,null,null,null,null,null,null,null,{"$f":"IF(基礎データ!A26=\"\",\"\",基礎データ!A26)","v":""},{"$f":"IF(基礎データ!B26=\"\",\"\",基礎データ!B26)","v":""}]
[null,null,null,null,null,null,null,null,null,null,null,null,null,null,null,null,null,null,{"$f":"IF(基礎データ!A27=\"\",\"\",基礎データ!A27)","v":""},{"$f":"IF(基礎データ!B27=\"\",\"\",基礎データ!B27)","v":""}]
[null,null,null,null,null,null,null,null,null,null,null,null,null,null,null,null,null,null,{"$f":"IF(基礎データ!A28=\"\",\"\",基礎データ!A28)","v":""},{"$f":"IF(基礎データ!B28=\"\",\"\",基礎データ!B28)","v":""}]
[null,null,null,null,null,null,null,null,null,null,null,null,null,null,null,null,null,null,{"$f":"IF(基礎データ!A29=\"\",\"\",基礎データ!A29)","v":""},{"$f":"IF(基礎データ!B29=\"\",\"\",基礎データ!B29)","v":""}]
[null,null,null,null,null,null,null,null,null,null,null,null,null,null,null,null,null,null,{"$f":"IF(基礎データ!A30=\"\",\"\",基礎データ!A30)","v":""},{"$f":"IF(基礎データ!B30=\"\",\"\",基礎データ!B30)","v":""}]
[null,null,null,null,null,null,null,null,null,null,null,null,null,null,null,null,null,null,{"$f":"IF(基礎データ!A31=\"\",\"\",基礎データ!A31)","v":""},{"$f":"IF(基礎データ!B31=\"\",\"\",基礎データ!B31)","v":""}]
[null,null,null,null,null,null,null,null,null,null,null,null,null,null,null,null,null,null,{"$f":"IF(基礎データ!A32=\"\",\"\",基礎データ!A32)","v":""},{"$f":"IF(基礎データ!B32=\"\",\"\",基礎データ!B32)","v":""}]
[null,null,null,null,null,null,null,null,null,null,null,null,null,null,null,null,null,null,{"$f":"IF(基礎データ!A33=\"\",\"\",基礎データ!A33)","v":""},{"$f":"IF(基礎データ!B33=\"\",\"\",基礎データ!B33)","v":""}]
[null,null,null,null,null,null,null,null,null,null,null,null,null,null,null,null,null,null,{"$f":"IF(基礎データ!A34=\"\",\"\",基礎データ!A34)","v":""},{"$f":"IF(基礎データ!B34=\"\",\"\",基礎データ!B34)","v":""}]
[null,null,null,null,null,null,null,null,null,null,null,null,null,null,null,null,null,null,{"$f":"IF(基礎データ!A35=\"\",\"\",基礎データ!A35)","v":""},{"$f":"IF(基礎データ!B35=\"\",\"\",基礎データ!B35)","v":""}]
[null,null,null,null,null,null,null,null,null,null,null,null,null,null,null,null,null,null,{"$f":"IF(基礎データ!A36=\"\",\"\",基礎データ!A36)","v":""},{"$f":"IF(基礎データ!B36=\"\",\"\",基礎データ!B36)","v":""}]
[null,null,null,null,null,null,null,null,null,null,null,null,null,null,null,null,null,null,{"$f":"IF(基礎データ!A37=\"\",\"\",基礎データ!A37)","v":""},{"$f":"IF(基礎データ!B37=\"\",\"\",基礎データ!B37)","v":""}]
[null,null,null,null,null,null,null,null,null,null,null,null,null,null,null,null,null,null,{"$f":"IF(基礎データ!A38=\"\",\"\",基礎データ!A38)","v":""},{"$f":"IF(基礎データ!B38=\"\",\"\",基礎データ!B38)","v":""}]
[null,null,null,null,null,null,null,null,null,null,null,null,null,null,null,null,null,null,{"$f":"IF(基礎データ!A39=\"\",\"\",基礎データ!A39)","v":""},{"$f":"IF(基礎データ!B39=\"\",\"\",基礎データ!B39)","v":""}]
[null,null,null,null,null,null,null,null,null,null,null,null,null,null,null,null,null,null,{"$f":"IF(基礎データ!A40=\"\",\"\",基礎データ!A40)","v":""},{"$f":"IF(基礎データ!B40=\"\",\"\",基礎データ!B40)","v":""}]
[null,null,null,null,null,null,null,null,null,null,null,null,null,null,null,null,null,null,{"$f":"IF(基礎データ!A41=\"\",\"\",基礎データ!A41)","v":""},{"$f":"IF(基礎データ!B41=\"\",\"\",基礎データ!B41)","v":""}]
[null,null,null,null,null,null,null,null,null,null,null,null,null,null,null,null,null,null,{"$f":"IF(基礎データ!A42=\"\",\"\",基礎データ!A42)","v":""},{"$f":"IF(基礎データ!B42=\"\",\"\",基礎データ!B42)","v":""}]
[null,null,null,null,null,null,null,null,null,null,null,null,null,null,null,null,null,null,{"$f":"IF(基礎データ!A43=\"\",\"\",基礎データ!A43)","v":""},{"$f":"IF(基礎データ!B43=\"\",\"\",基礎データ!B43)","v":""}]
[null,null,null,null,null,null,null,null,null,null,null,null,null,null,null,null,null,null,{"$f":"IF(基礎データ!A44=\"\",\"\",基礎データ!A44)","v":""},{"$f":"IF(基礎データ!B44=\"\",\"\",基礎データ!B44)","v":""}]
[null,null,null,null,null,null,null,null,null,null,null,null,null,null,null,null,null,null,{"$f":"IF(基礎データ!A45=\"\",\"\",基礎データ!A45)","v":""},{"$f":"IF(基礎データ!B45=\"\",\"\",基礎データ!B45)","v":""}]
[null,null,null,null,null,null,null,null,null,null,null,null,null,null,null,null,null,null,{"$f":"IF(基礎データ!A46=\"\",\"\",基礎データ!A46)","v":""},{"$f":"IF(基礎データ!B46=\"\",\"\",基礎データ!B46)","v":""}]
[null,null,null,null,null,null,null,null,null,null,null,null,null,null,null,null,null,null,{"$f":"IF(基礎データ!A47=\"\",\"\",基礎データ!A47)","v":""},{"$f":"IF(基礎データ!B47=\"\",\"\",基礎データ!B47)","v":""}]
[null,null,null,null,null,null,null,null,null,null,null,null,null,null,null,null,null,null,{"$f":"IF(基礎データ!A48=\"\",\"\",基礎データ!A48)","v":""},{"$f":"IF(基礎データ!B48=\"\",\"\",基礎データ!B48)","v":""},null,null,null,null,null,{"$f":"IF(S63=\"\",\"\",ROW())","v":""}]
[null,null,null,null,null,null,null,null,null,null,null,null,null,null,null,null,null,null,{"$f":"IF(基礎データ!A49=\"\",\"\",基礎データ!A49)","v":""},{"$f":"IF(基礎データ!B49=\"\",\"\",基礎データ!B49)","v":""},null,null,null,null,null,""]
[null,null,null,null,null,null,null,null,null,null,null,null,null,null,null,null,null,null,{"$f":"IF(基礎データ!A50=\"\",\"\",基礎データ!A50)","v":""},{"$f":"IF(基礎データ!B50=\"\",\"\",基礎データ!B50)","v":""},null,null,null,null,null,""]
[null,null,null,null,null,null,null,null,null,null,null,null,null,null,null,null,null,null,{"$f":"IF(基礎データ!A51=\"\",\"\",基礎データ!A51)","v":""},{"$f":"IF(基礎データ!B51=\"\",\"\",基礎データ!B51)","v":""},null,null,null,null,null,""]
[null,null,null,null,null,null,null,null,null,null,null,null,null,null,null,null,null,null,{"$f":"IF(基礎データ!A52=\"\",\"\",基礎データ!A52)","v":""},{"$f":"IF(基礎データ!B52=\"\",\"\",基礎データ!B52)","v":""},null,null,null,null,null,""]
[null,null,null,null,null,null,null,null,null,null,null,null,null,null,null,null,null,null,{"$f":"IF(基礎データ!A53=\"\",\"\",基礎データ!A53)","v":""},{"$f":"IF(基礎データ!B53=\"\",\"\",基礎データ!B53)","v":""},null,null,null,null,null,""]
[null,null,null,null,null,null,null,null,null,null,null,null,null,null,null,null,null,null,{"$f":"IF(基礎データ!A54=\"\",\"\",基礎データ!A54)","v":""},{"$f":"IF(基礎データ!B54=\"\",\"\",基礎データ!B54)","v":""},null,null,null,null,null,""]
[null,null,null,null,null,null,null,null,null,null,null,null,null,null,null,null,null,null,{"$f":"IF(基礎データ!A55=\"\",\"\",基礎データ!A55)","v":""},{"$f":"IF(基礎データ!B55=\"\",\"\",基礎データ!B55)","v":""},null,null,null,null,null,""]
[null,null,null,null,null,null,null,null,null,null,null,null,null,null,null,null,null,null,{"$f":"IF(基礎データ!A56=\"\",\"\",基礎データ!A56)","v":""},{"$f":"IF(基礎データ!B56=\"\",\"\",基礎データ!B56)","v":""},null,null,null,null,null,""]
[null,null,null,null,null,null,null,null,null,null,null,null,null,null,null,null,null,null,{"$f":"IF(基礎データ!A57=\"\",\"\",基礎データ!A57)","v":""},{"$f":"IF(基礎データ!B57=\"\",\"\",基礎データ!B57)","v":""},null,null,null,null,null,""]
[null,null,null,null,null,null,null,null,null,null,null,null,null,null,null,null,null,null,{"$f":"IF(基礎データ!A58=\"\",\"\",基礎データ!A58)","v":""},{"$f":"IF(基礎データ!B58=\"\",\"\",基礎データ!B58)","v":""},null,null,null,null,null,""]
[null,null,null,null,null,null,null,null,null,null,null,null,null,null,null,null,null,null,{"$f":"IF(基礎データ!A59=\"\",\"\",基礎データ!A59)","v":""},{"$f":"IF(基礎データ!B59=\"\",\"\",基礎データ!B59)","v":""},null,null,null,null,null,""]
[null,null,null,null,null,null,null,null,null,null,null,null,null,null,null,null,null,null,{"$f":"IF(基礎データ!A60=\"\",\"\",基礎データ!A60)","v":""},{"$f":"IF(基礎データ!B60=\"\",\"\",基礎データ!B60)","v":""},null,null,null,null,null,""]
[null,null,null,null,null,null,null,null,null,null,null,null,null,null,null,null,null,null,{"$f":"IF(基礎データ!A61=\"\",\"\",基礎データ!A61)","v":""},{"$f":"IF(基礎データ!B61=\"\",\"\",基礎データ!B61)","v":""},null,null,null,null,null,""]
[null,null,null,null,null,null,null,null,null,null,null,null,null,null,null,null,null,null,{"$f":"IF(基礎データ!A62=\"\",\"\",基礎データ!A62)","v":""},{"$f":"IF(基礎データ!B62=\"\",\"\",基礎データ!B62)","v":""},null,null,null,null,null,""]
[null,null,null,null,null,null,null,null,null,null,null,null,null,null,null,null,null,null,{"$f":"IF(基礎データ!A63=\"\",\"\",基礎データ!A63)","v":""},{"$f":"IF(基礎データ!B63=\"\",\"\",基礎データ!B63)","v":""},null,null,null,null,null,""]
[null,null,null,null,null,null,null,null,null,null,null,null,null,null,null,null,null,null,{"$f":"IF(基礎データ!A64=\"\",\"\",基礎データ!A64)","v":""},{"$f":"IF(基礎データ!B64=\"\",\"\",基礎データ!B64)","v":""},null,null,null,null,null,""]
[null,null,null,null,null,null,null,null,null,null,null,null,null,null,null,null,null,null,{"$f":"IF(基礎データ!A65=\"\",\"\",基礎データ!A65)","v":""},{"$f":"IF(基礎データ!B65=\"\",\"\",基礎データ!B65)","v":""},null,null,null,null,null,""]
[null,null,null,null,null,null,null,null,null,null,null,null,null,null,null,null,null,null,{"$f":"IF(基礎データ!A66=\"\",\"\",基礎データ!A66)","v":""},{"$f":"IF(基礎データ!B66=\"\",\"\",基礎データ!B66)","v":""},null,null,null,null,null,""]
[null,null,null,null,null,null,null,null,null,null,null,null,null,null,null,null,null,null,{"$f":"IF(基礎データ!A67=\"\",\"\",基礎データ!A67)","v":""},{"$f":"IF(基礎データ!B67=\"\",\"\",基礎データ!B67)","v":""},null,null,null,null,null,""]
[null,null,null,null,null,null,null,null,null,null,null,null,null,null,null,null,null,null,{"$f":"IF(基礎データ!A68=\"\",\"\",基礎データ!A68)","v":""},{"$f":"IF(基礎データ!B68=\"\",\"\",基礎データ!B68)","v":""},null,null,null,null,null,{"$f":"IF(S83=\"\",\"\",ROW())","v":""}]
[null,null,null,null,null,null,null,null,null,null,null,null,null,null,null,null,null,null,{"$f":"IF(基礎データ!A69=\"\",\"\",基礎データ!A69)","v":""},{"$f":"IF(基礎データ!B69=\"\",\"\",基礎データ!B69)","v":""},null,null,null,null,null,""]
[null,null,null,null,null,null,null,null,null,null,null,null,null,null,null,null,null,null,{"$f":"IF(基礎データ!A70=\"\",\"\",基礎データ!A70)","v":""},{"$f":"IF(基礎データ!B70=\"\",\"\",基礎データ!B70)","v":""},null,null,null,null,null,""]
[null,null,null,null,null,null,null,null,null,null,null,null,null,null,null,null,null,null,{"$f":"IF(基礎データ!A71=\"\",\"\",基礎データ!A71)","v":""},{"$f":"IF(基礎データ!B71=\"\",\"\",基礎データ!B71)","v":""},null,null,null,null,null,""]
[null,null,null,null,null,null,null,null,null,null,null,null,null,null,null,null,null,null,{"$f":"IF(基礎データ!A72=\"\",\"\",基礎データ!A72)","v":""},{"$f":"IF(基礎データ!B72=\"\",\"\",基礎データ!B72)","v":""},null,null,null,null,null,""]
[null,null,null,null,null,null,null,null,null,null,null,null,null,null,null,null,null,null,{"$f":"IF(基礎データ!A73=\"\",\"\",基礎データ!A73)","v":""},{"$f":"IF(基礎データ!B73=\"\",\"\",基礎データ!B73)","v":""},null,null,null,null,null,""]
[null,null,null,null,null,null,null,null,null,null,null,null,null,null,null,null,null,null,{"$f":"IF(基礎データ!A74=\"\",\"\",基礎データ!A74)","v":""},{"$f":"IF(基礎データ!B74=\"\",\"\",基礎データ!B74)","v":""},null,null,null,null,null,""]
[null,null,null,null,null,null,null,null,null,null,null,null,null,null,null,null,null,null,{"$f":"IF(基礎データ!A75=\"\",\"\",基礎データ!A75)","v":""},{"$f":"IF(基礎データ!B75=\"\",\"\",基礎データ!B75)","v":""},null,null,null,null,null,""]
[null,null,null,null,null,null,null,null,null,null,null,null,null,null,null,null,null,null,{"$f":"IF(基礎データ!A76=\"\",\"\",基礎データ!A76)","v":""},{"$f":"IF(基礎データ!B76=\"\",\"\",基礎データ!B76)","v":""},null,null,null,null,null,""]
[null,null,null,null,null,null,null,null,null,null,null,null,null,null,null,null,null,null,{"$f":"IF(基礎データ!A77=\"\",\"\",基礎データ!A77)","v":""},{"$f":"IF(基礎データ!B77=\"\",\"\",基礎データ!B77)","v":""},null,null,null,null,null,""]
[null,null,null,null,null,null,null,null,null,null,null,null,null,null,null,null,null,null,{"$f":"IF(基礎データ!A78=\"\",\"\",基礎データ!A78)","v":""},{"$f":"IF(基礎データ!B78=\"\",\"\",基礎データ!B78)","v":""},null,null,null,null,null,""]
[null,null,null,null,null,null,null,null,null,null,null,null,null,null,null,null,null,null,{"$f":"IF(基礎データ!A79=\"\",\"\",基礎データ!A79)","v":""},{"$f":"IF(基礎データ!B79=\"\",\"\",基礎データ!B79)","v":""},null,null,null,null,null,""]
[null,null,null,null,null,null,null,null,null,null,null,null,null,null,null,null,null,null,{"$f":"IF(基礎データ!A80=\"\",\"\",基礎データ!A80)","v":""},{"$f":"IF(基礎データ!B80=\"\",\"\",基礎データ!B80)","v":""},null,null,null,null,null,""]
[null,null,null,null,null,null,null,null,null,null,null,null,null,null,null,null,null,null,{"$f":"IF(基礎データ!A81=\"\",\"\",基礎データ!A81)","v":""},{"$f":"IF(基礎データ!B81=\"\",\"\",基礎データ!B81)","v":""},null,null,null,null,null,""]
[null,null,null,null,null,null,null,null,null,null,null,null,null,null,null,null,null,null,{"$f":"IF(基礎データ!A82=\"\",\"\",基礎データ!A82)","v":""},{"$f":"IF(基礎データ!B82=\"\",\"\",基礎データ!B82)","v":""},null,null,null,null,null,""]
[null,null,null,null,null,null,null,null,null,null,null,null,null,null,null,null,null,null,{"$f":"IF(基礎データ!A83=\"\",\"\",基礎データ!A83)","v":""},{"$f":"IF(基礎データ!B83=\"\",\"\",基礎データ!B83)","v":""},null,null,null,null,null,""]
[null,null,null,null,null,null,null,null,null,null,null,null,null,null,null,null,null,null,{"$f":"IF(基礎データ!A84=\"\",\"\",基礎データ!A84)","v":""},{"$f":"IF(基礎データ!B84=\"\",\"\",基礎データ!B84)","v":""},null,null,null,null,null,""]
[null,null,null,null,null,null,null,null,null,null,null,null,null,null,null,null,null,null,{"$f":"IF(基礎データ!A85=\"\",\"\",基礎データ!A85)","v":""},{"$f":"IF(基礎データ!B85=\"\",\"\",基礎データ!B85)","v":""},null,null,null,null,null,""]
[null,null,null,null,null,null,null,null,null,null,null,null,null,null,null,null,null,null,{"$f":"IF(基礎データ!A86=\"\",\"\",基礎データ!A86)","v":""},{"$f":"IF(基礎データ!B86=\"\",\"\",基礎データ!B86)","v":""},null,null,null,null,null,""]
[null,null,null,null,null,null,null,null,null,null,null,null,null,null,null,null,null,null,{"$f":"IF(基礎データ!A87=\"\",\"\",基礎データ!A87)","v":""},{"$f":"IF(基礎データ!B87=\"\",\"\",基礎データ!B87)","v":""},null,null,null,null,null,""]
[null,null,null,null,null,null,null,null,null,null,null,null,null,null,null,null,null,null,{"$f":"IF(基礎データ!A88=\"\",\"\",基礎データ!A88)","v":""},{"$f":"IF(基礎データ!B88=\"\",\"\",基礎データ!B88)","v":""},null,null,null,null,null,""]
[null,null,null,null,null,null,null,null,null,null,null,null,null,null,null,null,null,null,{"$f":"IF(基礎データ!A89=\"\",\"\",基礎データ!A89)","v":""},{"$f":"IF(基礎データ!B89=\"\",\"\",基礎データ!B89)","v":""},null,null,null,null,null,""]
[null,null,null,null,null,null,null,null,null,null,null,null,null,null,null,null,null,null,{"$f":"IF(基礎データ!A90=\"\",\"\",基礎データ!A90)","v":""},{"$f":"IF(基礎データ!B90=\"\",\"\",基礎データ!B90)","v":""},null,null,null,null,null,""]
[null,null,null,null,null,null,null,null,null,null,null,null,null,null,null,null,null,null,{"$f":"IF(基礎データ!A91=\"\",\"\",基礎データ!A91)","v":""},{"$f":"IF(基礎データ!B91=\"\",\"\",基礎データ!B91)","v":""},null,null,null,null,null,""]
[null,null,null,null,null,null,null,null,null,null,null,null,null,null,null,null,null,null,{"$f":"IF(基礎データ!A92=\"\",\"\",基礎データ!A92)","v":""},{"$f":"IF(基礎データ!B92=\"\",\"\",基礎データ!B92)","v":""},null,null,null,null,null,""]
[null,null,null,null,null,null,null,null,null,null,null,null,null,null,null,null,null,null,{"$f":"IF(基礎データ!A93=\"\",\"\",基礎データ!A93)","v":""},{"$f":"IF(基礎データ!B93=\"\",\"\",基礎データ!B93)","v":""},null,null,null,null,null,""]
[null,null,null,null,null,null,null,null,null,null,null,null,null,null,null,null,null,null,{"$f":"IF(基礎データ!A94=\"\",\"\",基礎データ!A94)","v":""},{"$f":"IF(基礎データ!B94=\"\",\"\",基礎データ!B94)","v":""},null,null,null,null,null,""]
[null,null,null,null,null,null,null,null,null,null,null,null,null,null,null,null,null,null,{"$f":"IF(基礎データ!A95=\"\",\"\",基礎データ!A95)","v":""},{"$f":"IF(基礎データ!B95=\"\",\"\",基礎データ!B95)","v":""},null,null,null,null,null,""]
[null,null,null,null,null,null,null,null,null,null,null,null,null,null,null,null,null,null,{"$f":"IF(基礎データ!A96=\"\",\"\",基礎データ!A96)","v":""},{"$f":"IF(基礎データ!B96=\"\",\"\",基礎データ!B96)","v":""},null,null,null,null,null,""]
[null,null,null,null,null,null,null,null,null,null,null,null,null,null,null,null,null,null,{"$f":"IF(基礎データ!A97=\"\",\"\",基礎データ!A97)","v":""},{"$f":"IF(基礎データ!B97=\"\",\"\",基礎データ!B97)","v":""},null,null,null,null,null,""]
[null,null,null,null,null,null,null,null,null,null,null,null,null,null,null,null,null,null,{"$f":"IF(基礎データ!A98=\"\",\"\",基礎データ!A98)","v":""},{"$f":"IF(基礎データ!B98=\"\",\"\",基礎データ!B98)","v":""},null,null,null,null,null,""]
[null,null,null,null,null,null,null,null,null,null,null,null,null,null,null,null,null,null,{"$f":"IF(基礎データ!A99=\"\",\"\",基礎データ!A99)","v":""},{"$f":"IF(基礎データ!B99=\"\",\"\",基礎データ!B99)","v":""},null,null,null,null,null,""]
[null,null,null,null,null,null,null,null,null,null,null,null,null,null,null,null,null,null,{"$f":"IF(基礎データ!A100=\"\",\"\",基礎データ!A100)","v":""},{"$f":"IF(基礎データ!B100=\"\",\"\",基礎データ!B100)","v":""},null,null,null,null,null,""]
[null,null,null,null,null,null,null,null,null,null,null,null,null,null,null,null,null,null,{"$f":"IF(基礎データ!A101=\"\",\"\",基礎データ!A101)","v":""},{"$f":"IF(基礎データ!B101=\"\",\"\",基礎データ!B101)","v":""},null,null,null,null,null,""]
[null,null,null,null,null,null,null,null,null,null,null,null,null,null,null,null,null,null,{"$f":"IF(基礎データ!A102=\"\",\"\",基礎データ!A102)","v":""},{"$f":"IF(基礎データ!B102=\"\",\"\",基礎データ!B102)","v":""},null,null,null,null,null,""]
[null,null,null,null,null,null,null,null,null,null,null,null,null,null,null,null,null,null,{"$f":"IF(基礎データ!A103=\"\",\"\",基礎データ!A103)","v":""},{"$f":"IF(基礎データ!B103=\"\",\"\",基礎データ!B103)","v":""},null,null,null,null,null,""]
[null,null,null,null,null,null,null,null,null,null,null,null,null,null,null,null,null,null,{"$f":"IF(基礎データ!A104=\"\",\"\",基礎データ!A104)","v":""},{"$f":"IF(基礎データ!B104=\"\",\"\",基礎データ!B104)","v":""}]

{"sheet":"県外視察計画書","index":5,"n_rows":119,"n_cols":20,"rows_kept":119,"cut":false,"hidden":true,"merged":[[25,3,25,13],[26,3,26,13],[27,3,27,13],[30,3,30,5],[30,6,30,9],[28,6,28,9],[28,10,28,13],[29,3,29,5],[30,10,30,13],[31,1,35,2],[31,3,31,13],[32,3,32,13],[33,3,33,13],[34,3,34,13],[35,3,35,13],[15,15,15,19],[16,3,16,13],[17,3,17,13],[17,15,18,15],[18,3,18,13],[23,1,30,1],[23,2,27,2],[23,3,23,13],[24,3,24,13],[11,1,11,13],[12,1,13,13],[15,1,22,2],[15,3,15,13],[19,3,19,13],[20,3,20,13],[21,3,21,13],[22,3,22,13],[28,2,30,2],[28,3,28,5],[29,6,29,9],[29,10,29,13],[13,15,14,19],[14,1,14,2],[14,3,14,5],[14,6,14,9],[14,10,14,13],[4,16,4,17],[5,16,5,17],[8,5,8,6],[8,8,8,9],[8,10,8,12],[2,4,4,9],[2,10,2,11],[2,12,2,13],[3,10,4,11],[3,12,4,13]]}
[]
[null,"様式１－１"]
[null,null,null,null,"研究視察旅行計画書",null,null,null,null,null,"校長",null,"教頭"]
[]
[]
[]
[null,null,null,null,null,null,null,"平成",24,"年",1,"月",3,"日"]
[null,{"$f":"P18&\"長  殿\"","v":"0長  殿"}]
[null,null,null,null,null,"職　名",null,{"$f":"IF(K9=\"\",\"\",VLOOKUP(K9,S18:T118,2,FALSE))","v":{"$error":"#N/A"}},"氏　名",null,"坪田　孝子",null,null,"印"]
[]
[]
[null,"　　下記のとおり研究視察を計画しましたので、実施してよろしいか。"]
[null,"記"]
[null,null,null,null,null,null,null,null,null,null,null,null,null,null,null,"リストにない場合は一番下に追加してください"]
[null,"出張期間",null,"2012-01-01",null,null,"2012-01-03",null,null,null,{"$f":"IF(G15=\"\",\"\",\"( \"&G15-D15&\"泊\"&G15-D15+1&\"日\"&\" )\")","v":"( 2泊3日 )"}]
[null,"目的及び\n\n\n\n\n\n\n\n視察概要",null,null,null,null,null,null,null,null,null,null,null,null,null,"基礎データ"]
[null,null,null,null,null,null,null,null,null,null,null,null,null,null,null,"学校名","報告書名","場所","氏名","職名"]
[null,null,null,null,null,null,null,null,null,null,null,null,null,null,null,{"$f":"旅行命令!K10","v":0},"研究視察旅行計画書",null,{"$f":"IF(基礎データ!A3=\"\",\"\",基礎データ!A3)","v":""},{"$f":"IF(基礎データ!B3=\"\",\"\",基礎データ!B3)","v":""}]
[null,null,null,null,null,null,null,null,null,null,null,null,null,null,null,null,null,null,{"$f":"IF(基礎データ!A4=\"\",\"\",基礎データ!A4)","v":""},{"$f":"IF(基礎データ!B4=\"\",\"\",基礎データ!B4)","v":""}]
[null,null,null,null,null,null,null,null,null,null,null,null,null,null,null,null,null,null,{"$f":"IF(基礎データ!A5=\"\",\"\",基礎データ!A5)","v":""},{"$f":"IF(基礎データ!B5=\"\",\"\",基礎データ!B5)","v":""}]
[null,null,null,null,null,null,null,null,null,null,null,null,null,null,null,null,null,null,{"$f":"IF(基礎データ!A6=\"\",\"\",基礎データ!A6)","v":""},{"$f":"IF(基礎データ!B6=\"\",\"\",基礎データ!B6)","v":""}]
[null,null,null,null,null,null,null,null,null,null,null,null,null,null,null,null,null,null,{"$f":"IF(基礎データ!A7=\"\",\"\",基礎データ!A7)","v":""},{"$f":"IF(基礎データ!B7=\"\",\"\",基礎データ!B7)","v":""}]
[null,null,null,null,null,null,null,null,null,null,null,null,null,null,null,null,null,null,{"$f":"IF(基礎データ!A8=\"\",\"\",基礎データ!A8)","v":""},{"$f":"IF(基礎データ!B8=\"\",\"\",基礎データ!B8)","v":""}]
[null,"視察先","所在地\n\n\n宿泊地",null,null,null,null,null,null,null,null,null,null,null,null,null,null,null,{"$f":"IF(基礎データ!A9=\"\",\"\",基礎データ!A9)","v":""},{"$f":"IF(基礎データ!B9=\"\",\"\",基礎データ!B9)","v":""}]
[null,null,null,null,null,null,null,null,null,null,null,null,null,null,null,null,null,null,{"$f":"IF(基礎データ!A10=\"\",\"\",基礎データ!A10)","v":""},{"$f":"IF(基礎データ!B10=\"\",\"\",基礎データ!B10)","v":""}]
[null,null,null,null,null,null,null,null,null,null,null,null,null,null,null,null,null,null,{"$f":"IF(基礎データ!A11=\"\",\"\",基礎データ!A11)","v":""},{"$f":"IF(基礎データ!B11=\"\",\"\",基礎データ!B11)","v":""}]
[null,null,null,null,null,null,null,null,null,null,null,null,null,null,null,null,null,null,{"$f":"IF(基礎データ!A12=\"\",\"\",基礎データ!A12)","v":""},{"$f":"IF(基礎データ!B12=\"\",\"\",基礎データ!B12)","v":""}]
[null,null,null,null,null,null,null,null,null,null,null,null,null,null,null,null,null,null,{"$f":"IF(基礎データ!A13=\"\",\"\",基礎データ!A13)","v":""},{"$f":"IF(基礎データ!B13=\"\",\"\",基礎データ!B13)","v":""}]
[null,null,"会　場","名称",null,null,"主催者又は相手方職員",null,null,null,"電話",null,null,null,null,null,null,null,{"$f":"IF(基礎データ!A14=\"\",\"\",基礎データ!A14)","v":""},{"$f":"IF(基礎データ!B14=\"\",\"\",基礎データ!B14)","v":""}]
[null,null,null,null,null,null,null,null,null,null,null,null,null,null,null,null,null,null,{"$f":"IF(基礎データ!A15=\"\",\"\",基礎データ!A15)","v":""},{"$f":"IF(基礎データ!B15=\"\",\"\",基礎データ!B15)","v":""}]
[null,null,null,null,null,null,null,null,null,null,null,null,null,null,null,null,null,null,{"$f":"IF(基礎データ!A16=\"\",\"\",基礎データ!A16)","v":""},{"$f":"IF(基礎データ!B16=\"\",\"\",基礎データ!B16)","v":""}]
[null,"備　　考",null,null,null,null,null,null,null,null,null,null,null,null,null,null,null,null,{"$f":"IF(基礎データ!A17=\"\",\"\",基礎データ!A17)","v":""},{"$f":"IF(基礎データ!B17=\"\",\"\",基礎データ!B17)","v":""}]
[null,null,null,null,null,null,null,null,null,null,null,null,null,null,null,null,null,null,{"$f":"IF(基礎データ!A18=\"\",\"\",基礎データ!A18)","v":""},{"$f":"IF(基礎データ!B18=\"\",\"\",基礎データ!B18)","v":""}]
[null,null,null,null,null,null,null,null,null,null,null,null,null,null,null,null,null,null,{"$f":"IF(基礎データ!A19=\"\",\"\",基礎データ!A19)","v":""},{"$f":"IF(基礎データ!B19=\"\",\"\",基礎データ!B19)","v":""}]
[null,null,null,null,null,null,null,null,null,null,null,null,null,null,null,null,null,null,{"$f":"IF(基礎データ!A20=\"\",\"\",基礎データ!A20)","v":""},{"$f":"IF(基礎データ!B20=\"\",\"\",基礎データ!B20)","v":""}]
[null,null,null,null,null,null,null,null,null,null,null,null,null,null,null,null,null,null,{"$f":"IF(基礎データ!A21=\"\",\"\",基礎データ!A21)","v":""},{"$f":"IF(基礎データ!B21=\"\",\"\",基礎データ!B21)","v":""}]
[null,null,null,null,null,null,null,null,null,null,null,null,null,null,null,null,null,null,{"$f":"IF(基礎データ!A22=\"\",\"\",基礎データ!A22)","v":""},{"$f":"IF(基礎データ!B22=\"\",\"\",基礎データ!B22)","v":""}]
[null,null,null,null,null,null,null,null,null,null,null,null,null,null,null,null,null,null,{"$f":"IF(基礎データ!A23=\"\",\"\",基礎データ!A23)","v":""},{"$f":"IF(基礎データ!B23=\"\",\"\",基礎データ!B23)","v":""}]
[null,null,null,null,null,null,null,null,null,null,null,null,null,null,null,null,null,null,{"$f":"IF(基礎データ!A24=\"\",\"\",基礎データ!A24)","v":""},{"$f":"IF(基礎データ!B24=\"\",\"\",基礎データ!B24)","v":""}]
[null,null,null,null,null,null,null,null,null,null,null,null,null,null,null,null,null,null,{"$f":"IF(基礎データ!A25=\"\",\"\",基礎データ!A25)","v":""},{"$f":"IF(基礎データ!B25=\"\",\"\",基礎データ!B25)","v":""}]
[null,null,null,null,null,null,null,null,null,null,null,null,null,null,null,null,null,null,{"$f":"IF(基礎データ!A26=\"\",\"\",基礎データ!A26)","v":""},{"$f":"IF(基礎データ!B26=\"\",\"\",基礎データ!B26)","v":""}]
[null,null,null,null,null,null,null,null,null,null,null,null,null,null,null,null,null,null,{"$f":"IF(基礎データ!A27=\"\",\"\",基礎データ!A27)","v":""},{"$f":"IF(基礎データ!B27=\"\",\"\",基礎データ!B27)","v":""}]
[null,null,null,null,null,null,null,null,null,null,null,null,null,null,null,null,null,null,{"$f":"IF(基礎データ!A28=\"\",\"\",基礎データ!A28)","v":""},{"$f":"IF(基礎データ!B28=\"\",\"\",基礎データ!B28)","v":""}]
[null,null,null,null,null,null,null,null,null,null,null,null,null,null,null,null,null,null,{"$f":"IF(基礎データ!A29=\"\",\"\",基礎データ!A29)","v":""},{"$f":"IF(基礎データ!B29=\"\",\"\",基礎データ!B29)","v":""}]
[null,null,null,null,null,null,null,null,null,null,null,null,null,null,null,null,null,null,{"$f":"IF(基礎データ!A30=\"\",\"\",基礎データ!A30)","v":""},{"$f":"IF(基礎データ!B30=\"\",\"\",基礎データ!B30)","v":""}]
[null,null,null,null,null,null,null,null,null,null,null,null,null,null,null,null,null,null,{"$f":"IF(基礎データ!A31=\"\",\"\",基礎データ!A31)","v":""},{"$f":"IF(基礎データ!B31=\"\",\"\",基礎データ!B31)","v":""}]
[null,null,null,null,null,null,null,null,null,null,null,null,null,null,null,null,null,null,{"$f":"IF(基礎データ!A32=\"\",\"\",基礎データ!A32)","v":""},{"$f":"IF(基礎データ!B32=\"\",\"\",基礎データ!B32)","v":""}]
[null,null,null,null,null,null,null,null,null,null,null,null,null,null,null,null,null,null,{"$f":"IF(基礎データ!A33=\"\",\"\",基礎データ!A33)","v":""},{"$f":"IF(基礎データ!B33=\"\",\"\",基礎データ!B33)","v":""}]
[null,null,null,null,null,null,null,null,null,null,null,null,null,null,null,null,null,null,{"$f":"IF(基礎データ!A34=\"\",\"\",基礎データ!A34)","v":""},{"$f":"IF(基礎データ!B34=\"\",\"\",基礎データ!B34)","v":""}]
[null,null,null,null,null,null,null,null,null,null,null,null,null,null,null,null,null,null,{"$f":"IF(基礎データ!A35=\"\",\"\",基礎データ!A35)","v":""},{"$f":"IF(基礎データ!B35=\"\",\"\",基礎データ!B35)","v":""}]
[null,null,null,null,null,null,null,null,null,null,null,null,null,null,null,null,null,null,{"$f":"IF(基礎データ!A36=\"\",\"\",基礎データ!A36)","v":""},{"$f":"IF(基礎データ!B36=\"\",\"\",基礎データ!B36)","v":""}]
[null,null,null,null,null,null,null,null,null,null,null,null,null,null,null,null,null,null,{"$f":"IF(基礎データ!A37=\"\",\"\",基礎データ!A37)","v":""},{"$f":"IF(基礎データ!B37=\"\",\"\",基礎データ!B37)","v":""}]
[null,null,null,null,null,null,null,null,null,null,null,null,null,null,null,null,null,null,{"$f":"IF(基礎データ!A38=\"\",\"\",基礎データ!A38)","v":""},{"$f":"IF(基礎データ!B38=\"\",\"\",基礎データ!B38)","v":""}]
[null,null,null,null,null,null,null,null,null,null,null,null,null,null,null,null,null,null,{"$f":"IF(基礎データ!A39=\"\",\"\",基礎データ!A39)","v":""},{"$f":"IF(基礎データ!B39=\"\",\"\",基礎データ!B39)","v":""}]
[null,null,null,null,null,null,null,null,null,null,null,null,null,null,null,null,null,null,{"$f":"IF(基礎データ!A40=\"\",\"\",基礎データ!A40)","v":""},{"$f":"IF(基礎データ!B40=\"\",\"\",基礎データ!B40)","v":""}]
[null,null,null,null,null,null,null,null,null,null,null,null,null,null,null,null,null,null,{"$f":"IF(基礎データ!A41=\"\",\"\",基礎データ!A41)","v":""},{"$f":"IF(基礎データ!B41=\"\",\"\",基礎データ!B41)","v":""}]
[null,null,null,null,null,null,null,null,null,null,null,null,null,null,null,null,null,null,{"$f":"IF(基礎データ!A42=\"\",\"\",基礎データ!A42)","v":""},{"$f":"IF(基礎データ!B42=\"\",\"\",基礎データ!B42)","v":""}]
[null,null,null,null,null,null,null,null,null,null,null,null,null,null,null,null,null,null,{"$f":"IF(基礎データ!A43=\"\",\"\",基礎データ!A43)","v":""},{"$f":"IF(基礎データ!B43=\"\",\"\",基礎データ!B43)","v":""}]
[null,null,null,null,null,null,null,null,null,null,null,null,null,null,null,null,null,null,{"$f":"IF(基礎データ!A44=\"\",\"\",基礎データ!A44)","v":""},{"$f":"IF(基礎データ!B44=\"\",\"\",基礎データ!B44)","v":""}]
[null,null,null,null,null,null,null,null,null,null,null,null,null,null,null,null,null,null,{"$f":"IF(基礎データ!A45=\"\",\"\",基礎データ!A45)","v":""},{"$f":"IF(基礎データ!B45=\"\",\"\",基礎データ!B45)","v":""}]
[null,null,null,null,null,null,null,null,null,null,null,null,null,null,null,null,null,null,{"$f":"IF(基礎データ!A46=\"\",\"\",基礎データ!A46)","v":""},{"$f":"IF(基礎データ!B46=\"\",\"\",基礎データ!B46)","v":""}]
[null,null,null,null,null,null,null,null,null,null,null,null,null,null,null,null,null,null,{"$f":"IF(基礎データ!A47=\"\",\"\",基礎データ!A47)","v":""},{"$f":"IF(基礎データ!B47=\"\",\"\",基礎データ!B47)","v":""}]
[null,null,null,null,null,null,null,null,null,null,null,null,null,null,null,null,null,null,{"$f":"IF(基礎データ!A48=\"\",\"\",基礎データ!A48)","v":""},{"$f":"IF(基礎データ!B48=\"\",\"\",基礎データ!B48)","v":""}]
[null,null,null,null,null,null,null,null,null,null,null,null,null,null,null,null,null,null,{"$f":"IF(基礎データ!A49=\"\",\"\",基礎データ!A49)","v":""},{"$f":"IF(基礎データ!B49=\"\",\"\",基礎データ!B49)","v":""}]
[null,null,null,null,null,null,null,null,null,null,null,null,null,null,null,null,null,null,{"$f":"IF(基礎データ!A50=\"\",\"\",基礎データ!A50)","v":""},{"$f":"IF(基礎データ!B50=\"\",\"\",基礎データ!B50)","v":""}]
[null,null,null,null,null,null,null,null,null,null,null,null,null,null,null,null,null,null,{"$f":"IF(基礎データ!A51=\"\",\"\",基礎データ!A51)","v":""},{"$f":"IF(基礎データ!B51=\"\",\"\",基礎データ!B51)","v":""}]
[null,null,null,null,null,null,null,null,null,null,null,null,null,null,null,null,null,null,{"$f":"IF(基礎データ!A52=\"\",\"\",基礎データ!A52)","v":""},{"$f":"IF(基礎データ!B52=\"\",\"\",基礎データ!B52)","v":""}]
[null,null,null,null,null,null,null,null,null,null,null,null,null,null,null,null,null,null,{"$f":"IF(基礎データ!A53=\"\",\"\",基礎データ!A53)","v":""},{"$f":"IF(基礎データ!B53=\"\",\"\",基礎データ!B53)","v":""}]
[null,null,null,null,null,null,null,null,null,null,null,null,null,null,null,null,null,null,{"$f":"IF(基礎データ!A54=\"\",\"\",基礎データ!A54)","v":""},{"$f":"IF(基礎データ!B54=\"\",\"\",基礎データ!B54)","v":""}]
[null,null,null,null,null,null,null,null,null,null,null,null,null,null,null,null,null,null,{"$f":"IF(基礎データ!A55=\"\",\"\",基礎データ!A55)","v":""},{"$f":"IF(基礎データ!B55=\"\",\"\",基礎データ!B55)","v":""}]
[null,null,null,null,null,null,null,null,null,null,null,null,null,null,null,null,null,null,{"$f":"IF(基礎データ!A56=\"\",\"\",基礎データ!A56)","v":""},{"$f":"IF(基礎データ!B56=\"\",\"\",基礎データ!B56)","v":""}]
[null,null,null,null,null,null,null,null,null,null,null,null,null,null,null,null,null,null,{"$f":"IF(基礎データ!A57=\"\",\"\",基礎データ!A57)","v":""},{"$f":"IF(基礎データ!B57=\"\",\"\",基礎データ!B57)","v":""}]
[null,null,null,null,null,null,null,null,null,null,null,null,null,null,null,null,null,null,{"$f":"IF(基礎データ!A58=\"\",\"\",基礎データ!A58)","v":""},{"$f":"IF(基礎データ!B58=\"\",\"\",基礎データ!B58)","v":""}]
[null,null,null,null,null,null,null,null,null,null,null,null,null,null,null,null,null,null,{"$f":"IF(基礎データ!A59=\"\",\"\",基礎データ!A59)","v":""},{"$f":"IF(基礎データ!B59=\"\",\"\",基礎データ!B59)","v":""}]
[null,null,null,null,null,null,null,null,null,null,null,null,null,null,null,null,null,null,{"$f":"IF(基礎データ!A60=\"\",\"\",基礎データ!A60)","v":""},{"$f":"IF(基礎データ!B60=\"\",\"\",基礎データ!B60)","v":""}]
[null,null,null,null,null,null,null,null,null,null,null,null,null,null,null,null,null,null,{"$f":"IF(基礎データ!A61=\"\",\"\",基礎データ!A61)","v":""},{"$f":"IF(基礎データ!B61=\"\",\"\",基礎データ!B61)","v":""}]
[null,null,null,null,null,null,null,null,null,null,null,null,null,null,null,null,null,null,{"$f":"IF(基礎データ!A62=\"\",\"\",基礎データ!A62)","v":""},{"$f":"IF(基礎データ!B62=\"\",\"\",基礎データ!B62)","v":""}]
[null,null,null,null,null,null,null,null,null,null,null,null,null,null,null,null,null,null,{"$f":"IF(基礎データ!A63=\"\",\"\",基礎データ!A63)","v":""},{"$f":"IF(基礎データ!B63=\"\",\"\",基礎データ!B63)","v":""}]
[null,null,null,null,null,null,null,null,null,null,null,null,null,null,null,null,null,null,{"$f":"IF(基礎データ!A64=\"\",\"\",基礎データ!A64)","v":""},{"$f":"IF(基礎データ!B64=\"\",\"\",基礎データ!B64)","v":""}]
[null,null,null,null,null,null,null,null,null,null,null,null,null,null,null,null,null,null,{"$f":"IF(基礎データ!A65=\"\",\"\",基礎データ!A65)","v":""},{"$f":"IF(基礎データ!B65=\"\",\"\",基礎データ!B65)","v":""}]
[null,null,null,null,null,null,null,null,null,null,null,null,null,null,null,null,null,null,{"$f":"IF(基礎データ!A66=\"\",\"\",基礎データ!A66)","v":""},{"$f":"IF(基礎データ!B66=\"\",\"\",基礎データ!B66)","v":""}]
[null,null,null,null,null,null,null,null,null,null,null,null,null,null,null,null,null,null,{"$f":"IF(基礎データ!A67=\"\",\"\",基礎データ!A67)","v":""},{"$f":"IF(基礎データ!B67=\"\",\"\",基礎データ!B67)","v":""}]
[null,null,null,null,null,null,null,null,null,null,null,null,null,null,null,null,null,null,{"$f":"IF(基礎データ!A68=\"\",\"\",基礎データ!A68)","v":""},{"$f":"IF(基礎データ!B68=\"\",\"\",基礎データ!B68)","v":""}]
[null,null,null,null,null,null,null,null,null,null,null,null,null,null,null,null,null,null,{"$f":"IF(基礎データ!A69=\"\",\"\",基礎データ!A69)","v":""},{"$f":"IF(基礎データ!B69=\"\",\"\",基礎データ!B69)","v":""}]
[null,null,null,null,null,null,null,null,null,null,null,null,null,null,null,null,null,null,{"$f":"IF(基礎データ!A70=\"\",\"\",基礎データ!A70)","v":""},{"$f":"IF(基礎データ!B70=\"\",\"\",基礎データ!B70)","v":""}]
[null,null,null,null,null,null,null,null,null,null,null,null,null,null,null,null,null,null,{"$f":"IF(基礎データ!A71=\"\",\"\",基礎データ!A71)","v":""},{"$f":"IF(基礎データ!B71=\"\",\"\",基礎データ!B71)","v":""}]
[null,null,null,null,null,null,null,null,null,null,null,null,null,null,null,null,null,null,{"$f":"IF(基礎データ!A72=\"\",\"\",基礎データ!A72)","v":""},{"$f":"IF(基礎データ!B72=\"\",\"\",基礎データ!B72)","v":""}]
[null,null,null,null,null,null,null,null,null,null,null,null,null,null,null,null,null,null,{"$f":"IF(基礎データ!A73=\"\",\"\",基礎データ!A73)","v":""},{"$f":"IF(基礎データ!B73=\"\",\"\",基礎データ!B73)","v":""}]
[null,null,null,null,null,null,null,null,null,null,null,null,null,null,null,null,null,null,{"$f":"IF(基礎データ!A74=\"\",\"\",基礎データ!A74)","v":""},{"$f":"IF(基礎データ!B74=\"\",\"\",基礎データ!B74)","v":""}]
[null,null,null,null,null,null,null,null,null,null,null,null,null,null,null,null,null,null,{"$f":"IF(基礎データ!A75=\"\",\"\",基礎データ!A75)","v":""},{"$f":"IF(基礎データ!B75=\"\",\"\",基礎データ!B75)","v":""}]
[null,null,null,null,null,null,null,null,null,null,null,null,null,null,null,null,null,null,{"$f":"IF(基礎データ!A76=\"\",\"\",基礎データ!A76)","v":""},{"$f":"IF(基礎データ!B76=\"\",\"\",基礎データ!B76)","v":""}]
[null,null,null,null,null,null,null,null,null,null,null,null,null,null,null,null,null,null,{"$f":"IF(基礎データ!A77=\"\",\"\",基礎データ!A77)","v":""},{"$f":"IF(基礎データ!B77=\"\",\"\",基礎データ!B77)","v":""}]
[null,null,null,null,null,null,null,null,null,null,null,null,null,null,null,null,null,null,{"$f":"IF(基礎データ!A78=\"\",\"\",基礎データ!A78)","v":""},{"$f":"IF(基礎データ!B78=\"\",\"\",基礎データ!B78)","v":""}]
[null,null,null,null,null,null,null,null,null,null,null,null,null,null,null,null,null,null,{"$f":"IF(基礎データ!A79=\"\",\"\",基礎データ!A79)","v":""},{"$f":"IF(基礎データ!B79=\"\",\"\",基礎データ!B79)","v":""}]
[null,null,null,null,null,null,null,null,null,null,null,null,null,null,null,null,null,null,{"$f":"IF(基礎データ!A80=\"\",\"\",基礎データ!A80)","v":""},{"$f":"IF(基礎データ!B80=\"\",\"\",基礎データ!B80)","v":""}]
[null,null,null,null,null,null,null,null,null,null,null,null,null,null,null,null,null,null,{"$f":"IF(基礎データ!A81=\"\",\"\",基礎データ!A81)","v":""},{"$f":"IF(基礎データ!B81=\"\",\"\",基礎データ!B81)","v":""}]
[null,null,null,null,null,null,null,null,null,null,null,null,null,null,null,null,null,null,{"$f":"IF(基礎データ!A82=\"\",\"\",基礎データ!A82)","v":""},{"$f":"IF(基礎データ!B82=\"\",\"\",基礎データ!B82)","v":""}]
[null,null,null,null,null,null,null,null,null,null,null,null,null,null,null,null,null,null,{"$f":"IF(基礎データ!A83=\"\",\"\",基礎データ!A83)","v":""},{"$f":"IF(基礎データ!B83=\"\",\"\",基礎データ!B83)","v":""}]
[null,null,null,null,null,null,null,null,null,null,null,null,null,null,null,null,null,null,{"$f":"IF(基礎データ!A84=\"\",\"\",基礎データ!A84)","v":""},{"$f":"IF(基礎データ!B84=\"\",\"\",基礎データ!B84)","v":""}]
[null,null,null,null,null,null,null,null,null,null,null,null,null,null,null,null,null,null,{"$f":"IF(基礎データ!A85=\"\",\"\",基礎データ!A85)","v":""},{"$f":"IF(基礎データ!B85=\"\",\"\",基礎データ!B85)","v":""}]
[null,null,null,null,null,null,null,null,null,null,null,null,null,null,null,null,null,null,{"$f":"IF(基礎データ!A86=\"\",\"\",基礎データ!A86)","v":""},{"$f":"IF(基礎データ!B86=\"\",\"\",基礎データ!B86)","v":""}]
[null,null,null,null,null,null,null,null,null,null,null,null,null,null,null,null,null,null,{"$f":"IF(基礎データ!A87=\"\",\"\",基礎データ!A87)","v":""},{"$f":"IF(基礎データ!B87=\"\",\"\",基礎データ!B87)","v":""}]
[null,null,null,null,null,null,null,null,null,null,null,null,null,null,null,null,null,null,{"$f":"IF(基礎データ!A88=\"\",\"\",基礎データ!A88)","v":""},{"$f":"IF(基礎データ!B88=\"\",\"\",基礎データ!B88)","v":""}]
[null,null,null,null,null,null,null,null,null,null,null,null,null,null,null,null,null,null,{"$f":"IF(基礎データ!A89=\"\",\"\",基礎データ!A89)","v":""},{"$f":"IF(基礎データ!B89=\"\",\"\",基礎データ!B89)","v":""}]
[null,null,null,null,null,null,null,null,null,null,null,null,null,null,null,null,null,null,{"$f":"IF(基礎データ!A90=\"\",\"\",基礎データ!A90)","v":""},{"$f":"IF(基礎データ!B90=\"\",\"\",基礎データ!B90)","v":""}]
[null,null,null,null,null,null,null,null,null,null,null,null,null,null,null,null,null,null,{"$f":"IF(基礎データ!A91=\"\",\"\",基礎データ!A91)","v":""},{"$f":"IF(基礎データ!B91=\"\",\"\",基礎データ!B91)","v":""}]
[null,null,null,null,null,null,null,null,null,null,null,null,null,null,null,null,null,null,{"$f":"IF(基礎データ!A92=\"\",\"\",基礎データ!A92)","v":""},{"$f":"IF(基礎データ!B92=\"\",\"\",基礎データ!B92)","v":""}]
[null,null,null,null,null,null,null,null,null,null,null,null,null,null,null,null,null,null,{"$f":"IF(基礎データ!A93=\"\",\"\",基礎データ!A93)","v":""},{"$f":"IF(基礎データ!B93=\"\",\"\",基礎データ!B93)","v":""}]
[null,null,null,null,null,null,null,null,null,null,null,null,null,null,null,null,null,null,{"$f":"IF(基礎データ!A94=\"\",\"\",基礎データ!A94)","v":""},{"$f":"IF(基礎データ!B94=\"\",\"\",基礎データ!B94)","v":""}]
[null,null,null,null,null,null,null,null,null,null,null,null,null,null,null,null,null,null,{"$f":"IF(基礎データ!A95=\"\",\"\",基礎データ!A95)","v":""},{"$f":"IF(基礎データ!B95=\"\",\"\",基礎データ!B95)","v":""}]
[null,null,null,null,null,null,null,null,null,null,null,null,null,null,null,null,null,null,{"$f":"IF(基礎データ!A96=\"\",\"\",基礎データ!A96)","v":""},{"$f":"IF(基礎データ!B96=\"\",\"\",基礎データ!B96)","v":""}]
[null,null,null,null,null,null,null,null,null,null,null,null,null,null,null,null,null,null,{"$f":"IF(基礎データ!A97=\"\",\"\",基礎データ!A97)","v":""},{"$f":"IF(基礎データ!B97=\"\",\"\",基礎データ!B97)","v":""}]
[null,null,null,null,null,null,null,null,null,null,null,null,null,null,null,null,null,null,{"$f":"IF(基礎データ!A98=\"\",\"\",基礎データ!A98)","v":""},{"$f":"IF(基礎データ!B98=\"\",\"\",基礎データ!B98)","v":""}]
[null,null,null,null,null,null,null,null,null,null,null,null,null,null,null,null,null,null,{"$f":"IF(基礎データ!A99=\"\",\"\",基礎データ!A99)","v":""},{"$f":"IF(基礎データ!B99=\"\",\"\",基礎データ!B99)","v":""}]
[null,null,null,null,null,null,null,null,null,null,null,null,null,null,null,null,null,null,{"$f":"IF(基礎データ!A100=\"\",\"\",基礎データ!A100)","v":""},{"$f":"IF(基礎データ!B100=\"\",\"\",基礎データ!B100)","v":""}]
[null,null,null,null,null,null,null,null,null,null,null,null,null,null,null,null,null,null,{"$f":"IF(基礎データ!A101=\"\",\"\",基礎データ!A101)","v":""},{"$f":"IF(基礎データ!B101=\"\",\"\",基礎データ!B101)","v":""}]
[null,null,null,null,null,null,null,null,null,null,null,null,null,null,null,null,null,null,{"$f":"IF(基礎データ!A102=\"\",\"\",基礎データ!A102)","v":""},{"$f":"IF(基礎データ!B102=\"\",\"\",基礎データ!B102)","v":""}]
[null,null,null,null,null,null,null,null,null,null,null,null,null,null,null,null,null,null,{"$f":"IF(基礎データ!A103=\"\",\"\",基礎データ!A103)","v":""},{"$f":"IF(基礎データ!B103=\"\",\"\",基礎データ!B103)","v":""}]
[null,null,null,null,null,null,null,null,null,null,null,null,null,null,null,null,null,null,{"$f":"IF(基礎データ!A104=\"\",\"\",基礎データ!A104)","v":""},{"$f":"IF(基礎データ!B104=\"\",\"\",基礎データ!B104)","v":""}]

{"sheet":"集団宿泊的行事","index":6,"n_rows":119,"n_cols":18,"rows_kept":119,"cut":false,"hidden":true,"merged":[[33,1,35,1],[33,2,35,11],[23,2,23,11],[24,2,24,11],[25,2,25,11],[16,1,32,1],[16,2,16,11],[17,2,17,11],[26,2,26,11],[27,2,27,11],[28,2,28,11],[30,2,30,11],[29,2,29,11],[31,2,31,11],[32,2,32,11],[18,13,19,13],[19,2,19,11],[20,2,20,11],[21,2,21,11],[22,2,22,11],[18,2,18,11],[13,13,14,17],[14,2,14,3],[14,4,14,7],[14,8,14,11],[15,2,15,11],[15,13,16,17],[8,5,9,5],[8,6,9,7],[8,8,9,10],[8,11,9,11],[12,1,12,11],[11,6,11,7],[2,3,4,7],[2,8,2,9],[2,10,2,11],[3,8,4,9],[3,10,4,11]]}
[]
[null,"様式　３"]
[null,null,null,"社会見学事前調査報告書",null,null,null,null,"校長",null,"教頭"]
[]
[]
[]
[null,null,null,null,null,"令和","元","年",7,"月",24,"日"]
[null,{"$f":"N19&\"長  殿\"","v":"0長  殿"}]
[null,null,null,null,null,"職・氏名","教諭",null,"長縄　佳子",null,null,"印"]
[]
[null,"　　　下記のとおり事前調査しましたので、報告します。"]
[]
[null,"記"]
[null,null,null,null,null,null,null,null,null,null,null,null,null,"リストにない場合は一番下に追加してください"]
[null,"期　　間","2019-07-24",null,"2019-07-24",null,null,null,{"$f":"IF(E15=\"\",\"\",\"( \"&E15-C15&\"泊\"&E15-C15+1&\"日\"&\" )\")","v":"( 0泊1日 )"}]
[null,"用務先","東海市（ガス・エネルギー館）",null,null,null,null,null,null,null,null,null,null,"基礎データ"]
[null,"報　　　　　　告　　　　　　事　　　　　　項","①　経路・交通機関等の安全確保等について"]
[null,null,"・特に問題なし。",null,null,null,null,null,null,null,null,null,null,"学校名","行事名","場所","氏名","職名"]
[null,null,null,null,null,null,null,null,null,null,null,null,null,{"$f":"旅行命令!K10","v":0},"第６学年修学旅行事前調査報告書","豊根村（豊明市野外教育ｾﾝﾀｰ）",{"$f":"IF(基礎データ!A3=\"\",\"\",基礎データ!A3)","v":""},{"$f":"IF(基礎データ!B3=\"\",\"\",基礎データ!B3)","v":""}]
[null,null,null,null,null,null,null,null,null,null,null,null,null,null,"第５学年野外活動事前調査報告書","豊明市（中京競馬場)",{"$f":"IF(基礎データ!A4=\"\",\"\",基礎データ!A4)","v":""},{"$f":"IF(基礎データ!B4=\"\",\"\",基礎データ!B4)","v":""}]
[null,null,null,null,null,null,null,null,null,null,null,null,null,null,"遠足事前調査報告書","豊明市新田町（三崎水辺公園）",{"$f":"IF(基礎データ!A5=\"\",\"\",基礎データ!A5)","v":""},{"$f":"IF(基礎データ!B5=\"\",\"\",基礎データ!B5)","v":""}]
[null,null,null,null,null,null,null,null,null,null,null,null,null,null,"社会見学事前調査報告書","大府市（大府みどり公園）",{"$f":"IF(基礎データ!A6=\"\",\"\",基礎データ!A6)","v":""},{"$f":"IF(基礎データ!B6=\"\",\"\",基礎データ!B6)","v":""}]
[null,null,null,null,null,null,null,null,null,null,null,null,null,null,null,"名古屋市緑区水広（水広公園）",{"$f":"IF(基礎データ!A7=\"\",\"\",基礎データ!A7)","v":""},{"$f":"IF(基礎データ!B7=\"\",\"\",基礎データ!B7)","v":""}]
[null,null,"②　見学先・食事場所・宿泊施設について",null,null,null,null,null,null,null,null,null,null,null,null,"刈谷市井ヶ谷町（洲原公園）",{"$f":"IF(基礎データ!A8=\"\",\"\",基礎データ!A8)","v":""},{"$f":"IF(基礎データ!B8=\"\",\"\",基礎データ!B8)","v":""}]
[null,null,"・昼食、集合写真の場所確認。",null,null,null,null,null,null,null,null,null,null,null,null,"豊田市足助町（三州足助屋敷）",{"$f":"IF(基礎データ!A9=\"\",\"\",基礎データ!A9)","v":""},{"$f":"IF(基礎データ!B9=\"\",\"\",基礎データ!B9)","v":""}]
[null,null,"・トイレの確認。",null,null,null,null,null,null,null,null,null,null,null,null,"名古屋市港区港町（名古屋港水族館）",{"$f":"IF(基礎データ!A10=\"\",\"\",基礎データ!A10)","v":""},{"$f":"IF(基礎データ!B10=\"\",\"\",基礎データ!B10)","v":""}]
[null,null,"・見学内容の確認。",null,null,null,null,null,null,null,null,null,null,null,null,"知多郡美浜町(美浜少年自然の家）",{"$f":"IF(基礎データ!A11=\"\",\"\",基礎データ!A11)","v":""},{"$f":"IF(基礎データ!B11=\"\",\"\",基礎データ!B11)","v":""}]
[null,null,null,null,null,null,null,null,null,null,null,null,null,null,null,"東海市（ガス・エネルギー館）",{"$f":"IF(基礎データ!A12=\"\",\"\",基礎データ!A12)","v":""},{"$f":"IF(基礎データ!B12=\"\",\"\",基礎データ!B12)","v":""}]
[null,null,null,null,null,null,null,null,null,null,null,null,null,null,null,null,{"$f":"IF(基礎データ!A13=\"\",\"\",基礎データ!A13)","v":""},{"$f":"IF(基礎データ!B13=\"\",\"\",基礎データ!B13)","v":""}]
[null,null,"③　その他",null,null,null,null,null,null,null,null,null,null,null,null,null,{"$f":"IF(基礎データ!A14=\"\",\"\",基礎データ!A14)","v":""},{"$f":"IF(基礎データ!B14=\"\",\"\",基礎データ!B14)","v":""}]
[null,null,null,null,null,null,null,null,null,null,null,null,null,null,null,null,{"$f":"IF(基礎データ!A15=\"\",\"\",基礎データ!A15)","v":""},{"$f":"IF(基礎データ!B15=\"\",\"\",基礎データ!B15)","v":""}]
[null,null,null,null,null,null,null,null,null,null,null,null,null,null,null,null,{"$f":"IF(基礎データ!A16=\"\",\"\",基礎データ!A16)","v":""},{"$f":"IF(基礎データ!B16=\"\",\"\",基礎データ!B16)","v":""}]
[null,null,null,null,null,null,null,null,null,null,null,null,null,null,null,null,{"$f":"IF(基礎データ!A17=\"\",\"\",基礎データ!A17)","v":""},{"$f":"IF(基礎データ!B17=\"\",\"\",基礎データ!B17)","v":""}]
[null,"備　　考",null,null,null,null,null,null,null,null,null,null,null,null,null,null,{"$f":"IF(基礎データ!A18=\"\",\"\",基礎データ!A18)","v":""},{"$f":"IF(基礎データ!B18=\"\",\"\",基礎データ!B18)","v":""}]
[null,null,null,null,null,null,null,null,null,null,null,null,null,null,null,null,{"$f":"IF(基礎データ!A19=\"\",\"\",基礎データ!A19)","v":""},{"$f":"IF(基礎データ!B19=\"\",\"\",基礎データ!B19)","v":""}]
[null,null,null,null,null,null,null,null,null,null,null,null,null,null,null,null,{"$f":"IF(基礎データ!A20=\"\",\"\",基礎データ!A20)","v":""},{"$f":"IF(基礎データ!B20=\"\",\"\",基礎データ!B20)","v":""}]
[null,null,null,null,null,null,null,null,null,null,null,null,null,null,null,null,{"$f":"IF(基礎データ!A21=\"\",\"\",基礎データ!A21)","v":""},{"$f":"IF(基礎データ!B21=\"\",\"\",基礎データ!B21)","v":""}]
[null,null,null,null,null,null,null,null,null,null,null,null,null,null,null,null,{"$f":"IF(基礎データ!A22=\"\",\"\",基礎データ!A22)","v":""},{"$f":"IF(基礎データ!B22=\"\",\"\",基礎データ!B22)","v":""}]
[null,null,null,null,null,null,null,null,null,null,null,null,null,null,null,null,{"$f":"IF(基礎データ!A23=\"\",\"\",基礎データ!A23)","v":""},{"$f":"IF(基礎データ!B23=\"\",\"\",基礎データ!B23)","v":""}]
[null,null,null,null,null,null,null,null,null,null,null,null,null,null,null,null,{"$f":"IF(基礎データ!A24=\"\",\"\",基礎データ!A24)","v":""},{"$f":"IF(基礎データ!B24=\"\",\"\",基礎データ!B24)","v":""}]
[null,null,null,null,null,null,null,null,null,null,null,null,null,null,null,null,{"$f":"IF(基礎データ!A25=\"\",\"\",基礎データ!A25)","v":""},{"$f":"IF(基礎データ!B25=\"\",\"\",基礎データ!B25)","v":""}]
[null,null,null,null,null,null,null,null,null,null,null,null,null,null,null,null,{"$f":"IF(基礎データ!A26=\"\",\"\",基礎データ!A26)","v":""},{"$f":"IF(基礎データ!B26=\"\",\"\",基礎データ!B26)","v":""}]
[null,null,null,null,null,null,null,null,null,null,null,null,null,null,null,null,{"$f":"IF(基礎データ!A27=\"\",\"\",基礎データ!A27)","v":""},{"$f":"IF(基礎データ!B27=\"\",\"\",基礎データ!B27)","v":""}]
[null,null,null,null,null,null,null,null,null,null,null,null,null,null,null,null,{"$f":"IF(基礎データ!A28=\"\",\"\",基礎データ!A28)","v":""},{"$f":"IF(基礎データ!B28=\"\",\"\",基礎データ!B28)","v":""}]
[null,null,null,null,null,null,null,null,null,null,null,null,null,null,null,null,{"$f":"IF(基礎データ!A29=\"\",\"\",基礎データ!A29)","v":""},{"$f":"IF(基礎データ!B29=\"\",\"\",基礎データ!B29)","v":""}]
[null,null,null,null,null,null,null,null,null,null,null,null,null,null,null,null,{"$f":"IF(基礎データ!A30=\"\",\"\",基礎データ!A30)","v":""},{"$f":"IF(基礎データ!B30=\"\",\"\",基礎データ!B30)","v":""}]
[null,null,null,null,null,null,null,null,null,null,null,null,null,null,null,null,{"$f":"IF(基礎データ!A31=\"\",\"\",基礎データ!A31)","v":""},{"$f":"IF(基礎データ!B31=\"\",\"\",基礎データ!B31)","v":""}]
[null,null,null,null,null,null,null,null,null,null,null,null,null,null,null,null,{"$f":"IF(基礎データ!A32=\"\",\"\",基礎データ!A32)","v":""},{"$f":"IF(基礎データ!B32=\"\",\"\",基礎データ!B32)","v":""}]
[null,null,null,null,null,null,null,null,null,null,null,null,null,null,null,null,{"$f":"IF(基礎データ!A33=\"\",\"\",基礎データ!A33)","v":""},{"$f":"IF(基礎データ!B33=\"\",\"\",基礎データ!B33)","v":""}]
[null,null,null,null,null,null,null,null,null,null,null,null,null,null,null,null,{"$f":"IF(基礎データ!A34=\"\",\"\",基礎データ!A34)","v":""},{"$f":"IF(基礎データ!B34=\"\",\"\",基礎データ!B34)","v":""}]
[null,null,null,null,null,null,null,null,null,null,null,null,null,null,null,null,{"$f":"IF(基礎データ!A35=\"\",\"\",基礎データ!A35)","v":""},{"$f":"IF(基礎データ!B35=\"\",\"\",基礎データ!B35)","v":""}]
[null,null,null,null,null,null,null,null,null,null,null,null,null,null,null,null,{"$f":"IF(基礎データ!A36=\"\",\"\",基礎データ!A36)","v":""},{"$f":"IF(基礎データ!B36=\"\",\"\",基礎データ!B36)","v":""}]
[null,null,null,null,null,null,null,null,null,null,null,null,null,null,null,null,{"$f":"IF(基礎データ!A37=\"\",\"\",基礎データ!A37)","v":""},{"$f":"IF(基礎データ!B37=\"\",\"\",基礎データ!B37)","v":""}]
[null,null,null,null,null,null,null,null,null,null,null,null,null,null,null,null,{"$f":"IF(基礎データ!A38=\"\",\"\",基礎データ!A38)","v":""},{"$f":"IF(基礎データ!B38=\"\",\"\",基礎データ!B38)","v":""}]
[null,null,null,null,null,null,null,null,null,null,null,null,null,null,null,null,{"$f":"IF(基礎データ!A39=\"\",\"\",基礎データ!A39)","v":""},{"$f":"IF(基礎データ!B39=\"\",\"\",基礎データ!B39)","v":""}]
[null,null,null,null,null,null,null,null,null,null,null,null,null,null,null,null,{"$f":"IF(基礎データ!A40=\"\",\"\",基礎データ!A40)","v":""},{"$f":"IF(基礎データ!B40=\"\",\"\",基礎データ!B40)","v":""}]
[null,null,null,null,null,null,null,null,null,null,null,null,null,null,null,null,{"$f":"IF(基礎データ!A41=\"\",\"\",基礎データ!A41)","v":""},{"$f":"IF(基礎データ!B41=\"\",\"\",基礎データ!B41)","v":""}]
[null,null,null,null,null,null,null,null,null,null,null,null,null,null,null,null,{"$f":"IF(基礎データ!A42=\"\",\"\",基礎データ!A42)","v":""},{"$f":"IF(基礎データ!B42=\"\",\"\",基礎データ!B42)","v":""}]
[null,null,null,null,null,null,null,null,null,null,null,null,null,null,null,null,{"$f":"IF(基礎データ!A43=\"\",\"\",基礎データ!A43)","v":""},{"$f":"IF(基礎データ!B43=\"\",\"\",基礎データ!B43)","v":""}]
[null,null,null,null,null,null,null,null,null,null,null,null,null,null,null,null,{"$f":"IF(基礎データ!A44=\"\",\"\",基礎データ!A44)","v":""},{"$f":"IF(基礎データ!B44=\"\",\"\",基礎データ!B44)","v":""}]
[null,null,null,null,null,null,null,null,null,null,null,null,null,null,null,null,{"$f":"IF(基礎データ!A45=\"\",\"\",基礎データ!A45)","v":""},{"$f":"IF(基礎データ!B45=\"\",\"\",基礎データ!B45)","v":""}]
[null,null,null,null,null,null,null,null,null,null,null,null,null,null,null,null,{"$f":"IF(基礎データ!A46=\"\",\"\",基礎データ!A46)","v":""},{"$f":"IF(基礎データ!B46=\"\",\"\",基礎データ!B46)","v":""}]
[null,null,null,null,null,null,null,null,null,null,null,null,null,null,null,null,{"$f":"IF(基礎データ!A47=\"\",\"\",基礎データ!A47)","v":""},{"$f":"IF(基礎データ!B47=\"\",\"\",基礎データ!B47)","v":""}]
[null,null,null,null,null,null,null,null,null,null,null,null,null,null,null,null,{"$f":"IF(基礎データ!A48=\"\",\"\",基礎データ!A48)","v":""},{"$f":"IF(基礎データ!B48=\"\",\"\",基礎データ!B48)","v":""}]
[null,null,null,null,null,null,null,null,null,null,null,null,null,null,null,null,{"$f":"IF(基礎データ!A49=\"\",\"\",基礎データ!A49)","v":""},{"$f":"IF(基礎データ!B49=\"\",\"\",基礎データ!B49)","v":""}]
[null,null,null,null,null,null,null,null,null,null,null,null,null,null,null,null,{"$f":"IF(基礎データ!A50=\"\",\"\",基礎データ!A50)","v":""},{"$f":"IF(基礎データ!B50=\"\",\"\",基礎データ!B50)","v":""}]
[null,null,null,null,null,null,null,null,null,null,null,null,null,null,null,null,{"$f":"IF(基礎データ!A51=\"\",\"\",基礎データ!A51)","v":""},{"$f":"IF(基礎データ!B51=\"\",\"\",基礎データ!B51)","v":""}]
[null,null,null,null,null,null,null,null,null,null,null,null,null,null,null,null,{"$f":"IF(基礎データ!A52=\"\",\"\",基礎データ!A52)","v":""},{"$f":"IF(基礎データ!B52=\"\",\"\",基礎データ!B52)","v":""}]
[null,null,null,null,null,null,null,null,null,null,null,null,null,null,null,null,{"$f":"IF(基礎データ!A53=\"\",\"\",基礎データ!A53)","v":""},{"$f":"IF(基礎データ!B53=\"\",\"\",基礎データ!B53)","v":""}]
[null,null,null,null,null,null,null,null,null,null,null,null,null,null,null,null,{"$f":"IF(基礎データ!A54=\"\",\"\",基礎データ!A54)","v":""},{"$f":"IF(基礎データ!B54=\"\",\"\",基礎データ!B54)","v":""}]
[null,null,null,null,null,null,null,null,null,null,null,null,null,null,null,null,{"$f":"IF(基礎データ!A55=\"\",\"\",基礎データ!A55)","v":""},{"$f":"IF(基礎データ!B55=\"\",\"\",基礎データ!B55)","v":""}]
[null,null,null,null,null,null,null,null,null,null,null,null,null,null,null,null,{"$f":"IF(基礎データ!A56=\"\",\"\",基礎データ!A56)","v":""},{"$f":"IF(基礎データ!B56=\"\",\"\",基礎データ!B56)","v":""}]
[null,null,null,null,null,null,null,null,null,null,null,null,null,null,null,null,{"$f":"IF(基礎データ!A57=\"\",\"\",基礎データ!A57)","v":""},{"$f":"IF(基礎データ!B57=\"\",\"\",基礎データ!B57)","v":""}]
[null,null,null,null,null,null,null,null,null,null,null,null,null,null,null,null,{"$f":"IF(基礎データ!A58=\"\",\"\",基礎データ!A58)","v":""},{"$f":"IF(基礎データ!B58=\"\",\"\",基礎データ!B58)","v":""}]
[null,null,null,null,null,null,null,null,null,null,null,null,null,null,null,null,{"$f":"IF(基礎データ!A59=\"\",\"\",基礎データ!A59)","v":""},{"$f":"IF(基礎データ!B59=\"\",\"\",基礎データ!B59)","v":""}]
[null,null,null,null,null,null,null,null,null,null,null,null,null,null,null,null,{"$f":"IF(基礎データ!A60=\"\",\"\",基礎データ!A60)","v":""},{"$f":"IF(基礎データ!B60=\"\",\"\",基礎データ!B60)","v":""}]
[null,null,null,null,null,null,null,null,null,null,null,null,null,null,null,null,{"$f":"IF(基礎データ!A61=\"\",\"\",基礎データ!A61)","v":""},{"$f":"IF(基礎データ!B61=\"\",\"\",基礎データ!B61)","v":""}]
[null,null,null,null,null,null,null,null,null,null,null,null,null,null,null,null,{"$f":"IF(基礎データ!A62=\"\",\"\",基礎データ!A62)","v":""},{"$f":"IF(基礎データ!B62=\"\",\"\",基礎データ!B62)","v":""}]
[null,null,null,null,null,null,null,null,null,null,null,null,null,null,null,null,{"$f":"IF(基礎データ!A63=\"\",\"\",基礎データ!A63)","v":""},{"$f":"IF(基礎データ!B63=\"\",\"\",基礎データ!B63)","v":""}]
[null,null,null,null,null,null,null,null,null,null,null,null,null,null,null,null,{"$f":"IF(基礎データ!A64=\"\",\"\",基礎データ!A64)","v":""},{"$f":"IF(基礎データ!B64=\"\",\"\",基礎データ!B64)","v":""}]
[null,null,null,null,null,null,null,null,null,null,null,null,null,null,null,null,{"$f":"IF(基礎データ!A65=\"\",\"\",基礎データ!A65)","v":""},{"$f":"IF(基礎データ!B65=\"\",\"\",基礎データ!B65)","v":""}]
[null,null,null,null,null,null,null,null,null,null,null,null,null,null,null,null,{"$f":"IF(基礎データ!A66=\"\",\"\",基礎データ!A66)","v":""},{"$f":"IF(基礎データ!B66=\"\",\"\",基礎データ!B66)","v":""}]
[null,null,null,null,null,null,null,null,null,null,null,null,null,null,null,null,{"$f":"IF(基礎データ!A67=\"\",\"\",基礎データ!A67)","v":""},{"$f":"IF(基礎データ!B67=\"\",\"\",基礎データ!B67)","v":""}]
[null,null,null,null,null,null,null,null,null,null,null,null,null,null,null,null,{"$f":"IF(基礎データ!A68=\"\",\"\",基礎データ!A68)","v":""},{"$f":"IF(基礎データ!B68=\"\",\"\",基礎データ!B68)","v":""}]
[null,null,null,null,null,null,null,null,null,null,null,null,null,null,null,null,{"$f":"IF(基礎データ!A69=\"\",\"\",基礎データ!A69)","v":""},{"$f":"IF(基礎データ!B69=\"\",\"\",基礎データ!B69)","v":""}]
[null,null,null,null,null,null,null,null,null,null,null,null,null,null,null,null,{"$f":"IF(基礎データ!A70=\"\",\"\",基礎データ!A70)","v":""},{"$f":"IF(基礎データ!B70=\"\",\"\",基礎データ!B70)","v":""}]
[null,null,null,null,null,null,null,null,null,null,null,null,null,null,null,null,{"$f":"IF(基礎データ!A71=\"\",\"\",基礎データ!A71)","v":""},{"$f":"IF(基礎データ!B71=\"\",\"\",基礎データ!B71)","v":""}]
[null,null,null,null,null,null,null,null,null,null,null,null,null,null,null,null,{"$f":"IF(基礎データ!A72=\"\",\"\",基礎データ!A72)","v":""},{"$f":"IF(基礎データ!B72=\"\",\"\",基礎データ!B72)","v":""}]
[null,null,null,null,null,null,null,null,null,null,null,null,null,null,null,null,{"$f":"IF(基礎データ!A73=\"\",\"\",基礎データ!A73)","v":""},{"$f":"IF(基礎データ!B73=\"\",\"\",基礎データ!B73)","v":""}]
[null,null,null,null,null,null,null,null,null,null,null,null,null,null,null,null,{"$f":"IF(基礎データ!A74=\"\",\"\",基礎データ!A74)","v":""},{"$f":"IF(基礎データ!B74=\"\",\"\",基礎データ!B74)","v":""}]
[null,null,null,null,null,null,null,null,null,null,null,null,null,null,null,null,{"$f":"IF(基礎データ!A75=\"\",\"\",基礎データ!A75)","v":""},{"$f":"IF(基礎データ!B75=\"\",\"\",基礎データ!B75)","v":""}]
[null,null,null,null,null,null,null,null,null,null,null,null,null,null,null,null,{"$f":"IF(基礎データ!A76=\"\",\"\",基礎データ!A76)","v":""},{"$f":"IF(基礎データ!B76=\"\",\"\",基礎データ!B76)","v":""}]
[null,null,null,null,null,null,null,null,null,null,null,null,null,null,null,null,{"$f":"IF(基礎データ!A77=\"\",\"\",基礎データ!A77)","v":""},{"$f":"IF(基礎データ!B77=\"\",\"\",基礎データ!B77)","v":""}]
[null,null,null,null,null,null,null,null,null,null,null,null,null,null,null,null,{"$f":"IF(基礎データ!A78=\"\",\"\",基礎データ!A78)","v":""},{"$f":"IF(基礎データ!B78=\"\",\"\",基礎データ!B78)","v":""}]
[null,null,null,null,null,null,null,null,null,null,null,null,null,null,null,null,{"$f":"IF(基礎データ!A79=\"\",\"\",基礎データ!A79)","v":""},{"$f":"IF(基礎データ!B79=\"\",\"\",基礎データ!B79)","v":""}]
[null,null,null,null,null,null,null,null,null,null,null,null,null,null,null,null,{"$f":"IF(基礎データ!A80=\"\",\"\",基礎データ!A80)","v":""},{"$f":"IF(基礎データ!B80=\"\",\"\",基礎データ!B80)","v":""}]
[null,null,null,null,null,null,null,null,null,null,null,null,null,null,null,null,{"$f":"IF(基礎データ!A81=\"\",\"\",基礎データ!A81)","v":""},{"$f":"IF(基礎データ!B81=\"\",\"\",基礎データ!B81)","v":""}]
[null,null,null,null,null,null,null,null,null,null,null,null,null,null,null,null,{"$f":"IF(基礎データ!A82=\"\",\"\",基礎データ!A82)","v":""},{"$f":"IF(基礎データ!B82=\"\",\"\",基礎データ!B82)","v":""}]
[null,null,null,null,null,null,null,null,null,null,null,null,null,null,null,null,{"$f":"IF(基礎データ!A83=\"\",\"\",基礎データ!A83)","v":""},{"$f":"IF(基礎データ!B83=\"\",\"\",基礎データ!B83)","v":""}]
[null,null,null,null,null,null,null,null,null,null,null,null,null,null,null,null,{"$f":"IF(基礎データ!A84=\"\",\"\",基礎データ!A84)","v":""},{"$f":"IF(基礎データ!B84=\"\",\"\",基礎データ!B84)","v":""}]
[null,null,null,null,null,null,null,null,null,null,null,null,null,null,null,null,{"$f":"IF(基礎データ!A85=\"\",\"\",基礎データ!A85)","v":""},{"$f":"IF(基礎データ!B85=\"\",\"\",基礎データ!B85)","v":""}]
[null,null,null,null,null,null,null,null,null,null,null,null,null,null,null,null,{"$f":"IF(基礎データ!A86=\"\",\"\",基礎データ!A86)","v":""},{"$f":"IF(基礎データ!B86=\"\",\"\",基礎データ!B86)","v":""}]
[null,null,null,null,null,null,null,null,null,null,null,null,null,null,null,null,{"$f":"IF(基礎データ!A87=\"\",\"\",基礎データ!A87)","v":""},{"$f":"IF(基礎データ!B87=\"\",\"\",基礎データ!B87)","v":""}]
[null,null,null,null,null,null,null,null,null,null,null,null,null,null,null,null,{"$f":"IF(基礎データ!A88=\"\",\"\",基礎データ!A88)","v":""},{"$f":"IF(基礎データ!B88=\"\",\"\",基礎データ!B88)","v":""}]
[null,null,null,null,null,null,null,null,null,null,null,null,null,null,null,null,{"$f":"IF(基礎データ!A89=\"\",\"\",基礎データ!A89)","v":""},{"$f":"IF(基礎データ!B89=\"\",\"\",基礎データ!B89)","v":""}]
[null,null,null,null,null,null,null,null,null,null,null,null,null,null,null,null,{"$f":"IF(基礎データ!A90=\"\",\"\",基礎データ!A90)","v":""},{"$f":"IF(基礎データ!B90=\"\",\"\",基礎データ!B90)","v":""}]
[null,null,null,null,null,null,null,null,null,null,null,null,null,null,null,null,{"$f":"IF(基礎データ!A91=\"\",\"\",基礎データ!A91)","v":""},{"$f":"IF(基礎データ!B91=\"\",\"\",基礎データ!B91)","v":""}]
[null,null,null,null,null,null,null,null,null,null,null,null,null,null,null,null,{"$f":"IF(基礎データ!A92=\"\",\"\",基礎データ!A92)","v":""},{"$f":"IF(基礎データ!B92=\"\",\"\",基礎データ!B92)","v":""}]
[null,null,null,null,null,null,null,null,null,null,null,null,null,null,null,null,{"$f":"IF(基礎データ!A93=\"\",\"\",基礎データ!A93)","v":""},{"$f":"IF(基礎データ!B93=\"\",\"\",基礎データ!B93)","v":""}]
[null,null,null,null,null,null,null,null,null,null,null,null,null,null,null,null,{"$f":"IF(基礎データ!A94=\"\",\"\",基礎データ!A94)","v":""},{"$f":"IF(基礎データ!B94=\"\",\"\",基礎データ!B94)","v":""}]
[null,null,null,null,null,null,null,null,null,null,null,null,null,null,null,null,{"$f":"IF(基礎データ!A95=\"\",\"\",基礎データ!A95)","v":""},{"$f":"IF(基礎データ!B95=\"\",\"\",基礎データ!B95)","v":""}]
[null,null,null,null,null,null,null,null,null,null,null,null,null,null,null,null,{"$f":"IF(基礎データ!A96=\"\",\"\",基礎データ!A96)","v":""},{"$f":"IF(基礎データ!B96=\"\",\"\",基礎データ!B96)","v":""}]
[null,null,null,null,null,null,null,null,null,null,null,null,null,null,null,null,{"$f":"IF(基礎データ!A97=\"\",\"\",基礎データ!A97)","v":""},{"$f":"IF(基礎データ!B97=\"\",\"\",基礎データ!B97)","v":""}]
[null,null,null,null,null,null,null,null,null,null,null,null,null,null,null,null,{"$f":"IF(基礎データ!A98=\"\",\"\",基礎データ!A98)","v":""},{"$f":"IF(基礎データ!B98=\"\",\"\",基礎データ!B98)","v":""}]
[null,null,null,null,null,null,null,null,null,null,null,null,null,null,null,null,{"$f":"IF(基礎データ!A99=\"\",\"\",基礎データ!A99)","v":""},{"$f":"IF(基礎データ!B99=\"\",\"\",基礎データ!B99)","v":""}]
[null,null,null,null,null,null,null,null,null,null,null,null,null,null,null,null,{"$f":"IF(基礎データ!A100=\"\",\"\",基礎データ!A100)","v":""},{"$f":"IF(基礎データ!B100=\"\",\"\",基礎データ!B100)","v":""}]
[null,null,null,null,null,null,null,null,null,null,null,null,null,null,null,null,{"$f":"IF(基礎データ!A101=\"\",\"\",基礎データ!A101)","v":""},{"$f":"IF(基礎データ!B101=\"\",\"\",基礎データ!B101)","v":""}]
[null,null,null,null,null,null,null,null,null,null,null,null,null,null,null,null,{"$f":"IF(基礎データ!A102=\"\",\"\",基礎データ!A102)","v":""},{"$f":"IF(基礎データ!B102=\"\",\"\",基礎データ!B102)","v":""}]
[null,null,null,null,null,null,null,null,null,null,null,null,null,null,null,null,{"$f":"IF(基礎データ!A103=\"\",\"\",基礎データ!A103)","v":""},{"$f":"IF(基礎データ!B103=\"\",\"\",基礎データ!B103)","v":""}]

{"sheet":"研修報告","index":7,"n_rows":119,"n_cols":18,"rows_kept":119,"cut":false,"hidden":true,"merged":[[36,1,37,1],[36,2,36,11],[37,2,37,11],[32,2,32,11],[33,2,33,11],[15,1,35,1],[15,2,15,11],[16,2,16,11],[17,2,17,11],[22,2,22,11],[23,2,23,11],[24,2,24,11],[25,2,25,11],[26,2,26,11],[27,2,31,11],[34,2,34,11],[17,13,18,13],[18,2,18,11],[19,2,19,11],[20,2,20,11],[21,2,21,11],[12,13,13,17],[13,2,13,3],[13,4,13,7],[13,8,13,11],[14,2,14,11],[14,13,15,17],[7,5,8,5],[7,6,8,7],[7,8,8,10],[7,11,8,11],[11,1,11,11],[1,3,3,7],[1,8,1,9],[1,10,1,11],[2,8,3,9],[2,10,3,11]]}
[]
[null,"様式　４",null,"小学校初任者研修報告書",null,null,null,null,"校長",null,"教頭"]
[]
[]
[]
[null,null,null,null,null,"平成",30,"年",4,"月",18,"日"]
[null,{"$f":"N18&\"長  殿\"","v":"0長  殿"}]
[null,null,null,null,null,"職・氏名",{"$f":"IF(I8=\"\",\"\",VLOOKUP(I8,Q18:R118,2,FALSE))","v":{"$error":"#N/A"}},null,"秋山　主輝",null,null,"印"]
[]
[]
[null,"　　　下記のとおり研修しましたので、報告します。"]
[null,"記"]
[null,null,null,null,null,null,null,null,null,null,null,null,null,"下にどんどん100まで対応"]
[null,"期　　間","2018-04-25",null,"2018-04-25",null,null,null,{"$f":"IF(E14=\"\",\"\",\"( \"&E14-C14&\"泊\"&E14-C14+1&\"日\"&\" )\")","v":"( 0泊1日 )"}]
[null,"用務先","蒲郡市（蒲郡市民会館）",null,null,null,null,null,null,null,null,null,null,"基礎データ"]
[null,"報　　　　　　告　　　　　　事　　　　　　項","①　研修内容"]
[null,null,"講話「教員としての門出に際して」",null,null,null,null,null,null,null,null,null,null,"学校名","研修名","場所","氏名","職名"]
[null,null,"講義「教育公務員としての自覚」",null,null,null,null,null,null,null,null,null,null,{"$f":"旅行命令!K10","v":0},"小学校初任者研修報告書","東郷町（愛知県教育センター）",{"$f":"IF(基礎データ!A3=\"\",\"\",基礎データ!A3)","v":""},{"$f":"IF(基礎データ!B3=\"\",\"\",基礎データ!B3)","v":""}]
[null,null,"講演「教員としての生き方」",null,null,null,null,null,null,null,null,null,null,null,"中学校初任者研修報告書","豊明市（豊明市役所）",{"$f":"IF(基礎データ!A4=\"\",\"\",基礎データ!A4)","v":""},{"$f":"IF(基礎データ!B4=\"\",\"\",基礎データ!B4)","v":""}]
[null,null,null,null,null,null,null,null,null,null,null,null,null,null,"新規採用養護教諭研修報告書","蒲郡市（蒲郡市民会館）",{"$f":"IF(基礎データ!A5=\"\",\"\",基礎データ!A5)","v":""},{"$f":"IF(基礎データ!B5=\"\",\"\",基礎データ!B5)","v":""}]
[null,null,null,null,null,null,null,null,null,null,null,null,null,null,"新規採用栄養教諭研修報告書","東郷町（愛知県教育センター）",{"$f":"IF(基礎データ!A6=\"\",\"\",基礎データ!A6)","v":""},{"$f":"IF(基礎データ!B6=\"\",\"\",基礎データ!B6)","v":""}]
[null,null,null,null,null,null,null,null,null,null,null,null,null,null,"小学校５年経験者研修報告書",null,{"$f":"IF(基礎データ!A7=\"\",\"\",基礎データ!A7)","v":""},{"$f":"IF(基礎データ!B7=\"\",\"\",基礎データ!B7)","v":""}]
[null,null,null,null,null,null,null,null,null,null,null,null,null,null,"中学校５年経験者研修報告書",null,{"$f":"IF(基礎データ!A8=\"\",\"\",基礎データ!A8)","v":""},{"$f":"IF(基礎データ!B8=\"\",\"\",基礎データ!B8)","v":""}]
[null,null,null,null,null,null,null,null,null,null,null,null,null,null,"小学校１０年経験者研修報告書",null,{"$f":"IF(基礎データ!A9=\"\",\"\",基礎データ!A9)","v":""},{"$f":"IF(基礎データ!B9=\"\",\"\",基礎データ!B9)","v":""}]
[null,null,null,null,null,null,null,null,null,null,null,null,null,null,"中学校１０年経験者研修報告書",null,{"$f":"IF(基礎データ!A10=\"\",\"\",基礎データ!A10)","v":""},{"$f":"IF(基礎データ!B10=\"\",\"\",基礎データ!B10)","v":""}]
[null,null,null,null,null,null,null,null,null,null,null,null,null,null,"新規採用者研修",null,{"$f":"IF(基礎データ!A11=\"\",\"\",基礎データ!A11)","v":""},{"$f":"IF(基礎データ!B11=\"\",\"\",基礎データ!B11)","v":""}]
[null,null,"②　今後の課題等",null,null,null,null,null,null,null,null,null,null,null,null,null,{"$f":"IF(基礎データ!A12=\"\",\"\",基礎データ!A12)","v":""},{"$f":"IF(基礎データ!B12=\"\",\"\",基礎データ!B12)","v":""}]
[null,null,"　初任者研修の開講式でした。これから、いよいよ初任者としての１年が始まると思うと身の引き締まる思いです。これから、学校での職務と並行して初任者研修があります。大変だと聞いていますが、頑張っていきたいと思います。",null,null,null,null,null,null,null,null,null,null,null,null,null,{"$f":"IF(基礎データ!A13=\"\",\"\",基礎データ!A13)","v":""},{"$f":"IF(基礎データ!B13=\"\",\"\",基礎データ!B13)","v":""}]
[null,null,null,null,null,null,null,null,null,null,null,null,null,null,null,null,{"$f":"IF(基礎データ!A14=\"\",\"\",基礎データ!A14)","v":""},{"$f":"IF(基礎データ!B14=\"\",\"\",基礎データ!B14)","v":""}]
[null,null,null,null,null,null,null,null,null,null,null,null,null,null,null,null,{"$f":"IF(基礎データ!A15=\"\",\"\",基礎データ!A15)","v":""},{"$f":"IF(基礎データ!B15=\"\",\"\",基礎データ!B15)","v":""}]
[null,null,null,null,null,null,null,null,null,null,null,null,null,null,null,null,{"$f":"IF(基礎データ!A16=\"\",\"\",基礎データ!A16)","v":""},{"$f":"IF(基礎データ!B16=\"\",\"\",基礎データ!B16)","v":""}]
[null,null,null,null,null,null,null,null,null,null,null,null,null,null,null,null,{"$f":"IF(基礎データ!A17=\"\",\"\",基礎データ!A17)","v":""},{"$f":"IF(基礎データ!B17=\"\",\"\",基礎データ!B17)","v":""}]
[null,null,"③　その他",null,null,null,null,null,null,null,null,null,null,null,null,null,{"$f":"IF(基礎データ!A18=\"\",\"\",基礎データ!A18)","v":""},{"$f":"IF(基礎データ!B18=\"\",\"\",基礎データ!B18)","v":""}]
[null,null,null,null,null,null,null,null,null,null,null,null,null,null,null,null,{"$f":"IF(基礎データ!A19=\"\",\"\",基礎データ!A19)","v":""},{"$f":"IF(基礎データ!B19=\"\",\"\",基礎データ!B19)","v":""}]
[null,null,null,null,null,null,null,null,null,null,null,null,null,null,null,null,{"$f":"IF(基礎データ!A20=\"\",\"\",基礎データ!A20)","v":""},{"$f":"IF(基礎データ!B20=\"\",\"\",基礎データ!B20)","v":""}]
[null,null,null,null,null,null,null,null,null,null,null,null,null,null,null,null,{"$f":"IF(基礎データ!A21=\"\",\"\",基礎データ!A21)","v":""},{"$f":"IF(基礎データ!B21=\"\",\"\",基礎データ!B21)","v":""}]
[null,"備　　考",null,null,null,null,null,null,null,null,null,null,null,null,null,null,{"$f":"IF(基礎データ!A22=\"\",\"\",基礎データ!A22)","v":""},{"$f":"IF(基礎データ!B22=\"\",\"\",基礎データ!B22)","v":""}]
[null,null,null,null,null,null,null,null,null,null,null,null,null,null,null,null,{"$f":"IF(基礎データ!A23=\"\",\"\",基礎データ!A23)","v":""},{"$f":"IF(基礎データ!B23=\"\",\"\",基礎データ!B23)","v":""}]
[null,null,null,null,null,null,null,null,null,null,null,null,null,null,null,null,{"$f":"IF(基礎データ!A24=\"\",\"\",基礎データ!A24)","v":""},{"$f":"IF(基礎データ!B24=\"\",\"\",基礎データ!B24)","v":""}]
[null,null,null,null,null,null,null,null,null,null,null,null,null,null,null,null,{"$f":"IF(基礎データ!A25=\"\",\"\",基礎データ!A25)","v":""},{"$f":"IF(基礎データ!B25=\"\",\"\",基礎データ!B25)","v":""}]
[null,null,null,null,null,null,null,null,null,null,null,null,null,null,null,null,{"$f":"IF(基礎データ!A26=\"\",\"\",基礎データ!A26)","v":""},{"$f":"IF(基礎データ!B26=\"\",\"\",基礎データ!B26)","v":""}]
[null,null,null,null,null,null,null,null,null,null,null,null,null,null,null,null,{"$f":"IF(基礎データ!A27=\"\",\"\",基礎データ!A27)","v":""},{"$f":"IF(基礎データ!B27=\"\",\"\",基礎データ!B27)","v":""}]
[null,null,null,null,null,null,null,null,null,null,null,null,null,null,null,null,{"$f":"IF(基礎データ!A28=\"\",\"\",基礎データ!A28)","v":""},{"$f":"IF(基礎データ!B28=\"\",\"\",基礎データ!B28)","v":""}]
[null,null,null,null,null,null,null,null,null,null,null,null,null,null,null,null,{"$f":"IF(基礎データ!A29=\"\",\"\",基礎データ!A29)","v":""},{"$f":"IF(基礎データ!B29=\"\",\"\",基礎データ!B29)","v":""}]
[null,null,null,null,null,null,null,null,null,null,null,null,null,null,null,null,{"$f":"IF(基礎データ!A30=\"\",\"\",基礎データ!A30)","v":""},{"$f":"IF(基礎データ!B30=\"\",\"\",基礎データ!B30)","v":""}]
[null,null,null,null,null,null,null,null,null,null,null,null,null,null,null,null,{"$f":"IF(基礎データ!A31=\"\",\"\",基礎データ!A31)","v":""},{"$f":"IF(基礎データ!B31=\"\",\"\",基礎データ!B31)","v":""}]
[null,null,null,null,null,null,null,null,null,null,null,null,null,null,null,null,{"$f":"IF(基礎データ!A32=\"\",\"\",基礎データ!A32)","v":""},{"$f":"IF(基礎データ!B32=\"\",\"\",基礎データ!B32)","v":""}]
[null,null,null,null,null,null,null,null,null,null,null,null,null,null,null,null,{"$f":"IF(基礎データ!A33=\"\",\"\",基礎データ!A33)","v":""},{"$f":"IF(基礎データ!B33=\"\",\"\",基礎データ!B33)","v":""}]
[null,null,null,null,null,null,null,null,null,null,null,null,null,null,null,null,{"$f":"IF(基礎データ!A34=\"\",\"\",基礎データ!A34)","v":""},{"$f":"IF(基礎データ!B34=\"\",\"\",基礎データ!B34)","v":""}]
[null,null,null,null,null,null,null,null,null,null,null,null,null,null,null,null,{"$f":"IF(基礎データ!A35=\"\",\"\",基礎データ!A35)","v":""},{"$f":"IF(基礎データ!B35=\"\",\"\",基礎データ!B35)","v":""}]
[null,null,null,null,null,null,null,null,null,null,null,null,null,null,null,null,{"$f":"IF(基礎データ!A36=\"\",\"\",基礎データ!A36)","v":""},{"$f":"IF(基礎データ!B36=\"\",\"\",基礎データ!B36)","v":""}]
[null,null,null,null,null,null,null,null,null,null,null,null,null,null,null,null,{"$f":"IF(基礎データ!A37=\"\",\"\",基礎データ!A37)","v":""},{"$f":"IF(基礎データ!B37=\"\",\"\",基礎データ!B37)","v":""}]
[null,null,null,null,null,null,null,null,null,null,null,null,null,null,null,null,{"$f":"IF(基礎データ!A38=\"\",\"\",基礎データ!A38)","v":""},{"$f":"IF(基礎データ!B38=\"\",\"\",基礎データ!B38)","v":""}]
[null,null,null,null,null,null,null,null,null,null,null,null,null,null,null,null,{"$f":"IF(基礎データ!A39=\"\",\"\",基礎データ!A39)","v":""},{"$f":"IF(基礎データ!B39=\"\",\"\",基礎データ!B39)","v":""}]
[null,null,null,null,null,null,null,null,null,null,null,null,null,null,null,null,{"$f":"IF(基礎データ!A40=\"\",\"\",基礎データ!A40)","v":""},{"$f":"IF(基礎データ!B40=\"\",\"\",基礎データ!B40)","v":""}]
[null,null,null,null,null,null,null,null,null,null,null,null,null,null,null,null,{"$f":"IF(基礎データ!A41=\"\",\"\",基礎データ!A41)","v":""},{"$f":"IF(基礎データ!B41=\"\",\"\",基礎データ!B41)","v":""}]
[null,null,null,null,null,null,null,null,null,null,null,null,null,null,null,null,{"$f":"IF(基礎データ!A42=\"\",\"\",基礎データ!A42)","v":""},{"$f":"IF(基礎データ!B42=\"\",\"\",基礎データ!B42)","v":""}]
[null,null,null,null,null,null,null,null,null,null,null,null,null,null,null,null,{"$f":"IF(基礎データ!A43=\"\",\"\",基礎データ!A43)","v":""},{"$f":"IF(基礎データ!B43=\"\",\"\",基礎データ!B43)","v":""}]
[null,null,null,null,null,null,null,null,null,null,null,null,null,null,null,null,{"$f":"IF(基礎データ!A44=\"\",\"\",基礎データ!A44)","v":""},{"$f":"IF(基礎データ!B44=\"\",\"\",基礎データ!B44)","v":""}]
[null,null,null,null,null,null,null,null,null,null,null,null,null,null,null,null,{"$f":"IF(基礎データ!A45=\"\",\"\",基礎データ!A45)","v":""},{"$f":"IF(基礎データ!B45=\"\",\"\",基礎データ!B45)","v":""}]
[null,null,null,null,null,null,null,null,null,null,null,null,null,null,null,null,{"$f":"IF(基礎データ!A46=\"\",\"\",基礎データ!A46)","v":""},{"$f":"IF(基礎データ!B46=\"\",\"\",基礎データ!B46)","v":""}]
[null,null,null,null,null,null,null,null,null,null,null,null,null,null,null,null,{"$f":"IF(基礎データ!A47=\"\",\"\",基礎データ!A47)","v":""},{"$f":"IF(基礎データ!B47=\"\",\"\",基礎データ!B47)","v":""}]
[null,null,null,null,null,null,null,null,null,null,null,null,null,null,null,null,{"$f":"IF(基礎データ!A48=\"\",\"\",基礎データ!A48)","v":""},{"$f":"IF(基礎データ!B48=\"\",\"\",基礎データ!B48)","v":""}]
[null,null,null,null,null,null,null,null,null,null,null,null,null,null,null,null,{"$f":"IF(基礎データ!A49=\"\",\"\",基礎データ!A49)","v":""},{"$f":"IF(基礎データ!B49=\"\",\"\",基礎データ!B49)","v":""}]
[null,null,null,null,null,null,null,null,null,null,null,null,null,null,null,null,{"$f":"IF(基礎データ!A50=\"\",\"\",基礎データ!A50)","v":""},{"$f":"IF(基礎データ!B50=\"\",\"\",基礎データ!B50)","v":""}]
[null,null,null,null,null,null,null,null,null,null,null,null,null,null,null,null,{"$f":"IF(基礎データ!A51=\"\",\"\",基礎データ!A51)","v":""},{"$f":"IF(基礎データ!B51=\"\",\"\",基礎データ!B51)","v":""}]
[null,null,null,null,null,null,null,null,null,null,null,null,null,null,null,null,{"$f":"IF(基礎データ!A52=\"\",\"\",基礎データ!A52)","v":""},{"$f":"IF(基礎データ!B52=\"\",\"\",基礎データ!B52)","v":""}]
[null,null,null,null,null,null,null,null,null,null,null,null,null,null,null,null,{"$f":"IF(基礎データ!A53=\"\",\"\",基礎データ!A53)","v":""},{"$f":"IF(基礎データ!B53=\"\",\"\",基礎データ!B53)","v":""}]
[null,null,null,null,null,null,null,null,null,null,null,null,null,null,null,null,{"$f":"IF(基礎データ!A54=\"\",\"\",基礎データ!A54)","v":""},{"$f":"IF(基礎データ!B54=\"\",\"\",基礎データ!B54)","v":""}]
[null,null,null,null,null,null,null,null,null,null,null,null,null,null,null,null,{"$f":"IF(基礎データ!A55=\"\",\"\",基礎データ!A55)","v":""},{"$f":"IF(基礎データ!B55=\"\",\"\",基礎データ!B55)","v":""}]
[null,null,null,null,null,null,null,null,null,null,null,null,null,null,null,null,{"$f":"IF(基礎データ!A56=\"\",\"\",基礎データ!A56)","v":""},{"$f":"IF(基礎データ!B56=\"\",\"\",基礎データ!B56)","v":""}]
[null,null,null,null,null,null,null,null,null,null,null,null,null,null,null,null,{"$f":"IF(基礎データ!A57=\"\",\"\",基礎データ!A57)","v":""},{"$f":"IF(基礎データ!B57=\"\",\"\",基礎データ!B57)","v":""}]
[null,null,null,null,null,null,null,null,null,null,null,null,null,null,null,null,{"$f":"IF(基礎データ!A58=\"\",\"\",基礎データ!A58)","v":""},{"$f":"IF(基礎データ!B58=\"\",\"\",基礎データ!B58)","v":""}]
[null,null,null,null,null,null,null,null,null,null,null,null,null,null,null,null,{"$f":"IF(基礎データ!A59=\"\",\"\",基礎データ!A59)","v":""},{"$f":"IF(基礎データ!B59=\"\",\"\",基礎データ!B59)","v":""}]
[null,null,null,null,null,null,null,null,null,null,null,null,null,null,null,null,{"$f":"IF(基礎データ!A60=\"\",\"\",基礎データ!A60)","v":""},{"$f":"IF(基礎データ!B60=\"\",\"\",基礎データ!B60)","v":""}]
[null,null,null,null,null,null,null,null,null,null,null,null,null,null,null,null,{"$f":"IF(基礎データ!A61=\"\",\"\",基礎データ!A61)","v":""},{"$f":"IF(基礎データ!B61=\"\",\"\",基礎データ!B61)","v":""}]
[null,null,null,null,null,null,null,null,null,null,null,null,null,null,null,null,{"$f":"IF(基礎データ!A62=\"\",\"\",基礎データ!A62)","v":""},{"$f":"IF(基礎データ!B62=\"\",\"\",基礎データ!B62)","v":""}]
[null,null,null,null,null,null,null,null,null,null,null,null,null,null,null,null,{"$f":"IF(基礎データ!A63=\"\",\"\",基礎データ!A63)","v":""},{"$f":"IF(基礎データ!B63=\"\",\"\",基礎データ!B63)","v":""}]
[null,null,null,null,null,null,null,null,null,null,null,null,null,null,null,null,{"$f":"IF(基礎データ!A64=\"\",\"\",基礎データ!A64)","v":""},{"$f":"IF(基礎データ!B64=\"\",\"\",基礎データ!B64)","v":""}]
[null,null,null,null,null,null,null,null,null,null,null,null,null,null,null,null,{"$f":"IF(基礎データ!A65=\"\",\"\",基礎データ!A65)","v":""},{"$f":"IF(基礎データ!B65=\"\",\"\",基礎データ!B65)","v":""}]
[null,null,null,null,null,null,null,null,null,null,null,null,null,null,null,null,{"$f":"IF(基礎データ!A66=\"\",\"\",基礎データ!A66)","v":""},{"$f":"IF(基礎データ!B66=\"\",\"\",基礎データ!B66)","v":""}]
[null,null,null,null,null,null,null,null,null,null,null,null,null,null,null,null,{"$f":"IF(基礎データ!A67=\"\",\"\",基礎データ!A67)","v":""},{"$f":"IF(基礎データ!B67=\"\",\"\",基礎データ!B67)","v":""}]
[null,null,null,null,null,null,null,null,null,null,null,null,null,null,null,null,{"$f":"IF(基礎データ!A68=\"\",\"\",基礎データ!A68)","v":""},{"$f":"IF(基礎データ!B68=\"\",\"\",基礎データ!B68)","v":""}]
[null,null,null,null,null,null,null,null,null,null,null,null,null,null,null,null,{"$f":"IF(基礎データ!A69=\"\",\"\",基礎データ!A69)","v":""},{"$f":"IF(基礎データ!B69=\"\",\"\",基礎データ!B69)","v":""}]
[null,null,null,null,null,null,null,null,null,null,null,null,null,null,null,null,{"$f":"IF(基礎データ!A70=\"\",\"\",基礎データ!A70)","v":""},{"$f":"IF(基礎データ!B70=\"\",\"\",基礎データ!B70)","v":""}]
[null,null,null,null,null,null,null,null,null,null,null,null,null,null,null,null,{"$f":"IF(基礎データ!A71=\"\",\"\",基礎データ!A71)","v":""},{"$f":"IF(基礎データ!B71=\"\",\"\",基礎データ!B71)","v":""}]
[null,null,null,null,null,null,null,null,null,null,null,null,null,null,null,null,{"$f":"IF(基礎データ!A72=\"\",\"\",基礎データ!A72)","v":""},{"$f":"IF(基礎データ!B72=\"\",\"\",基礎データ!B72)","v":""}]
[null,null,null,null,null,null,null,null,null,null,null,null,null,null,null,null,{"$f":"IF(基礎データ!A73=\"\",\"\",基礎データ!A73)","v":""},{"$f":"IF(基礎データ!B73=\"\",\"\",基礎データ!B73)","v":""}]
[null,null,null,null,null,null,null,null,null,null,null,null,null,null,null,null,{"$f":"IF(基礎データ!A74=\"\",\"\",基礎データ!A74)","v":""},{"$f":"IF(基礎データ!B74=\"\",\"\",基礎データ!B74)","v":""}]
[null,null,null,null,null,null,null,null,null,null,null,null,null,null,null,null,{"$f":"IF(基礎データ!A75=\"\",\"\",基礎データ!A75)","v":""},{"$f":"IF(基礎データ!B75=\"\",\"\",基礎データ!B75)","v":""}]
[null,null,null,null,null,null,null,null,null,null,null,null,null,null,null,null,{"$f":"IF(基礎データ!A76=\"\",\"\",基礎データ!A76)","v":""},{"$f":"IF(基礎データ!B76=\"\",\"\",基礎データ!B76)","v":""}]
[null,null,null,null,null,null,null,null,null,null,null,null,null,null,null,null,{"$f":"IF(基礎データ!A77=\"\",\"\",基礎データ!A77)","v":""},{"$f":"IF(基礎データ!B77=\"\",\"\",基礎データ!B77)","v":""}]
[null,null,null,null,null,null,null,null,null,null,null,null,null,null,null,null,{"$f":"IF(基礎データ!A78=\"\",\"\",基礎データ!A78)","v":""},{"$f":"IF(基礎データ!B78=\"\",\"\",基礎データ!B78)","v":""}]
[null,null,null,null,null,null,null,null,null,null,null,null,null,null,null,null,{"$f":"IF(基礎データ!A79=\"\",\"\",基礎データ!A79)","v":""},{"$f":"IF(基礎データ!B79=\"\",\"\",基礎データ!B79)","v":""}]
[null,null,null,null,null,null,null,null,null,null,null,null,null,null,null,null,{"$f":"IF(基礎データ!A80=\"\",\"\",基礎データ!A80)","v":""},{"$f":"IF(基礎データ!B80=\"\",\"\",基礎データ!B80)","v":""}]
[null,null,null,null,null,null,null,null,null,null,null,null,null,null,null,null,{"$f":"IF(基礎データ!A81=\"\",\"\",基礎データ!A81)","v":""},{"$f":"IF(基礎データ!B81=\"\",\"\",基礎データ!B81)","v":""}]
[null,null,null,null,null,null,null,null,null,null,null,null,null,null,null,null,{"$f":"IF(基礎データ!A82=\"\",\"\",基礎データ!A82)","v":""},{"$f":"IF(基礎データ!B82=\"\",\"\",基礎データ!B82)","v":""}]
[null,null,null,null,null,null,null,null,null,null,null,null,null,null,null,null,{"$f":"IF(基礎データ!A83=\"\",\"\",基礎データ!A83)","v":""},{"$f":"IF(基礎データ!B83=\"\",\"\",基礎データ!B83)","v":""}]
[null,null,null,null,null,null,null,null,null,null,null,null,null,null,null,null,{"$f":"IF(基礎データ!A84=\"\",\"\",基礎データ!A84)","v":""},{"$f":"IF(基礎データ!B84=\"\",\"\",基礎データ!B84)","v":""}]
[null,null,null,null,null,null,null,null,null,null,null,null,null,null,null,null,{"$f":"IF(基礎データ!A85=\"\",\"\",基礎データ!A85)","v":""},{"$f":"IF(基礎データ!B85=\"\",\"\",基礎データ!B85)","v":""}]
[null,null,null,null,null,null,null,null,null,null,null,null,null,null,null,null,{"$f":"IF(基礎データ!A86=\"\",\"\",基礎データ!A86)","v":""},{"$f":"IF(基礎データ!B86=\"\",\"\",基礎データ!B86)","v":""}]
[null,null,null,null,null,null,null,null,null,null,null,null,null,null,null,null,{"$f":"IF(基礎データ!A87=\"\",\"\",基礎データ!A87)","v":""},{"$f":"IF(基礎データ!B87=\"\",\"\",基礎データ!B87)","v":""}]
[null,null,null,null,null,null,null,null,null,null,null,null,null,null,null,null,{"$f":"IF(基礎データ!A88=\"\",\"\",基礎データ!A88)","v":""},{"$f":"IF(基礎データ!B88=\"\",\"\",基礎データ!B88)","v":""}]
[null,null,null,null,null,null,null,null,null,null,null,null,null,null,null,null,{"$f":"IF(基礎データ!A89=\"\",\"\",基礎データ!A89)","v":""},{"$f":"IF(基礎データ!B89=\"\",\"\",基礎データ!B89)","v":""}]
[null,null,null,null,null,null,null,null,null,null,null,null,null,null,null,null,{"$f":"IF(基礎データ!A90=\"\",\"\",基礎データ!A90)","v":""},{"$f":"IF(基礎データ!B90=\"\",\"\",基礎データ!B90)","v":""}]
[null,null,null,null,null,null,null,null,null,null,null,null,null,null,null,null,{"$f":"IF(基礎データ!A91=\"\",\"\",基礎データ!A91)","v":""},{"$f":"IF(基礎データ!B91=\"\",\"\",基礎データ!B91)","v":""}]
[null,null,null,null,null,null,null,null,null,null,null,null,null,null,null,null,{"$f":"IF(基礎データ!A92=\"\",\"\",基礎データ!A92)","v":""},{"$f":"IF(基礎データ!B92=\"\",\"\",基礎データ!B92)","v":""}]
[null,null,null,null,null,null,null,null,null,null,null,null,null,null,null,null,{"$f":"IF(基礎データ!A93=\"\",\"\",基礎データ!A93)","v":""},{"$f":"IF(基礎データ!B93=\"\",\"\",基礎データ!B93)","v":""}]
[null,null,null,null,null,null,null,null,null,null,null,null,null,null,null,null,{"$f":"IF(基礎データ!A94=\"\",\"\",基礎データ!A94)","v":""},{"$f":"IF(基礎データ!B94=\"\",\"\",基礎データ!B94)","v":""}]
[null,null,null,null,null,null,null,null,null,null,null,null,null,null,null,null,{"$f":"IF(基礎データ!A95=\"\",\"\",基礎データ!A95)","v":""},{"$f":"IF(基礎データ!B95=\"\",\"\",基礎データ!B95)","v":""}]
[null,null,null,null,null,null,null,null,null,null,null,null,null,null,null,null,{"$f":"IF(基礎データ!A96=\"\",\"\",基礎データ!A96)","v":""},{"$f":"IF(基礎データ!B96=\"\",\"\",基礎データ!B96)","v":""}]
[null,null,null,null,null,null,null,null,null,null,null,null,null,null,null,null,{"$f":"IF(基礎データ!A97=\"\",\"\",基礎データ!A97)","v":""},{"$f":"IF(基礎データ!B97=\"\",\"\",基礎データ!B97)","v":""}]
[null,null,null,null,null,null,null,null,null,null,null,null,null,null,null,null,{"$f":"IF(基礎データ!A98=\"\",\"\",基礎データ!A98)","v":""},{"$f":"IF(基礎データ!B98=\"\",\"\",基礎データ!B98)","v":""}]
[null,null,null,null,null,null,null,null,null,null,null,null,null,null,null,null,{"$f":"IF(基礎データ!A99=\"\",\"\",基礎データ!A99)","v":""},{"$f":"IF(基礎データ!B99=\"\",\"\",基礎データ!B99)","v":""}]
[null,null,null,null,null,null,null,null,null,null,null,null,null,null,null,null,{"$f":"IF(基礎データ!A100=\"\",\"\",基礎データ!A100)","v":""},{"$f":"IF(基礎データ!B100=\"\",\"\",基礎データ!B100)","v":""}]
[null,null,null,null,null,null,null,null,null,null,null,null,null,null,null,null,{"$f":"IF(基礎データ!A101=\"\",\"\",基礎データ!A101)","v":""},{"$f":"IF(基礎データ!B101=\"\",\"\",基礎データ!B101)","v":""}]
[null,null,null,null,null,null,null,null,null,null,null,null,null,null,null,null,{"$f":"IF(基礎データ!A102=\"\",\"\",基礎データ!A102)","v":""},{"$f":"IF(基礎データ!B102=\"\",\"\",基礎データ!B102)","v":""}]
[null,null,null,null,null,null,null,null,null,null,null,null,null,null,null,null,{"$f":"IF(基礎データ!A103=\"\",\"\",基礎データ!A103)","v":""},{"$f":"IF(基礎データ!B103=\"\",\"\",基礎データ!B103)","v":""}]
[null,null,null,null,null,null,null,null,null,null,null,null,null,null,null,null,{"$f":"IF(基礎データ!A104=\"\",\"\",基礎データ!A104)","v":""},{"$f":"IF(基礎データ!B104=\"\",\"\",基礎データ!B104)","v":""}]

{"sheet":"研究大会報告","index":8,"n_rows":119,"n_cols":18,"rows_kept":119,"cut":false,"hidden":true,"merged":[[31,2,31,11],[32,2,32,11],[33,2,33,11],[35,1,37,1],[35,2,35,11],[36,2,36,11],[37,2,37,11],[16,1,34,1],[16,2,16,11],[17,2,17,11],[18,2,18,11],[23,2,23,11],[25,2,25,11],[26,2,26,11],[27,2,27,11],[28,2,28,11],[29,2,29,11],[30,2,30,11],[13,13,14,17],[14,2,14,3],[14,4,14,7],[14,8,14,11],[15,2,15,11],[15,13,16,17],[18,13,19,13],[19,2,19,11],[20,2,20,11],[21,2,21,11],[22,2,22,11],[7,5,8,5],[7,6,8,7],[7,8,8,10],[7,11,8,11],[12,1,12,11],[1,3,3,7],[1,8,1,9],[1,10,1,11],[2,8,3,9],[2,10,3,11]]}
[]
[null,"様式　２",null,"英語教育シンポジウム",null,null,null,null,"校長",null,"教頭"]
[]
[]
[]
[null,null,null,null,null,"平成",24,"年",1,"月",3,"日"]
[null,{"$f":"N19&\"長  殿\"","v":"0長  殿"}]
[null,null,null,null,null,"職・氏名",{"$f":"IF(I8=\"\",\"\",VLOOKUP(I8,Q19:R119,2,FALSE))","v":{"$error":"#N/A"}},null,"鍵本弘子",null,null,"印"]
[]
[]
[null,"　　　下記のとおり研究大会に参加しましたので、報告します。"]
[]
[null,"記"]
[null,null,null,null,null,null,null,null,null,null,null,null,null,"リストにない場合は一番下に追加してください"]
[null,"期　　間","2012-01-01",null,"2012-01-03",null,null,null,{"$f":"IF(E15=\"\",\"\",\"( \"&E15-C15&\"泊\"&E15-C15+1&\"日\"&\" )\")","v":"( 2泊3日 )"}]
[null,"用務先","横浜市（横浜文化会館）",null,null,null,null,null,null,null,null,null,null,"基礎データ"]
[null,"報　　　　　　告　　　　　　事　　　　　　項","①　研究概要･内容"]
[null,null,null,null,null,null,null,null,null,null,null,null,null,"学校名","研修名","用務先","氏名","職名"]
[null,null,null,null,null,null,null,null,null,null,null,null,null,{"$f":"旅行命令!K10","v":0},"愛知県小中学校音楽教育研究大会報告書","横浜市（横浜文化会館）",{"$f":"IF(基礎データ!A3=\"\",\"\",基礎データ!A3)","v":""},{"$f":"IF(基礎データ!B3=\"\",\"\",基礎データ!B3)","v":""}]
[null,null,null,null,null,null,null,null,null,null,null,null,null,null,"英語教育シンポジウム","安城市（市役所）",{"$f":"IF(基礎データ!A4=\"\",\"\",基礎データ!A4)","v":""},{"$f":"IF(基礎データ!B4=\"\",\"\",基礎データ!B4)","v":""}]
[null,null,null,null,null,null,null,null,null,null,null,null,null,null,null,null,{"$f":"IF(基礎データ!A5=\"\",\"\",基礎データ!A5)","v":""},{"$f":"IF(基礎データ!B5=\"\",\"\",基礎データ!B5)","v":""}]
[null,null,null,null,null,null,null,null,null,null,null,null,null,null,null,null,{"$f":"IF(基礎データ!A6=\"\",\"\",基礎データ!A6)","v":""},{"$f":"IF(基礎データ!B6=\"\",\"\",基礎データ!B6)","v":""}]
[null,null,null,null,null,null,null,null,null,null,null,null,null,null,null,null,{"$f":"IF(基礎データ!A7=\"\",\"\",基礎データ!A7)","v":""},{"$f":"IF(基礎データ!B7=\"\",\"\",基礎データ!B7)","v":""}]
[null,null,null,null,null,null,null,null,null,null,null,null,null,null,null,null,{"$f":"IF(基礎データ!A8=\"\",\"\",基礎データ!A8)","v":""},{"$f":"IF(基礎データ!B8=\"\",\"\",基礎データ!B8)","v":""}]
[null,null,null,null,null,null,null,null,null,null,null,null,null,null,null,null,{"$f":"IF(基礎データ!A9=\"\",\"\",基礎データ!A9)","v":""},{"$f":"IF(基礎データ!B9=\"\",\"\",基礎データ!B9)","v":""}]
[null,null,null,null,null,null,null,null,null,null,null,null,null,null,null,null,{"$f":"IF(基礎データ!A10=\"\",\"\",基礎データ!A10)","v":""},{"$f":"IF(基礎データ!B10=\"\",\"\",基礎データ!B10)","v":""}]
[null,null,"②　成果と活用方策等について",null,null,null,null,null,null,null,null,null,null,null,null,null,{"$f":"IF(基礎データ!A11=\"\",\"\",基礎データ!A11)","v":""},{"$f":"IF(基礎データ!B11=\"\",\"\",基礎データ!B11)","v":""}]
[null,null,null,null,null,null,null,null,null,null,null,null,null,null,null,null,{"$f":"IF(基礎データ!A12=\"\",\"\",基礎データ!A12)","v":""},{"$f":"IF(基礎データ!B12=\"\",\"\",基礎データ!B12)","v":""}]
[null,null,null,null,null,null,null,null,null,null,null,null,null,null,null,null,{"$f":"IF(基礎データ!A13=\"\",\"\",基礎データ!A13)","v":""},{"$f":"IF(基礎データ!B13=\"\",\"\",基礎データ!B13)","v":""}]
[null,null,null,null,null,null,null,null,null,null,null,null,null,null,null,null,{"$f":"IF(基礎データ!A14=\"\",\"\",基礎データ!A14)","v":""},{"$f":"IF(基礎データ!B14=\"\",\"\",基礎データ!B14)","v":""}]
[null,null,null,null,null,null,null,null,null,null,null,null,null,null,null,null,{"$f":"IF(基礎データ!A15=\"\",\"\",基礎データ!A15)","v":""},{"$f":"IF(基礎データ!B15=\"\",\"\",基礎データ!B15)","v":""}]
[null,null,"③　その他",null,null,null,null,null,null,null,null,null,null,null,null,null,{"$f":"IF(基礎データ!A16=\"\",\"\",基礎データ!A16)","v":""},{"$f":"IF(基礎データ!B16=\"\",\"\",基礎データ!B16)","v":""}]
[null,null,null,null,null,null,null,null,null,null,null,null,null,null,null,null,{"$f":"IF(基礎データ!A17=\"\",\"\",基礎データ!A17)","v":""},{"$f":"IF(基礎データ!B17=\"\",\"\",基礎データ!B17)","v":""}]
[null,null,null,null,null,null,null,null,null,null,null,null,null,null,null,null,{"$f":"IF(基礎データ!A18=\"\",\"\",基礎データ!A18)","v":""},{"$f":"IF(基礎データ!B18=\"\",\"\",基礎データ!B18)","v":""}]
[null,null,null,null,null,null,null,null,null,null,null,null,null,null,null,null,{"$f":"IF(基礎データ!A19=\"\",\"\",基礎データ!A19)","v":""},{"$f":"IF(基礎データ!B19=\"\",\"\",基礎データ!B19)","v":""}]
[null,"備　　考",null,null,null,null,null,null,null,null,null,null,null,null,null,null,{"$f":"IF(基礎データ!A20=\"\",\"\",基礎データ!A20)","v":""},{"$f":"IF(基礎データ!B20=\"\",\"\",基礎データ!B20)","v":""}]
[null,null,null,null,null,null,null,null,null,null,null,null,null,null,null,null,{"$f":"IF(基礎データ!A21=\"\",\"\",基礎データ!A21)","v":""},{"$f":"IF(基礎データ!B21=\"\",\"\",基礎データ!B21)","v":""}]
[null,null,null,null,null,null,null,null,null,null,null,null,null,null,null,null,{"$f":"IF(基礎データ!A22=\"\",\"\",基礎データ!A22)","v":""},{"$f":"IF(基礎データ!B22=\"\",\"\",基礎データ!B22)","v":""}]
[null,null,null,null,null,null,null,null,null,null,null,null,null,null,null,null,{"$f":"IF(基礎データ!A23=\"\",\"\",基礎データ!A23)","v":""},{"$f":"IF(基礎データ!B23=\"\",\"\",基礎データ!B23)","v":""}]
[null,null,null,null,null,null,null,null,null,null,null,null,null,null,null,null,{"$f":"IF(基礎データ!A24=\"\",\"\",基礎データ!A24)","v":""},{"$f":"IF(基礎データ!B24=\"\",\"\",基礎データ!B24)","v":""}]
[null,null,null,null,null,null,null,null,null,null,null,null,null,null,null,null,{"$f":"IF(基礎データ!A25=\"\",\"\",基礎データ!A25)","v":""},{"$f":"IF(基礎データ!B25=\"\",\"\",基礎データ!B25)","v":""}]
[null,null,null,null,null,null,null,null,null,null,null,null,null,null,null,null,{"$f":"IF(基礎データ!A26=\"\",\"\",基礎データ!A26)","v":""},{"$f":"IF(基礎データ!B26=\"\",\"\",基礎データ!B26)","v":""}]
[null,null,null,null,null,null,null,null,null,null,null,null,null,null,null,null,{"$f":"IF(基礎データ!A27=\"\",\"\",基礎データ!A27)","v":""},{"$f":"IF(基礎データ!B27=\"\",\"\",基礎データ!B27)","v":""}]
[null,null,null,null,null,null,null,null,null,null,null,null,null,null,null,null,{"$f":"IF(基礎データ!A28=\"\",\"\",基礎データ!A28)","v":""},{"$f":"IF(基礎データ!B28=\"\",\"\",基礎データ!B28)","v":""}]
[null,null,null,null,null,null,null,null,null,null,null,null,null,null,null,null,{"$f":"IF(基礎データ!A29=\"\",\"\",基礎データ!A29)","v":""},{"$f":"IF(基礎データ!B29=\"\",\"\",基礎データ!B29)","v":""}]
[null,null,null,null,null,null,null,null,null,null,null,null,null,null,null,null,{"$f":"IF(基礎データ!A30=\"\",\"\",基礎データ!A30)","v":""},{"$f":"IF(基礎データ!B30=\"\",\"\",基礎データ!B30)","v":""}]
[null,null,null,null,null,null,null,null,null,null,null,null,null,null,null,null,{"$f":"IF(基礎データ!A31=\"\",\"\",基礎データ!A31)","v":""},{"$f":"IF(基礎データ!B31=\"\",\"\",基礎データ!B31)","v":""}]
[null,null,null,null,null,null,null,null,null,null,null,null,null,null,null,null,{"$f":"IF(基礎データ!A32=\"\",\"\",基礎データ!A32)","v":""},{"$f":"IF(基礎データ!B32=\"\",\"\",基礎データ!B32)","v":""}]
[null,null,null,null,null,null,null,null,null,null,null,null,null,null,null,null,{"$f":"IF(基礎データ!A33=\"\",\"\",基礎データ!A33)","v":""},{"$f":"IF(基礎データ!B33=\"\",\"\",基礎データ!B33)","v":""}]
[null,null,null,null,null,null,null,null,null,null,null,null,null,null,null,null,{"$f":"IF(基礎データ!A34=\"\",\"\",基礎データ!A34)","v":""},{"$f":"IF(基礎データ!B34=\"\",\"\",基礎データ!B34)","v":""}]
[null,null,null,null,null,null,null,null,null,null,null,null,null,null,null,null,{"$f":"IF(基礎データ!A35=\"\",\"\",基礎データ!A35)","v":""},{"$f":"IF(基礎データ!B35=\"\",\"\",基礎データ!B35)","v":""}]
[null,null,null,null,null,null,null,null,null,null,null,null,null,null,null,null,{"$f":"IF(基礎データ!A36=\"\",\"\",基礎データ!A36)","v":""},{"$f":"IF(基礎データ!B36=\"\",\"\",基礎データ!B36)","v":""}]
[null,null,null,null,null,null,null,null,null,null,null,null,null,null,null,null,{"$f":"IF(基礎データ!A37=\"\",\"\",基礎データ!A37)","v":""},{"$f":"IF(基礎データ!B37=\"\",\"\",基礎データ!B37)","v":""}]
[null,null,null,null,null,null,null,null,null,null,null,null,null,null,null,null,{"$f":"IF(基礎データ!A38=\"\",\"\",基礎データ!A38)","v":""},{"$f":"IF(基礎データ!B38=\"\",\"\",基礎データ!B38)","v":""}]
[null,null,null,null,null,null,null,null,null,null,null,null,null,null,null,null,{"$f":"IF(基礎データ!A39=\"\",\"\",基礎データ!A39)","v":""},{"$f":"IF(基礎データ!B39=\"\",\"\",基礎データ!B39)","v":""}]
[null,null,null,null,null,null,null,null,null,null,null,null,null,null,null,null,{"$f":"IF(基礎データ!A40=\"\",\"\",基礎データ!A40)","v":""},{"$f":"IF(基礎データ!B40=\"\",\"\",基礎データ!B40)","v":""}]
[null,null,null,null,null,null,null,null,null,null,null,null,null,null,null,null,{"$f":"IF(基礎データ!A41=\"\",\"\",基礎データ!A41)","v":""},{"$f":"IF(基礎データ!B41=\"\",\"\",基礎データ!B41)","v":""}]
[null,null,null,null,null,null,null,null,null,null,null,null,null,null,null,null,{"$f":"IF(基礎データ!A42=\"\",\"\",基礎データ!A42)","v":""},{"$f":"IF(基礎データ!B42=\"\",\"\",基礎データ!B42)","v":""}]
[null,null,null,null,null,null,null,null,null,null,null,null,null,null,null,null,{"$f":"IF(基礎データ!A43=\"\",\"\",基礎データ!A43)","v":""},{"$f":"IF(基礎データ!B43=\"\",\"\",基礎データ!B43)","v":""}]
[null,null,null,null,null,null,null,null,null,null,null,null,null,null,null,null,{"$f":"IF(基礎データ!A44=\"\",\"\",基礎データ!A44)","v":""},{"$f":"IF(基礎データ!B44=\"\",\"\",基礎データ!B44)","v":""}]
[null,null,null,null,null,null,null,null,null,null,null,null,null,null,null,null,{"$f":"IF(基礎データ!A45=\"\",\"\",基礎データ!A45)","v":""},{"$f":"IF(基礎データ!B45=\"\",\"\",基礎データ!B45)","v":""}]
[null,null,null,null,null,null,null,null,null,null,null,null,null,null,null,null,{"$f":"IF(基礎データ!A46=\"\",\"\",基礎データ!A46)","v":""},{"$f":"IF(基礎データ!B46=\"\",\"\",基礎データ!B46)","v":""}]
[null,null,null,null,null,null,null,null,null,null,null,null,null,null,null,null,{"$f":"IF(基礎データ!A47=\"\",\"\",基礎データ!A47)","v":""},{"$f":"IF(基礎データ!B47=\"\",\"\",基礎データ!B47)","v":""}]
[null,null,null,null,null,null,null,null,null,null,null,null,null,null,null,null,{"$f":"IF(基礎データ!A48=\"\",\"\",基礎データ!A48)","v":""},{"$f":"IF(基礎データ!B48=\"\",\"\",基礎データ!B48)","v":""}]
[null,null,null,null,null,null,null,null,null,null,null,null,null,null,null,null,{"$f":"IF(基礎データ!A49=\"\",\"\",基礎データ!A49)","v":""},{"$f":"IF(基礎データ!B49=\"\",\"\",基礎データ!B49)","v":""}]
[null,null,null,null,null,null,null,null,null,null,null,null,null,null,null,null,{"$f":"IF(基礎データ!A50=\"\",\"\",基礎データ!A50)","v":""},{"$f":"IF(基礎データ!B50=\"\",\"\",基礎データ!B50)","v":""}]
[null,null,null,null,null,null,null,null,null,null,null,null,null,null,null,null,{"$f":"IF(基礎データ!A51=\"\",\"\",基礎データ!A51)","v":""},{"$f":"IF(基礎データ!B51=\"\",\"\",基礎データ!B51)","v":""}]
[null,null,null,null,null,null,null,null,null,null,null,null,null,null,null,null,{"$f":"IF(基礎データ!A52=\"\",\"\",基礎データ!A52)","v":""},{"$f":"IF(基礎データ!B52=\"\",\"\",基礎データ!B52)","v":""}]
[null,null,null,null,null,null,null,null,null,null,null,null,null,null,null,null,{"$f":"IF(基礎データ!A53=\"\",\"\",基礎データ!A53)","v":""},{"$f":"IF(基礎データ!B53=\"\",\"\",基礎データ!B53)","v":""}]
[null,null,null,null,null,null,null,null,null,null,null,null,null,null,null,null,{"$f":"IF(基礎データ!A54=\"\",\"\",基礎データ!A54)","v":""},{"$f":"IF(基礎データ!B54=\"\",\"\",基礎データ!B54)","v":""}]
[null,null,null,null,null,null,null,null,null,null,null,null,null,null,null,null,{"$f":"IF(基礎データ!A55=\"\",\"\",基礎データ!A55)","v":""},{"$f":"IF(基礎データ!B55=\"\",\"\",基礎データ!B55)","v":""}]
[null,null,null,null,null,null,null,null,null,null,null,null,null,null,null,null,{"$f":"IF(基礎データ!A56=\"\",\"\",基礎データ!A56)","v":""},{"$f":"IF(基礎データ!B56=\"\",\"\",基礎データ!B56)","v":""}]
[null,null,null,null,null,null,null,null,null,null,null,null,null,null,null,null,{"$f":"IF(基礎データ!A57=\"\",\"\",基礎データ!A57)","v":""},{"$f":"IF(基礎データ!B57=\"\",\"\",基礎データ!B57)","v":""}]
[null,null,null,null,null,null,null,null,null,null,null,null,null,null,null,null,{"$f":"IF(基礎データ!A58=\"\",\"\",基礎データ!A58)","v":""},{"$f":"IF(基礎データ!B58=\"\",\"\",基礎データ!B58)","v":""}]
[null,null,null,null,null,null,null,null,null,null,null,null,null,null,null,null,{"$f":"IF(基礎データ!A59=\"\",\"\",基礎データ!A59)","v":""},{"$f":"IF(基礎データ!B59=\"\",\"\",基礎データ!B59)","v":""}]
[null,null,null,null,null,null,null,null,null,null,null,null,null,null,null,null,{"$f":"IF(基礎データ!A60=\"\",\"\",基礎データ!A60)","v":""},{"$f":"IF(基礎データ!B60=\"\",\"\",基礎データ!B60)","v":""}]
[null,null,null,null,null,null,null,null,null,null,null,null,null,null,null,null,{"$f":"IF(基礎データ!A61=\"\",\"\",基礎データ!A61)","v":""},{"$f":"IF(基礎データ!B61=\"\",\"\",基礎データ!B61)","v":""}]
[null,null,null,null,null,null,null,null,null,null,null,null,null,null,null,null,{"$f":"IF(基礎データ!A62=\"\",\"\",基礎データ!A62)","v":""},{"$f":"IF(基礎データ!B62=\"\",\"\",基礎データ!B62)","v":""}]
[null,null,null,null,null,null,null,null,null,null,null,null,null,null,null,null,{"$f":"IF(基礎データ!A63=\"\",\"\",基礎データ!A63)","v":""},{"$f":"IF(基礎データ!B63=\"\",\"\",基礎データ!B63)","v":""}]
[null,null,null,null,null,null,null,null,null,null,null,null,null,null,null,null,{"$f":"IF(基礎データ!A64=\"\",\"\",基礎データ!A64)","v":""},{"$f":"IF(基礎データ!B64=\"\",\"\",基礎データ!B64)","v":""}]
[null,null,null,null,null,null,null,null,null,null,null,null,null,null,null,null,{"$f":"IF(基礎データ!A65=\"\",\"\",基礎データ!A65)","v":""},{"$f":"IF(基礎データ!B65=\"\",\"\",基礎データ!B65)","v":""}]
[null,null,null,null,null,null,null,null,null,null,null,null,null,null,null,null,{"$f":"IF(基礎データ!A66=\"\",\"\",基礎データ!A66)","v":""},{"$f":"IF(基礎データ!B66=\"\",\"\",基礎データ!B66)","v":""}]
[null,null,null,null,null,null,null,null,null,null,null,null,null,null,null,null,{"$f":"IF(基礎データ!A67=\"\",\"\",基礎データ!A67)","v":""},{"$f":"IF(基礎データ!B67=\"\",\"\",基礎データ!B67)","v":""}]
[null,null,null,null,null,null,null,null,null,null,null,null,null,null,null,null,{"$f":"IF(基礎データ!A68=\"\",\"\",基礎データ!A68)","v":""},{"$f":"IF(基礎データ!B68=\"\",\"\",基礎データ!B68)","v":""}]
[null,null,null,null,null,null,null,null,null,null,null,null,null,null,null,null,{"$f":"IF(基礎データ!A69=\"\",\"\",基礎データ!A69)","v":""},{"$f":"IF(基礎データ!B69=\"\",\"\",基礎データ!B69)","v":""}]
[null,null,null,null,null,null,null,null,null,null,null,null,null,null,null,null,{"$f":"IF(基礎データ!A70=\"\",\"\",基礎データ!A70)","v":""},{"$f":"IF(基礎データ!B70=\"\",\"\",基礎データ!B70)","v":""}]
[null,null,null,null,null,null,null,null,null,null,null,null,null,null,null,null,{"$f":"IF(基礎データ!A71=\"\",\"\",基礎データ!A71)","v":""},{"$f":"IF(基礎データ!B71=\"\",\"\",基礎データ!B71)","v":""}]
[null,null,null,null,null,null,null,null,null,null,null,null,null,null,null,null,{"$f":"IF(基礎データ!A72=\"\",\"\",基礎データ!A72)","v":""},{"$f":"IF(基礎データ!B72=\"\",\"\",基礎データ!B72)","v":""}]
[null,null,null,null,null,null,null,null,null,null,null,null,null,null,null,null,{"$f":"IF(基礎データ!A73=\"\",\"\",基礎データ!A73)","v":""},{"$f":"IF(基礎データ!B73=\"\",\"\",基礎データ!B73)","v":""}]
[null,null,null,null,null,null,null,null,null,null,null,null,null,null,null,null,{"$f":"IF(基礎データ!A74=\"\",\"\",基礎データ!A74)","v":""},{"$f":"IF(基礎データ!B74=\"\",\"\",基礎データ!B74)","v":""}]
[null,null,null,null,null,null,null,null,null,null,null,null,null,null,null,null,{"$f":"IF(基礎データ!A75=\"\",\"\",基礎データ!A75)","v":""},{"$f":"IF(基礎データ!B75=\"\",\"\",基礎データ!B75)","v":""}]
[null,null,null,null,null,null,null,null,null,null,null,null,null,null,null,null,{"$f":"IF(基礎データ!A76=\"\",\"\",基礎データ!A76)","v":""},{"$f":"IF(基礎データ!B76=\"\",\"\",基礎データ!B76)","v":""}]
[null,null,null,null,null,null,null,null,null,null,null,null,null,null,null,null,{"$f":"IF(基礎データ!A77=\"\",\"\",基礎データ!A77)","v":""},{"$f":"IF(基礎データ!B77=\"\",\"\",基礎データ!B77)","v":""}]
[null,null,null,null,null,null,null,null,null,null,null,null,null,null,null,null,{"$f":"IF(基礎データ!A78=\"\",\"\",基礎データ!A78)","v":""},{"$f":"IF(基礎データ!B78=\"\",\"\",基礎データ!B78)","v":""}]
[null,null,null,null,null,null,null,null,null,null,null,null,null,null,null,null,{"$f":"IF(基礎データ!A79=\"\",\"\",基礎データ!A79)","v":""},{"$f":"IF(基礎データ!B79=\"\",\"\",基礎データ!B79)","v":""}]
[null,null,null,null,null,null,null,null,null,null,null,null,null,null,null,null,{"$f":"IF(基礎データ!A80=\"\",\"\",基礎データ!A80)","v":""},{"$f":"IF(基礎データ!B80=\"\",\"\",基礎データ!B80)","v":""}]
[null,null,null,null,null,null,null,null,null,null,null,null,null,null,null,null,{"$f":"IF(基礎データ!A81=\"\",\"\",基礎データ!A81)","v":""},{"$f":"IF(基礎データ!B81=\"\",\"\",基礎データ!B81)","v":""}]
[null,null,null,null,null,null,null,null,null,null,null,null,null,null,null,null,{"$f":"IF(基礎データ!A82=\"\",\"\",基礎データ!A82)","v":""},{"$f":"IF(基礎データ!B82=\"\",\"\",基礎データ!B82)","v":""}]
[null,null,null,null,null,null,null,null,null,null,null,null,null,null,null,null,{"$f":"IF(基礎データ!A83=\"\",\"\",基礎データ!A83)","v":""},{"$f":"IF(基礎データ!B83=\"\",\"\",基礎データ!B83)","v":""}]
[null,null,null,null,null,null,null,null,null,null,null,null,null,null,null,null,{"$f":"IF(基礎データ!A84=\"\",\"\",基礎データ!A84)","v":""},{"$f":"IF(基礎データ!B84=\"\",\"\",基礎データ!B84)","v":""}]
[null,null,null,null,null,null,null,null,null,null,null,null,null,null,null,null,{"$f":"IF(基礎データ!A85=\"\",\"\",基礎データ!A85)","v":""},{"$f":"IF(基礎データ!B85=\"\",\"\",基礎データ!B85)","v":""}]
[null,null,null,null,null,null,null,null,null,null,null,null,null,null,null,null,{"$f":"IF(基礎データ!A86=\"\",\"\",基礎データ!A86)","v":""},{"$f":"IF(基礎データ!B86=\"\",\"\",基礎データ!B86)","v":""}]
[null,null,null,null,null,null,null,null,null,null,null,null,null,null,null,null,{"$f":"IF(基礎データ!A87=\"\",\"\",基礎データ!A87)","v":""},{"$f":"IF(基礎データ!B87=\"\",\"\",基礎データ!B87)","v":""}]
[null,null,null,null,null,null,null,null,null,null,null,null,null,null,null,null,{"$f":"IF(基礎データ!A88=\"\",\"\",基礎データ!A88)","v":""},{"$f":"IF(基礎データ!B88=\"\",\"\",基礎データ!B88)","v":""}]
[null,null,null,null,null,null,null,null,null,null,null,null,null,null,null,null,{"$f":"IF(基礎データ!A89=\"\",\"\",基礎データ!A89)","v":""},{"$f":"IF(基礎データ!B89=\"\",\"\",基礎データ!B89)","v":""}]
[null,null,null,null,null,null,null,null,null,null,null,null,null,null,null,null,{"$f":"IF(基礎データ!A90=\"\",\"\",基礎データ!A90)","v":""},{"$f":"IF(基礎データ!B90=\"\",\"\",基礎データ!B90)","v":""}]
[null,null,null,null,null,null,null,null,null,null,null,null,null,null,null,null,{"$f":"IF(基礎データ!A91=\"\",\"\",基礎データ!A91)","v":""},{"$f":"IF(基礎データ!B91=\"\",\"\",基礎データ!B91)","v":""}]
[null,null,null,null,null,null,null,null,null,null,null,null,null,null,null,null,{"$f":"IF(基礎データ!A92=\"\",\"\",基礎データ!A92)","v":""},{"$f":"IF(基礎データ!B92=\"\",\"\",基礎データ!B92)","v":""}]
[null,null,null,null,null,null,null,null,null,null,null,null,null,null,null,null,{"$f":"IF(基礎データ!A93=\"\",\"\",基礎データ!A93)","v":""},{"$f":"IF(基礎データ!B93=\"\",\"\",基礎データ!B93)","v":""}]
[null,null,null,null,null,null,null,null,null,null,null,null,null,null,null,null,{"$f":"IF(基礎データ!A94=\"\",\"\",基礎データ!A94)","v":""},{"$f":"IF(基礎データ!B94=\"\",\"\",基礎データ!B94)","v":""}]
[null,null,null,null,null,null,null,null,null,null,null,null,null,null,null,null,{"$f":"IF(基礎データ!A95=\"\",\"\",基礎データ!A95)","v":""},{"$f":"IF(基礎データ!B95=\"\",\"\",基礎データ!B95)","v":""}]
[null,null,null,null,null,null,null,null,null,null,null,null,null,null,null,null,{"$f":"IF(基礎データ!A96=\"\",\"\",基礎データ!A96)","v":""},{"$f":"IF(基礎データ!B96=\"\",\"\",基礎データ!B96)","v":""}]
[null,null,null,null,null,null,null,null,null,null,null,null,null,null,null,null,{"$f":"IF(基礎データ!A97=\"\",\"\",基礎データ!A97)","v":""},{"$f":"IF(基礎データ!B97=\"\",\"\",基礎データ!B97)","v":""}]
[null,null,null,null,null,null,null,null,null,null,null,null,null,null,null,null,{"$f":"IF(基礎データ!A98=\"\",\"\",基礎データ!A98)","v":""},{"$f":"IF(基礎データ!B98=\"\",\"\",基礎データ!B98)","v":""}]
[null,null,null,null,null,null,null,null,null,null,null,null,null,null,null,null,{"$f":"IF(基礎データ!A99=\"\",\"\",基礎データ!A99)","v":""},{"$f":"IF(基礎データ!B99=\"\",\"\",基礎データ!B99)","v":""}]
[null,null,null,null,null,null,null,null,null,null,null,null,null,null,null,null,{"$f":"IF(基礎データ!A100=\"\",\"\",基礎データ!A100)","v":""},{"$f":"IF(基礎データ!B100=\"\",\"\",基礎データ!B100)","v":""}]
[null,null,null,null,null,null,null,null,null,null,null,null,null,null,null,null,{"$f":"IF(基礎データ!A101=\"\",\"\",基礎データ!A101)","v":""},{"$f":"IF(基礎データ!B101=\"\",\"\",基礎データ!B101)","v":""}]
[null,null,null,null,null,null,null,null,null,null,null,null,null,null,null,null,{"$f":"IF(基礎データ!A102=\"\",\"\",基礎データ!A102)","v":""},{"$f":"IF(基礎データ!B102=\"\",\"\",基礎データ!B102)","v":""}]
[null,null,null,null,null,null,null,null,null,null,null,null,null,null,null,null,{"$f":"IF(基礎データ!A103=\"\",\"\",基礎データ!A103)","v":""},{"$f":"IF(基礎データ!B103=\"\",\"\",基礎データ!B103)","v":""}]

{"sheet":"復命書","index":9,"n_rows":18,"n_cols":47,"rows_kept":18,"cut":false,"hidden":false,"merged":[[24,0,24,46],[25,0,25,46],[32,0,32,46],[33,0,33,46],[34,0,34,46],[26,0,26,46],[27,0,27,46],[28,0,28,46],[29,0,29,46],[30,0,30,46],[31,0,31,46],[19,0,19,46],[20,0,20,46],[21,0,21,46],[22,0,22,46],[23,0,23,46],[16,0,16,4],[16,6,16,43],[16,44,16,45],[17,0,17,46],[18,0,18,46],[14,0,14,4],[14,6,14,43],[14,44,14,45],[15,0,15,4],[15,6,15,43],[15,44,15,45],[12,0,12,4],[12,6,12,43],[12,44,12,45],[13,0,13,4],[13,6,13,43],[13,44,13,45],[11,0,11,4],[11,6,11,43],[11,44,11,45],[9,17,9,18],[9,19,9,20],[9,36,9,39],[9,40,9,43],[10,0,10,4],[10,5,10,43],[10,44,10,46],[9,21,9,22],[9,23,9,26],[9,27,9,31],[9,32,9,35],[9,1,9,2],[9,3,9,4],[9,6,9,7],[9,9,9,10],[9,13,9,14],[9,15,9,16],[7,22,7,46],[8,22,8,46],[7,0,8,0],[7,1,8,9],[7,10,8,12],[7,13,8,17],[7,18,8,21],[0,0,1,46],[2,0,6,0],[2,1,2,4],[2,5,2,8],[2,9,2,12],[2,13,6,21],[2,22,6,26],[2,27,6,31],[2,32,6,35],[2,36,6,40],[2,41,6,43],[2,44,6,45],[2,46,6,46],[3,1,6,4],[3,5,6,8],[3,9,6,12]]}
["復命書"]
[]
["決  裁  欄","校  長",null,null,null,null,null,null,null,null,null,null,null,"復命年月日",null,null,null,null,null,null,null,null,"令和",null,null,null,null,null,null,null,null,null,"年",null,null,null,null,null,null,null,null,"月",null,null,null,null,"日"]
[]
[]
[]
[]
["所属名",{"$f":"旅行命令!$K$10","v":0},null,null,null,null,null,null,null,null,"職名",null,null,{"$f":"旅行命令!AH10","v":{"$error":"#N/A"}},null,null,null,null,"氏名\n職番",null,null,null,{"$f":"+旅行命令!BA79","v":0}]
[null,null,null,null,null,null,null,null,null,null,null,null,null,null,null,null,null,null,null,null,null,null,{"$f":"VLOOKUP(旅行命令!BA10,基礎データ!A3:C999,3,FALSE)","v":{"$error":"#N/A"}}]
["旅行期間","令和",null,{"$f":"+旅行命令!O81","v":0},null,"年",{"$f":"+旅行命令!U81","v":0},null,"月",{"$f":"+旅行命令!Z81","v":0},null,"日～",null,null,null,{"$f":"+旅行命令!AK81","v":0},null,"年",null,{"$f":"+旅行命令!AS81","v":0},null,"月",null,{"$f":"+旅行命令!BA81","v":0},null,null,null,"日（",null,null,null,null,{"$f":"+旅行命令!BL81","v":0},null,null,null,"泊",null,null,null,{"$f":"+旅行命令!BU81","v":1},null,null,null,"日）"]
["用務",null,null,null,null,"用　務　先",null,null,null,null,null,null,null,null,null,null,null,null,null,null,null,null,null,null,null,null,null,null,null,null,null,null,null,null,null,null,null,null,null,null,null,null,null,null,"泊　数"]
[{"$f":"+旅行命令!A83","v":0},null,null,null,null,"①",{"$f":"+旅行命令!S83","v":0},null,null,null,null,null,null,null,null,null,null,null,null,null,null,null,null,null,null,null,null,null,null,null,null,null,null,null,null,null,null,null,null,null,null,null,null,null,{"$f":"+旅行命令!CC83","v":0},null,"泊"]
[{"$f":"+旅行命令!A84","v":""},null,null,null,null,"②",{"$f":"+旅行命令!S84","v":""},null,null,null,null,null,null,null,null,null,null,null,null,null,null,null,null,null,null,null,null,null,null,null,null,null,null,null,null,null,null,null,null,null,null,null,null,null,{"$f":"+旅行命令!CC84","v":0},null,"泊"]
[{"$f":"+旅行命令!A85","v":""},null,null,null,null,"③",{"$f":"+旅行命令!S85","v":""},null,null,null,null,null,null,null,null,null,null,null,null,null,null,null,null,null,null,null,null,null,null,null,null,null,null,null,null,null,null,null,null,null,null,null,null,null,{"$f":"+旅行命令!CC85","v":0},null,"泊"]
[{"$f":"+旅行命令!A86","v":""},null,null,null,null,"④",{"$f":"+旅行命令!S86","v":""},null,null,null,null,null,null,null,null,null,null,null,null,null,null,null,null,null,null,null,null,null,null,null,null,null,null,null,null,null,null,null,null,null,null,null,null,null,{"$f":"+旅行命令!CC86","v":0},null,"泊"]
[{"$f":"+旅行命令!A87","v":""},null,null,null,null,"⑤",{"$f":"+旅行命令!S87","v":""},null,null,null,null,null,null,null,null,null,null,null,null,null,null,null,null,null,null,null,null,null,null,null,null,null,null,null,null,null,null,null,null,null,null,null,null,null,{"$f":"+旅行命令!CC87","v":0},null,"泊"]
[{"$f":"+旅行命令!A88","v":""},null,null,null,null,"⑥",{"$f":"+旅行命令!S88","v":""},null,null,null,null,null,null,null,null,null,null,null,null,null,null,null,null,null,null,null,null,null,null,null,null,null,null,null,null,null,null,null,null,null,null,null,null,null,{"$f":"+旅行命令!CC88","v":0},null,"泊"]
["報  告  事  項"]

{"sheet":"証明書","index":10,"n_rows":48,"n_cols":24,"rows_kept":48,"cut":false,"hidden":true,"merged":[[4,0,4,1],[10,20,10,22],[18,0,21,0],[19,1,19,3],[20,1,20,3],[20,4,20,12],[27,14,27,22],[21,13,21,14],[22,13,22,15],[19,13,19,14],[17,19,17,22],[27,0,27,13],[18,16,18,19],[22,16,22,19],[18,20,18,23],[24,1,24,12],[9,4,9,5],[9,7,9,9],[10,7,10,9],[8,7,8,9],[11,16,11,18],[26,16,26,18],[12,16,12,18],[7,23,9,23],[3,17,3,18],[11,13,11,14],[6,4,6,9],[10,4,10,5],[12,10,12,12],[13,7,13,9],[14,7,14,9],[16,7,16,9],[13,4,13,5],[14,4,14,5],[15,4,15,5],[16,4,16,5],[14,10,14,12],[11,4,11,5],[12,4,12,5],[11,7,11,9],[15,10,15,12],[16,10,16,12],[15,13,15,14],[16,13,16,14],[12,13,12,14],[7,10,7,12],[10,13,10,14],[13,10,13,12],[1,0,1,23],[2,2,2,23],[4,2,4,23],[7,1,9,2],[9,10,9,12],[3,2,3,3],[5,0,5,1],[3,4,3,9],[3,22,3,23],[3,0,3,1],[6,13,6,15],[5,16,5,19],[5,20,5,23],[7,20,9,22],[6,20,6,23],[8,16,8,18],[9,16,9,18],[8,13,8,14],[7,16,7,18],[2,0,2,1],[6,16,6,19],[7,4,7,5],[8,4,8,5],[9,13,9,14],[0,2,0,23],[12,7,12,9],[15,7,15,9],[5,5,5,9],[5,13,5,15],[3,11,3,12],[6,0,17,0],[6,1,6,2],[10,1,10,2],[12,1,16,2],[11,1,11,2],[7,7,7,9],[5,2,5,4],[5,10,5,12],[11,10,11,12],[7,13,7,14],[6,10,6,12],[10,10,10,12],[8,10,8,12],[13,16,13,18],[14,16,14,18],[15,16,15,18],[16,16,16,18],[10,16,10,18],[35,0,35,23],[31,12,31,22],[33,0,33,22],[32,4,32,10],[18,4,18,12],[17,1,17,16],[12,20,16,22],[18,1,18,3],[18,13,18,15],[12,23,16,23],[32,13,32,14],[32,15,32,20],[26,13,26,14],[11,20,11,22],[13,13,13,14],[14,13,14,14],[20,13,20,14],[30,0,30,3],[31,0,31,3],[34,0,34,23],[29,0,29,22],[32,0,32,3],[30,12,30,22],[28,0,28,22],[20,23,21,23],[24,20,26,22],[24,23,26,23],[25,1,25,12],[26,1,26,12],[23,13,23,14],[40,0,40,23],[19,16,19,18],[20,16,20,18],[21,16,21,18],[23,16,23,18],[24,16,24,18],[22,0,26,0],[19,4,19,12],[22,20,22,23],[19,20,19,23],[24,13,24,14],[25,13,25,14],[23,20,23,23],[23,1,23,12],[31,4,31,10],[21,4,21,12],[22,1,22,12],[39,0,39,23],[21,1,21,3],[36,0,36,23],[37,0,37,23],[20,20,21,22],[38,0,38,23],[25,16,25,18]]}
["　様　式"]
["旅　 行 　費 　用 　証　 明 　書"]
["学校名",null,{"$f":"旅行命令!K10","v":0}]
["旅行の名称",null,2,null,"校外学習引率",null,null,null,null,null,"（平成",18,null,11,30,"日","～",0,null,0,"日",0,0]
["旅行先",null,"名古屋市（大高緑地）"]
["参加者数",null,{"$f":"K6+Q6","v":44},null,null,"人（児童・生徒",null,null,null,null,41,null,null,"人・引率教員",null,null,3,null,null,null,"人）"]
["　　　運　　　　　　　　　　賃","種類",null,"交通機関名","利   　用　 　区　 　間",null,null,null,null,null,"往復・片道の別",null,null,"総　　　　　額",null,null,"利用者数",null,null,null,"１人当たりの額"]
[null,"鉄道賃",null,"名鉄電車","前後",null,"～","左京山",null,null,"片道",null,null,540,null,"円",3,null,null,"人",324,null,null,"円"]
[null,null,null,"名鉄電車","左京山",null,"～","前後",null,null,"片道",null,null,288,null,"円",2,null,null,"人"]
[null,null,null,null,null,null,"～",null,null,null,null,null,null,null,null,"円",null,null,null,"人"]
[null,"船 　賃",null,null,null,null,"～",null,null,null,null,null,null,null,null,"円",null,null,null,"人",null,null,null,"円"]
[null,"航空賃",null,null,null,null,"～",null,null,null,null,null,null,null,null,"円",null,null,null,"人",null,null,null,"円"]
[null,"車 　賃",null,"有料道路",null,null,"～",null,null,null,null,null,null,null,null,"円",null,null,null,"人",null,null,null,"円"]
[null,null,null,"駐車場",null,null,"～",null,null,null,null,null,null,null,null,"円",null,null,null,"人"]
[null,null,null,"貸切バス",null,null,"～",null,null,null,null,null,null,null,null,"円",null,null,null,"人"]
[null,null,null,null,null,null,"～",null,null,null,null,null,null,null,null,"円",null,null,null,"人"]
[null,null,null,null,null,null,"～",null,null,null,null,null,null,null,null,"円",null,null,null,"人"]
[null,null,null,null,null,null,null,null,null,null,null,null,null,null,null,null,null,"計（１）",null,{"$f":"SUM(U8:W17)","v":324},null,null,null,"円"]
["宿　泊　料","宿泊施設名",null,null,"所在地",null,null,null,null,null,null,null,null,"総額",null,null,"宿泊者数",null,null,null,"１人当たりの額"]
[null,null,null,null,null,null,null,null,null,null,null,null,null,null,null,"円",null,null,null,"人","計（２）"]
[null,null,null,null,null,null,null,null,null,null,null,null,null,null,null,"円",null,null,null,"人",null,null,null,"円"]
[null,null,null,null,null,null,null,null,null,null,null,null,null,null,null,"円",null,null,null,"人"]
["旅 行 雑 費","名　　　　　　　　　　　　　　称",null,null,null,null,null,null,null,null,null,null,null,"総額",null,null,"利用者数",null,null,null,"１人当たりの額"]
[null,null,null,null,null,null,null,null,null,null,null,null,null,null,null,"円",null,null,null,"人","計（３）"]
[null,null,null,null,null,null,null,null,null,null,null,null,null,null,null,"円",null,null,null,"人",null,null,null,"円"]
[null,null,null,null,null,null,null,null,null,null,null,null,null,null,null,"円",null,null,null,"人"]
[null,null,null,null,null,null,null,null,null,null,null,null,null,null,null,"円",null,null,null,"人"]
["　合　計　（１）＋（２）＋（３）",null,null,null,null,null,null,null,null,null,null,null,null,null,{"$f":"T18+U21+U25","v":324},null,null,null,null,null,null,null,null,"円"]
[]
["　上記のとおり相違ないことを証明します。"]
[null,null,null,null,"平成",18,"年",11,"月",30,"日"]
[null,null,null,null,"（旅行業者名又は学校名）",null,null,null,null,null,null,null,{"$f":"C3","v":0}]
[null,null,null,null,"（代表者名又は校長名）",null,null,null,null,null,null,null,null,"校長",null,"佐野　智",null,null,null,null,null,null,"印"]
[]
["備考　１　用紙の大きさは、日本工業規格A4とする。"]
["　　　　２　この様式は、団体旅行に要する経費を旅行業者(旅行の企画及び手配を旅行業者に依頼しない場合にあっては校長）が証明する場合に使用すること。"]
["　　　　３　「旅行先」欄には、旅行計画書の主な目的地を記載すること。"]
["　　　　４　「総額」欄には、児童、生徒等と引率教員の負担額の総額を記載し、「１人当たりの額」欄には、引率教員１人当たりの負担額を記載すること。"]
["　　　　５　「車賃」欄には、貸切バスの借上料、道路若しくは駐車場の料金、乗務員経費又は路線バスの運賃について記載すること。"]
["　　　　６　「旅行雑費」欄には、旅行取扱手数料、旅行企画料、航空機変更保険料、旅行添乗員経費又は荷物運送代（貸切バスを利用しない区間に係るもの"]
["　　　　　に限る）について記載すること。"]
[]
[]
[null,"野外活動引率"]
[null,"修学旅行引率"]
[null,"校外学習引率"]
[null,"社会見学引率"]
[null,"遠足引率"]

{"sheet":"修学旅行証明書","index":11,"n_rows":48,"n_cols":24,"rows_kept":48,"cut":false,"hidden":true,"merged":[[17,19,17,22],[20,20,21,22],[20,23,21,23],[3,17,3,18],[6,0,17,0],[6,1,6,2],[10,1,10,2],[12,1,16,2],[11,1,11,2],[6,4,6,9],[16,10,16,12],[10,10,10,12],[11,10,11,12],[12,10,12,12],[10,4,10,5],[13,7,13,9],[11,4,11,5],[12,4,12,5],[11,7,11,9],[11,13,11,14],[14,16,14,18],[12,13,12,14],[12,16,12,18],[6,16,6,19],[16,16,16,18],[16,7,16,9],[12,23,16,23],[17,1,17,16],[19,20,19,23],[5,0,5,1],[5,2,5,4],[5,10,5,12],[11,20,11,22],[6,20,6,23],[12,20,16,22],[7,23,9,23],[14,13,14,14],[13,10,13,12],[14,10,14,12],[18,0,21,0],[6,10,6,12],[10,13,10,14],[13,13,13,14],[5,20,5,23],[7,20,9,22],[9,10,9,12],[8,7,8,9],[14,4,14,5],[2,0,2,1],[3,11,3,12],[15,10,15,12],[7,7,7,9],[10,7,10,9],[3,4,3,9],[9,4,9,5],[7,10,7,12],[8,10,8,12],[8,4,8,5],[7,4,7,5],[9,7,9,9],[13,4,13,5],[3,0,3,1],[4,0,4,1],[14,7,14,9],[15,4,15,5],[0,2,0,23],[12,7,12,9],[15,7,15,9],[5,5,5,9],[5,13,5,15],[10,16,10,18],[7,16,7,18],[8,16,8,18],[9,16,9,18],[7,13,7,14],[8,13,8,14],[9,13,9,14],[11,16,11,18],[1,0,1,23],[2,2,2,23],[4,2,4,23],[3,2,3,3],[7,1,9,2],[3,22,3,23],[10,20,10,22],[6,13,6,15],[5,16,5,19],[13,16,13,18],[15,16,15,18],[40,0,40,23],[19,16,19,18],[20,16,20,18],[21,16,21,18],[23,16,23,18],[24,16,24,18],[25,16,25,18],[35,0,35,23],[38,0,38,23],[39,0,39,23],[27,14,27,22],[26,16,26,18],[21,4,21,12],[22,20,22,23],[36,0,36,23],[37,0,37,23],[34,0,34,23],[29,0,29,22],[32,0,32,3],[30,12,30,22],[32,13,32,14],[32,15,32,20],[30,0,30,3],[31,0,31,3],[33,0,33,22],[32,4,32,10],[18,16,18,19],[22,16,22,19],[18,20,18,23],[31,4,31,10],[31,12,31,22],[20,4,20,12],[26,13,26,14],[22,13,22,15],[19,13,19,14],[24,1,24,12],[23,20,23,23],[24,20,26,22],[24,23,26,23],[25,1,25,12],[26,1,26,12],[23,13,23,14],[24,13,24,14],[18,1,18,3],[28,0,28,22],[27,0,27,13],[19,1,19,3],[20,1,20,3],[22,0,26,0],[23,1,23,12],[22,1,22,12],[21,1,21,3],[25,13,25,14],[15,13,15,14],[16,13,16,14],[18,13,18,15],[20,13,20,14],[21,13,21,14],[16,4,16,5],[18,4,18,12],[19,4,19,12]]}
["　様　式"]
["旅　 行 　費 　用 　証　 明 　書"]
["学校名",null,{"$f":"旅行命令!K10","v":0}]
["旅行の名称",null,6,null,"修学旅行引率",null,null,null,null,null,"（平成",15,null,10,21,"日","～",10,null,22,"日",1,2]
["旅行先",null,"三重県伊勢市・鳥羽市・志摩郡磯部町"]
["参加者数",null,{"$f":"K6+Q6","v":62},null,null,"人（児童・生徒",null,null,null,null,57,null,null,"人・引率教員",null,null,5,null,null,null,"人）"]
["　　　運　　　　　　　　　　賃","種類",null,"交通機関名","利   　用　 　区　 　間",null,null,null,null,null,"往復・片道の別",null,null,"総　　　　　額",null,null,"利用者数",null,null,null,"１人当たりの額"]
[null,"鉄道賃",null,null,null,null,"～",null,null,null,null,null,null,null,null,"円",null,null,null,"人",null,null,null,"円"]
[null,null,null,null,null,null,"～",null,null,null,null,null,null,null,null,"円",null,null,null,"人"]
[null,null,null,null,null,null,"～",null,null,null,null,null,null,null,null,"円",null,null,null,"人"]
[null,"船 　賃",null,"伊勢湾フェリー","鳥羽",null,"～","師崎",null,null,"片道",null,null,null,null,"円",62,null,null,"人",null,null,null,"円"]
[null,"航空賃",null,null,null,null,"～",null,null,null,null,null,null,null,null,"円",null,null,null,"人",null,null,null,"円"]
[null,"車 　賃",null,"有料道路","名古屋",null,"～","鳥羽",null,null,null,null,null,null,null,"円",62,null,null,"人",null,null,null,"円"]
[null,null,null,"駐車場","鳥羽水族館",null,"～","スペイン村",null,null,null,null,null,null,null,"円",62,null,null,"人"]
[null,null,null,"貸切バス","学校",null,"～","鳥羽",null,null,"往復",null,null,null,null,"円",62,null,null,"人"]
[null,null,null,"乗務員経費",null,null,"～",null,null,null,null,null,null,null,null,"円",62,null,null,"人"]
[null,null,null,"伊勢湾フェリー","鳥羽",null,"～","師崎",null,null,"片道",null,null,null,null,"円",62,null,null,"人"]
[null,null,null,null,null,null,null,null,null,null,null,null,null,null,null,null,null,"計（１）",null,{"$f":"SUM(U8:W17)","v":0},null,null,null,"円"]
["宿　泊　料","宿泊施設名",null,null,"所在地",null,null,null,null,null,null,null,null,"総額",null,null,"宿泊者数",null,null,null,"１人当たりの額"]
[null,"ホテルリゾート彩花亭",null,null,"三重県鳥羽市安楽島町１０７５－１４９",null,null,null,null,null,null,null,null,null,null,"円",62,null,null,"人","計（２）"]
[null,null,null,null,null,null,null,null,null,null,null,null,null,null,null,"円",null,null,null,"人",7350,null,null,"円"]
[null,null,null,null,null,null,null,null,null,null,null,null,null,null,null,"円",null,null,null,"人"]
["旅 行 雑 費","名　　　　　　　　　　　　　　称",null,null,null,null,null,null,null,null,null,null,null,"総額",null,null,"利用者数",null,null,null,"１人当たりの額"]
[null,"旅行取扱料金",null,null,null,null,null,null,null,null,null,null,null,null,null,"円",62,null,null,"人","計（３）"]
[null,"添乗員諸経費",null,null,null,null,null,null,null,null,null,null,null,null,null,"円",62,null,null,"人",1591,null,null,"円"]
[null,null,null,null,null,null,null,null,null,null,null,null,null,null,null,"円",null,null,null,"人"]
[null,null,null,null,null,null,null,null,null,null,null,null,null,null,null,"円",null,null,null,"人"]
["　合　計　（１）＋（２）＋（３）",null,null,null,null,null,null,null,null,null,null,null,null,null,{"$f":"T18+U21+U25","v":8941},null,null,null,null,null,null,null,null,"円"]
[]
["　上記のとおり相違ないことを証明します。"]
[null,null,null,null,"平成",15,"年",10,"月",31,"日"]
[null,null,null,null,"（旅行業者名又は学校名）",null,null,null,null,null,null,null,"株式会社　新鉄旅行"]
[null,null,null,null,"（代表者名又は校長名）",null,null,null,null,null,null,null,null,"代表取締役",null,"牧野宗二",null,null,null,null,null,null,"印"]
[]
["備考　１　用紙の大きさは、日本工業規格A4とする。"]
["　　　　２　この様式は、団体旅行に要する経費を旅行業者(旅行の企画及び手配を旅行業者に依頼しない場合にあっては校長）が証明する場合に使用すること。"]
["　　　　３　「旅行先」欄には、旅行計画書の主な目的地を記載すること。"]
["　　　　４　「総額」欄には、児童、生徒等と引率教員の負担額の総額を記載し、「１人当たりの額」欄には、引率教員１人当たりの負担額を記載すること。"]
["　　　　５　「車賃」欄には、貸切バスの借上料、道路若しくは駐車場の料金、乗務員経費又は路線バスの運賃について記載すること。"]
["　　　　６　「旅行雑費」欄には、旅行取扱手数料、旅行企画料、航空機変更保険料、旅行添乗員経費又は荷物運送代（貸切バスを利用しない区間に係るもの"]
["　　　　　に限る）について記載すること。"]
[]
[]
[null,"野外活動引率"]
[null,"修学旅行引率"]
[null,"校外学習引率"]
[null,"社会見学引率"]
[null,"遠足引率"]

{"sheet":"野外活動証明書","index":12,"n_rows":41,"n_cols":24,"rows_kept":41,"cut":false,"hidden":true,"merged":[[10,20,10,22],[10,16,10,18],[11,20,11,22],[23,20,23,23],[24,20,26,22],[24,23,26,23],[14,13,14,14],[18,16,18,19],[22,16,22,19],[12,16,12,18],[13,16,13,18],[14,16,14,18],[11,16,11,18],[1,0,1,23],[2,2,2,23],[4,2,4,23],[7,1,9,2],[9,10,9,12],[3,2,3,3],[3,17,3,18],[5,16,5,19],[3,22,3,23],[5,5,5,9],[2,0,2,1],[6,16,6,19],[6,20,6,23],[6,10,6,12],[7,10,7,12],[5,20,5,23],[7,20,9,22],[8,16,8,18],[9,16,9,18],[3,4,3,9],[7,23,9,23],[3,11,3,12],[4,0,4,1],[5,0,5,1],[5,2,5,4],[9,7,9,9],[8,10,8,12],[3,0,3,1],[6,0,17,0],[6,1,6,2],[10,1,10,2],[11,1,11,2],[14,7,14,9],[14,10,14,12],[12,1,16,2],[16,4,16,5],[12,4,12,5],[17,1,17,16],[13,4,13,5],[13,10,13,12],[13,13,13,14],[7,13,7,14],[6,13,6,15],[7,16,7,18],[15,13,15,14],[8,4,8,5],[7,7,7,9],[11,13,11,14],[20,4,20,12],[15,10,15,12],[31,4,31,10],[12,10,12,12],[26,1,26,12],[20,13,20,14],[19,4,19,12],[12,13,12,14],[24,13,24,14],[25,13,25,14],[22,1,22,12],[21,4,21,12],[24,1,24,12],[25,1,25,12],[23,1,23,12],[16,13,16,14],[26,13,26,14],[8,13,8,14],[9,13,9,14],[10,13,10,14],[22,13,22,15],[0,2,0,23],[34,0,34,23],[29,0,29,22],[32,0,32,3],[30,12,30,22],[28,0,28,22],[27,0,27,13],[5,10,5,12],[11,10,11,12],[6,4,6,9],[8,7,8,9],[10,10,10,12],[7,4,7,5],[18,4,18,12],[16,7,16,9],[9,4,9,5],[10,4,10,5],[15,4,15,5],[11,4,11,5],[15,7,15,9],[11,7,11,9],[10,7,10,9],[14,4,14,5],[5,13,5,15],[40,0,40,23],[19,16,19,18],[20,16,20,18],[21,16,21,18],[23,16,23,18],[24,16,24,18],[25,16,25,18],[38,0,38,23],[20,1,20,3],[31,12,31,22],[26,16,26,18],[18,0,21,0],[22,0,26,0],[19,1,19,3],[21,1,21,3],[19,20,19,23],[20,20,21,22],[20,23,21,23],[32,4,32,10],[32,13,32,14],[32,15,32,20],[19,13,19,14],[23,13,23,14],[21,13,21,14],[12,23,16,23],[27,14,27,22],[33,0,33,22],[39,0,39,23],[37,0,37,23],[17,19,17,22],[16,10,16,12],[18,1,18,3],[35,0,35,23],[30,0,30,3],[31,0,31,3],[36,0,36,23],[12,7,12,9],[13,7,13,9],[15,16,15,18],[16,16,16,18],[12,20,16,22],[18,20,18,23],[22,20,22,23],[18,13,18,15]]}
["　様　式"]
["旅　 行 　費 　用 　証　 明 　書"]
["学校名",null,{"$f":"旅行命令!K10","v":0}]
["旅行の名称",null,"第5学年",null,"野外活動引率",null,null,null,null,null,"令和",2,null,9,6,"日","～",9,null,7,"日",1,2]
["旅行先",null,"愛知県知多郡美浜町大字小野浦字宮後（愛知県美浜少年自然の家）"]
["参加者数",null,{"$f":"K6+Q6","v":35},null,null,"人（児童・生徒",null,null,null,null,30,null,null,"人・引率教員",null,null,5,null,null,null,"人）"]
["　　　運　　　　　　　　　　賃","種類",null,"交通機関名","利   　用　 　区　 　間",null,null,null,null,null,"往復・片道の別",null,null,"総　　　　　額",null,null,"利用者数",null,null,null,"１人当たりの額"]
[null,"鉄道賃",null,null,null,null,"～",null,null,null,null,null,null,null,null,"円",null,null,null,"人",null,null,null,"円"]
[null,null,null,null,null,null,"～",null,null,null,null,null,null,null,null,"円",null,null,null,"人"]
[null,null,null,null,null,null,"～",null,null,null,null,null,null,null,null,"円",null,null,null,"人"]
[null,"船 　賃",null,null,null,null,"～",null,null,null,null,null,null,null,null,"円",null,null,null,"人",null,null,null,"円"]
[null,"航空賃",null,null,null,null,"～",null,null,null,null,null,null,null,null,"円",null,null,null,"人",null,null,null,"円"]
[null,"車 　賃",null,"有料道路",null,null,"～",null,null,null,null,null,null,null,null,"円",null,null,null,"人",{"$f":"IF(N13=0,\" \",INT(N13/Q13))","v":" "},null,null,"円"]
[null,null,null,"駐車場",null,null,"～",null,null,null,null,null,null,null,null,"円",null,null,null,"人"]
[null,null,null,"貸切バス",null,null,"～",null,null,null,null,null,null,null,null,"円",null,null,null,"人"]
[null,null,null,null,null,null,"～",null,null,null,null,null,null,null,null,"円",null,null,null,"人"]
[null,null,null,null,null,null,"～",null,null,null,null,null,null,null,null,"円",null,null,null,"人"]
[null,null,null,null,null,null,null,null,null,null,null,null,null,null,null,null,null,"計（１）",null,{"$f":"SUM(U8:W17)","v":0},null,null,null,"円"]
["宿　泊　料","宿泊施設名",null,null,"所在地",null,null,null,null,null,null,null,null,"総額",null,null,"宿泊者数",null,null,null,"１人当たりの額"]
[null,"美浜少年自然の家",null,null,"愛知県知多郡美浜町大字小野浦字宮後1-1",null,null,null,null,null,null,null,null,{"$f":"+(3480*5)+((3480-750)*30)","v":99300},null,"円",35,null,null,"人","計（２）"]
[null,null,null,null,null,null,null,null,null,null,null,null,null,null,null,"円",null,null,null,"人",{"$f":"+(1500+670+125+125+110+125+110+590+125)","v":3480},null,null,"円"]
[null,null,null,null,null,null,null,null,null,null,null,null,null,null,null,"円",null,null,null,"人"]
["旅 行 雑 費","名　　　　　　　　　　　　　　称",null,null,null,null,null,null,null,null,null,null,null,"総額",null,null,"利用者数",null,null,null,"１人当たりの額"]
[null,null,null,null,null,null,null,null,null,null,null,null,null,null,null,"円",null,null,null,"人","計（３）"]
[null,null,null,null,null,null,null,null,null,null,null,null,null,null,null,"円",null,null,null,"人",null,null,null,"円"]
[null,null,null,null,null,null,null,null,null,null,null,null,null,null,null,"円",null,null,null,"人"]
[null,null,null,null,null,null,null,null,null,null,null,null,null,null,null,"円",null,null,null,"人"]
["　合　計　（１）＋（２）＋（３）",null,null,null,null,null,null,null,null,null,null,null,null,null,{"$f":"T18+U21+U25","v":3480},null,null,null,null,null,null,null,null,"円"]
[]
["　上記のとおり相違ないことを証明します。"]
[null,null,null,null,"令和",2,"年",9,"月",9,"日"]
[null,null,null,null,"（旅行業者名又は学校名）",null,null,null,null,null,null,null,{"$f":"C3","v":0}]
[null,null,null,null,"（代表者名又は校長名）",null,null,null,null,null,null,null,null,"校長",null,"佐藤　敬子",null,null,null,null,null,null,"印"]
[]
["備考　１　用紙の大きさは、日本工業規格A4とする。"]
["　　　　２　この様式は、団体旅行に要する経費を旅行業者(旅行の企画及び手配を旅行業者に依頼しない場合にあっては校長）が証明する場合に使用すること。"]
["　　　　３　「旅行先」欄には、旅行計画書の主な目的地を記載すること。"]
["　　　　４　「総額」欄には、児童、生徒等と引率教員の負担額の総額を記載し、「１人当たりの額」欄には、引率教員１人当たりの負担額を記載すること。"]
["　　　　５　「車賃」欄には、貸切バスの借上料、道路若しくは駐車場の料金、乗務員経費又は路線バスの運賃について記載すること。"]
["　　　　６　「旅行雑費」欄には、旅行取扱手数料、旅行企画料、航空機変更保険料、旅行添乗員経費又は荷物運送代（貸切バスを利用しない区間に係るもの"]
["　　　　　に限る）について記載すること。"]