{"text_format":"1","workbook":"xlsx","n_sheets":13,"sheets":["過去ログ","リスト","基礎データ","旅行命令","県外視察報告書","県外視察計画書","集団宿泊的行事","研修報告","研究大会報告","復命書","証明書","修学旅行証明書","野外活動証明書"],"not_rendered":{"charts":0,"images":0,"macros":1,"external_links":0,"defined_names":26,"comments":6,"pivot_tables":0},"unopened":[],"bounds":{"document_bytes":16777216,"sheet_cells":100000,"rows_first":2000,"rows_last":500,"rows_between":2000,"halvings":0,"cell_chars":16384,"cell_head_chars":4096},"cells_cut":0,"cells_raw":0,"read":"whole","date_system":"1900"}

{"sheet":"過去ログ","index":0,"n_rows":1132,"n_cols":221,"rows_kept":281,"cut":true,"hidden":true,"merged":[[0,211,0,214],[0,192,0,193],[0,194,0,195],[0,196,0,198],[0,199,0,201],[0,203,0,204],[0,208,0,210],[0,170,0,175],[0,176,0,181],[0,182,0,184],[0,185,0,191],[0,205,0,206],[0,158,0,160],[0,54,0,57],[0,58,0,67],[0,68,0,77],[0,78,0,87],[0,88,0,97],[0,98,0,107],[0,108,0,117],[0,118,0,127],[0,128,0,137],[0,138,0,147],[0,148,0,157],[0,49,0,53],[0,1,0,3],[0,5,0,12],[0,13,0,18],[0,19,0,24],[0,43,0,48],[0,37,0,42],[0,31,0,36],[0,25,0,30]],"bounds":{"rows_first":125,"rows_last":31,"rows_between":125,"halvings":4}}
["番号","旅行命令年月日",null,null,null,"旅行期間",null,null,null,null,null,null,null,"用務",null,null,null,null,null,"用務先",null,null,null,null,null,"泊数",null,null,null,null,null,"宿泊費",null,null,null,null,null,"朝食",null,null,null,null,null,"夕食",null,null,null,null,null,"方法",null,null,null,null,"出発地",null,null,null,"経路（B列)",null,null,null,null,null,null,null,null,null,"どこから（C列)",null,null,null,null,null,null,null,null,null,"乗り換え（L列)",null,null,null,null,null,null,null,null,null,"どこまで(T列)",null,null,null,null,null,null,null,null,null,"AB列",null,null,null,null,null,null,null,null,null,"AD列",null,null,null,null,null,null,null,null,null,"AH列",null,null,null,null,null,null,null,null,null,"AT列",null,null,null,null,null,null,null,null,null,"BL列",null,null,null,null,null,null,null,null,null,"CA列",null,null,null,null,null,null,null,null,null,"帰着地",null,null,"F","O","X","AE","F","O","X","AE","プリペイド","同乗者又は運転者",null,null,null,null,null,"自家用車使用理由",null,null,null,null,null,"タクシー状況",null,null,"タクシー理由",null,null,null,null,null,null,"有料道路区間(往路)",null,"有料道路区間(復路)",null,"往路理由",null,null,"復路理由",null,null,null,"駐車場1",null,"駐車場2",null,null,"別途支給",null,null,"備考",null,null,null,null,"お気に入り",null,null,"過去ログ"]
[0,"年","月","日","氏名","年","月","日","年","月","日","泊","日",1,2,3,4,5,6,1,2,3,4,5,6,1,2,3,4,5,6,1,2,3,4,5,6,1,2,3,4,5,6,1,2,3,4,5,6,"公署","自家用車","キロ数","同乗","徒歩","公署","公署以外その他","自宅","往復",29,30,31,32,33,34,35,36,37,38,29,30,31,32,33,34,35,36,37,38,29,30,31,32,33,34,35,36,37,38,29,30,31,32,33,34,35,36,37,38,29,30,31,32,33,34,35,36,37,38,29,30,31,32,33,34,35,36,37,38,29,30,31,32,33,34,35,36,37,38,29,30,31,32,33,34,35,36,37,38,29,30,31,32,33,34,35,36,37,38,29,30,31,32,33,34,35,36,37,38,"公署","公署以外","自宅",43,43,43,43,45,45,45,45,"BO42",1,2,3,4,5,6,"緊急","時間外","運搬","多目的地","その他","その他内容","チケット","旅費請求","同乗","交通不便","緊急","時間外","運搬","多目的地","その他","その他内容",1,2,1,2,"時間短縮","一般的","通勤区間","時間短縮","一般的","通勤区間","有料道路金額","場所","理由","場所","理由","駐車場金額","あり","金額","支払者","どこから","どこへ","何を使って","何を使って2",null,1,{"$f":"IF(HI2=\"\",\"\",IF(LENB(INDIRECT(\"n\"&HI2+2))<15,VLOOKUP(HI2,$A$3:$T$9999,5,FALSE)&CHAR(9)&INDIRECT(\"gs\"&HI2+2)&CHAR(9)&CHAR(9)&CHAR(9)&VLOOKUP(HI2,$A$3:$T$9999,20,FALSE),VLOOKUP(HI2,$A$3:$T$9999,5,FALSE)&CHAR(9)&INDIRECT(\"gs\"&HI2+2)&CHAR(9)&CHAR(9)&VLOOKUP(HI2,$A$3:$T$9999,20,FALSE)))","v":"テスト\t\t\t春日井市（レディヤンかすがい）"}]
[1,7,5,2,"テスト",7,5,5,null,null,null,null,1,"愛日支部教育研究集会",null,null,null,null,null,"春日井市（レディヤンかすがい）",null,null,null,null,null,null,null,null,null,null,null,null,null,null,null,null,null,null,null,null,null,null,null,null,null,null,null,null,null,null,"×",null,null,null,"×",null,null,"×",null,null,null,null,null,null,null,null,null,null,null,null,null,null,null,null,null,null,null,null,null,null,null,null,null,null,null,null,null,null,null,null,null,null,null,null,null,null,null,null,null,null,null,null,null,null,null,null,null,null,null,null,null,null,null,null,null,null,null,null,null,null,null,null,null,null,null,null,null,null,null,null,null,null,null,null,null,null,null,null,null,null,null,null,null,null,null,null,null,null,null,null,null,null,null,null,null,null,null,null,null,null,null,null,null,null,null,null,null,null,null,null,null,null,null,null,null,null,null,null,null,null,null,null,null,null,null,null,null,null,null,null,null,null,null,null,null,null,null,null,null,null,null,null,null,null,null,null,null,null,null,null,null,null,null,null,null,null,null,{"$f":"IF(HI3=\"\",\"\",IF(LENB(INDIRECT(\"n\"&HI3+2))<15,VLOOKUP(HI3,$A$3:$T$9999,5,FALSE)&CHAR(9)&INDIRECT(\"gs\"&HI3+2)&CHAR(9)&CHAR(9)&CHAR(9)&VLOOKUP(HI3,$A$3:$T$9999,20,FALSE),VLOOKUP(HI3,$A$3:$T$9999,5,FALSE)&CHAR(9)&INDIRECT(\"gs\"&HI3+2)&CHAR(9)&CHAR(9)&VLOOKUP(HI3,$A$3:$T$9999,20,FALSE)))","v":""},null,{"$f":"IF(LENB(N3)<15,F3&\"年\"&G3&\"月\"&H3&\"日\"&CHAR(9)&E3&CHAR(9)&HM3&CHAR(9)&CHAR(9)&CHAR(9)&T3,F3&\"年\"&G3&\"月\"&H3&\"日\"&CHAR(9)&E3&CHAR(9)&HM3&CHAR(9)&CHAR(9)&T3)","v":"7年5月5日\tテスト\t愛日支部教育研究集(略)\t\t春日井市（レディヤンかすがい）"},{"$f":"IF(LENB(N3)<15,N3,LEFT(N3,9)&\"(略)\")","v":"愛日支部教育研究集(略)"}]
[2,7,5,14,"テスト",7,5,25,null,null,null,null,1,"読書感想文全国コンクール愛知地区審査会",null,null,null,null,null,"日進市（日進市民会館）",null,null,null,null,null,null,null,null,null,null,null,null,null,null,null,null,null,null,null,null,null,null,null,null,null,null,null,null,null,null,"×",null,null,null,"×",null,null,"×",null,null,null,null,null,null,null,null,null,null,null,null,null,null,null,null,null,null,null,null,null,null,null,null,null,null,null,null,null,null,null,null,null,null,null,null,null,null,null,null,null,null,null,null,null,null,null,null,null,null,null,null,null,null,null,null,null,null,null,null,null,null,null,null,null,null,null,null,null,null,null,null,null,null,null,null,null,null,null,null,null,null,null,null,null,null,null,null,null,null,null,null,null,null,null,null,null,null,null,null,null,null,null,null,null,null,null,null,null,null,null,null,null,null,null,null,null,null,null,null,null,null,null,null,null,null,null,null,null,null,null,null,null,null,null,null,null,null,null,null,null,null,null,null,null,null,null,null,null,null,null,null,null,null,null,null,null,null,null,{"$f":"IF(HI4=\"\",\"\",IF(LENB(INDIRECT(\"n\"&HI4+2))<15,VLOOKUP(HI4,$A$3:$T$9999,5,FALSE)&CHAR(9)&INDIRECT(\"gs\"&HI4+2)&CHAR(9)&CHAR(9)&CHAR(9)&VLOOKUP(HI4,$A$3:$T$9999,20,FALSE),VLOOKUP(HI4,$A$3:$T$9999,5,FALSE)&CHAR(9)&INDIRECT(\"gs\"&HI4+2)&CHAR(9)&CHAR(9)&VLOOKUP(HI4,$A$3:$T$9999,20,FALSE)))","v":""},null,"7年5月25日\tテスト\t読書感想文全国コン(略)\t\t日進市（日進市民会館）","読書感想文全国コン(略)"]
[3,7,5,14,"テスト",7,5,28,null,null,null,null,1,"市Ｐ連教育講演会",null,null,null,null,null,"瀬戸市（瀬戸市文化センター）",null,null,null,null,null,null,null,null,null,null,null,null,null,null,null,null,null,null,null,null,null,null,null,null,null,null,null,null,null,null,"×",null,null,null,"×",null,null,"×",null,null,null,null,null,null,null,null,null,null,null,null,null,null,null,null,null,null,null,null,null,null,null,null,null,null,null,null,null,null,null,null,null,null,null,null,null,null,null,null,null,null,null,null,null,null,null,null,null,null,null,null,null,null,null,null,null,null,null,null,null,null,null,null,null,null,null,null,null,null,null,null,null,null,null,null,null,null,null,null,null,null,null,null,null,null,null,null,null,null,null,null,null,null,null,null,null,null,null,null,null,null,null,null,null,null,null,null,null,null,null,null,null,null,null,null,null,null,null,null,null,null,null,null,null,null,null,null,null,null,null,null,null,null,null,null,null,null,null,null,null,null,null,null,null,null,null,null,null,null,null,null,null,null,null,null,null,null,null,"",null,"7年5月28日\tテスト\t市Ｐ連教育講演会(略)\t\t瀬戸市（瀬戸市文化センター）","市Ｐ連教育講演会(略)"]
[4,null,null,null,null,null,null,null,null,null,null,null,null,null,null,null,null,null,null,null,null,null,null,null,null,null,null,null,null,null,null,null,null,null,null,null,null,null,null,null,null,null,null,null,null,null,null,null,null,null,null,null,null,null,null,null,null,null,null,null,null,null,null,null,null,null,null,null,null,null,null,null,null,null,null,null,null,null,null,null,null,null,null,null,null,null,null,null,null,null,null,null,null,null,null,null,null,null,null,null,null,null,null,null,null,null,null,null,null,null,null,null,null,null,null,null,null,null,null,null,null,null,null,null,null,null,null,null,null,null,null,null,null,null,null,null,null,null,null,null,null,null,null,null,null,null,null,null,null,null,null,null,null,null,null,null,null,null,null,null,null,null,null,null,null,null,null,null,null,null,null,null,null,null,null,null,null,null,null,null,null,null,null,null,null,null,null,null,null,null,null,null,null,null,null,null,null,null,null,null,null,null,null,null,null,null,null,null,null,null,null,null,null,null,null,null,null,"",null,"年月日\t\t0\t\t\t",0]
[5,null,null,null,null,null,null,null,null,null,null,null,null,null,null,null,null,null,null,null,null,null,null,null,null,null,null,null,null,null,null,null,null,null,null,null,null,null,null,null,null,null,null,null,null,null,null,null,null,null,null,null,null,null,null,null,null,null,null,null,null,null,null,null,null,null,null,null,null,null,null,null,null,null,null,null,null,null,null,null,null,null,null,null,null,null,null,null,null,null,null,null,null,null,null,null,null,null,null,null,null,null,null,null,null,null,null,null,null,null,null,null,null,null,null,null,null,null,null,null,null,null,null,null,null,null,null,null,null,null,null,null,null,null,null,null,null,null,null,null,null,null,null,null,null,null,null,null,null,null,null,null,null,null,null,null,null,null,null,null,null,null,null,null,null,null,null,null,null,null,null,null,null,null,null,null,null,null,null,null,null,null,null,null,null,null,null,null,null,null,null,null,null,null,null,null,null,null,null,null,null,null,null,null,null,null,null,null,null,null,null,null,null,null,null,null,null,"",null,"年月日\t\t0\t\t\t",0]
[6,null,null,null,null,null,null,null,null,null,null,null,null,null,null,null,null,null,null,null,null,null,null,null,null,null,null,null,null,null,null,null,null,null,null,null,null,null,null,null,null,null,null,null,null,null,null,null,null,null,null,null,null,null,null,null,null,null,null,null,null,null,null,null,null,null,null,null,null,null,null,null,null,null,null,null,null,null,null,null,null,null,null,null,null,null,null,null,null,null,null,null,null,null,null,null,null,null,null,null,null,null,null,null,null,null,null,null,null,null,null,null,null,null,null,null,null,null,null,null,null,null,null,null,null,null,null,null,null,null,null,null,null,null,null,null,null,null,null,null,null,null,null,null,null,null,null,null,null,null,null,null,null,null,null,null,null,null,null,null,null,null,null,null,null,null,null,null,null,null,null,null,null,null,null,null,null,null,null,null,null,null,null,null,null,null,null,null,null,null,null,null,null,null,null,null,null,null,null,null,null,null,null,null,null,null,null,null,null,null,null,null,null,null,null,null,null,"",null,"年月日\t\t0\t\t\t",0]
[7,null,null,null,null,null,null,null,null,null,null,null,null,null,null,null,null,null,null,null,null,null,null,null,null,null,null,null,null,null,null,null,null,null,null,null,null,null,null,null,null,null,null,null,null,null,null,null,null,null,null,null,null,null,null,null,null,null,null,null,null,null,null,null,null,null,null,null,null,null,null,null,null,null,null,null,null,null,null,null,null,null,null,null,null,null,null,null,null,null,null,null,null,null,null,null,null,null,null,null,null,null,null,null,null,null,null,null,null,null,null,null,null,null,null,null,null,null,null,null,null,null,null,null,null,null,null,null,null,null,null,null,null,null,null,null,null,null,null,null,null,null,null,null,null,null,null,null,null,null,null,null,null,null,null,null,null,null,null,null,null,null,null,null,null,null,null,null,null,null,null,null,null,null,null,null,null,null,null,null,null,null,null,null,null,null,null,null,null,null,null,null,null,null,null,null,null,null,null,null,null,null,null,null,null,null,null,null,null,null,null,null,null,null,null,null,null,"",null,"年月日\t\t0\t\t\t",0]
[8,null,null,null,null,null,null,null,null,null,null,null,null,null,null,null,null,null,null,null,null,null,null,null,null,null,null,null,null,null,null,null,null,null,null,null,null,null,null,null,null,null,null,null,null,null,null,null,null,null,null,null,null,null,null,null,null,null,null,null,null,null,null,null,null,null,null,null,null,null,null,null,null,null,null,null,null,null,null,null,null,null,null,null,null,null,null,null,null,null,null,null,null,null,null,null,null,null,null,null,null,null,null,null,null,null,null,null,null,null,null,null,null,null,null,null,null,null,null,null,null,null,null,null,null,null,null,null,null,null,null,null,null,null,null,null,null,null,null,null,null,null,null,null,null,null,null,null,null,null,null,null,null,null,null,null,null,null,null,null,null,null,null,null,null,null,null,null,null,null,null,null,null,null,null,null,null,null,null,null,null,null,null,null,null,null,null,null,null,null,null,null,null,null,null,null,null,null,null,null,null,null,null,null,null,null,null,null,null,null,null,null,null,null,null,null,null,"",null,"年月日\t\t0\t\t\t",0]
[9,null,null,null,null,null,null,null,null,null,null,null,null,null,null,null,null,null,null,null,null,null,null,null,null,null,null,null,null,null,null,null,null,null,null,null,null,null,null,null,null,null,null,null,null,null,null,null,null,null,null,null,null,null,null,null,null,null,null,null,null,null,null,null,null,null,null,null,null,null,null,null,null,null,null,null,null,null,null,null,null,null,null,null,null,null,null,null,null,null,null,null,null,null,null,null,null,null,null,null,null,null,null,null,null,null,null,null,null,null,null,null,null,null,null,null,null,null,null,null,null,null,null,null,null,null,null,null,null,null,null,null,null,null,null,null,null,null,null,null,null,null,null,null,null,null,null,null,null,null,null,null,null,null,null,null,null,null,null,null,null,null,null,null,null,null,null,null,null,null,null,null,null,null,null,null,null,null,null,null,null,null,null,null,null,null,null,null,null,null,null,null,null,null,null,null,null,null,null,null,null,null,null,null,null,null,null,null,null,null,null,null,null,null,null,null,null,"",null,"年月日\t\t0\t\t\t",0]
[10,null,null,null,null,null,null,null,null,null,null,null,null,null,null,null,null,null,null,null,null,null,null,null,null,null,null,null,null,null,null,null,null,null,null,null,null,null,null,null,null,null,null,null,null,null,null,null,null,null,null,null,null,null,null,null,null,null,null,null,null,null,null,null,null,null,null,null,null,null,null,null,null,null,null,null,null,null,null,null,null,null,null,null,null,null,null,null,null,null,null,null,null,null,null,null,null,null,null,null,null,null,null,null,null,null,null,null,null,null,null,null,null,null,null,null,null,null,null,null,null,null,null,null,null,null,null,null,null,null,null,null,null,null,null,null,null,null,null,null,null,null,null,null,null,null,null,null,null,null,null,null,null,null,null,null,null,null,null,null,null,null,null,null,null,null,null,null,null,null,null,null,null,null,null,null,null,null,null,null,null,null,null,null,null,null,null,null,null,null,null,null,null,null,null,null,null,null,null,null,null,null,null,null,null,null,null,null,null,null,null,null,null,null,null,null,null,"",null,"年月日\t\t0\t\t\t",0]
[11,null,null,null,null,null,null,null,null,null,null,null,null,null,null,null,null,null,null,null,null,null,null,null,null,null,null,null,null,null,null,null,null,null,null,null,null,null,null,null,null,null,null,null,null,null,null,null,null,null,null,null,null,null,null,null,null,null,null,null,null,null,null,null,null,null,null,null,null,null,null,null,null,null,null,null,null,null,null,null,null,null,null,null,null,null,null,null,null,null,null,null,null,null,null,null,null,null,null,null,null,null,null,null,null,null,null,null,null,null,null,null,null,null,null,null,null,null,null,null,null,null,null,null,null,null,null,null,null,null,null,null,null,null,null,null,null,null,null,null,null,null,null,null,null,null,null,null,null,null,null,null,null,null,null,null,null,null,null,null,null,null,null,null,null,null,null,null,null,null,null,null,null,null,null,null,null,null,null,null,null,null,null,null,null,null,null,null,null,null,null,null,null,null,null,null,null,null,null,null,null,null,null,null,null,null,null,null,null,null,null,null,null,null,null,null,null,"",null,"年月日\t\t0\t\t\t",0]
[12,null,null,null,null,null,null,null,null,null,null,null,null,null,null,null,null,null,null,null,null,null,null,null,null,null,null,null,null,null,null,null,null,null,null,null,null,null,null,null,null,null,null,null,null,null,null,null,null,null,null,null,null,null,null,null,null,null,null,null,null,null,null,null,null,null,null,null,null,null,null,null,null,null,null,null,null,null,null,null,null,null,null,null,null,null,null,null,null,null,null,null,null,null,null,null,null,null,null,null,null,null,null,null,null,null,null,null,null,null,null,null,null,null,null,null,null,null,null,null,null,null,null,null,null,null,null,null,null,null,null,null,null,null,null,null,null,null,null,null,null,null,null,null,null,null,null,null,null,null,null,null,null,null,null,null,null,null,null,null,null,null,null,null,null,null,null,null,null,null,null,null,null,null,null,null,null,null,null,null,null,null,null,null,null,null,null,null,null,null,null,null,null,null,null,null,null,null,null,null,null,null,null,null,null,null,null,null,null,null,null,null,null,null,null,null,null,"",null,"年月日\t\t0\t\t\t",0]
[13,null,null,null,null,null,null,null,null,null,null,null,null,null,null,null,null,null,null,null,null,null,null,null,null,null,null,null,null,null,null,null,null,null,null,null,null,null,null,null,null,null,null,null,null,null,null,null,null,null,null,null,null,null,null,null,null,null,null,null,null,null,null,null,null,null,null,null,null,null,null,null,null,null,null,null,null,null,null,null,null,null,null,null,null,null,null,null,null,null,null,null,null,null,null,null,null,null,null,null,null,null,null,null,null,null,null,null,null,null,null,null,null,null,null,null,null,null,null,null,null,null,null,null,null,null,null,null,null,null,null,null,null,null,null,null,null,null,null,null,null,null,null,null,null,null,null,null,null,null,null,null,null,null,null,null,null,null,null,null,null,null,null,null,null,null,null,null,null,null,null,null,null,null,null,null,null,null,null,null,null,null,null,null,null,null,null,null,null,null,null,null,null,null,null,null,null,null,null,null,null,null,null,null,null,null,null,null,null,null,null,null,null,null,null,null,null,"",null,"年月日\t\t0\t\t\t",0]
[14,null,null,null,null,null,null,null,null,null,null,null,null,null,null,null,null,null,null,null,null,null,null,null,null,null,null,null,null,null,null,null,null,null,null,null,null,null,null,null,null,null,null,null,null,null,null,null,null,null,null,null,null,null,null,null,null,null,null,null,null,null,null,null,null,null,null,null,null,null,null,null,null,null,null,null,null,null,null,null,null,null,null,null,null,null,null,null,null,null,null,null,null,null,null,null,null,null,null,null,null,null,null,null,null,null,null,null,null,null,null,null,null,null,null,null,null,null,null,null,null,null,null,null,null,null,null,null,null,null,null,null,null,null,null,null,null,null,null,null,null,null,null,null,null,null,null,null,null,null,null,null,null,null,null,null,null,null,null,null,null,null,null,null,null,null,null,null,null,null,null,null,null,null,null,null,null,null,null,null,null,null,null,null,null,null,null,null,null,null,null,null,null,null,null,null,null,null,null,null,null,null,null,null,null,null,null,null,null,null,null,null,null,null,null,null,null,"",null,"年月日\t\t0\t\t\t",0]
[15,null,null,null,null,null,null,null,null,null,null,null,null,null,null,null,null,null,null,null,null,null,null,null,null,null,null,null,null,null,null,null,null,null,null,null,null,null,null,null,null,null,null,null,null,null,null,null,null,null,null,null,null,null,null,null,null,null,null,null,null,null,null,null,null,null,null,null,null,null,null,null,null,null,null,null,null,null,null,null,null,null,null,null,null,null,null,null,null,null,null,null,null,null,null,null,null,null,null,null,null,null,null,null,null,null,null,null,null,null,null,null,null,null,null,null,null,null,null,null,null,null,null,null,null,null,null,null,null,null,null,null,null,null,null,null,null,null,null,null,null,null,null,null,null,null,null,null,null,null,null,null,null,null,null,null,null,null,null,null,null,null,null,null,null,null,null,null,null,null,null,null,null,null,null,null,null,null,null,null,null,null,null,null,null,null,null,null,null,null,null,null,null,null,null,null,null,null,null,null,null,null,null,null,null,null,null,null,null,null,null,null,null,null,null,null,null,"",null,"年月日\t\t0\t\t\t",0]
[16,null,null,null,null,null,null,null,null,null,null,null,null,null,null,null,null,null,null,null,null,null,null,null,null,null,null,null,null,null,null,null,null,null,null,null,null,null,null,null,null,null,null,null,null,null,null,null,null,null,null,null,null,null,null,null,null,null,null,null,null,null,null,null,null,null,null,null,null,null,null,null,null,null,null,null,null,null,null,null,null,null,null,null,null,null,null,null,null,null,null,null,null,null,null,null,null,null,null,null,null,null,null,null,null,null,null,null,null,null,null,null,null,null,null,null,null,null,null,null,null,null,null,null,null,null,null,null,null,null,null,null,null,null,null,null,null,null,null,null,null,null,null,null,null,null,null,null,null,null,null,null,null,null,null,null,null,null,null,null,null,null,null,null,null,null,null,null,null,null,null,null,null,null,null,null,null,null,null,null,null,null,null,null,null,null,null,null,null,null,null,null,null,null,null,null,null,null,null,null,null,null,null,null,null,null,null,null,null,null,null,null,null,null,null,null,null,"",null,"年月日\t\t0\t\t\t",0]
[17,null,null,null,null,null,null,null,null,null,null,null,null,null,null,null,null,null,null,null,null,null,null,null,null,null,null,null,null,null,null,null,null,null,null,null,null,null,null,null,null,null,null,null,null,null,null,null,null,null,null,null,null,null,null,null,null,null,null,null,null,null,null,null,null,null,null,null,null,null,null,null,null,null,null,null,null,null,null,null,null,null,null,null,null,null,null,null,null,null,null,null,null,null,null,null,null,null,null,null,null,null,null,null,null,null,null,null,null,null,null,null,null,null,null,null,null,null,null,null,null,null,null,null,null,null,null,null,null,null,null,null,null,null,null,null,null,null,null,null,null,null,null,null,null,null,null,null,null,null,null,null,null,null,null,null,null,null,null,null,null,null,null,null,null,null,null,null,null,null,null,null,null,null,null,null,null,null,null,null,null,null,null,null,null,null,null,null,null,null,null,null,null,null,null,null,null,null,null,null,null,null,null,null,null,null,null,null,null,null,null,null,null,null,null,null,null,"",null,"年月日\t\t0\t\t\t",0]
[18,null,null,null,null,null,null,null,null,null,null,null,null,null,null,null,null,null,null,null,null,null,null,null,null,null,null,null,null,null,null,null,null,null,null,null,null,null,null,null,null,null,null,null,null,null,null,null,null,null,null,null,null,null,null,null,null,null,null,null,null,null,null,null,null,null,null,null,null,null,null,null,null,null,null,null,null,null,null,null,null,null,null,null,null,null,null,null,null,null,null,null,null,null,null,null,null,null,null,null,null,null,null,null,null,null,null,null,null,null,null,null,null,null,null,null,null,null,null,null,null,null,null,null,null,null,null,null,null,null,null,null,null,null,null,null,null,null,null,null,null,null,null,null,null,null,null,null,null,null,null,null,null,null,null,null,null,null,null,null,null,null,null,null,null,null,null,null,null,null,null,null,null,null,null,null,null,null,null,null,null,null,null,null,null,null,null,null,null,null,null,null,null,null,null,null,null,null,null,null,null,null,null,null,null,null,null,null,null,null,null,null,null,null,null,null,null,"",null,"年月日\t\t0\t\t\t",0]
[19,null,null,null,null,null,null,null,null,null,null,null,null,null,null,null,null,null,null,null,null,null,null,null,null,null,null,null,null,null,null,null,null,null,null,null,null,null,null,null,null,null,null,null,null,null,null,null,null,null,null,null,null,null,null,null,null,null,null,null,null,null,null,null,null,null,null,null,null,null,null,null,null,null,null,null,null,null,null,null,null,null,null,null,null,null,null,null,null,null,null,null,null,null,null,null,null,null,null,null,null,null,null,null,null,null,null,null,null,null,null,null,null,null,null,null,null,null,null,null,null,null,null,null,null,null,null,null,null,null,null,null,null,null,null,null,null,null,null,null,null,null,null,null,null,null,null,null,null,null,null,null,null,null,null,null,null,null,null,null,null,null,null,null,null,null,null,null,null,null,null,null,null,null,null,null,null,null,null,null,null,null,null,null,null,null,null,null,null,null,null,null,null,null,null,null,null,null,null,null,null,null,null,null,null,null,null,null,null,null,null,null,null,null,null,null,null,"",null,"年月日\t\t0\t\t\t",0]
[20,null,null,null,null,null,null,null,null,null,null,null,null,null,null,null,null,null,null,null,null,null,null,null,null,null,null,null,null,null,null,null,null,null,null,null,null,null,null,null,null,null,null,null,null,null,null,null,null,null,null,null,null,null,null,null,null,null,null,null,null,null,null,null,null,null,null,null,null,null,null,null,null,null,null,null,null,null,null,null,null,null,null,null,null,null,null,null,null,null,null,null,null,null,null,null,null,null,null,null,null,null,null,null,null,null,null,null,null,null,null,null,null,null,null,null,null,null,null,null,null,null,null,null,null,null,null,null,null,null,null,null,null,null,null,null,null,null,null,null,null,null,null,null,null,null,null,null,null,null,null,null,null,null,null,null,null,null,null,null,null,null,null,null,null,null,null,null,null,null,null,null,null,null,null,null,null,null,null,null,null,null,null,null,null,null,null,null,null,null,null,null,null,null,null,null,null,null,null,null,null,null,null,null,null,null,null,null,null,null,null,null,null,null,null,null,null,"",null,"年月日\t\t0\t\t\t",0]
[21,null,null,null,null,null,null,null,null,null,null,null,null,null,null,null,null,null,null,null,null,null,null,null,null,null,null,null,null,null,null,null,null,null,null,null,null,null,null,null,null,null,null,null,null,null,null,null,null,null,null,null,null,null,null,null,null,null,null,null,null,null,null,null,null,null,null,null,null,null,null,null,null,null,null,null,null,null,null,null,null,null,null,null,null,null,null,null,null,null,null,null,null,null,null,null,null,null,null,null,null,null,null,null,null,null,null,null,null,null,null,null,null,null,null,null,null,null,null,null,null,null,null,null,null,null,null,null,null,null,null,null,null,null,null,null,null,null,null,null,null,null,null,null,null,null,null,null,null,null,null,null,null,null,null,null,null,null,null,null,null,null,null,null,null,null,null,null,null,null,null,null,null,null,null,null,null,null,null,null,null,null,null,null,null,null,null,null,null,null,null,null,null,null,null,null,null,null,null,null,null,null,null,null,null,null,null,null,null,null,null,null,null,null,null,null,null,"",null,"年月日\t\t0\t\t\t",0]
[22,null,null,null,null,null,null,null,null,null,null,null,null,null,null,null,null,null,null,null,null,null,null,null,null,null,null,null,null,null,null,null,null,null,null,null,null,null,null,null,null,null,null,null,null,null,null,null,null,null,null,null,null,null,null,null,null,null,null,null,null,null,null,null,null,null,null,null,null,null,null,null,null,null,null,null,null,null,null,null,null,null,null,null,null,null,null,null,null,null,null,null,null,null,null,null,null,null,null,null,null,null,null,null,null,null,null,null,null,null,null,null,null,null,null,null,null,null,null,null,null,null,null,null,null,null,null,null,null,null,null,null,null,null,null,null,null,null,null,null,null,null,null,null,null,null,null,null,null,null,null,null,null,null,null,null,null,null,null,null,null,null,null,null,null,null,null,null,null,null,null,null,null,null,null,null,null,null,null,null,null,null,null,null,null,null,null,null,null,null,null,null,null,null,null,null,null,null,null,null,null,null,null,null,null,null,null,null,null,null,null,null,null,null,null,null,null,"",null,"年月日\t\t0\t\t\t",0]
[23,null,null,null,null,null,null,null,null,null,null,null,null,null,null,null,null,null,null,null,null,null,null,null,null,null,null,null,null,null,null,null,null,null,null,null,null,null,null,null,null,null,null,null,null,null,null,null,null,null,null,null,null,null,null,null,null,null,null,null,null,null,null,null,null,null,null,null,null,null,null,null,null,null,null,null,null,null,null,null,null,null,null,null,null,null,null,null,null,null,null,null,null,null,null,null,null,null,null,null,null,null,null,null,null,null,null,null,null,null,null,null,null,null,null,null,null,null,null,null,null,null,null,null,null,null,null,null,null,null,null,null,null,null,null,null,null,null,null,null,null,null,null,null,null,null,null,null,null,null,null,null,null,null,null,null,null,null,null,null,null,null,null,null,null,null,null,null,null,null,null,null,null,null,null,null,null,null,null,null,null,null,null,null,null,null,null,null,null,null,null,null,null,null,null,null,null,null,null,null,null,null,null,null,null,null,null,null,null,null,null,null,null,null,null,null,null,"",null,"年月日\t\t0\t\t\t",0]
[24,null,null,null,null,null,null,null,null,null,null,null,null,null,null,null,null,null,null,null,null,null,null,null,null,null,null,null,null,null,null,null,null,null,null,null,null,null,null,null,null,null,null,null,null,null,null,null,null,null,null,null,null,null,null,null,null,null,null,null,null,null,null,null,null,null,null,null,null,null,null,null,null,null,null,null,null,null,null,null,null,null,null,null,null,null,null,null,null,null,null,null,null,null,null,null,null,null,null,null,null,null,null,null,null,null,null,null,null,null,null,null,null,null,null,null,null,null,null,null,null,null,null,null,null,null,null,null,null,null,null,null,null,null,null,null,null,null,null,null,null,null,null,null,null,null,null,null,null,null,null,null,null,null,null,null,null,null,null,null,null,null,null,null,null,null,null,null,null,null,null,null,null,null,null,null,null,null,null,null,null,null,null,null,null,null,null,null,null,null,null,null,null,null,null,null,null,null,null,null,null,null,null,null,null,null,null,null,null,null,null,null,null,null,null,null,null,"",null,"年月日\t\t0\t\t\t",0]
[25,null,null,null,null,null,null,null,null,null,null,null,null,null,null,null,null,null,null,null,null,null,null,null,null,null,null,null,null,null,null,null,null,null,null,null,null,null,null,null,null,null,null,null,null,null,null,null,null,null,null,null,null,null,null,null,null,null,null,null,null,null,null,null,null,null,null,null,null,null,null,null,null,null,null,null,null,null,null,null,null,null,null,null,null,null,null,null,null,null,null,null,null,null,null,null,null,null,null,null,null,null,null,null,null,null,null,null,null,null,null,null,null,null,null,null,null,null,null,null,null,null,null,null,null,null,null,null,null,null,null,null,null,null,null,null,null,null,null,null,null,null,null,null,null,null,null,null,null,null,null,null,null,null,null,null,null,null,null,null,null,null,null,null,null,null,null,null,null,null,null,null,null,null,null,null,null,null,null,null,null,null,null,null,null,null,null,null,null,null,null,null,null,null,null,null,null,null,null,null,null,null,null,null,null,null,null,null,null,null,null,null,null,null,null,null,null,"",null,"年月日\t\t0\t\t\t",0]
[26,null,null,null,null,null,null,null,null,null,null,null,null,null,null,null,null,null,null,null,null,null,null,null,null,null,null,null,null,null,null,null,null,null,null,null,null,null,null,null,null,null,null,null,null,null,null,null,null,null,null,null,null,null,null,null,null,null,null,null,null,null,null,null,null,null,null,null,null,null,null,null,null,null,null,null,null,null,null,null,null,null,null,null,null,null,null,null,null,null,null,null,null,null,null,null,null,null,null,null,null,null,null,null,null,null,null,null,null,null,null,null,null,null,null,null,null,null,null,null,null,null,null,null,null,null,null,null,null,null,null,null,null,null,null,null,null,null,null,null,null,null,null,null,null,null,null,null,null,null,null,null,null,null,null,null,null,null,null,null,null,null,null,null,null,null,null,null,null,null,null,null,null,null,null,null,null,null,null,null,null,null,null,null,null,null,null,null,null,null,null,null,null,null,null,null,null,null,null,null,null,null,null,null,null,null,null,null,null,null,null,null,null,null,null,null,null,"",null,"年月日\t\t0\t\t\t",0]
[27,null,null,null,null,null,null,null,null,null,null,null,null,null,null,null,null,null,null,null,null,null,null,null,null,null,null,null,null,null,null,null,null,null,null,null,null,null,null,null,null,null,null,null,null,null,null,null,null,null,null,null,null,null,null,null,null,null,null,null,null,null,null,null,null,null,null,null,null,null,null,null,null,null,null,null,null,null,null,null,null,null,null,null,null,null,null,null,null,null,null,null,null,null,null,null,null,null,null,null,null,null,null,null,null,null,null,null,null,null,null,null,null,null,null,null,null,null,null,null,null,null,null,null,null,null,null,null,null,null,null,null,null,null,null,null,null,null,null,null,null,null,null,null,null,null,null,null,null,null,null,null,null,null,null,null,null,null,null,null,null,null,null,null,null,null,null,null,null,null,null,null,null,null,null,null,null,null,null,null,null,null,null,null,null,null,null,null,null,null,null,null,null,null,null,null,null,null,null,null,null,null,null,null,null,null,null,null,null,null,null,null,null,null,null,null,null,"",null,"年月日\t\t0\t\t\t",0]
[28,null,null,null,null,null,null,null,null,null,null,null,null,null,null,null,null,null,null,null,null,null,null,null,null,null,null,null,null,null,null,null,null,null,null,null,null,null,null,null,null,null,null,null,null,null,null,null,null,null,null,null,null,null,null,null,null,null,null,null,null,null,null,null,null,null,null,null,null,null,null,null,null,null,null,null,null,null,null,null,null,null,null,null,null,null,null,null,null,null,null,null,null,null,null,null,null,null,null,null,null,null,null,null,null,null,null,null,null,null,null,null,null,null,null,null,null,null,null,null,null,null,null,null,null,null,null,null,null,null,null,null,null,null,null,null,null,null,null,null,null,null,null,null,null,null,null,null,null,null,null,null,null,null,null,null,null,null,null,null,null,null,null,null,null,null,null,null,null,null,null,null,null,null,null,null,null,null,null,null,null,null,null,null,null,null,null,null,null,null,null,null,null,null,null,null,null,null,null,null,null,null,null,null,null,null,null,null,null,null,null,null,null,null,null,null,null,"",null,"年月日\t\t0\t\t\t",0]
[29,null,null,null,null,null,null,null,null,null,null,null,null,null,null,null,null,null,null,null,null,null,null,null,null,null,null,null,null,null,null,null,null,null,null,null,null,null,null,null,null,null,null,null,null,null,null,null,null,null,null,null,null,null,null,null,null,null,null,null,null,null,null,null,null,null,null,null,null,null,null,null,null,null,null,null,null,null,null,null,null,null,null,null,null,null,null,null,null,null,null,null,null,null,null,null,null,null,null,null,null,null,null,null,null,null,null,null,null,null,null,null,null,null,null,null,null,null,null,null,null,null,null,null,null,null,null,null,null,null,null,null,null,null,null,null,null,null,null,null,null,null,null,null,null,null,null,null,null,null,null,null,null,null,null,null,null,null,null,null,null,null,null,null,null,null,null,null,null,null,null,null,null,null,null,null,null,null,null,null,null,null,null,null,null,null,null,null,null,null,null,null,null,null,null,null,null,null,null,null,null,null,null,null,null,null,null,null,null,null,null,null,null,null,null,null,null,"",null,"年月日\t\t0\t\t\t",0]
[30,null,null,null,null,null,null,null,null,null,null,null,null,null,null,null,null,null,null,null,null,null,null,null,null,null,null,null,null,null,null,null,null,null,null,null,null,null,null,null,null,null,null,null,null,null,null,null,null,null,null,null,null,null,null,null,null,null,null,null,null,null,null,null,null,null,null,null,null,null,null,null,null,null,null,null,null,null,null,null,null,null,null,null,null,null,null,null,null,null,null,null,null,null,null,null,null,null,null,null,null,null,null,null,null,null,null,null,null,null,null,null,null,null,null,null,null,null,null,null,null,null,null,null,null,null,null,null,null,null,null,null,null,null,null,null,null,null,null,null,null,null,null,null,null,null,null,null,null,null,null,null,null,null,null,null,null,null,null,null,null,null,null,null,null,null,null,null,null,null,null,null,null,null,null,null,null,null,null,null,null,null,null,null,null,null,null,null,null,null,null,null,null,null,null,null,null,null,null,null,null,null,null,null,null,null,null,null,null,null,null,null,null,null,null,null,null,"",null,"年月日\t\t0\t\t\t",0]
[31,null,null,null,null,null,null,null,null,null,null,null,null,null,null,null,null,null,null,null,null,null,null,null,null,null,null,null,null,null,null,null,null,null,null,null,null,null,null,null,null,null,null,null,null,null,null,null,null,null,null,null,null,null,null,null,null,null,null,null,null,null,null,null,null,null,null,null,null,null,null,null,null,null,null,null,null,null,null,null,null,null,null,null,null,null,null,null,null,null,null,null,null,null,null,null,null,null,null,null,null,null,null,null,null,null,null,null,null,null,null,null,null,null,null,null,null,null,null,null,null,null,null,null,null,null,null,null,null,null,null,null,null,null,null,null,null,null,null,null,null,null,null,null,null,null,null,null,null,null,null,null,null,null,null,null,null,null,null,null,null,null,null,null,null,null,null,null,null,null,null,null,null,null,null,null,null,null,null,null,null,null,null,null,null,null,null,null,null,null,null,null,null,null,null,null,null,null,null,null,null,null,null,null,null,null,null,null,null,null,null,null,null,null,null,null,null,"",null,"年月日\t\t0\t\t\t",0]
[32,null,null,null,null,null,null,null,null,null,null,null,null,null,null,null,null,null,null,null,null,null,null,null,null,null,null,null,null,null,null,null,null,null,null,null,null,null,null,null,null,null,null,null,null,null,null,null,null,null,null,null,null,null,null,null,null,null,null,null,null,null,null,null,null,null,null,null,null,null,null,null,null,null,null,null,null,null,null,null,null,null,null,null,null,null,null,null,null,null,null,null,null,null,null,null,null,null,null,null,null,null,null,null,null,null,null,null,null,null,null,null,null,null,null,null,null,null,null,null,null,null,null,null,null,null,null,null,null,null,null,null,null,null,null,null,null,null,null,null,null,null,null,null,null,null,null,null,null,null,null,null,null,null,null,null,null,null,null,null,null,null,null,null,null,null,null,null,null,null,null,null,null,null,null,null,null,null,null,null,null,null,null,null,null,null,null,null,null,null,null,null,null,null,null,null,null,null,null,null,null,null,null,null,null,null,null,null,null,null,null,null,null,null,null,null,null,"",null,"年月日\t\t0\t\t\t",0]
[33,null,null,null,null,null,null,null,null,null,null,null,null,null,null,null,null,null,null,null,null,null,null,null,null,null,null,null,null,null,null,null,null,null,null,null,null,null,null,null,null,null,null,null,null,null,null,null,null,null,null,null,null,null,null,null,null,null,null,null,null,null,null,null,null,null,null,null,null,null,null,null,null,null,null,null,null,null,null,null,null,null,null,null,null,null,null,null,null,null,null,null,null,null,null,null,null,null,null,null,null,null,null,null,null,null,null,null,null,null,null,null,null,null,null,null,null,null,null,null,null,null,null,null,null,null,null,null,null,null,null,null,null,null,null,null,null,null,null,null,null,null,null,null,null,null,null,null,null,null,null,null,null,null,null,null,null,null,null,null,null,null,null,null,null,null,null,null,null,null,null,null,null,null,null,null,null,null,null,null,null,null,null,null,null,null,null,null,null,null,null,null,null,null,null,null,null,null,null,null,null,null,null,null,null,null,null,null,null,null,null,null,null,null,null,null,null,"",null,"年月日\t\t0\t\t\t",0]
[34,null,null,null,null,null,null,null,null,null,null,null,null,null,null,null,null,null,null,null,null,null,null,null,null,null,null,null,null,null,null,null,null,null,null,null,null,null,null,null,null,null,null,null,null,null,null,null,null,null,null,null,null,null,null,null,null,null,null,null,null,null,null,null,null,null,null,null,null,null,null,null,null,null,null,null,null,null,null,null,null,null,null,null,null,null,null,null,null,null,null,null,null,null,null,null,null,null,null,null,null,null,null,null,null,null,null,null,null,null,null,null,null,null,null,null,null,null,null,null,null,null,null,null,null,null,null,null,null,null,null,null,null,null,null,null,null,null,null,null,null,null,null,null,null,null,null,null,null,null,null,null,null,null,null,null,null,null,null,null,null,null,null,null,null,null,null,null,null,null,null,null,null,null,null,null,null,null,null,null,null,null,null,null,null,null,null,null,null,null,null,null,null,null,null,null,null,null,null,null,null,null,null,null,null,null,null,null,null,null,null,null,null,null,null,null,null,"",null,"年月日\t\t0\t\t\t",0]
[35,null,null,null,null,null,null,null,null,null,null,null,null,null,null,null,null,null,null,null,null,null,null,null,null,null,null,null,null,null,null,null,null,null,null,null,null,null,null,null,null,null,null,null,null,null,null,null,null,null,null,null,null,null,null,null,null,null,null,null,null,null,null,null,null,null,null,null,null,null,null,null,null,null,null,null,null,null,null,null,null,null,null,null,null,null,null,null,null,null,null,null,null,null,null,null,null,null,null,null,null,null,null,null,null,null,null,null,null,null,null,null,null,null,null,null,null,null,null,null,null,null,null,null,null,null,null,null,null,null,null,null,null,null,null,null,null,null,null,null,null,null,null,null,null,null,null,null,null,null,null,null,null,null,null,null,null,null,null,null,null,null,null,null,null,null,null,null,null,null,null,null,null,null,null,null,null,null,null,null,null,null,null,null,null,null,null,null,null,null,null,null,null,null,null,null,null,null,null,null,null,null,null,null,null,null,null,null,null,null,null,null,null,null,null,null,null,"",null,"年月日\t\t0\t\t\t",0]
[36,null,null,null,null,null,null,null,null,null,null,null,null,null,null,null,null,null,null,null,null,null,null,null,null,null,null,null,null,null,null,null,null,null,null,null,null,null,null,null,null,null,null,null,null,null,null,null,null,null,null,null,null,null,null,null,null,null,null,null,null,null,null,null,null,null,null,null,null,null,null,null,null,null,null,null,null,null,null,null,null,null,null,null,null,null,null,null,null,null,null,null,null,null,null,null,null,null,null,null,null,null,null,null,null,null,null,null,null,null,null,null,null,null,null,null,null,null,null,null,null,null,null,null,null,null,null,null,null,null,null,null,null,null,null,null,null,null,null,null,null,null,null,null,null,null,null,null,null,null,null,null,null,null,null,null,null,null,null,null,null,null,null,null,null,null,null,null,null,null,null,null,null,null,null,null,null,null,null,null,null,null,null,null,null,null,null,null,null,null,null,null,null,null,null,null,null,null,null,null,null,null,null,null,null,null,null,null,null,null,null,null,null,null,null,null,null,"",null,"年月日\t\t0\t\t\t",0]
[37,null,null,null,null,null,null,null,null,null,null,null,null,null,null,null,null,null,null,null,null,null,null,null,null,null,null,null,null,null,null,null,null,null,null,null,null,null,null,null,null,null,null,null,null,null,null,null,null,null,null,null,null,null,null,null,null,null,null,null,null,null,null,null,null,null,null,null,null,null,null,null,null,null,null,null,null,null,null,null,null,null,null,null,null,null,null,null,null,null,null,null,null,null,null,null,null,null,null,null,null,null,null,null,null,null,null,null,null,null,null,null,null,null,null,null,null,null,null,null,null,null,null,null,null,null,null,null,null,null,null,null,null,null,null,null,null,null,null,null,null,null,null,null,null,null,null,null,null,null,null,null,null,null,null,null,null,null,null,null,null,null,null,null,null,null,null,null,null,null,null,null,null,null,null,null,null,null,null,null,null,null,null,null,null,null,null,null,null,null,null,null,null,null,null,null,null,null,null,null,null,null,null,null,null,null,null,null,null,null,null,null,null,null,null,null,null,"",null,"年月日\t\t0\t\t\t",0]
[38,null,null,null,null,null,null,null,null,null,null,null,null,null,null,null,null,null,null,null,null,null,null,null,null,null,null,null,null,null,null,null,null,null,null,null,null,null,null,null,null,null,null,null,null,null,null,null,null,null,null,null,null,null,null,null,null,null,null,null,null,null,null,null,null,null,null,null,null,null,null,null,null,null,null,null,null,null,null,null,null,null,null,null,null,null,null,null,null,null,null,null,null,null,null,null,null,null,null,null,null,null,null,null,null,null,null,null,null,null,null,null,null,null,null,null,null,null,null,null,null,null,null,null,null,null,null,null,null,null,null,null,null,null,null,null,null,null,null,null,null,null,null,null,null,null,null,null,null,null,null,null,null,null,null,null,null,null,null,null,null,null,null,null,null,null,null,null,null,null,null,null,null,null,null,null,null,null,null,null,null,null,null,null,null,null,null,null,null,null,null,null,null,null,null,null,null,null,null,null,null,null,null,null,null,null,null,null,null,null,null,null,null,null,null,null,null,"",null,"年月日\t\t0\t\t\t",0]
[39,null,null,null,null,null,null,null,null,null,null,null,null,null,null,null,null,null,null,null,null,null,null,null,null,null,null,null,null,null,null,null,null,null,null,null,null,null,null,null,null,null,null,null,null,null,null,null,null,null,null,null,null,null,null,null,null,null,null,null,null,null,null,null,null,null,null,null,null,null,null,null,null,null,null,null,null,null,null,null,null,null,null,null,null,null,null,null,null,null,null,null,null,null,null,null,null,null,null,null,null,null,null,null,null,null,null,null,null,null,null,null,null,null,null,null,null,null,null,null,null,null,null,null,null,null,null,null,null,null,null,null,null,null,null,null,null,null,null,null,null,null,null,null,null,null,null,null,null,null,null,null,null,null,null,null,null,null,null,null,null,null,null,null,null,null,null,null,null,null,null,null,null,null,null,null,null,null,null,null,null,null,null,null,null,null,null,null,null,null,null,null,null,null,null,null,null,null,null,null,null,null,null,null,null,null,null,null,null,null,null,null,null,null,null,null,null,"",null,"年月日\t\t0\t\t\t",0]
[40,null,null,null,null,null,null,null,null,null,null,null,null,null,null,null,null,null,null,null,null,null,null,null,null,null,null,null,null,null,null,null,null,null,null,null,null,null,null,null,null,null,null,null,null,null,null,null,null,null,null,null,null,null,null,null,null,null,null,null,null,null,null,null,null,null,null,null,null,null,null,null,null,null,null,null,null,null,null,null,null,null,null,null,null,null,null,null,null,null,null,null,null,null,null,null,null,null,null,null,null,null,null,null,null,null,null,null,null,null,null,null,null,null,null,null,null,null,null,null,null,null,null,null,null,null,null,null,null,null,null,null,null,null,null,null,null,null,null,null,null,null,null,null,null,null,null,null,null,null,null,null,null,null,null,null,null,null,null,null,null,null,null,null,null,null,null,null,null,null,null,null,null,null,null,null,null,null,null,null,null,null,null,null,null,null,null,null,null,null,null,null,null,null,null,null,null,null,null,null,null,null,null,null,null,null,null,null,null,null,null,null,null,null,null,null,null,"",null,"年月日\t\t0\t\t\t",0]
[41,null,null,null,null,null,null,null,null,null,null,null,null,null,null,null,null,null,null,null,null,null,null,null,null,null,null,null,null,null,null,null,null,null,null,null,null,null,null,null,null,null,null,null,null,null,null,null,null,null,null,null,null,null,null,null,null,null,null,null,null,null,null,null,null,null,null,null,null,null,null,null,null,null,null,null,null,null,null,null,null,null,null,null,null,null,null,null,null,null,null,null,null,null,null,null,null,null,null,null,null,null,null,null,null,null,null,null,null,null,null,null,null,null,null,null,null,null,null,null,null,null,null,null,null,null,null,null,null,null,null,null,null,null,null,null,null,null,null,null,null,null,null,null,null,null,null,null,null,null,null,null,null,null,null,null,null,null,null,null,null,null,null,null,null,null,null,null,null,null,null,null,null,null,null,null,null,null,null,null,null,null,null,null,null,null,null,null,null,null,null,null,null,null,null,null,null,null,null,null,null,null,null,null,null,null,null,null,null,null,null,null,null,null,null,null,null,"",null,"年月日\t\t0\t\t\t",0]
[42,null,null,null,null,null,null,null,null,null,null,null,null,null,null,null,null,null,null,null,null,null,null,null,null,null,null,null,null,null,null,null,null,null,null,null,null,null,null,null,null,null,null,null,null,null,null,null,null,null,null,null,null,null,null,null,null,null,null,null,null,null,null,null,null,null,null,null,null,null,null,null,null,null,null,null,null,null,null,null,null,null,null,null,null,null,null,null,null,null,null,null,null,null,null,null,null,null,null,null,null,null,null,null,null,null,null,null,null,null,null,null,null,null,null,null,null,null,null,null,null,null,null,null,null,null,null,null,null,null,null,null,null,null,null,null,null,null,null,null,null,null,null,null,null,null,null,null,null,null,null,null,null,null,null,null,null,null,null,null,null,null,null,null,null,null,null,null,null,null,null,null,null,null,null,null,null,null,null,null,null,null,null,null,null,null,null,null,null,null,null,null,null,null,null,null,null,null,null,null,null,null,null,null,null,null,null,null,null,null,null,null,null,null,null,null,null,"",null,"年月日\t\t0\t\t\t",0]
[43,null,null,null,null,null,null,null,null,null,null,null,null,null,null,null,null,null,null,null,null,null,null,null,null,null,null,null,null,null,null,null,null,null,null,null,null,null,null,null,null,null,null,null,null,null,null,null,null,null,null,null,null,null,null,null,null,null,null,null,null,null,null,null,null,null,null,null,null,null,null,null,null,null,null,null,null,null,null,null,null,null,null,null,null,null,null,null,null,null,null,null,null,null,null,null,null,null,null,null,null,null,null,null,null,null,null,null,null,null,null,null,null,null,null,null,null,null,null,null,null,null,null,null,null,null,null,null,null,null,null,null,null,null,null,null,null,null,null,null,null,null,null,null,null,null,null,null,null,null,null,null,null,null,null,null,null,null,null,null,null,null,null,null,null,null,null,null,null,null,null,null,null,null,null,null,null,null,null,null,null,null,null,null,null,null,null,null,null,null,null,null,null,null,null,null,null,null,null,null,null,null,null,null,null,null,null,null,null,null,null,null,null,null,null,null,null,"",null,"年月日\t\t0\t\t\t",0]
[44,null,null,null,null,null,null,null,null,null,null,null,null,null,null,null,null,null,null,null,null,null,null,null,null,null,null,null,null,null,null,null,null,null,null,null,null,null,null,null,null,null,null,null,null,null,null,null,null,null,null,null,null,null,null,null,null,null,null,null,null,null,null,null,null,null,null,null,null,null,null,null,null,null,null,null,null,null,null,null,null,null,null,null,null,null,null,null,null,null,null,null,null,null,null,null,null,null,null,null,null,null,null,null,null,null,null,null,null,null,null,null,null,null,null,null,null,null,null,null,null,null,null,null,null,null,null,null,null,null,null,null,null,null,null,null,null,null,null,null,null,null,null,null,null,null,null,null,null,null,null,null,null,null,null,null,null,null,null,null,null,null,null,null,null,null,null,null,null,null,null,null,null,null,null,null,null,null,null,null,null,null,null,null,null,null,null,null,null,null,null,null,null,null,null,null,null,null,null,null,null,null,null,null,null,null,null,null,null,null,null,null,null,null,null,null,null,"",null,"年月日\t\t0\t\t\t",0]
[45,null,null,null,null,null,null,null,null,null,null,null,null,null,null,null,null,null,null,null,null,null,null,null,null,null,null,null,null,null,null,null,null,null,null,null,null,null,null,null,null,null,null,null,null,null,null,null,null,null,null,null,null,null,null,null,null,null,null,null,null,null,null,null,null,null,null,null,null,null,null,null,null,null,null,null,null,null,null,null,null,null,null,null,null,null,null,null,null,null,null,null,null,null,null,null,null,null,null,null,null,null,null,null,null,null,null,null,null,null,null,null,null,null,null,null,null,null,null,null,null,null,null,null,null,null,null,null,null,null,null,null,null,null,null,null,null,null,null,null,null,null,null,null,null,null,null,null,null,null,null,null,null,null,null,null,null,null,null,null,null,null,null,null,null,null,null,null,null,null,null,null,null,null,null,null,null,null,null,null,null,null,null,null,null,null,null,null,null,null,null,null,null,null,null,null,null,null,null,null,null,null,null,null,null,null,null,null,null,null,null,null,null,null,null,null,null,"",null,"年月日\t\t0\t\t\t",0]
[46,null,null,null,null,null,null,null,null,null,null,null,null,null,null,null,null,null,null,null,null,null,null,null,null,null,null,null,null,null,null,null,null,null,null,null,null,null,null,null,null,null,null,null,null,null,null,null,null,null,null,null,null,null,null,null,null,null,null,null,null,null,null,null,null,null,null,null,null,null,null,null,null,null,null,null,null,null,null,null,null,null,null,null,null,null,null,null,null,null,null,null,null,null,null,null,null,null,null,null,null,null,null,null,null,null,null,null,null,null,null,null,null,null,null,null,null,null,null,null,null,null,null,null,null,null,null,null,null,null,null,null,null,null,null,null,null,null,null,null,null,null,null,null,null,null,null,null,null,null,null,null,null,null,null,null,null,null,null,null,null,null,null,null,null,null,null,null,null,null,null,null,null,null,null,null,null,null,null,null,null,null,null,null,null,null,null,null,null,null,null,null,null,null,null,null,null,null,null,null,null,null,null,null,null,null,null,null,null,null,null,null,null,null,null,null,null,"",null,"年月日\t\t0\t\t\t",0]
[47,null,null,null,null,null,null,null,null,null,null,null,null,null,null,null,null,null,null,null,null,null,null,null,null,null,null,null,null,null,null,null,null,null,null,null,null,null,null,null,null,null,null,null,null,null,null,null,null,null,null,null,null,null,null,null,null,null,null,null,null,null,null,null,null,null,null,null,null,null,null,null,null,null,null,null,null,null,null,null,null,null,null,null,null,null,null,null,null,null,null,null,null,null,null,null,null,null,null,null,null,null,null,null,null,null,null,null,null,null,null,null,null,null,null,null,null,null,null,null,null,null,null,null,null,null,null,null,null,null,null,null,null,null,null,null,null,null,null,null,null,null,null,null,null,null,null,null,null,null,null,null,null,null,null,null,null,null,null,null,null,null,null,null,null,null,null,null,null,null,null,null,null,null,null,null,null,null,null,null,null,null,null,null,null,null,null,null,null,null,null,null,null,null,null,null,null,null,null,null,null,null,null,null,null,null,null,null,null,null,null,null,null,null,null,null,null,"",null,"年月日\t\t0\t\t\t",0]
[48,null,null,null,null,null,null,null,null,null,null,null,null,null,null,null,null,null,null,null,null,null,null,null,null,null,null,null,null,null,null,null,null,null,null,null,null,null,null,null,null,null,null,null,null,null,null,null,null,null,null,null,null,null,null,null,null,null,null,null,null,null,null,null,null,null,null,null,null,null,null,null,null,null,null,null,null,null,null,null,null,null,null,null,null,null,null,null,null,null,null,null,null,null,null,null,null,null,null,null,null,null,null,null,null,null,null,null,null,null,null,null,null,null,null,null,null,null,null,null,null,null,null,null,null,null,null,null,null,null,null,null,null,null,null,null,null,null,null,null,null,null,null,null,null,null,null,null,null,null,null,null,null,null,null,null,null,null,null,null,null,null,null,null,null,null,null,null,null,null,null,null,null,null,null,null,null,null,null,null,null,null,null,null,null,null,null,null,null,null,null,null,null,null,null,null,null,null,null,null,null,null,null,null,null,null,null,null,null,null,null,null,null,null,null,null,null,"",null,"年月日\t\t0\t\t\t",0]
[49,null,null,null,null,null,null,null,null,null,null,null,null,null,null,null,null,null,null,null,null,null,null,null,null,null,null,null,null,null,null,null,null,null,null,null,null,null,null,null,null,null,null,null,null,null,null,null,null,null,null,null,null,null,null,null,null,null,null,null,null,null,null,null,null,null,null,null,null,null,null,null,null,null,null,null,null,null,null,null,null,null,null,null,null,null,null,null,null,null,null,null,null,null,null,null,null,null,null,null,null,null,null,null,null,null,null,null,null,null,null,null,null,null,null,null,null,null,null,null,null,null,null,null,null,null,null,null,null,null,null,null,null,null,null,null,null,null,null,null,null,null,null,null,null,null,null,null,null,null,null,null,null,null,null,null,null,null,null,null,null,null,null,null,null,null,null,null,null,null,null,null,null,null,null,null,null,null,null,null,null,null,null,null,null,null,null,null,null,null,null,null,null,null,null,null,null,null,null,null,null,null,null,null,null,null,null,null,null,null,null,null,null,null,null,null,null,"",null,"年月日\t\t0\t\t\t",0]
[50,null,null,null,null,null,null,null,null,null,null,null,null,null,null,null,null,null,null,null,null,null,null,null,null,null,null,null,null,null,null,null,null,null,null,null,null,null,null,null,null,null,null,null,null,null,null,null,null,null,null,null,null,null,null,null,null,null,null,null,null,null,null,null,null,null,null,null,null,null,null,null,null,null,null,null,null,null,null,null,null,null,null,null,null,null,null,null,null,null,null,null,null,null,null,null,null,null,null,null,null,null,null,null,null,null,null,null,null,null,null,null,null,null,null,null,null,null,null,null,null,null,null,null,null,null,null,null,null,null,null,null,null,null,null,null,null,null,null,null,null,null,null,null,null,null,null,null,null,null,null,null,null,null,null,null,null,null,null,null,null,null,null,null,null,null,null,null,null,null,null,null,null,null,null,null,null,null,null,null,null,null,null,null,null,null,null,null,null,null,null,null,null,null,null,null,null,null,null,null,null,null,null,null,null,null,null,null,null,null,null,null,null,null,null,null,null,"",null,"年月日\t\t0\t\t\t",0]
[51,null,null,null,null,null,null,null,null,null,null,null,null,null,null,null,null,null,null,null,null,null,null,null,null,null,null,null,null,null,null,null,null,null,null,null,null,null,null,null,null,null,null,null,null,null,null,null,null,null,null,null,null,null,null,null,null,null,null,null,null,null,null,null,null,null,null,null,null,null,null,null,null,null,null,null,null,null,null,null,null,null,null,null,null,null,null,null,null,null,null,null,null,null,null,null,null,null,null,null,null,null,null,null,null,null,null,null,null,null,null,null,null,null,null,null,null,null,null,null,null,null,null,null,null,null,null,null,null,null,null,null,null,null,null,null,null,null,null,null,null,null,null,null,null,null,null,null,null,null,null,null,null,null,null,null,null,null,null,null,null,null,null,null,null,null,null,null,null,null,null,null,null,null,null,null,null,null,null,null,null,null,null,null,null,null,null,null,null,null,null,null,null,null,null,null,null,null,null,null,null,null,null,null,null,null,null,null,null,null,null,null,null,null,null,null,null,"",null,"年月日\t\t0\t\t\t",0]
[52,null,null,null,null,null,null,null,null,null,null,null,null,null,null,null,null,null,null,null,null,null,null,null,null,null,null,null,null,null,null,null,null,null,null,null,null,null,null,null,null,null,null,null,null,null,null,null,null,null,null,null,null,null,null,null,null,null,null,null,null,null,null,null,null,null,null,null,null,null,null,null,null,null,null,null,null,null,null,null,null,null,null,null,null,null,null,null,null,null,null,null,null,null,null,null,null,null,null,null,null,null,null,null,null,null,null,null,null,null,null,null,null,null,null,null,null,null,null,null,null,null,null,null,null,null,null,null,null,null,null,null,null,null,null,null,null,null,null,null,null,null,null,null,null,null,null,null,null,null,null,null,null,null,null,null,null,null,null,null,null,null,null,null,null,null,null,null,null,null,null,null,null,null,null,null,null,null,null,null,null,null,null,null,null,null,null,null,null,null,null,null,null,null,null,null,null,null,null,null,null,null,null,null,null,null,null,null,null,null,null,null,null,null,null,null,null,"",null,"年月日\t\t0\t\t\t",0]
[53,null,null,null,null,null,null,null,null,null,null,null,null,null,null,null,null,null,null,null,null,null,null,null,null,null,null,null,null,null,null,null,null,null,null,null,null,null,null,null,null,null,null,null,null,null,null,null,null,null,null,null,null,null,null,null,null,null,null,null,null,null,null,null,null,null,null,null,null,null,null,null,null,null,null,null,null,null,null,null,null,null,null,null,null,null,null,null,null,null,null,null,null,null,null,null,null,null,null,null,null,null,null,null,null,null,null,null,null,null,null,null,null,null,null,null,null,null,null,null,null,null,null,null,null,null,null,null,null,null,null,null,null,null,null,null,null,null,null,null,null,null,null,null,null,null,null,null,null,null,null,null,null,null,null,null,null,null,null,null,null,null,null,null,null,null,null,null,null,null,null,null,null,null,null,null,null,null,null,null,null,null,null,null,null,null,null,null,null,null,null,null,null,null,null,null,null,null,null,null,null,null,null,null,null,null,null,null,null,null,null,null,null,null,null,null,null,"",null,"年月日\t\t0\t\t\t",0]
[54,null,null,null,null,null,null,null,null,null,null,null,null,null,null,null,null,null,null,null,null,null,null,null,null,null,null,null,null,null,null,null,null,null,null,null,null,null,null,null,null,null,null,null,null,null,null,null,null,null,null,null,null,null,null,null,null,null,null,null,null,null,null,null,null,null,null,null,null,null,null,null,null,null,null,null,null,null,null,null,null,null,null,null,null,null,null,null,null,null,null,null,null,null,null,null,null,null,null,null,null,null,null,null,null,null,null,null,null,null,null,null,null,null,null,null,null,null,null,null,null,null,null,null,null,null,null,null,null,null,null,null,null,null,null,null,null,null,null,null,null,null,null,null,null,null,null,null,null,null,null,null,null,null,null,null,null,null,null,null,null,null,null,null,null,null,null,null,null,null,null,null,null,null,null,null,null,null,null,null,null,null,null,null,null,null,null,null,null,null,null,null,null,null,null,null,null,null,null,null,null,null,null,null,null,null,null,null,null,null,null,null,null,null,null,null,null,"",null,"年月日\t\t0\t\t\t",0]
[55,null,null,null,null,null,null,null,null,null,null,null,null,null,null,null,null,null,null,null,null,null,null,null,null,null,null,null,null,null,null,null,null,null,null,null,null,null,null,null,null,null,null,null,null,null,null,null,null,null,null,null,null,null,null,null,null,null,null,null,null,null,null,null,null,null,null,null,null,null,null,null,null,null,null,null,null,null,null,null,null,null,null,null,null,null,null,null,null,null,null,null,null,null,null,null,null,null,null,null,null,null,null,null,null,null,null,null,null,null,null,null,null,null,null,null,null,null,null,null,null,null,null,null,null,null,null,null,null,null,null,null,null,null,null,null,null,null,null,null,null,null,null,null,null,null,null,null,null,null,null,null,null,null,null,null,null,null,null,null,null,null,null,null,null,null,null,null,null,null,null,null,null,null,null,null,null,null,null,null,null,null,null,null,null,null,null,null,null,null,null,null,null,null,null,null,null,null,null,null,null,null,null,null,null,null,null,null,null,null,null,null,null,null,null,null,null,"",null,"年月日\t\t0\t\t\t",0]
[56,null,null,null,null,null,null,null,null,null,null,null,null,null,null,null,null,null,null,null,null,null,null,null,null,null,null,null,null,null,null,null,null,null,null,null,null,null,null,null,null,null,null,null,null,null,null,null,null,null,null,null,null,null,null,null,null,null,null,null,null,null,null,null,null,null,null,null,null,null,null,null,null,null,null,null,null,null,null,null,null,null,null,null,null,null,null,null,null,null,null,null,null,null,null,null,null,null,null,null,null,null,null,null,null,null,null,null,null,null,null,null,null,null,null,null,null,null,null,null,null,null,null,null,null,null,null,null,null,null,null,null,null,null,null,null,null,null,null,null,null,null,null,null,null,null,null,null,null,null,null,null,null,null,null,null,null,null,null,null,null,null,null,null,null,null,null,null,null,null,null,null,null,null,null,null,null,null,null,null,null,null,null,null,null,null,null,null,null,null,null,null,null,null,null,null,null,null,null,null,null,null,null,null,null,null,null,null,null,null,null,null,null,null,null,null,null,"",null,"年月日\t\t0\t\t\t",0]
[57,null,null,null,null,null,null,null,null,null,null,null,null,null,null,null,null,null,null,null,null,null,null,null,null,null,null,null,null,null,null,null,null,null,null,null,null,null,null,null,null,null,null,null,null,null,null,null,null,null,null,null,null,null,null,null,null,null,null,null,null,null,null,null,null,null,null,null,null,null,null,null,null,null,null,null,null,null,null,null,null,null,null,null,null,null,null,null,null,null,null,null,null,null,null,null,null,null,null,null,null,null,null,null,null,null,null,null,null,null,null,null,null,null,null,null,null,null,null,null,null,null,null,null,null,null,null,null,null,null,null,null,null,null,null,null,null,null,null,null,null,null,null,null,null,null,null,null,null,null,null,null,null,null,null,null,null,null,null,null,null,null,null,null,null,null,null,null,null,null,null,null,null,null,null,null,null,null,null,null,null,null,null,null,null,null,null,null,null,null,null,null,null,null,null,null,null,null,null,null,null,null,null,null,null,null,null,null,null,null,null,null,null,null,null,null,null,"",null,"年月日\t\t0\t\t\t",0]
[58,null,null,null,null,null,null,null,null,null,null,null,null,null,null,null,null,null,null,null,null,null,null,null,null,null,null,null,null,null,null,null,null,null,null,null,null,null,null,null,null,null,null,null,null,null,null,null,null,null,null,null,null,null,null,null,null,null,null,null,null,null,null,null,null,null,null,null,null,null,null,null,null,null,null,null,null,null,null,null,null,null,null,null,null,null,null,null,null,null,null,null,null,null,null,null,null,null,null,null,null,null,null,null,null,null,null,null,null,null,null,null,null,null,null,null,null,null,null,null,null,null,null,null,null,null,null,null,null,null,null,null,null,null,null,null,null,null,null,null,null,null,null,null,null,null,null,null,null,null,null,null,null,null,null,null,null,null,null,null,null,null,null,null,null,null,null,null,null,null,null,null,null,null,null,null,null,null,null,null,null,null,null,null,null,null,null,null,null,null,null,null,null,null,null,null,null,null,null,null,null,null,null,null,null,null,null,null,null,null,null,null,null,null,null,null,null,"",null,"年月日\t\t0\t\t\t",0]
[59,null,null,null,null,null,null,null,null,null,null,null,null,null,null,null,null,null,null,null,null,null,null,null,null,null,null,null,null,null,null,null,null,null,null,null,null,null,null,null,null,null,null,null,null,null,null,null,null,null,null,null,null,null,null,null,null,null,null,null,null,null,null,null,null,null,null,null,null,null,null,null,null,null,null,null,null,null,null,null,null,null,null,null,null,null,null,null,null,null,null,null,null,null,null,null,null,null,null,null,null,null,null,null,null,null,null,null,null,null,null,null,null,null,null,null,null,null,null,null,null,null,null,null,null,null,null,null,null,null,null,null,null,null,null,null,null,null,null,null,null,null,null,null,null,null,null,null,null,null,null,null,null,null,null,null,null,null,null,null,null,null,null,null,null,null,null,null,null,null,null,null,null,null,null,null,null,null,null,null,null,null,null,null,null,null,null,null,null,null,null,null,null,null,null,null,null,null,null,null,null,null,null,null,null,null,null,null,null,null,null,null,null,null,null,null,null,"",null,"年月日\t\t0\t\t\t",0]
[60,null,null,null,null,null,null,null,null,null,null,null,null,null,null,null,null,null,null,null,null,null,null,null,null,null,null,null,null,null,null,null,null,null,null,null,null,null,null,null,null,null,null,null,null,null,null,null,null,null,null,null,null,null,null,null,null,null,null,null,null,null,null,null,null,null,null,null,null,null,null,null,null,null,null,null,null,null,null,null,null,null,null,null,null,null,null,null,null,null,null,null,null,null,null,null,null,null,null,null,null,null,null,null,null,null,null,null,null,null,null,null,null,null,null,null,null,null,null,null,null,null,null,null,null,null,null,null,null,null,null,null,null,null,null,null,null,null,null,null,null,null,null,null,null,null,null,null,null,null,null,null,null,null,null,null,null,null,null,null,null,null,null,null,null,null,null,null,null,null,null,null,null,null,null,null,null,null,null,null,null,null,null,null,null,null,null,null,null,null,null,null,null,null,null,null,null,null,null,null,null,null,null,null,null,null,null,null,null,null,null,null,null,null,null,null,null,"",null,"年月日\t\t0\t\t\t",0]
[61,null,null,null,null,null,null,null,null,null,null,null,null,null,null,null,null,null,null,null,null,null,null,null,null,null,null,null,null,null,null,null,null,null,null,null,null,null,null,null,null,null,null,null,null,null,null,null,null,null,null,null,null,null,null,null,null,null,null,null,null,null,null,null,null,null,null,null,null,null,null,null,null,null,null,null,null,null,null,null,null,null,null,null,null,null,null,null,null,null,null,null,null,null,null,null,null,null,null,null,null,null,null,null,null,null,null,null,null,null,null,null,null,null,null,null,null,null,null,null,null,null,null,null,null,null,null,null,null,null,null,null,null,null,null,null,null,null,null,null,null,null,null,null,null,null,null,null,null,null,null,null,null,null,null,null,null,null,null,null,null,null,null,null,null,null,null,null,null,null,null,null,null,null,null,null,null,null,null,null,null,null,null,null,null,null,null,null,null,null,null,null,null,null,null,null,null,null,null,null,null,null,null,null,null,null,null,null,null,null,null,null,null,null,null,null,null,"",null,"年月日\t\t0\t\t\t",0]
[62,null,null,null,null,null,null,null,null,null,null,null,null,null,null,null,null,null,null,null,null,null,null,null,null,null,null,null,null,null,null,null,null,null,null,null,null,null,null,null,null,null,null,null,null,null,null,null,null,null,null,null,null,null,null,null,null,null,null,null,null,null,null,null,null,null,null,null,null,null,null,null,null,null,null,null,null,null,null,null,null,null,null,null,null,null,null,null,null,null,null,null,null,null,null,null,null,null,null,null,null,null,null,null,null,null,null,null,null,null,null,null,null,null,null,null,null,null,null,null,null,null,null,null,null,null,null,null,null,null,null,null,null,null,null,null,null,null,null,null,null,null,null,null,null,null,null,null,null,null,null,null,null,null,null,null,null,null,null,null,null,null,null,null,null,null,null,null,null,null,null,null,null,null,null,null,null,null,null,null,null,null,null,null,null,null,null,null,null,null,null,null,null,null,null,null,null,null,null,null,null,null,null,null,null,null,null,null,null,null,null,null,null,null,null,null,null,"",null,"年月日\t\t0\t\t\t",0]
[63,null,null,null,null,null,null,null,null,null,null,null,null,null,null,null,null,null,null,null,null,null,null,null,null,null,null,null,null,null,null,null,null,null,null,null,null,null,null,null,null,null,null,null,null,null,null,null,null,null,null,null,null,null,null,null,null,null,null,null,null,null,null,null,null,null,null,null,null,null,null,null,null,null,null,null,null,null,null,null,null,null,null,null,null,null,null,null,null,null,null,null,null,null,null,null,null,null,null,null,null,null,null,null,null,null,null,null,null,null,null,null,null,null,null,null,null,null,null,null,null,null,null,null,null,null,null,null,null,null,null,null,null,null,null,null,null,null,null,null,null,null,null,null,null,null,null,null,null,null,null,null,null,null,null,null,null,null,null,null,null,null,null,null,null,null,null,null,null,null,null,null,null,null,null,null,null,null,null,null,null,null,null,null,null,null,null,null,null,null,null,null,null,null,null,null,null,null,null,null,null,null,null,null,null,null,null,null,null,null,null,null,null,null,null,null,null,"",null,"年月日\t\t0\t\t\t",0]
[64,null,null,null,null,null,null,null,null,null,null,null,null,null,null,null,null,null,null,null,null,null,null,null,null,null,null,null,null,null,null,null,null,null,null,null,null,null,null,null,null,null,null,null,null,null,null,null,null,null,null,null,null,null,null,null,null,null,null,null,null,null,null,null,null,null,null,null,null,null,null,null,null,null,null,null,null,null,null,null,null,null,null,null,null,null,null,null,null,null,null,null,null,null,null,null,null,null,null,null,null,null,null,null,null,null,null,null,null,null,null,null,null,null,null,null,null,null,null,null,null,null,null,null,null,null,null,null,null,null,null,null,null,null,null,null,null,null,null,null,null,null,null,null,null,null,null,null,null,null,null,null,null,null,null,null,null,null,null,null,null,null,null,null,null,null,null,null,null,null,null,null,null,null,null,null,null,null,null,null,null,null,null,null,null,null,null,null,null,null,null,null,null,null,null,null,null,null,null,null,null,null,null,null,null,null,null,null,null,null,null,null,null,null,null,null,null,"",null,"年月日\t\t0\t\t\t",0]
[65,null,null,null,null,null,null,null,null,null,null,null,null,null,null,null,null,null,null,null,null,null,null,null,null,null,null,null,null,null,null,null,null,null,null,null,null,null,null,null,null,null,null,null,null,null,null,null,null,null,null,null,null,null,null,null,null,null,null,null,null,null,null,null,null,null,null,null,null,null,null,null,null,null,null,null,null,null,null,null,null,null,null,null,null,null,null,null,null,null,null,null,null,null,null,null,null,null,null,null,null,null,null,null,null,null,null,null,null,null,null,null,null,null,null,null,null,null,null,null,null,null,null,null,null,null,null,null,null,null,null,null,null,null,null,null,null,null,null,null,null,null,null,null,null,null,null,null,null,null,null,null,null,null,null,null,null,null,null,null,null,null,null,null,null,null,null,null,null,null,null,null,null,null,null,null,null,null,null,null,null,null,null,null,null,null,null,null,null,null,null,null,null,null,null,null,null,null,null,null,null,null,null,null,null,null,null,null,null,null,null,null,null,null,null,null,null,{"$f":"IF(HI67=\"\",\"\",IF(LENB(INDIRECT(\"n\"&HI67+2))<15,VLOOKUP(HI67,$A$3:$T$9999,5,FALSE)&CHAR(9)&INDIRECT(\"gs\"&HI67+2)&CHAR(9)&CHAR(9)&CHAR(9)&VLOOKUP(HI67,$A$3:$T$9999,20,FALSE),VLOOKUP(HI67,$A$3:$T$9999,5,FALSE)&CHAR(9)&INDIRECT(\"gs\"&HI67+2)&CHAR(9)&CHAR(9)&VLOOKUP(HI67,$A$3:$T$9999,20,FALSE)))","v":""},null,{"$f":"IF(LENB(N67)<15,F67&\"年\"&G67&\"月\"&H67&\"日\"&CHAR(9)&E67&CHAR(9)&HM67&CHAR(9)&CHAR(9)&CHAR(9)&T67,F67&\"年\"&G67&\"月\"&H67&\"日\"&CHAR(9)&E67&CHAR(9)&HM67&CHAR(9)&CHAR(9)&T67)","v":"年月日\t\t0\t\t\t"},{"$f":"IF(LENB(N67)<15,N67,LEFT(N67,9)&\"(略)\")","v":0}]
[66,null,null,null,null,null,null,null,null,null,null,null,null,null,null,null,null,null,null,null,null,null,null,null,null,null,null,null,null,null,null,null,null,null,null,null,null,null,null,null,null,null,null,null,null,null,null,null,null,null,null,null,null,null,null,null,null,null,null,null,null,null,null,null,null,null,null,null,null,null,null,null,null,null,null,null,null,null,null,null,null,null,null,null,null,null,null,null,null,null,null,null,null,null,null,null,null,null,null,null,null,null,null,null,null,null,null,null,null,null,null,null,null,null,null,null,null,null,null,null,null,null,null,null,null,null,null,null,null,null,null,null,null,null,null,null,null,null,null,null,null,null,null,null,null,null,null,null,null,null,null,null,null,null,null,null,null,null,null,null,null,null,null,null,null,null,null,null,null,null,null,null,null,null,null,null,null,null,null,null,null,null,null,null,null,null,null,null,null,null,null,null,null,null,null,null,null,null,null,null,null,null,null,null,null,null,null,null,null,null,null,null,null,null,null,null,null,"",null,"年月日\t\t0\t\t\t",0]
[67,null,null,null,null,null,null,null,null,null,null,null,null,null,null,null,null,null,null,null,null,null,null,null,null,null,null,null,null,null,null,null,null,null,null,null,null,null,null,null,null,null,null,null,null,null,null,null,null,null,null,null,null,null,null,null,null,null,null,null,null,null,null,null,null,null,null,null,null,null,null,null,null,null,null,null,null,null,null,null,null,null,null,null,null,null,null,null,null,null,null,null,null,null,null,null,null,null,null,null,null,null,null,null,null,null,null,null,null,null,null,null,null,null,null,null,null,null,null,null,null,null,null,null,null,null,null,null,null,null,null,null,null,null,null,null,null,null,null,null,null,null,null,null,null,null,null,null,null,null,null,null,null,null,null,null,null,null,null,null,null,null,null,null,null,null,null,null,null,null,null,null,null,null,null,null,null,null,null,null,null,null,null,null,null,null,null,null,null,null,null,null,null,null,null,null,null,null,null,null,null,null,null,null,null,null,null,null,null,null,null,null,null,null,null,null,null,"",null,"年月日\t\t0\t\t\t",0]
[68,null,null,null,null,null,null,null,null,null,null,null,null,null,null,null,null,null,null,null,null,null,null,null,null,null,null,null,null,null,null,null,null,null,null,null,null,null,null,null,null,null,null,null,null,null,null,null,null,null,null,null,null,null,null,null,null,null,null,null,null,null,null,null,null,null,null,null,null,null,null,null,null,null,null,null,null,null,null,null,null,null,null,null,null,null,null,null,null,null,null,null,null,null,null,null,null,null,null,null,null,null,null,null,null,null,null,null,null,null,null,null,null,null,null,null,null,null,null,null,null,null,null,null,null,null,null,null,null,null,null,null,null,null,null,null,null,null,null,null,null,null,null,null,null,null,null,null,null,null,null,null,null,null,null,null,null,null,null,null,null,null,null,null,null,null,null,null,null,null,null,null,null,null,null,null,null,null,null,null,null,null,null,null,null,null,null,null,null,null,null,null,null,null,null,null,null,null,null,null,null,null,null,null,null,null,null,null,null,null,null,null,null,null,null,null,null,"",null,"年月日\t\t0\t\t\t",0]
[69,null,null,null,null,null,null,null,null,null,null,null,null,null,null,null,null,null,null,null,null,null,null,null,null,null,null,null,null,null,null,null,null,null,null,null,null,null,null,null,null,null,null,null,null,null,null,null,null,null,null,null,null,null,null,null,null,null,null,null,null,null,null,null,null,null,null,null,null,null,null,null,null,null,null,null,null,null,null,null,null,null,null,null,null,null,null,null,null,null,null,null,null,null,null,null,null,null,null,null,null,null,null,null,null,null,null,null,null,null,null,null,null,null,null,null,null,null,null,null,null,null,null,null,null,null,null,null,null,null,null,null,null,null,null,null,null,null,null,null,null,null,null,null,null,null,null,null,null,null,null,null,null,null,null,null,null,null,null,null,null,null,null,null,null,null,null,null,null,null,null,null,null,null,null,null,null,null,null,null,null,null,null,null,null,null,null,null,null,null,null,null,null,null,null,null,null,null,null,null,null,null,null,null,null,null,null,null,null,null,null,null,null,null,null,null,null,"",null,"年月日\t\t0\t\t\t",0]
[70,null,null,null,null,null,null,null,null,null,null,null,null,null,null,null,null,null,null,null,null,null,null,null,null,null,null,null,null,null,null,null,null,null,null,null,null,null,null,null,null,null,null,null,null,null,null,null,null,null,null,null,null,null,null,null,null,null,null,null,null,null,null,null,null,null,null,null,null,null,null,null,null,null,null,null,null,null,null,null,null,null,null,null,null,null,null,null,null,null,null,null,null,null,null,null,null,null,null,null,null,null,null,null,null,null,null,null,null,null,null,null,null,null,null,null,null,null,null,null,null,null,null,null,null,null,null,null,null,null,null,null,null,null,null,null,null,null,null,null,null,null,null,null,null,null,null,null,null,null,null,null,null,null,null,null,null,null,null,null,null,null,null,null,null,null,null,null,null,null,null,null,null,null,null,null,null,null,null,null,null,null,null,null,null,null,null,null,null,null,null,null,null,null,null,null,null,null,null,null,null,null,null,null,null,null,null,null,null,null,null,null,null,null,null,null,null,"",null,"年月日\t\t0\t\t\t",0]
[71,null,null,null,null,null,null,null,null,null,null,null,null,null,null,null,null,null,null,null,null,null,null,null,null,null,null,null,null,null,null,null,null,null,null,null,null,null,null,null,null,null,null,null,null,null,null,null,null,null,null,null,null,null,null,null,null,null,null,null,null,null,null,null,null,null,null,null,null,null,null,null,null,null,null,null,null,null,null,null,null,null,null,null,null,null,null,null,null,null,null,null,null,null,null,null,null,null,null,null,null,null,null,null,null,null,null,null,null,null,null,null,null,null,null,null,null,null,null,null,null,null,null,null,null,null,null,null,null,null,null,null,null,null,null,null,null,null,null,null,null,null,null,null,null,null,null,null,null,null,null,null,null,null,null,null,null,null,null,null,null,null,null,null,null,null,null,null,null,null,null,null,null,null,null,null,null,null,null,null,null,null,null,null,null,null,null,null,null,null,null,null,null,null,null,null,null,null,null,null,null,null,null,null,null,null,null,null,null,null,null,null,null,null,null,null,null,"",null,"年月日\t\t0\t\t\t",0]
[72,null,null,null,null,null,null,null,null,null,null,null,null,null,null,null,null,null,null,null,null,null,null,null,null,null,null,null,null,null,null,null,null,null,null,null,null,null,null,null,null,null,null,null,null,null,null,null,null,null,null,null,null,null,null,null,null,null,null,null,null,null,null,null,null,null,null,null,null,null,null,null,null,null,null,null,null,null,null,null,null,null,null,null,null,null,null,null,null,null,null,null,null,null,null,null,null,null,null,null,null,null,null,null,null,null,null,null,null,null,null,null,null,null,null,null,null,null,null,null,null,null,null,null,null,null,null,null,null,null,null,null,null,null,null,null,null,null,null,null,null,null,null,null,null,null,null,null,null,null,null,null,null,null,null,null,null,null,null,null,null,null,null,null,null,null,null,null,null,null,null,null,null,null,null,null,null,null,null,null,null,null,null,null,null,null,null,null,null,null,null,null,null,null,null,null,null,null,null,null,null,null,null,null,null,null,null,null,null,null,null,null,null,null,null,null,null,"",null,"年月日\t\t0\t\t\t",0]
[73,null,null,null,null,null,null,null,null,null,null,null,null,null,null,null,null,null,null,null,null,null,null,null,null,null,null,null,null,null,null,null,null,null,null,null,null,null,null,null,null,null,null,null,null,null,null,null,null,null,null,null,null,null,null,null,null,null,null,null,null,null,null,null,null,null,null,null,null,null,null,null,null,null,null,null,null,null,null,null,null,null,null,null,null,null,null,null,null,null,null,null,null,null,null,null,null,null,null,null,null,null,null,null,null,null,null,null,null,null,null,null,null,null,null,null,null,null,null,null,null,null,null,null,null,null,null,null,null,null,null,null,null,null,null,null,null,null,null,null,null,null,null,null,null,null,null,null,null,null,null,null,null,null,null,null,null,null,null,null,null,null,null,null,null,null,null,null,null,null,null,null,null,null,null,null,null,null,null,null,null,null,null,null,null,null,null,null,null,null,null,null,null,null,null,null,null,null,null,null,null,null,null,null,null,null,null,null,null,null,null,null,null,null,null,null,null,"",null,"年月日\t\t0\t\t\t",0]
[74,null,null,null,null,null,null,null,null,null,null,null,null,null,null,null,null,null,null,null,null,null,null,null,null,null,null,null,null,null,null,null,null,null,null,null,null,null,null,null,null,null,null,null,null,null,null,null,null,null,null,null,null,null,null,null,null,null,null,null,null,null,null,null,null,null,null,null,null,null,null,null,null,null,null,null,null,null,null,null,null,null,null,null,null,null,null,null,null,null,null,null,null,null,null,null,null,null,null,null,null,null,null,null,null,null,null,null,null,null,null,null,null,null,null,null,null,null,null,null,null,null,null,null,null,null,null,null,null,null,null,null,null,null,null,null,null,null,null,null,null,null,null,null,null,null,null,null,null,null,null,null,null,null,null,null,null,null,null,null,null,null,null,null,null,null,null,null,null,null,null,null,null,null,null,null,null,null,null,null,null,null,null,null,null,null,null,null,null,null,null,null,null,null,null,null,null,null,null,null,null,null,null,null,null,null,null,null,null,null,null,null,null,null,null,null,null,"",null,"年月日\t\t0\t\t\t",0]
[75,null,null,null,null,null,null,null,null,null,null,null,null,null,null,null,null,null,null,null,null,null,null,null,null,null,null,null,null,null,null,null,null,null,null,null,null,null,null,null,null,null,null,null,null,null,null,null,null,null,null,null,null,null,null,null,null,null,null,null,null,null,null,null,null,null,null,null,null,null,null,null,null,null,null,null,null,null,null,null,null,null,null,null,null,null,null,null,null,null,null,null,null,null,null,null,null,null,null,null,null,null,null,null,null,null,null,null,null,null,null,null,null,null,null,null,null,null,null,null,null,null,null,null,null,null,null,null,null,null,null,null,null,null,null,null,null,null,null,null,null,null,null,null,null,null,null,null,null,null,null,null,null,null,null,null,null,null,null,null,null,null,null,null,null,null,null,null,null,null,null,null,null,null,null,null,null,null,null,null,null,null,null,null,null,null,null,null,null,null,null,null,null,null,null,null,null,null,null,null,null,null,null,null,null,null,null,null,null,null,null,null,null,null,null,null,null,"",null,"年月日\t\t0\t\t\t",0]
[76,null,null,null,null,null,null,null,null,null,null,null,null,null,null,null,null,null,null,null,null,null,null,null,null,null,null,null,null,null,null,null,null,null,null,null,null,null,null,null,null,null,null,null,null,null,null,null,null,null,null,null,null,null,null,null,null,null,null,null,null,null,null,null,null,null,null,null,null,null,null,null,null,null,null,null,null,null,null,null,null,null,null,null,null,null,null,null,null,null,null,null,null,null,null,null,null,null,null,null,null,null,null,null,null,null,null,null,null,null,null,null,null,null,null,null,null,null,null,null,null,null,null,null,null,null,null,null,null,null,null,null,null,null,null,null,null,null,null,null,null,null,null,null,null,null,null,null,null,null,null,null,null,null,null,null,null,null,null,null,null,null,null,null,null,null,null,null,null,null,null,null,null,null,null,null,null,null,null,null,null,null,null,null,null,null,null,null,null,null,null,null,null,null,null,null,null,null,null,null,null,null,null,null,null,null,null,null,null,null,null,null,null,null,null,null,null,"",null,"年月日\t\t0\t\t\t",0]
[77,null,null,null,null,null,null,null,null,null,null,null,null,null,null,null,null,null,null,null,null,null,null,null,null,null,null,null,null,null,null,null,null,null,null,null,null,null,null,null,null,null,null,null,null,null,null,null,null,null,null,null,null,null,null,null,null,null,null,null,null,null,null,null,null,null,null,null,null,null,null,null,null,null,null,null,null,null,null,null,null,null,null,null,null,null,null,null,null,null,null,null,null,null,null,null,null,null,null,null,null,null,null,null,null,null,null,null,null,null,null,null,null,null,null,null,null,null,null,null,null,null,null,null,null,null,null,null,null,null,null,null,null,null,null,null,null,null,null,null,null,null,null,null,null,null,null,null,null,null,null,null,null,null,null,null,null,null,null,null,null,null,null,null,null,null,null,null,null,null,null,null,null,null,null,null,null,null,null,null,null,null,null,null,null,null,null,null,null,null,null,null,null,null,null,null,null,null,null,null,null,null,null,null,null,null,null,null,null,null,null,null,null,null,null,null,null,"",null,"年月日\t\t0\t\t\t",0]
[78,null,null,null,null,null,null,null,null,null,null,null,null,null,null,null,null,null,null,null,null,null,null,null,null,null,null,null,null,null,null,null,null,null,null,null,null,null,null,null,null,null,null,null,null,null,null,null,null,null,null,null,null,null,null,null,null,null,null,null,null,null,null,null,null,null,null,null,null,null,null,null,null,null,null,null,null,null,null,null,null,null,null,null,null,null,null,null,null,null,null,null,null,null,null,null,null,null,null,null,null,null,null,null,null,null,null,null,null,null,null,null,null,null,null,null,null,null,null,null,null,null,null,null,null,null,null,null,null,null,null,null,null,null,null,null,null,null,null,null,null,null,null,null,null,null,null,null,null,null,null,null,null,null,null,null,null,null,null,null,null,null,null,null,null,null,null,null,null,null,null,null,null,null,null,null,null,null,null,null,null,null,null,null,null,null,null,null,null,null,null,null,null,null,null,null,null,null,null,null,null,null,null,null,null,null,null,null,null,null,null,null,null,null,null,null,null,"",null,"年月日\t\t0\t\t\t",0]
[79,null,null,null,null,null,null,null,null,null,null,null,null,null,null,null,null,null,null,null,null,null,null,null,null,null,null,null,null,null,null,null,null,null,null,null,null,null,null,null,null,null,null,null,null,null,null,null,null,null,null,null,null,null,null,null,null,null,null,null,null,null,null,null,null,null,null,null,null,null,null,null,null,null,null,null,null,null,null,null,null,null,null,null,null,null,null,null,null,null,null,null,null,null,null,null,null,null,null,null,null,null,null,null,null,null,null,null,null,null,null,null,null,null,null,null,null,null,null,null,null,null,null,null,null,null,null,null,null,null,null,null,null,null,null,null,null,null,null,null,null,null,null,null,null,null,null,null,null,null,null,null,null,null,null,null,null,null,null,null,null,null,null,null,null,null,null,null,null,null,null,null,null,null,null,null,null,null,null,null,null,null,null,null,null,null,null,null,null,null,null,null,null,null,null,null,null,null,null,null,null,null,null,null,null,null,null,null,null,null,null,null,null,null,null,null,null,"",null,"年月日\t\t0\t\t\t",0]
[80,null,null,null,null,null,null,null,null,null,null,null,null,null,null,null,null,null,null,null,null,null,null,null,null,null,null,null,null,null,null,null,null,null,null,null,null,null,null,null,null,null,null,null,null,null,null,null,null,null,null,null,null,null,null,null,null,null,null,null,null,null,null,null,null,null,null,null,null,null,null,null,null,null,null,null,null,null,null,null,null,null,null,null,null,null,null,null,null,null,null,null,null,null,null,null,null,null,null,null,null,null,null,null,null,null,null,null,null,null,null,null,null,null,null,null,null,null,null,null,null,null,null,null,null,null,null,null,null,null,null,null,null,null,null,null,null,null,null,null,null,null,null,null,null,null,null,null,null,null,null,null,null,null,null,null,null,null,null,null,null,null,null,null,null,null,null,null,null,null,null,null,null,null,null,null,null,null,null,null,null,null,null,null,null,null,null,null,null,null,null,null,null,null,null,null,null,null,null,null,null,null,null,null,null,null,null,null,null,null,null,null,null,null,null,null,null,"",null,"年月日\t\t0\t\t\t",0]
[81,null,null,null,null,null,null,null,null,null,null,null,null,null,null,null,null,null,null,null,null,null,null,null,null,null,null,null,null,null,null,null,null,null,null,null,null,null,null,null,null,null,null,null,null,null,null,null,null,null,null,null,null,null,null,null,null,null,null,null,null,null,null,null,null,null,null,null,null,null,null,null,null,null,null,null,null,null,null,null,null,null,null,null,null,null,null,null,null,null,null,null,null,null,null,null,null,null,null,null,null,null,null,null,null,null,null,null,null,null,null,null,null,null,null,null,null,null,null,null,null,null,null,null,null,null,null,null,null,null,null,null,null,null,null,null,null,null,null,null,null,null,null,null,null,null,null,null,null,null,null,null,null,null,null,null,null,null,null,null,null,null,null,null,null,null,null,null,null,null,null,null,null,null,null,null,null,null,null,null,null,null,null,null,null,null,null,null,null,null,null,null,null,null,null,null,null,null,null,null,null,null,null,null,null,null,null,null,null,null,null,null,null,null,null,null,null,"",null,"年月日\t\t0\t\t\t",0]
[82,null,null,null,null,null,null,null,null,null,null,null,null,null,null,null,null,null,null,null,null,null,null,null,null,null,null,null,null,null,null,null,null,null,null,null,null,null,null,null,null,null,null,null,null,null,null,null,null,null,null,null,null,null,null,null,null,null,null,null,null,null,null,null,null,null,null,null,null,null,null,null,null,null,null,null,null,null,null,null,null,null,null,null,null,null,null,null,null,null,null,null,null,null,null,null,null,null,null,null,null,null,null,null,null,null,null,null,null,null,null,null,null,null,null,null,null,null,null,null,null,null,null,null,null,null,null,null,null,null,null,null,null,null,null,null,null,null,null,null,null,null,null,null,null,null,null,null,null,null,null,null,null,null,null,null,null,null,null,null,null,null,null,null,null,null,null,null,null,null,null,null,null,null,null,null,null,null,null,null,null,null,null,null,null,null,null,null,null,null,null,null,null,null,null,null,null,null,null,null,null,null,null,null,null,null,null,null,null,null,null,null,null,null,null,null,null,"",null,"年月日\t\t0\t\t\t",0]
[83,null,null,null,null,null,null,null,null,null,null,null,null,null,null,null,null,null,null,null,null,null,null,null,null,null,null,null,null,null,null,null,null,null,null,null,null,null,null,null,null,null,null,null,null,null,null,null,null,null,null,null,null,null,null,null,null,null,null,null,null,null,null,null,null,null,null,null,null,null,null,null,null,null,null,null,null,null,null,null,null,null,null,null,null,null,null,null,null,null,null,null,null,null,null,null,null,null,null,null,null,null,null,null,null,null,null,null,null,null,null,null,null,null,null,null,null,null,null,null,null,null,null,null,null,null,null,null,null,null,null,null,null,null,null,null,null,null,null,null,null,null,null,null,null,null,null,null,null,null,null,null,null,null,null,null,null,null,null,null,null,null,null,null,null,null,null,null,null,null,null,null,null,null,null,null,null,null,null,null,null,null,null,null,null,null,null,null,null,null,null,null,null,null,null,null,null,null,null,null,null,null,null,null,null,null,null,null,null,null,null,null,null,null,null,null,null,"",null,"年月日\t\t0\t\t\t",0]
[84,null,null,null,null,null,null,null,null,null,null,null,null,null,null,null,null,null,null,null,null,null,null,null,null,null,null,null,null,null,null,null,null,null,null,null,null,null,null,null,null,null,null,null,null,null,null,null,null,null,null,null,null,null,null,null,null,null,null,null,null,null,null,null,null,null,null,null,null,null,null,null,null,null,null,null,null,null,null,null,null,null,null,null,null,null,null,null,null,null,null,null,null,null,null,null,null,null,null,null,null,null,null,null,null,null,null,null,null,null,null,null,null,null,null,null,null,null,null,null,null,null,null,null,null,null,null,null,null,null,null,null,null,null,null,null,null,null,null,null,null,null,null,null,null,null,null,null,null,null,null,null,null,null,null,null,null,null,null,null,null,null,null,null,null,null,null,null,null,null,null,null,null,null,null,null,null,null,null,null,null,null,null,null,null,null,null,null,null,null,null,null,null,null,null,null,null,null,null,null,null,null,null,null,null,null,null,null,null,null,null,null,null,null,null,null,null,"",null,"年月日\t\t0\t\t\t",0]
[85,null,null,null,null,null,null,null,null,null,null,null,null,null,null,null,null,null,null,null,null,null,null,null,null,null,null,null,null,null,null,null,null,null,null,null,null,null,null,null,null,null,null,null,null,null,null,null,null,null,null,null,null,null,null,null,null,null,null,null,null,null,null,null,null,null,null,null,null,null,null,null,null,null,null,null,null,null,null,null,null,null,null,null,null,null,null,null,null,null,null,null,null,null,null,null,null,null,null,null,null,null,null,null,null,null,null,null,null,null,null,null,null,null,null,null,null,null,null,null,null,null,null,null,null,null,null,null,null,null,null,null,null,null,null,null,null,null,null,null,null,null,null,null,null,null,null,null,null,null,null,null,null,null,null,null,null,null,null,null,null,null,null,null,null,null,null,null,null,null,null,null,null,null,null,null,null,null,null,null,null,null,null,null,null,null,null,null,null,null,null,null,null,null,null,null,null,null,null,null,null,null,null,null,null,null,null,null,null,null,null,null,null,null,null,null,null,"",null,"年月日\t\t0\t\t\t",0]
[86,null,null,null,null,null,null,null,null,null,null,null,null,null,null,null,null,null,null,null,null,null,null,null,null,null,null,null,null,null,null,null,null,null,null,null,null,null,null,null,null,null,null,null,null,null,null,null,null,null,null,null,null,null,null,null,null,null,null,null,null,null,null,null,null,null,null,null,null,null,null,null,null,null,null,null,null,null,null,null,null,null,null,null,null,null,null,null,null,null,null,null,null,null,null,null,null,null,null,null,null,null,null,null,null,null,null,null,null,null,null,null,null,null,null,null,null,null,null,null,null,null,null,null,null,null,null,null,null,null,null,null,null,null,null,null,null,null,null,null,null,null,null,null,null,null,null,null,null,null,null,null,null,null,null,null,null,null,null,null,null,null,null,null,null,null,null,null,null,null,null,null,null,null,null,null,null,null,null,null,null,null,null,null,null,null,null,null,null,null,null,null,null,null,null,null,null,null,null,null,null,null,null,null,null,null,null,null,null,null,null,null,null,null,null,null,null,"",null,"年月日\t\t0\t\t\t",0]
[87,null,null,null,null,null,null,null,null,null,null,null,null,null,null,null,null,null,null,null,null,null,null,null,null,null,null,null,null,null,null,null,null,null,null,null,null,null,null,null,null,null,null,null,null,null,null,null,null,null,null,null,null,null,null,null,null,null,null,null,null,null,null,null,null,null,null,null,null,null,null,null,null,null,null,null,null,null,null,null,null,null,null,null,null,null,null,null,null,null,null,null,null,null,null,null,null,null,null,null,null,null,null,null,null,null,null,null,null,null,null,null,null,null,null,null,null,null,null,null,null,null,null,null,null,null,null,null,null,null,null,null,null,null,null,null,null,null,null,null,null,null,null,null,null,null,null,null,null,null,null,null,null,null,null,null,null,null,null,null,null,null,null,null,null,null,null,null,null,null,null,null,null,null,null,null,null,null,null,null,null,null,null,null,null,null,null,null,null,null,null,null,null,null,null,null,null,null,null,null,null,null,null,null,null,null,null,null,null,null,null,null,null,null,null,null,null,"",null,"年月日\t\t0\t\t\t",0]
[88,null,null,null,null,null,null,null,null,null,null,null,null,null,null,null,null,null,null,null,null,null,null,null,null,null,null,null,null,null,null,null,null,null,null,null,null,null,null,null,null,null,null,null,null,null,null,null,null,null,null,null,null,null,null,null,null,null,null,null,null,null,null,null,null,null,null,null,null,null,null,null,null,null,null,null,null,null,null,null,null,null,null,null,null,null,null,null,null,null,null,null,null,null,null,null,null,null,null,null,null,null,null,null,null,null,null,null,null,null,null,null,null,null,null,null,null,null,null,null,null,null,null,null,null,null,null,null,null,null,null,null,null,null,null,null,null,null,null,null,null,null,null,null,null,null,null,null,null,null,null,null,null,null,null,null,null,null,null,null,null,null,null,null,null,null,null,null,null,null,null,null,null,null,null,null,null,null,null,null,null,null,null,null,null,null,null,null,null,null,null,null,null,null,null,null,null,null,null,null,null,null,null,null,null,null,null,null,null,null,null,null,null,null,null,null,null,"",null,"年月日\t\t0\t\t\t",0]
[89,null,null,null,null,null,null,null,null,null,null,null,null,null,null,null,null,null,null,null,null,null,null,null,null,null,null,null,null,null,null,null,null,null,null,null,null,null,null,null,null,null,null,null,null,null,null,null,null,null,null,null,null,null,null,null,null,null,null,null,null,null,null,null,null,null,null,null,null,null,null,null,null,null,null,null,null,null,null,null,null,null,null,null,null,null,null,null,null,null,null,null,null,null,null,null,null,null,null,null,null,null,null,null,null,null,null,null,null,null,null,null,null,null,null,null,null,null,null,null,null,null,null,null,null,null,null,null,null,null,null,null,null,null,null,null,null,null,null,null,null,null,null,null,null,null,null,null,null,null,null,null,null,null,null,null,null,null,null,null,null,null,null,null,null,null,null,null,null,null,null,null,null,null,null,null,null,null,null,null,null,null,null,null,null,null,null,null,null,null,null,null,null,null,null,null,null,null,null,null,null,null,null,null,null,null,null,null,null,null,null,null,null,null,null,null,null,"",null,"年月日\t\t0\t\t\t",0]
[90,null,null,null,null,null,null,null,null,null,null,null,null,null,null,null,null,null,null,null,null,null,null,null,null,null,null,null,null,null,null,null,null,null,null,null,null,null,null,null,null,null,null,null,null,null,null,null,null,null,null,null,null,null,null,null,null,null,null,null,null,null,null,null,null,null,null,null,null,null,null,null,null,null,null,null,null,null,null,null,null,null,null,null,null,null,null,null,null,null,null,null,null,null,null,null,null,null,null,null,null,null,null,null,null,null,null,null,null,null,null,null,null,null,null,null,null,null,null,null,null,null,null,null,null,null,null,null,null,null,null,null,null,null,null,null,null,null,null,null,null,null,null,null,null,null,null,null,null,null,null,null,null,null,null,null,null,null,null,null,null,null,null,null,null,null,null,null,null,null,null,null,null,null,null,null,null,null,null,null,null,null,null,null,null,null,null,null,null,null,null,null,null,null,null,null,null,null,null,null,null,null,null,null,null,null,null,null,null,null,null,null,null,null,null,null,null,"",null,"年月日\t\t0\t\t\t",0]
[91,null,null,null,null,null,null,null,null,null,null,null,null,null,null,null,null,null,null,null,null,null,null,null,null,null,null,null,null,null,null,null,null,null,null,null,null,null,null,null,null,null,null,null,null,null,null,null,null,null,null,null,null,null,null,null,null,null,null,null,null,null,null,null,null,null,null,null,null,null,null,null,null,null,null,null,null,null,null,null,null,null,null,null,null,null,null,null,null,null,null,null,null,null,null,null,null,null,null,null,null,null,null,null,null,null,null,null,null,null,null,null,null,null,null,null,null,null,null,null,null,null,null,null,null,null,null,null,null,null,null,null,null,null,null,null,null,null,null,null,null,null,null,null,null,null,null,null,null,null,null,null,null,null,null,null,null,null,null,null,null,null,null,null,null,null,null,null,null,null,null,null,null,null,null,null,null,null,null,null,null,null,null,null,null,null,null,null,null,null,null,null,null,null,null,null,null,null,null,null,null,null,null,null,null,null,null,null,null,null,null,null,null,null,null,null,null,"",null,"年月日\t\t0\t\t\t",0]
[92,null,null,null,null,null,null,null,null,null,null,null,null,null,null,null,null,null,null,null,null,null,null,null,null,null,null,null,null,null,null,null,null,null,null,null,null,null,null,null,null,null,null,null,null,null,null,null,null,null,null,null,null,null,null,null,null,null,null,null,null,null,null,null,null,null,null,null,null,null,null,null,null,null,null,null,null,null,null,null,null,null,null,null,null,null,null,null,null,null,null,null,null,null,null,null,null,null,null,null,null,null,null,null,null,null,null,null,null,null,null,null,null,null,null,null,null,null,null,null,null,null,null,null,null,null,null,null,null,null,null,null,null,null,null,null,null,null,null,null,null,null,null,null,null,null,null,null,null,null,null,null,null,null,null,null,null,null,null,null,null,null,null,null,null,null,null,null,null,null,null,null,null,null,null,null,null,null,null,null,null,null,null,null,null,null,null,null,null,null,null,null,null,null,null,null,null,null,null,null,null,null,null,null,null,null,null,null,null,null,null,null,null,null,null,null,null,"",null,"年月日\t\t0\t\t\t",0]
[93,null,null,null,null,null,null,null,null,null,null,null,null,null,null,null,null,null,null,null,null,null,null,null,null,null,null,null,null,null,null,null,null,null,null,null,null,null,null,null,null,null,null,null,null,null,null,null,null,null,null,null,null,null,null,null,null,null,null,null,null,null,null,null,null,null,null,null,null,null,null,null,null,null,null,null,null,null,null,null,null,null,null,null,null,null,null,null,null,null,null,null,null,null,null,null,null,null,null,null,null,null,null,null,null,null,null,null,null,null,null,null,null,null,null,null,null,null,null,null,null,null,null,null,null,null,null,null,null,null,null,null,null,null,null,null,null,null,null,null,null,null,null,null,null,null,null,null,null,null,null,null,null,null,null,null,null,null,null,null,null,null,null,null,null,null,null,null,null,null,null,null,null,null,null,null,null,null,null,null,null,null,null,null,null,null,null,null,null,null,null,null,null,null,null,null,null,null,null,null,null,null,null,null,null,null,null,null,null,null,null,null,null,null,null,null,null,"",null,"年月日\t\t0\t\t\t",0]
[94,null,null,null,null,null,null,null,null,null,null,null,null,null,null,null,null,null,null,null,null,null,null,null,null,null,null,null,null,null,null,null,null,null,null,null,null,null,null,null,null,null,null,null,null,null,null,null,null,null,null,null,null,null,null,null,null,null,null,null,null,null,null,null,null,null,null,null,null,null,null,null,null,null,null,null,null,null,null,null,null,null,null,null,null,null,null,null,null,null,null,null,null,null,null,null,null,null,null,null,null,null,null,null,null,null,null,null,null,null,null,null,null,null,null,null,null,null,null,null,null,null,null,null,null,null,null,null,null,null,null,null,null,null,null,null,null,null,null,null,null,null,null,null,null,null,null,null,null,null,null,null,null,null,null,null,null,null,null,null,null,null,null,null,null,null,null,null,null,null,null,null,null,null,null,null,null,null,null,null,null,null,null,null,null,null,null,null,null,null,null,null,null,null,null,null,null,null,null,null,null,null,null,null,null,null,null,null,null,null,null,null,null,null,null,null,null,"",null,"年月日\t\t0\t\t\t",0]
[95,null,null,null,null,null,null,null,null,null,null,null,null,null,null,null,null,null,null,null,null,null,null,null,null,null,null,null,null,null,null,null,null,null,null,null,null,null,null,null,null,null,null,null,null,null,null,null,null,null,null,null,null,null,null,null,null,null,null,null,null,null,null,null,null,null,null,null,null,null,null,null,null,null,null,null,null,null,null,null,null,null,null,null,null,null,null,null,null,null,null,null,null,null,null,null,null,null,null,null,null,null,null,null,null,null,null,null,null,null,null,null,null,null,null,null,null,null,null,null,null,null,null,null,null,null,null,null,null,null,null,null,null,null,null,null,null,null,null,null,null,null,null,null,null,null,null,null,null,null,null,null,null,null,null,null,null,null,null,null,null,null,null,null,null,null,null,null,null,null,null,null,null,null,null,null,null,null,null,null,null,null,null,null,null,null,null,null,null,null,null,null,null,null,null,null,null,null,null,null,null,null,null,null,null,null,null,null,null,null,null,null,null,null,null,null,null,"",null,"年月日\t\t0\t\t\t",0]
[96,null,null,null,null,null,null,null,null,null,null,null,null,null,null,null,null,null,null,null,null,null,null,null,null,null,null,null,null,null,null,null,null,null,null,null,null,null,null,null,null,null,null,null,null,null,null,null,null,null,null,null,null,null,null,null,null,null,null,null,null,null,null,null,null,null,null,null,null,null,null,null,null,null,null,null,null,null,null,null,null,null,null,null,null,null,null,null,null,null,null,null,null,null,null,null,null,null,null,null,null,null,null,null,null,null,null,null,null,null,null,null,null,null,null,null,null,null,null,null,null,null,null,null,null,null,null,null,null,null,null,null,null,null,null,null,null,null,null,null,null,null,null,null,null,null,null,null,null,null,null,null,null,null,null,null,null,null,null,null,null,null,null,null,null,null,null,null,null,null,null,null,null,null,null,null,null,null,null,null,null,null,null,null,null,null,null,null,null,null,null,null,null,null,null,null,null,null,null,null,null,null,null,null,null,null,null,null,null,null,null,null,null,null,null,null,null,"",null,"年月日\t\t0\t\t\t",0]
[97,null,null,null,null,null,null,null,null,null,null,null,null,null,null,null,null,null,null,null,null,null,null,null,null,null,null,null,null,null,null,null,null,null,null,null,null,null,null,null,null,null,null,null,null,null,null,null,null,null,null,null,null,null,null,null,null,null,null,null,null,null,null,null,null,null,null,null,null,null,null,null,null,null,null,null,null,null,null,null,null,null,null,null,null,null,null,null,null,null,null,null,null,null,null,null,null,null,null,null,null,null,null,null,null,null,null,null,null,null,null,null,null,null,null,null,null,null,null,null,null,null,null,null,null,null,null,null,null,null,null,null,null,null,null,null,null,null,null,null,null,null,null,null,null,null,null,null,null,null,null,null,null,null,null,null,null,null,null,null,null,null,null,null,null,null,null,null,null,null,null,null,null,null,null,null,null,null,null,null,null,null,null,null,null,null,null,null,null,null,null,null,null,null,null,null,null,null,null,null,null,null,null,null,null,null,null,null,null,null,null,null,null,null,null,null,null,"",null,"年月日\t\t0\t\t\t",0]
[98,null,null,null,null,null,null,null,null,null,null,null,null,null,null,null,null,null,null,null,null,null,null,null,null,null,null,null,null,null,null,null,null,null,null,null,null,null,null,null,null,null,null,null,null,null,null,null,null,null,null,null,null,null,null,null,null,null,null,null,null,null,null,null,null,null,null,null,null,null,null,null,null,null,null,null,null,null,null,null,null,null,null,null,null,null,null,null,null,null,null,null,null,null,null,null,null,null,null,null,null,null,null,null,null,null,null,null,null,null,null,null,null,null,null,null,null,null,null,null,null,null,null,null,null,null,null,null,null,null,null,null,null,null,null,null,null,null,null,null,null,null,null,null,null,null,null,null,null,null,null,null,null,null,null,null,null,null,null,null,null,null,null,null,null,null,null,null,null,null,null,null,null,null,null,null,null,null,null,null,null,null,null,null,null,null,null,null,null,null,null,null,null,null,null,null,null,null,null,null,null,null,null,null,null,null,null,null,null,null,null,null,null,null,null,null,null,"",null,"年月日\t\t0\t\t\t",0]
[99,null,null,null,null,null,null,null,null,null,null,null,null,null,null,null,null,null,null,null,null,null,null,null,null,null,null,null,null,null,null,null,null,null,null,null,null,null,null,null,null,null,null,null,null,null,null,null,null,null,null,null,null,null,null,null,null,null,null,null,null,null,null,null,null,null,null,null,null,null,null,null,null,null,null,null,null,null,null,null,null,null,null,null,null,null,null,null,null,null,null,null,null,null,null,null,null,null,null,null,null,null,null,null,null,null,null,null,null,null,null,null,null,null,null,null,null,null,null,null,null,null,null,null,null,null,null,null,null,null,null,null,null,null,null,null,null,null,null,null,null,null,null,null,null,null,null,null,null,null,null,null,null,null,null,null,null,null,null,null,null,null,null,null,null,null,null,null,null,null,null,null,null,null,null,null,null,null,null,null,null,null,null,null,null,null,null,null,null,null,null,null,null,null,null,null,null,null,null,null,null,null,null,null,null,null,null,null,null,null,null,null,null,null,null,null,null,"",null,"年月日\t\t0\t\t\t",0]
[100,null,null,null,null,null,null,null,null,null,null,null,null,null,null,null,null,null,null,null,null,null,null,null,null,null,null,null,null,null,null,null,null,null,null,null,null,null,null,null,null,null,null,null,null,null,null,null,null,null,null,null,null,null,null,null,null,null,null,null,null,null,null,null,null,null,null,null,null,null,null,null,null,null,null,null,null,null,null,null,null,null,null,null,null,null,null,null,null,null,null,null,null,null,null,null,null,null,null,null,null,null,null,null,null,null,null,null,null,null,null,null,null,null,null,null,null,null,null,null,null,null,null,null,null,null,null,null,null,null,null,null,null,null,null,null,null,null,null,null,null,null,null,null,null,null,null,null,null,null,null,null,null,null,null,null,null,null,null,null,null,null,null,null,null,null,null,null,null,null,null,null,null,null,null,null,null,null,null,null,null,null,null,null,null,null,null,null,null,null,null,null,null,null,null,null,null,null,null,null,null,null,null,null,null,null,null,null,null,null,null,null,null,null,null,null,null,"",null,"年月日\t\t0\t\t\t",0]
[101,null,null,null,null,null,null,null,null,null,null,null,null,null,null,null,null,null,null,null,null,null,null,null,null,null,null,null,null,null,null,null,null,null,null,null,null,null,null,null,null,null,null,null,null,null,null,null,null,null,null,null,null,null,null,null,null,null,null,null,null,null,null,null,null,null,null,null,null,null,null,null,null,null,null,null,null,null,null,null,null,null,null,null,null,null,null,null,null,null,null,null,null,null,null,null,null,null,null,null,null,null,null,null,null,null,null,null,null,null,null,null,null,null,null,null,null,null,null,null,null,null,null,null,null,null,null,null,null,null,null,null,null,null,null,null,null,null,null,null,null,null,null,null,null,null,null,null,null,null,null,null,null,null,null,null,null,null,null,null,null,null,null,null,null,null,null,null,null,null,null,null,null,null,null,null,null,null,null,null,null,null,null,null,null,null,null,null,null,null,null,null,null,null,null,null,null,null,null,null,null,null,null,null,null,null,null,null,null,null,null,null,null,null,null,null,null,"",null,"年月日\t\t0\t\t\t",0]
[102,null,null,null,null,null,null,null,null,null,null,null,null,null,null,null,null,null,null,null,null,null,null,null,null,null,null,null,null,null,null,null,null,null,null,null,null,null,null,null,null,null,null,null,null,null,null,null,null,null,null,null,null,null,null,null,null,null,null,null,null,null,null,null,null,null,null,null,null,null,null,null,null,null,null,null,null,null,null,null,null,null,null,null,null,null,null,null,null,null,null,null,null,null,null,null,null,null,null,null,null,null,null,null,null,null,null,null,null,null,null,null,null,null,null,null,null,null,null,null,null,null,null,null,null,null,null,null,null,null,null,null,null,null,null,null,null,null,null,null,null,null,null,null,null,null,null,null,null,null,null,null,null,null,null,null,null,null,null,null,null,null,null,null,null,null,null,null,null,null,null,null,null,null,null,null,null,null,null,null,null,null,null,null,null,null,null,null,null,null,null,null,null,null,null,null,null,null,null,null,null,null,null,null,null,null,null,null,null,null,null,null,null,null,null,null,null,"",null,"年月日\t\t0\t\t\t",0]
[103,null,null,null,null,null,null,null,null,null,null,null,null,null,null,null,null,null,null,null,null,null,null,null,null,null,null,null,null,null,null,null,null,null,null,null,null,null,null,null,null,null,null,null,null,null,null,null,null,null,null,null,null,null,null,null,null,null,null,null,null,null,null,null,null,null,null,null,null,null,null,null,null,null,null,null,null,null,null,null,null,null,null,null,null,null,null,null,null,null,null,null,null,null,null,null,null,null,null,null,null,null,null,null,null,null,null,null,null,null,null,null,null,null,null,null,null,null,null,null,null,null,null,null,null,null,null,null,null,null,null,null,null,null,null,null,null,null,null,null,null,null,null,null,null,null,null,null,null,null,null,null,null,null,null,null,null,null,null,null,null,null,null,null,null,null,null,null,null,null,null,null,null,null,null,null,null,null,null,null,null,null,null,null,null,null,null,null,null,null,null,null,null,null,null,null,null,null,null,null,null,null,null,null,null,null,null,null,null,null,null,null,null,null,null,null,null,"",null,"年月日\t\t0\t\t\t",0]
[104,null,null,null,null,null,null,null,null,null,null,null,null,null,null,null,null,null,null,null,null,null,null,null,null,null,null,null,null,null,null,null,null,null,null,null,null,null,null,null,null,null,null,null,null,null,null,null,null,null,null,null,null,null,null,null,null,null,null,null,null,null,null,null,null,null,null,null,null,null,null,null,null,null,null,null,null,null,null,null,null,null,null,null,null,null,null,null,null,null,null,null,null,null,null,null,null,null,null,null,null,null,null,null,null,null,null,null,null,null,null,null,null,null,null,null,null,null,null,null,null,null,null,null,null,null,null,null,null,null,null,null,null,null,null,null,null,null,null,null,null,null,null,null,null,null,null,null,null,null,null,null,null,null,null,null,null,null,null,null,null,null,null,null,null,null,null,null,null,null,null,null,null,null,null,null,null,null,null,null,null,null,null,null,null,null,null,null,null,null,null,null,null,null,null,null,null,null,null,null,null,null,null,null,null,null,null,null,null,null,null,null,null,null,null,null,null,"",null,"年月日\t\t0\t\t\t",0]
[105,null,null,null,null,null,null,null,null,null,null,null,null,null,null,null,null,null,null,null,null,null,null,null,null,null,null,null,null,null,null,null,null,null,null,null,null,null,null,null,null,null,null,null,null,null,null,null,null,null,null,null,null,null,null,null,null,null,null,null,null,null,null,null,null,null,null,null,null,null,null,null,null,null,null,null,null,null,null,null,null,null,null,null,null,null,null,null,null,null,null,null,null,null,null,null,null,null,null,null,null,null,null,null,null,null,null,null,null,null,null,null,null,null,null,null,null,null,null,null,null,null,null,null,null,null,null,null,null,null,null,null,null,null,null,null,null,null,null,null,null,null,null,null,null,null,null,null,null,null,null,null,null,null,null,null,null,null,null,null,null,null,null,null,null,null,null,null,null,null,null,null,null,null,null,null,null,null,null,null,null,null,null,null,null,null,null,null,null,null,null,null,null,null,null,null,null,null,null,null,null,null,null,null,null,null,null,null,null,null,null,null,null,null,null,null,null,"",null,"年月日\t\t0\t\t\t",0]
[106,null,null,null,null,null,null,null,null,null,null,null,null,null,null,null,null,null,null,null,null,null,null,null,null,null,null,null,null,null,null,null,null,null,null,null,null,null,null,null,null,null,null,null,null,null,null,null,null,null,null,null,null,null,null,null,null,null,null,null,null,null,null,null,null,null,null,null,null,null,null,null,null,null,null,null,null,null,null,null,null,null,null,null,null,null,null,null,null,null,null,null,null,null,null,null,null,null,null,null,null,null,null,null,null,null,null,null,null,null,null,null,null,null,null,null,null,null,null,null,null,null,null,null,null,null,null,null,null,null,null,null,null,null,null,null,null,null,null,null,null,null,null,null,null,null,null,null,null,null,null,null,null,null,null,null,null,null,null,null,null,null,null,null,null,null,null,null,null,null,null,null,null,null,null,null,null,null,null,null,null,null,null,null,null,null,null,null,null,null,null,null,null,null,null,null,null,null,null,null,null,null,null,null,null,null,null,null,null,null,null,null,null,null,null,null,null,"",null,"年月日\t\t0\t\t\t",0]
[107,null,null,null,null,null,null,null,null,null,null,null,null,null,null,null,null,null,null,null,null,null,null,null,null,null,null,null,null,null,null,null,null,null,null,null,null,null,null,null,null,null,null,null,null,null,null,null,null,null,null,null,null,null,null,null,null,null,null,null,null,null,null,null,null,null,null,null,null,null,null,null,null,null,null,null,null,null,null,null,null,null,null,null,null,null,null,null,null,null,null,null,null,null,null,null,null,null,null,null,null,null,null,null,null,null,null,null,null,null,null,null,null,null,null,null,null,null,null,null,null,null,null,null,null,null,null,null,null,null,null,null,null,null,null,null,null,null,null,null,null,null,null,null,null,null,null,null,null,null,null,null,null,null,null,null,null,null,null,null,null,null,null,null,null,null,null,null,null,null,null,null,null,null,null,null,null,null,null,null,null,null,null,null,null,null,null,null,null,null,null,null,null,null,null,null,null,null,null,null,null,null,null,null,null,null,null,null,null,null,null,null,null,null,null,null,null,"",null,"年月日\t\t0\t\t\t",0]
[108,null,null,null,null,null,null,null,null,null,null,null,null,null,null,null,null,null,null,null,null,null,null,null,null,null,null,null,null,null,null,null,null,null,null,null,null,null,null,null,null,null,null,null,null,null,null,null,null,null,null,null,null,null,null,null,null,null,null,null,null,null,null,null,null,null,null,null,null,null,null,null,null,null,null,null,null,null,null,null,null,null,null,null,null,null,null,null,null,null,null,null,null,null,null,null,null,null,null,null,null,null,null,null,null,null,null,null,null,null,null,null,null,null,null,null,null,null,null,null,null,null,null,null,null,null,null,null,null,null,null,null,null,null,null,null,null,null,null,null,null,null,null,null,null,null,null,null,null,null,null,null,null,null,null,null,null,null,null,null,null,null,null,null,null,null,null,null,null,null,null,null,null,null,null,null,null,null,null,null,null,null,null,null,null,null,null,null,null,null,null,null,null,null,null,null,null,null,null,null,null,null,null,null,null,null,null,null,null,null,null,null,null,null,null,null,null,"",null,"年月日\t\t0\t\t\t",0]
[109,null,null,null,null,null,null,null,null,null,null,null,null,null,null,null,null,null,null,null,null,null,null,null,null,null,null,null,null,null,null,null,null,null,null,null,null,null,null,null,null,null,null,null,null,null,null,null,null,null,null,null,null,null,null,null,null,null,null,null,null,null,null,null,null,null,null,null,null,null,null,null,null,null,null,null,null,null,null,null,null,null,null,null,null,null,null,null,null,null,null,null,null,null,null,null,null,null,null,null,null,null,null,null,null,null,null,null,null,null,null,null,null,null,null,null,null,null,null,null,null,null,null,null,null,null,null,null,null,null,null,null,null,null,null,null,null,null,null,null,null,null,null,null,null,null,null,null,null,null,null,null,null,null,null,null,null,null,null,null,null,null,null,null,null,null,null,null,null,null,null,null,null,null,null,null,null,null,null,null,null,null,null,null,null,null,null,null,null,null,null,null,null,null,null,null,null,null,null,null,null,null,null,null,null,null,null,null,null,null,null,null,null,null,null,null,null,"",null,"年月日\t\t0\t\t\t",0]
[110,null,null,null,null,null,null,null,null,null,null,null,null,null,null,null,null,null,null,null,null,null,null,null,null,null,null,null,null,null,null,null,null,null,null,null,null,null,null,null,null,null,null,null,null,null,null,null,null,null,null,null,null,null,null,null,null,null,null,null,null,null,null,null,null,null,null,null,null,null,null,null,null,null,null,null,null,null,null,null,null,null,null,null,null,null,null,null,null,null,null,null,null,null,null,null,null,null,null,null,null,null,null,null,null,null,null,null,null,null,null,null,null,null,null,null,null,null,null,null,null,null,null,null,null,null,null,null,null,null,null,null,null,null,null,null,null,null,null,null,null,null,null,null,null,null,null,null,null,null,null,null,null,null,null,null,null,null,null,null,null,null,null,null,null,null,null,null,null,null,null,null,null,null,null,null,null,null,null,null,null,null,null,null,null,null,null,null,null,null,null,null,null,null,null,null,null,null,null,null,null,null,null,null,null,null,null,null,null,null,null,null,null,null,null,null,null,"",null,"年月日\t\t0\t\t\t",0]
[111,null,null,null,null,null,null,null,null,null,null,null,null,null,null,null,null,null,null,null,null,null,null,null,null,null,null,null,null,null,null,null,null,null,null,null,null,null,null,null,null,null,null,null,null,null,null,null,null,null,null,null,null,null,null,null,null,null,null,null,null,null,null,null,null,null,null,null,null,null,null,null,null,null,null,null,null,null,null,null,null,null,null,null,null,null,null,null,null,null,null,null,null,null,null,null,null,null,null,null,null,null,null,null,null,null,null,null,null,null,null,null,null,null,null,null,null,null,null,null,null,null,null,null,null,null,null,null,null,null,null,null,null,null,null,null,null,null,null,null,null,null,null,null,null,null,null,null,null,null,null,null,null,null,null,null,null,null,null,null,null,null,null,null,null,null,null,null,null,null,null,null,null,null,null,null,null,null,null,null,null,null,null,null,null,null,null,null,null,null,null,null,null,null,null,null,null,null,null,null,null,null,null,null,null,null,null,null,null,null,null,null,null,null,null,null,null,"",null,"年月日\t\t0\t\t\t",0]
[112,null,null,null,null,null,null,null,null,null,null,null,null,null,null,null,null,null,null,null,null,null,null,null,null,null,null,null,null,null,null,null,null,null,null,null,null,null,null,null,null,null,null,null,null,null,null,null,null,null,null,null,null,null,null,null,null,null,null,null,null,null,null,null,null,null,null,null,null,null,null,null,null,null,null,null,null,null,null,null,null,null,null,null,null,null,null,null,null,null,null,null,null,null,null,null,null,null,null,null,null,null,null,null,null,null,null,null,null,null,null,null,null,null,null,null,null,null,null,null,null,null,null,null,null,null,null,null,null,null,null,null,null,null,null,null,null,null,null,null,null,null,null,null,null,null,null,null,null,null,null,null,null,null,null,null,null,null,null,null,null,null,null,null,null,null,null,null,null,null,null,null,null,null,null,null,null,null,null,null,null,null,null,null,null,null,null,null,null,null,null,null,null,null,null,null,null,null,null,null,null,null,null,null,null,null,null,null,null,null,null,null,null,null,null,null,null,"",null,"年月日\t\t0\t\t\t",0]
[113,null,null,null,null,null,null,null,null,null,null,null,null,null,null,null,null,null,null,null,null,null,null,null,null,null,null,null,null,null,null,null,null,null,null,null,null,null,null,null,null,null,null,null,null,null,null,null,null,null,null,null,null,null,null,null,null,null,null,null,null,null,null,null,null,null,null,null,null,null,null,null,null,null,null,null,null,null,null,null,null,null,null,null,null,null,null,null,null,null,null,null,null,null,null,null,null,null,null,null,null,null,null,null,null,null,null,null,null,null,null,null,null,null,null,null,null,null,null,null,null,null,null,null,null,null,null,null,null,null,null,null,null,null,null,null,null,null,null,null,null,null,null,null,null,null,null,null,null,null,null,null,null,null,null,null,null,null,null,null,null,null,null,null,null,null,null,null,null,null,null,null,null,null,null,null,null,null,null,null,null,null,null,null,null,null,null,null,null,null,null,null,null,null,null,null,null,null,null,null,null,null,null,null,null,null,null,null,null,null,null,null,null,null,null,null,null,"",null,"年月日\t\t0\t\t\t",0]
[114,null,null,null,null,null,null,null,null,null,null,null,null,null,null,null,null,null,null,null,null,null,null,null,null,null,null,null,null,null,null,null,null,null,null,null,null,null,null,null,null,null,null,null,null,null,null,null,null,null,null,null,null,null,null,null,null,null,null,null,null,null,null,null,null,null,null,null,null,null,null,null,null,null,null,null,null,null,null,null,null,null,null,null,null,null,null,null,null,null,null,null,null,null,null,null,null,null,null,null,null,null,null,null,null,null,null,null,null,null,null,null,null,null,null,null,null,null,null,null,null,null,null,null,null,null,null,null,null,null,null,null,null,null,null,null,null,null,null,null,null,null,null,null,null,null,null,null,null,null,null,null,null,null,null,null,null,null,null,null,null,null,null,null,null,null,null,null,null,null,null,null,null,null,null,null,null,null,null,null,null,null,null,null,null,null,null,null,null,null,null,null,null,null,null,null,null,null,null,null,null,null,null,null,null,null,null,null,null,null,null,null,null,null,null,null,null,"",null,"年月日\t\t0\t\t\t",0]
[115,null,null,null,null,null,null,null,null,null,null,null,null,null,null,null,null,null,null,null,null,null,null,null,null,null,null,null,null,null,null,null,null,null,null,null,null,null,null,null,null,null,null,null,null,null,null,null,null,null,null,null,null,null,null,null,null,null,null,null,null,null,null,null,null,null,null,null,null,null,null,null,null,null,null,null,null,null,null,null,null,null,null,null,null,null,null,null,null,null,null,null,null,null,null,null,null,null,null,null,null,null,null,null,null,null,null,null,null,null,null,null,null,null,null,null,null,null,null,null,null,null,null,null,null,null,null,null,null,null,null,null,null,null,null,null,null,null,null,null,null,null,null,null,null,null,null,null,null,null,null,null,null,null,null,null,null,null,null,null,null,null,null,null,null,null,null,null,null,null,null,null,null,null,null,null,null,null,null,null,null,null,null,null,null,null,null,null,null,null,null,null,null,null,null,null,null,null,null,null,null,null,null,null,null,null,null,null,null,null,null,null,null,null,null,null,null,"",null,"年月日\t\t0\t\t\t",0]
[116,null,null,null,null,null,null,null,null,null,null,null,null,null,null,null,null,null,null,null,null,null,null,null,null,null,null,null,null,null,null,null,null,null,null,null,null,null,null,null,null,null,null,null,null,null,null,null,null,null,null,null,null,null,null,null,null,null,null,null,null,null,null,null,null,null,null,null,null,null,null,null,null,null,null,null,null,null,null,null,null,null,null,null,null,null,null,null,null,null,null,null,null,null,null,null,null,null,null,null,null,null,null,null,null,null,null,null,null,null,null,null,null,null,null,null,null,null,null,null,null,null,null,null,null,null,null,null,null,null,null,null,null,null,null,null,null,null,null,null,null,null,null,null,null,null,null,null,null,null,null,null,null,null,null,null,null,null,null,null,null,null,null,null,null,null,null,null,null,null,null,null,null,null,null,null,null,null,null,null,null,null,null,null,null,null,null,null,null,null,null,null,null,null,null,null,null,null,null,null,null,null,null,null,null,null,null,null,null,null,null,null,null,null,null,null,null,"",null,"年月日\t\t0\t\t\t",0]
[117,null,null,null,null,null,null,null,null,null,null,null,null,null,null,null,null,null,null,null,null,null,null,null,null,null,null,null,null,null,null,null,null,null,null,null,null,null,null,null,null,null,null,null,null,null,null,null,null,null,null,null,null,null,null,null,null,null,null,null,null,null,null,null,null,null,null,null,null,null,null,null,null,null,null,null,null,null,null,null,null,null,null,null,null,null,null,null,null,null,null,null,null,null,null,null,null,null,null,null,null,null,null,null,null,null,null,null,null,null,null,null,null,null,null,null,null,null,null,null,null,null,null,null,null,null,null,null,null,null,null,null,null,null,null,null,null,null,null,null,null,null,null,null,null,null,null,null,null,null,null,null,null,null,null,null,null,null,null,null,null,null,null,null,null,null,null,null,null,null,null,null,null,null,null,null,null,null,null,null,null,null,null,null,null,null,null,null,null,null,null,null,null,null,null,null,null,null,null,null,null,null,null,null,null,null,null,null,null,null,null,null,null,null,null,null,null,"",null,"年月日\t\t0\t\t\t",0]
[118,null,null,null,null,null,null,null,null,null,null,null,null,null,null,null,null,null,null,null,null,null,null,null,null,null,null,null,null,null,null,null,null,null,null,null,null,null,null,null,null,null,null,null,null,null,null,null,null,null,null,null,null,null,null,null,null,null,null,null,null,null,null,null,null,null,null,null,null,null,null,null,null,null,null,null,null,null,null,null,null,null,null,null,null,null,null,null,null,null,null,null,null,null,null,null,null,null,null,null,null,null,null,null,null,null,null,null,null,null,null,null,null,null,null,null,null,null,null,null,null,null,null,null,null,null,null,null,null,null,null,null,null,null,null,null,null,null,null,null,null,null,null,null,null,null,null,null,null,null,null,null,null,null,null,null,null,null,null,null,null,null,null,null,null,null,null,null,null,null,null,null,null,null,null,null,null,null,null,null,null,null,null,null,null,null,null,null,null,null,null,null,null,null,null,null,null,null,null,null,null,null,null,null,null,null,null,null,null,null,null,null,null,null,null,null,null,"",null,"年月日\t\t0\t\t\t",0]
[119,null,null,null,null,null,null,null,null,null,null,null,null,null,null,null,null,null,null,null,null,null,null,null,null,null,null,null,null,null,null,null,null,null,null,null,null,null,null,null,null,null,null,null,null,null,null,null,null,null,null,null,null,null,null,null,null,null,null,null,null,null,null,null,null,null,null,null,null,null,null,null,null,null,null,null,null,null,null,null,null,null,null,null,null,null,null,null,null,null,null,null,null,null,null,null,null,null,null,null,null,null,null,null,null,null,null,null,null,null,null,null,null,null,null,null,null,null,null,null,null,null,null,null,null,null,null,null,null,null,null,null,null,null,null,null,null,null,null,null,null,null,null,null,null,null,null,null,null,null,null,null,null,null,null,null,null,null,null,null,null,null,null,null,null,null,null,null,null,null,null,null,null,null,null,null,null,null,null,null,null,null,null,null,null,null,null,null,null,null,null,null,null,null,null,null,null,null,null,null,null,null,null,null,null,null,null,null,null,null,null,null,null,null,null,null,null,"",null,"年月日\t\t0\t\t\t",0]
[120,null,null,null,null,null,null,null,null,null,null,null,null,null,null,null,null,null,null,null,null,null,null,null,null,null,null,null,null,null,null,null,null,null,null,null,null,null,null,null,null,null,null,null,null,null,null,null,null,null,null,null,null,null,null,null,null,null,null,null,null,null,null,null,null,null,null,null,null,null,null,null,null,null,null,null,null,null,null,null,null,null,null,null,null,null,null,null,null,null,null,null,null,null,null,null,null,null,null,null,null,null,null,null,null,null,null,null,null,null,null,null,null,null,null,null,null,null,null,null,null,null,null,null,null,null,null,null,null,null,null,null,null,null,null,null,null,null,null,null,null,null,null,null,null,null,null,null,null,null,null,null,null,null,null,null,null,null,null,null,null,null,null,null,null,null,null,null,null,null,null,null,null,null,null,null,null,null,null,null,null,null,null,null,null,null,null,null,null,null,null,null,null,null,null,null,null,null,null,null,null,null,null,null,null,null,null,null,null,null,null,null,null,null,null,null,null,"",null,"年月日\t\t0\t\t\t",0]
[121,null,null,null,null,null,null,null,null,null,null,null,null,null,null,null,null,null,null,null,null,null,null,null,null,null,null,null,null,null,null,null,null,null,null,null,null,null,null,null,null,null,null,null,null,null,null,null,null,null,null,null,null,null,null,null,null,null,null,null,null,null,null,null,null,null,null,null,null,null,null,null,null,null,null,null,null,null,null,null,null,null,null,null,null,null,null,null,null,null,null,null,null,null,null,null,null,null,null,null,null,null,null,null,null,null,null,null,null,null,null,null,null,null,null,null,null,null,null,null,null,null,null,null,null,null,null,null,null,null,null,null,null,null,null,null,null,null,null,null,null,null,null,null,null,null,null,null,null,null,null,null,null,null,null,null,null,null,null,null,null,null,null,null,null,null,null,null,null,null,null,null,null,null,null,null,null,null,null,null,null,null,null,null,null,null,null,null,null,null,null,null,null,null,null,null,null,null,null,null,null,null,null,null,null,null,null,null,null,null,null,null,null,null,null,null,null,"",null,"年月日\t\t0\t\t\t",0]
[122,null,null,null,null,null,null,null,null,null,null,null,null,null,null,null,null,null,null,null,null,null,null,null,null,null,null,null,null,null,null,null,null,null,null,null,null,null,null,null,null,null,null,null,null,null,null,null,null,null,null,null,null,null,null,null,null,null,null,null,null,null,null,null,null,null,null,null,null,null,null,null,null,null,null,null,null,null,null,null,null,null,null,null,null,null,null,null,null,null,null,null,null,null,null,null,null,null,null,null,null,null,null,null,null,null,null,null,null,null,null,null,null,null,null,null,null,null,null,null,null,null,null,null,null,null,null,null,null,null,null,null,null,null,null,null,null,null,null,null,null,null,null,null,null,null,null,null,null,null,null,null,null,null,null,null,null,null,null,null,null,null,null,null,null,null,null,null,null,null,null,null,null,null,null,null,null,null,null,null,null,null,null,null,null,null,null,null,null,null,null,null,null,null,null,null,null,null,null,null,null,null,null,null,null,null,null,null,null,null,null,null,null,null,null,null,null,"",null,"年月日\t\t0\t\t\t",0]
[123,null,null,null,null,null,null,null,null,null,null,null,null,null,null,null,null,null,null,null,null,null,null,null,null,null,null,null,null,null,null,null,null,null,null,null,null,null,null,null,null,null,null,null,null,null,null,null,null,null,null,null,null,null,null,null,null,null,null,null,null,null,null,null,null,null,null,null,null,null,null,null,null,null,null,null,null,null,null,null,null,null,null,null,null,null,null,null,null,null,null,null,null,null,null,null,null,null,null,null,null,null,null,null,null,null,null,null,null,null,null,null,null,null,null,null,null,null,null,null,null,null,null,null,null,null,null,null,null,null,null,null,null,null,null,null,null,null,null,null,null,null,null,null,null,null,null,null,null,null,null,null,null,null,null,null,null,null,null,null,null,null,null,null,null,null,null,null,null,null,null,null,null,null,null,null,null,null,null,null,null,null,null,null,null,null,null,null,null,null,null,null,null,null,null,null,null,null,null,null,null,null,null,null,null,null,null,null,null,null,null,null,null,null,null,null,null,"",null,"年月日\t\t0\t\t\t",0]
[128,null,null,null,null,null,null,null,null,null,null,null,null,null,null,null,null,null,null,null,null,null,null,null,null,null,null,null,null,null,null,null,null,null,null,null,null,null,null,null,null,null,null,null,null,null,null,null,null,null,null,null,null,null,null,null,null,null,null,null,null,null,null,null,null,null,null,null,null,null,null,null,null,null,null,null,null,null,null,null,null,null,null,null,null,null,null,null,null,null,null,null,null,null,null,null,null,null,null,null,null,null,null,null,null,null,null,null,null,null,null,null,null,null,null,null,null,null,null,null,null,null,null,null,null,null,null,null,null,null,null,null,null,null,null,null,null,null,null,null,null,null,null,null,null,null,null,null,null,null,null,null,null,null,null,null,null,null,null,null,null,null,null,null,null,null,null,null,null,null,null,null,null,null,null,null,null,null,null,null,null,null,null,null,null,null,null,null,null,null,null,null,null,null,null,null,null,null,null,null,null,null,null,null,null,null,null,null,null,null,null,null,null,null,null,null,null,"",null,"年月日\t\t0\t\t\t",0]
[133,null,null,null,null,null,null,null,null,null,null,null,null,null,null,null,null,null,null,null,null,null,null,null,null,null,null,null,null,null,null,null,null,null,null,null,null,null,null,null,null,null,null,null,null,null,null,null,null,null,null,null,null,null,null,null,null,null,null,null,null,null,null,null,null,null,null,null,null,null,null,null,null,null,null,null,null,null,null,null,null,null,null,null,null,null,null,null,null,null,null,null,null,null,null,null,null,null,null,null,null,null,null,null,null,null,null,null,null,null,null,null,null,null,null,null,null,null,null,null,null,null,null,null,null,null,null,null,null,null,null,null,null,null,null,null,null,null,null,null,null,null,null,null,null,null,null,null,null,null,null,null,null,null,null,null,null,null,null,null,null,null,null,null,null,null,null,null,null,null,null,null,null,null,null,null,null,null,null,null,null,null,null,null,null,null,null,null,null,null,null,null,null,null,null,null,null,null,null,null,null,null,null,null,null,null,null,null,null,null,null,null,null,null,null,null,null,"",null,"年月日\t\t0\t\t\t",0]
[142,null,null,null,null,null,null,null,null,null,null,null,null,null,null,null,null,null,null,null,null,null,null,null,null,null,null,null,null,null,null,null,null,null,null,null,null,null,null,null,null,null,null,null,null,null,null,null,null,null,null,null,null,null,null,null,null,null,null,null,null,null,null,null,null,null,null,null,null,null,null,null,null,null,null,null,null,null,null,null,null,null,null,null,null,null,null,null,null,null,null,null,null,null,null,null,null,null,null,null,null,null,null,null,null,null,null,null,null,null,null,null,null,null,null,null,null,null,null,null,null,null,null,null,null,null,null,null,null,null,null,null,null,null,null,null,null,null,null,null,null,null,null,null,null,null,null,null,null,null,null,null,null,null,null,null,null,null,null,null,null,null,null,null,null,null,null,null,null,null,null,null,null,null,null,null,null,null,null,null,null,null,null,null,null,null,null,null,null,null,null,null,null,null,null,null,null,null,null,null,null,null,null,null,null,null,null,null,null,null,null,null,null,null,null,null,null,"",null,"年月日\t\t0\t\t\t",0]
[151,null,null,null,null,null,null,null,null,null,null,null,null,null,null,null,null,null,null,null,null,null,null,null,null,null,null,null,null,null,null,null,null,null,null,null,null,null,null,null,null,null,null,null,null,null,null,null,null,null,null,null,null,null,null,null,null,null,null,null,null,null,null,null,null,null,null,null,null,null,null,null,null,null,null,null,null,null,null,null,null,null,null,null,null,null,null,null,null,null,null,null,null,null,null,null,null,null,null,null,null,null,null,null,null,null,null,null,null,null,null,null,null,null,null,null,null,null,null,null,null,null,null,null,null,null,null,null,null,null,null,null,null,null,null,null,null,null,null,null,null,null,null,null,null,null,null,null,null,null,null,null,null,null,null,null,null,null,null,null,null,null,null,null,null,null,null,null,null,null,null,null,null,null,null,null,null,null,null,null,null,null,null,null,null,null,null,null,null,null,null,null,null,null,null,null,null,null,null,null,null,null,null,null,null,null,null,null,null,null,null,null,null,null,null,null,null,"",null,"年月日\t\t0\t\t\t",0]
[160,null,null,null,null,null,null,null,null,null,null,null,null,null,null,null,null,null,null,null,null,null,null,null,null,null,null,null,null,null,null,null,null,null,null,null,null,null,null,null,null,null,null,null,null,null,null,null,null,null,null,null,null,null,null,null,null,null,null,null,null,null,null,null,null,null,null,null,null,null,null,null,null,null,null,null,null,null,null,null,null,null,null,null,null,null,null,null,null,null,null,null,null,null,null,null,null,null,null,null,null,null,null,null,null,null,null,null,null,null,null,null,null,null,null,null,null,null,null,null,null,null,null,null,null,null,null,null,null,null,null,null,null,null,null,null,null,null,null,null,null,null,null,null,null,null,null,null,null,null,null,null,null,null,null,null,null,null,null,null,null,null,null,null,null,null,null,null,null,null,null,null,null,null,null,null,null,null,null,null,null,null,null,null,null,null,null,null,null,null,null,null,null,null,null,null,null,null,null,null,null,null,null,null,null,null,null,null,null,null,null,null,null,null,null,null,null,"",null,"年月日\t\t0\t\t\t",0]
[166,null,null,null,null,null,null,null,null,null,null,null,null,null,null,null,null,null,null,null,null,null,null,null,null,null,null,null,null,null,null,null,null,null,null,null,null,null,null,null,null,null,null,null,null,null,null,null,null,null,null,null,null,null,null,null,null,null,null,null,null,null,null,null,null,null,null,null,null,null,null,null,null,null,null,null,null,null,null,null,null,null,null,null,null,null,null,null,null,null,null,null,null,null,null,null,null,null,null,null,null,null,null,null,null,null,null,null,null,null,null,null,null,null,null,null,null,null,null,null,null,null,null,null,null,null,null,null,null,null,null,null,null,null,null,null,null,null,null,null,null,null,null,null,null,null,null,null,null,null,null,null,null,null,null,null,null,null,null,null,null,null,null,null,null,null,null,null,null,null,null,null,null,null,null,null,null,null,null,null,null,null,null,null,null,null,null,null,null,null,null,null,null,null,null,null,null,null,null,null,null,null,null,null,null,null,null,null,null,null,null,null,null,null,null,null,null,"",null,"年月日\t\t0\t\t\t",0]
[177,null,null,null,null,null,null,null,null,null,null,null,null,null,null,null,null,null,null,null,null,null,null,null,null,null,null,null,null,null,null,null,null,null,null,null,null,null,null,null,null,null,null,null,null,null,null,null,null,null,null,null,null,null,null,null,null,null,null,null,null,null,null,null,null,null,null,null,null,null,null,null,null,null,null,null,null,null,null,null,null,null,null,null,null,null,null,null,null,null,null,null,null,null,null,null,null,null,null,null,null,null,null,null,null,null,null,null,null,null,null,null,null,null,null,null,null,null,null,null,null,null,null,null,null,null,null,null,null,null,null,null,null,null,null,null,null,null,null,null,null,null,null,null,null,null,null,null,null,null,null,null,null,null,null,null,null,null,null,null,null,null,null,null,null,null,null,null,null,null,null,null,null,null,null,null,null,null,null,null,null,null,null,null,null,null,null,null,null,null,null,null,null,null,null,null,null,null,null,null,null,null,null,null,null,null,null,null,null,null,null,null,null,null,null,null,null,"",null,"年月日\t\t0\t\t\t",0]
[178,null,null,null,null,null,null,null,null,null,null,null,null,null,null,null,null,null,null,null,null,null,null,null,null,null,null,null,null,null,null,null,null,null,null,null,null,null,null,null,null,null,null,null,null,null,null,null,null,null,null,null,null,null,null,null,null,null,null,null,null,null,null,null,null,null,null,null,null,null,null,null,null,null,null,null,null,null,null,null,null,null,null,null,null,null,null,null,null,null,null,null,null,null,null,null,null,null,null,null,null,null,null,null,null,null,null,null,null,null,null,null,null,null,null,null,null,null,null,null,null,null,null,null,null,null,null,null,null,null,null,null,null,null,null,null,null,null,null,null,null,null,null,null,null,null,null,null,null,null,null,null,null,null,null,null,null,null,null,null,null,null,null,null,null,null,null,null,null,null,null,null,null,null,null,null,null,null,null,null,null,null,null,null,null,null,null,null,null,null,null,null,null,null,null,null,null,null,null,null,null,null,null,null,null,null,null,null,null,null,null,null,null,null,null,null,null,"",null,"年月日\t\t0\t\t\t",0]
[187,null,null,null,null,null,null,null,null,null,null,null,null,null,null,null,null,null,null,null,null,null,null,null,null,null,null,null,null,null,null,null,null,null,null,null,null,null,null,null,null,null,null,null,null,null,null,null,null,null,null,null,null,null,null,null,null,null,null,null,null,null,null,null,null,null,null,null,null,null,null,null,null,null,null,null,null,null,null,null,null,null,null,null,null,null,null,null,null,null,null,null,null,null,null,null,null,null,null,null,null,null,null,null,null,null,null,null,null,null,null,null,null,null,null,null,null,null,null,null,null,null,null,null,null,null,null,null,null,null,null,null,null,null,null,null,null,null,null,null,null,null,null,null,null,null,null,null,null,null,null,null,null,null,null,null,null,null,null,null,null,null,null,null,null,null,null,null,null,null,null,null,null,null,null,null,null,null,null,null,null,null,null,null,null,null,null,null,null,null,null,null,null,null,null,null,null,null,null,null,null,null,null,null,null,null,null,null,null,null,null,null,null,null,null,null,null,"",null,"年月日\t\t0\t\t\t",0]
[196,null,null,null,null,null,null,null,null,null,null,null,null,null,null,null,null,null,null,null,null,null,null,null,null,null,null,null,null,null,null,null,null,null,null,null,null,null,null,null,null,null,null,null,null,null,null,null,null,null,null,null,null,null,null,null,null,null,null,null,null,null,null,null,null,null,null,null,null,null,null,null,null,null,null,null,null,null,null,null,null,null,null,null,null,null,null,null,null,null,null,null,null,null,null,null,null,null,null,null,null,null,null,null,null,null,null,null,null,null,null,null,null,null,null,null,null,null,null,null,null,null,null,null,null,null,null,null,null,null,null,null,null,null,null,null,null,null,null,null,null,null,null,null,null,null,null,null,null,null,null,null,null,null,null,null,null,null,null,null,null,null,null,null,null,null,null,null,null,null,null,null,null,null,null,null,null,null,null,null,null,null,null,null,null,null,null,null,null,null,null,null,null,null,null,null,null,null,null,null,null,null,null,null,null,null,null,null,null,null,null,null,null,null,null,null,null,"",null,"年月日\t\t0\t\t\t",0]
[204,null,null,null,null,null,null,null,null,null,null,null,null,null,null,null,null,null,null,null,null,null,null,null,null,null,null,null,null,null,null,null,null,null,null,null,null,null,null,null,null,null,null,null,null,null,null,null,null,null,null,null,null,null,null,null,null,null,null,null,null,null,null,null,null,null,null,null,null,null,null,null,null,null,null,null,null,null,null,null,null,null,null,null,null,null,null,null,null,null,null,null,null,null,null,null,null,null,null,null,null,null,null,null,null,null,null,null,null,null,null,null,null,null,null,null,null,null,null,null,null,null,null,null,null,null,null,null,null,null,null,null,null,null,null,null,null,null,null,null,null,null,null,null,null,null,null,null,null,null,null,null,null,null,null,null,null,null,null,null,null,null,null,null,null,null,null,null,null,null,null,null,null,null,null,null,null,null,null,null,null,null,null,null,null,null,null,null,null,null,null,null,null,null,null,null,null,null,null,null,null,null,null,null,null,null,null,null,null,null,null,null,null,null,null,null,null,"",null,"年月日\t\t0\t\t\t",0]
[213,null,null,null,null,null,null,null,null,null,null,null,null,null,null,null,null,null,null,null,null,null,null,null,null,null,null,null,null,null,null,null,null,null,null,null,null,null,null,null,null,null,null,null,null,null,null,null,null,null,null,null,null,null,null,null,null,null,null,null,null,null,null,null,null,null,null,null,null,null,null,null,null,null,null,null,null,null,null,null,null,null,null,null,null,null,null,null,null,null,null,null,null,null,null,null,null,null,null,null,null,null,null,null,null,null,null,null,null,null,null,null,null,null,null,null,null,null,null,null,null,null,null,null,null,null,null,null,null,null,null,null,null,null,null,null,null,null,null,null,null,null,null,null,null,null,null,null,null,null,null,null,null,null,null,null,null,null,null,null,null,null,null,null,null,null,null,null,null,null,null,null,null,null,null,null,null,null,null,null,null,null,null,null,null,null,null,null,null,null,null,null,null,null,null,null,null,null,null,null,null,null,null,null,null,null,null,null,null,null,null,null,null,null,null,null,null,"",null,"年月日\t\t0\t\t\t",0]
[222,null,null,null,null,null,null,null,null,null,null,null,null,null,null,null,null,null,null,null,null,null,null,null,null,null,null,null,null,null,null,null,null,null,null,null,null,null,null,null,null,null,null,null,null,null,null,null,null,null,null,null,null,null,null,null,null,null,null,null,null,null,null,null,null,null,null,null,null,null,null,null,null,null,null,null,null,null,null,null,null,null,null,null,null,null,null,null,null,null,null,null,null,null,null,null,null,null,null,null,null,null,null,null,null,null,null,null,null,null,null,null,null,null,null,null,null,null,null,null,null,null,null,null,null,null,null,null,null,null,null,null,null,null,null,null,null,null,null,null,null,null,null,null,null,null,null,null,null,null,null,null,null,null,null,null,null,null,null,null,null,null,null,null,null,null,null,null,null,null,null,null,null,null,null,null,null,null,null,null,null,null,null,null,null,null,null,null,null,null,null,null,null,null,null,null,null,null,null,null,null,null,null,null,null,null,null,null,null,null,null,null,null,null,null,null,null,"",null,"年月日\t\t0\t\t\t",0]
[231,null,null,null,null,null,null,null,null,null,null,null,null,null,null,null,null,null,null,null,null,null,null,null,null,null,null,null,null,null,null,null,null,null,null,null,null,null,null,null,null,null,null,null,null,null,null,null,null,null,null,null,null,null,null,null,null,null,null,null,null,null,null,null,null,null,null,null,null,null,null,null,null,null,null,null,null,null,null,null,null,null,null,null,null,null,null,null,null,null,null,null,null,null,null,null,null,null,null,null,null,null,null,null,null,null,null,null,null,null,null,null,null,null,null,null,null,null,null,null,null,null,null,null,null,null,null,null,null,null,null,null,null,null,null,null,null,null,null,null,null,null,null,null,null,null,null,null,null,null,null,null,null,null,null,null,null,null,null,null,null,null,null,null,null,null,null,null,null,null,null,null,null,null,null,null,null,null,null,null,null,null,null,null,null,null,null,null,null,null,null,null,null,null,null,null,null,null,null,null,null,null,null,null,null,null,null,null,null,null,null,null,null,null,null,null,null,"",null,"年月日\t\t0\t\t\t",0]
[240,null,null,null,null,null,null,null,null,null,null,null,null,null,null,null,null,null,null,null,null,null,null,null,null,null,null,null,null,null,null,null,null,null,null,null,null,null,null,null,null,null,null,null,null,null,null,null,null,null,null,null,null,null,null,null,null,null,null,null,null,null,null,null,null,null,null,null,null,null,null,null,null,null,null,null,null,null,null,null,null,null,null,null,null,null,null,null,null,null,null,null,null,null,null,null,null,null,null,null,null,null,null,null,null,null,null,null,null,null,null,null,null,null,null,null,null,null,null,null,null,null,null,null,null,null,null,null,null,null,null,null,null,null,null,null,null,null,null,null,null,null,null,null,null,null,null,null,null,null,null,null,null,null,null,null,null,null,null,null,null,null,null,null,null,null,null,null,null,null,null,null,null,null,null,null,null,null,null,null,null,null,null,null,null,null,null,null,null,null,null,null,null,null,null,null,null,null,null,null,null,null,null,null,null,null,null,null,null,null,null,null,null,null,null,null,null,"",null,"年月日\t\t0\t\t\t",0]
[242,null,null,null,null,null,null,null,null,null,null,null,null,null,null,null,null,null,null,null,null,null,null,null,null,null,null,null,null,null,null,null,null,null,null,null,null,null,null,null,null,null,null,null,null,null,null,null,null,null,null,null,null,null,null,null,null,null,null,null,null,null,null,null,null,null,null,null,null,null,null,null,null,null,null,null,null,null,null,null,null,null,null,null,null,null,null,null,null,null,null,null,null,null,null,null,null,null,null,null,null,null,null,null,null,null,null,null,null,null,null,null,null,null,null,null,null,null,null,null,null,null,null,null,null,null,null,null,null,null,null,null,null,null,null,null,null,null,null,null,null,null,null,null,null,null,null,null,null,null,null,null,null,null,null,null,null,null,null,null,null,null,null,null,null,null,null,null,null,null,null,null,null,null,null,null,null,null,null,null,null,null,null,null,null,null,null,null,null,null,null,null,null,null,null,null,null,null,null,null,null,null,null,null,null,null,null,null,null,null,null,null,null,null,null,null,null,"",null,"年月日\t\t0\t\t\t",0]
[249,null,null,null,null,null,null,null,null,null,null,null,null,null,null,null,null,null,null,null,null,null,null,null,null,null,null,null,null,null,null,null,null,null,null,null,null,null,null,null,null,null,null,null,null,null,null,null,null,null,null,null,null,null,null,null,null,null,null,null,null,null,null,null,null,null,null,null,null,null,null,null,null,null,null,null,null,null,null,null,null,null,null,null,null,null,null,null,null,null,null,null,null,null,null,null,null,null,null,null,null,null,null,null,null,null,null,null,null,null,null,null,null,null,null,null,null,null,null,null,null,null,null,null,null,null,null,null,null,null,null,null,null,null,null,null,null,null,null,null,null,null,null,null,null,null,null,null,null,null,null,null,null,null,null,null,null,null,null,null,null,null,null,null,null,null,null,null,null,null,null,null,null,null,null,null,null,null,null,null,null,null,null,null,null,null,null,null,null,null,null,null,null,null,null,null,null,null,null,null,null,null,null,null,null,null,null,null,null,null,null,null,null,null,null,null,null,"",null,"年月日\t\t0\t\t\t",0]
[258,null,null,null,null,null,null,null,null,null,null,null,null,null,null,null,null,null,null,null,null,null,null,null,null,null,null,null,null,null,null,null,null,null,null,null,null,null,null,null,null,null,null,null,null,null,null,null,null,null,null,null,null,null,null,null,null,null,null,null,null,null,null,null,null,null,null,null,null,null,null,null,null,null,null,null,null,null,null,null,null,null,null,null,null,null,null,null,null,null,null,null,null,null,null,null,null,null,null,null,null,null,null,null,null,null,null,null,null,null,null,null,null,null,null,null,null,null,null,null,null,null,null,null,null,null,null,null,null,null,null,null,null,null,null,null,null,null,null,null,null,null,null,null,null,null,null,null,null,null,null,null,null,null,null,null,null,null,null,null,null,null,null,null,null,null,null,null,null,null,null,null,null,null,null,null,null,null,null,null,null,null,null,null,null,null,null,null,null,null,null,null,null,null,null,null,null,null,null,null,null,null,null,null,null,null,null,null,null,null,null,null,null,null,null,null,null,"",null,"年月日\t\t0\t\t\t",0]
[267,null,null,null,null,null,null,null,null,null,null,null,null,null,null,null,null,null,null,null,null,null,null,null,null,null,null,null,null,null,null,null,null,null,null,null,null,null,null,null,null,null,null,null,null,null,null,null,null,null,null,null,null,null,null,null,null,null,null,null,null,null,null,null,null,null,null,null,null,null,null,null,null,null,null,null,null,null,null,null,null,null,null,null,null,null,null,null,null,null,null,null,null,null,null,null,null,null,null,null,null,null,null,null,null,null,null,null,null,null,null,null,null,null,null,null,null,null,null,null,null,null,null,null,null,null,null,null,null,null,null,null,null,null,null,null,null,null,null,null,null,null,null,null,null,null,null,null,null,null,null,null,null,null,null,null,null,null,null,null,null,null,null,null,null,null,null,null,null,null,null,null,null,null,null,null,null,null,null,null,null,null,null,null,null,null,null,null,null,null,null,null,null,null,null,null,null,null,null,null,null,null,null,null,null,null,null,null,null,null,null,null,null,null,null,null,null,"",null,"年月日\t\t0\t\t\t",0]
[276,null,null,null,null,null,null,null,null,null,null,null,null,null,null,null,null,null,null,null,null,null,null,null,null,null,null,null,null,null,null,null,null,null,null,null,null,null,null,null,null,null,null,null,null,null,null,null,null,null,null,null,null,null,null,null,null,null,null,null,null,null,null,null,null,null,null,null,null,null,null,null,null,null,null,null,null,null,null,null,null,null,null,null,null,null,null,null,null,null,null,null,null,null,null,null,null,null,null,null,null,null,null,null,null,null,null,null,null,null,null,null,null,null,null,null,null,null,null,null,null,null,null,null,null,null,null,null,null,null,null,null,null,null,null,null,null,null,null,null,null,null,null,null,null,null,null,null,null,null,null,null,null,null,null,null,null,null,null,null,null,null,null,null,null,null,null,null,null,null,null,null,null,null,null,null,null,null,null,null,null,null,null,null,null,null,null,null,null,null,null,null,null,null,null,null,null,null,null,null,null,null,null,null,null,null,null,null,null,null,null,null,null,null,null,null,null,"",null,"年月日\t\t0\t\t\t",0]
[280,null,null,null,null,null,null,null,null,null,null,null,null,null,null,null,null,null,null,null,null,null,null,null,null,null,null,null,null,null,null,null,null,null,null,null,null,null,null,null,null,null,null,null,null,null,null,null,null,null,null,null,null,null,null,null,null,null,null,null,null,null,null,null,null,null,null,null,null,null,null,null,null,null,null,null,null,null,null,null,null,null,null,null,null,null,null,null,null,null,null,null,null,null,null,null,null,null,null,null,null,null,null,null,null,null,null,null,null,null,null,null,null,null,null,null,null,null,null,null,null,null,null,null,null,null,null,null,null,null,null,null,null,null,null,null,null,null,null,null,null,null,null,null,null,null,null,null,null,null,null,null,null,null,null,null,null,null,null,null,null,null,null,null,null,null,null,null,null,null,null,null,null,null,null,null,null,null,null,null,null,null,null,null,null,null,null,null,null,null,null,null,null,null,null,null,null,null,null,null,null,null,null,null,null,null,null,null,null,null,null,null,null,null,null,null,null,"",null,"年月日\t\t0\t\t\t",0]
[293,null,null,null,null,null,null,null,null,null,null,null,null,null,null,null,null,null,null,null,null,null,null,null,null,null,null,null,null,null,null,null,null,null,null,null,null,null,null,null,null,null,null,null,null,null,null,null,null,null,null,null,null,null,null,null,null,null,null,null,null,null,null,null,null,null,null,null,null,null,null,null,null,null,null,null,null,null,null,null,null,null,null,null,null,null,null,null,null,null,null,null,null,null,null,null,null,null,null,null,null,null,null,null,null,null,null,null,null,null,null,null,null,null,null,null,null,null,null,null,null,null,null,null,null,null,null,null,null,null,null,null,null,null,null,null,null,null,null,null,null,null,null,null,null,null,null,null,null,null,null,null,null,null,null,null,null,null,null,null,null,null,null,null,null,null,null,null,null,null,null,null,null,null,null,null,null,null,null,null,null,null,null,null,null,null,null,null,null,null,null,null,null,null,null,null,null,null,null,null,null,null,null,null,null,null,null,null,null,null,null,null,null,null,null,null,null,"",null,"年月日\t\t0\t\t\t",0]
[302,null,null,null,null,null,null,null,null,null,null,null,null,null,null,null,null,null,null,null,null,null,null,null,null,null,null,null,null,null,null,null,null,null,null,null,null,null,null,null,null,null,null,null,null,null,null,null,null,null,null,null,null,null,null,null,null,null,null,null,null,null,null,null,null,null,null,null,null,null,null,null,null,null,null,null,null,null,null,null,null,null,null,null,null,null,null,null,null,null,null,null,null,null,null,null,null,null,null,null,null,null,null,null,null,null,null,null,null,null,null,null,null,null,null,null,null,null,null,null,null,null,null,null,null,null,null,null,null,null,null,null,null,null,null,null,null,null,null,null,null,null,null,null,null,null,null,null,null,null,null,null,null,null,null,null,null,null,null,null,null,null,null,null,null,null,null,null,null,null,null,null,null,null,null,null,null,null,null,null,null,null,null,null,null,null,null,null,null,null,null,null,null,null,null,null,null,null,null,null,null,null,null,null,null,null,null,null,null,null,null,null,null,null,null,null,null,"",null,"年月日\t\t0\t\t\t",0]
[303,null,null,null,null,null,null,null,null,null,null,null,null,null,null,null,null,null,null,null,null,null,null,null,null,null,null,null,null,null,null,null,null,null,null,null,null,null,null,null,null,null,null,null,null,null,null,null,null,null,null,null,null,null,null,null,null,null,null,null,null,null,null,null,null,null,null,null,null,null,null,null,null,null,null,null,null,null,null,null,null,null,null,null,null,null,null,null,null,null,null,null,null,null,null,null,null,null,null,null,null,null,null,null,null,null,null,null,null,null,null,null,null,null,null,null,null,null,null,null,null,null,null,null,null,null,null,null,null,null,null,null,null,null,null,null,null,null,null,null,null,null,null,null,null,null,null,null,null,null,null,null,null,null,null,null,null,null,null,null,null,null,null,null,null,null,null,null,null,null,null,null,null,null,null,null,null,null,null,null,null,null,null,null,null,null,null,null,null,null,null,null,null,null,null,null,null,null,null,null,null,null,null,null,null,null,null,null,null,null,null,null,null,null,null,null,null,"",null,"年月日\t\t0\t\t\t",0]
[312,null,null,null,null,null,null,null,null,null,null,null,null,null,null,null,null,null,null,null,null,null,null,null,null,null,null,null,null,null,null,null,null,null,null,null,null,null,null,null,null,null,null,null,null,null,null,null,null,null,null,null,null,null,null,null,null,null,null,null,null,null,null,null,null,null,null,null,null,null,null,null,null,null,null,null,null,null,null,null,null,null,null,null,null,null,null,null,null,null,null,null,null,null,null,null,null,null,null,null,null,null,null,null,null,null,null,null,null,null,null,null,null,null,null,null,null,null,null,null,null,null,null,null,null,null,null,null,null,null,null,null,null,null,null,null,null,null,null,null,null,null,null,null,null,null,null,null,null,null,null,null,null,null,null,null,null,null,null,null,null,null,null,null,null,null,null,null,null,null,null,null,null,null,null,null,null,null,null,null,null,null,null,null,null,null,null,null,null,null,null,null,null,null,null,null,null,null,null,null,null,null,null,null,null,null,null,null,null,null,null,null,null,null,null,null,null,"",null,"年月日\t\t0\t\t\t",0]
[321,null,null,null,null,null,null,null,null,null,null,null,null,null,null,null,null,null,null,null,null,null,null,null,null,null,null,null,null,null,null,null,null,null,null,null,null,null,null,null,null,null,null,null,null,null,null,null,null,null,null,null,null,null,null,null,null,null,null,null,null,null,null,null,null,null,null,null,null,null,null,null,null,null,null,null,null,null,null,null,null,null,null,null,null,null,null,null,null,null,null,null,null,null,null,null,null,null,null,null,null,null,null,null,null,null,null,null,null,null,null,null,null,null,null,null,null,null,null,null,null,null,null,null,null,null,null,null,null,null,null,null,null,null,null,null,null,null,null,null,null,null,null,null,null,null,null,null,null,null,null,null,null,null,null,null,null,null,null,null,null,null,null,null,null,null,null,null,null,null,null,null,null,null,null,null,null,null,null,null,null,null,null,null,null,null,null,null,null,null,null,null,null,null,null,null,null,null,null,null,null,null,null,null,null,null,null,null,null,null,null,null,null,null,null,null,null,{"$f":"IF(HI323=\"\",\"\",IF(LENB(INDIRECT(\"n\"&HI323+2))<15,VLOOKUP(HI323,$A$3:$T$9999,5,FALSE)&CHAR(9)&INDIRECT(\"gs\"&HI323+2)&CHAR(9)&CHAR(9)&CHAR(9)&VLOOKUP(HI323,$A$3:$T$9999,20,FALSE),VLOOKUP(HI323,$A$3:$T$9999,5,FALSE)&CHAR(9)&INDIRECT(\"gs\"&HI323+2)&CHAR(9)&CHAR(9)&VLOOKUP(HI323,$A$3:$T$9999,20,FALSE)))","v":""},null,{"$f":"IF(LENB(N323)<15,F323&\"年\"&G323&\"月\"&H323&\"日\"&CHAR(9)&E323&CHAR(9)&HM323&CHAR(9)&CHAR(9)&CHAR(9)&T323,F323&\"年\"&G323&\"月\"&H323&\"日\"&CHAR(9)&E323&CHAR(9)&HM323&CHAR(9)&CHAR(9)&T323)","v":"年月日\t\t0\t\t\t"},{"$f":"IF(LENB(N323)<15,N323,LEFT(N323,9)&\"(略)\")","v":0}]
[327,null,null,null,null,null,null,null,null,null,null,null,null,null,null,null,null,null,null,null,null,null,null,null,null,null,null,null,null,null,null,null,null,null,null,null,null,null,null,null,null,null,null,null,null,null,null,null,null,null,null,null,null,null,null,null,null,null,null,null,null,null,null,null,null,null,null,null,null,null,null,null,null,null,null,null,null,null,null,null,null,null,null,null,null,null,null,null,null,null,null,null,null,null,null,null,null,null,null,null,null,null,null,null,null,null,null,null,null,null,null,null,null,null,null,null,null,null,null,null,null,null,null,null,null,null,null,null,null,null,null,null,null,null,null,null,null,null,null,null,null,null,null,null,null,null,null,null,null,null,null,null,null,null,null,null,null,null,null,null,null,null,null,null,null,null,null,null,null,null,null,null,null,null,null,null,null,null,null,null,null,null,null,null,null,null,null,null,null,null,null,null,null,null,null,null,null,null,null,null,null,null,null,null,null,null,null,null,null,null,null,null,null,null,null,null,null,"",null,"年月日\t\t0\t\t\t",0]
[338,null,null,null,null,null,null,null,null,null,null,null,null,null,null,null,null,null,null,null,null,null,null,null,null,null,null,null,null,null,null,null,null,null,null,null,null,null,null,null,null,null,null,null,null,null,null,null,null,null,null,null,null,null,null,null,null,null,null,null,null,null,null,null,null,null,null,null,null,null,null,null,null,null,null,null,null,null,null,null,null,null,null,null,null,null,null,null,null,null,null,null,null,null,null,null,null,null,null,null,null,null,null,null,null,null,null,null,null,null,null,null,null,null,null,null,null,null,null,null,null,null,null,null,null,null,null,null,null,null,null,null,null,null,null,null,null,null,null,null,null,null,null,null,null,null,null,null,null,null,null,null,null,null,null,null,null,null,null,null,null,null,null,null,null,null,null,null,null,null,null,null,null,null,null,null,null,null,null,null,null,null,null,null,null,null,null,null,null,null,null,null,null,null,null,null,null,null,null,null,null,null,null,null,null,null,null,null,null,null,null,null,null,null,null,null,null,"",null,"年月日\t\t0\t\t\t",0]
[347,null,null,null,null,null,null,null,null,null,null,null,null,null,null,null,null,null,null,null,null,null,null,null,null,null,null,null,null,null,null,null,null,null,null,null,null,null,null,null,null,null,null,null,null,null,null,null,null,null,null,null,null,null,null,null,null,null,null,null,null,null,null,null,null,null,null,null,null,null,null,null,null,null,null,null,null,null,null,null,null,null,null,null,null,null,null,null,null,null,null,null,null,null,null,null,null,null,null,null,null,null,null,null,null,null,null,null,null,null,null,null,null,null,null,null,null,null,null,null,null,null,null,null,null,null,null,null,null,null,null,null,null,null,null,null,null,null,null,null,null,null,null,null,null,null,null,null,null,null,null,null,null,null,null,null,null,null,null,null,null,null,null,null,null,null,null,null,null,null,null,null,null,null,null,null,null,null,null,null,null,null,null,null,null,null,null,null,null,null,null,null,null,null,null,null,null,null,null,null,null,null,null,null,null,null,null,null,null,null,null,null,null,null,null,null,null,"",null,"年月日\t\t0\t\t\t",0]
[356,null,null,null,null,null,null,null,null,null,null,null,null,null,null,null,null,null,null,null,null,null,null,null,null,null,null,null,null,null,null,null,null,null,null,null,null,null,null,null,null,null,null,null,null,null,null,null,null,null,null,null,null,null,null,null,null,null,null,null,null,null,null,null,null,null,null,null,null,null,null,null,null,null,null,null,null,null,null,null,null,null,null,null,null,null,null,null,null,null,null,null,null,null,null,null,null,null,null,null,null,null,null,null,null,null,null,null,null,null,null,null,null,null,null,null,null,null,null,null,null,null,null,null,null,null,null,null,null,null,null,null,null,null,null,null,null,null,null,null,null,null,null,null,null,null,null,null,null,null,null,null,null,null,null,null,null,null,null,null,null,null,null,null,null,null,null,null,null,null,null,null,null,null,null,null,null,null,null,null,null,null,null,null,null,null,null,null,null,null,null,null,null,null,null,null,null,null,null,null,null,null,null,null,null,null,null,null,null,null,null,null,null,null,null,null,null,{"$f":"IF(HI358=\"\",\"\",IF(LENB(INDIRECT(\"n\"&HI358+2))<15,VLOOKUP(HI358,$A$3:$T$9999,5,FALSE)&CHAR(9)&INDIRECT(\"gs\"&HI358+2)&CHAR(9)&CHAR(9)&CHAR(9)&VLOOKUP(HI358,$A$3:$T$9999,20,FALSE),VLOOKUP(HI358,$A$3:$T$9999,5,FALSE)&CHAR(9)&INDIRECT(\"gs\"&HI358+2)&CHAR(9)&CHAR(9)&VLOOKUP(HI358,$A$3:$T$9999,20,FALSE)))","v":""},null,"年月日\t\t0\t\t\t",0]
[365,null,null,null,null,null,null,null,null,null,null,null,null,null,null,null,null,null,null,null,null,null,null,null,null,null,null,null,null,null,null,null,null,null,null,null,null,null,null,null,null,null,null,null,null,null,null,null,null,null,null,null,null,null,null,null,null,null,null,null,null,null,null,null,null,null,null,null,null,null,null,null,null,null,null,null,null,null,null,null,null,null,null,null,null,null,null,null,null,null,null,null,null,null,null,null,null,null,null,null,null,null,null,null,null,null,null,null,null,null,null,null,null,null,null,null,null,null,null,null,null,null,null,null,null,null,null,null,null,null,null,null,null,null,null,null,null,null,null,null,null,null,null,null,null,null,null,null,null,null,null,null,null,null,null,null,null,null,null,null,null,null,null,null,null,null,null,null,null,null,null,null,null,null,null,null,null,null,null,null,null,null,null,null,null,null,null,null,null,null,null,null,null,null,null,null,null,null,null,null,null,null,null,null,null,null,null,null,null,null,null,null,null,null,null,null,null,"",null,"年月日\t\t0\t\t\t",0]
[372,null,null,null,null,null,null,null,null,null,null,null,null,null,null,null,null,null,null,null,null,null,null,null,null,null,null,null,null,null,null,null,null,null,null,null,null,null,null,null,null,null,null,null,null,null,null,null,null,null,null,null,null,null,null,null,null,null,null,null,null,null,null,null,null,null,null,null,null,null,null,null,null,null,null,null,null,null,null,null,null,null,null,null,null,null,null,null,null,null,null,null,null,null,null,null,null,null,null,null,null,null,null,null,null,null,null,null,null,null,null,null,null,null,null,null,null,null,null,null,null,null,null,null,null,null,null,null,null,null,null,null,null,null,null,null,null,null,null,null,null,null,null,null,null,null,null,null,null,null,null,null,null,null,null,null,null,null,null,null,null,null,null,null,null,null,null,null,null,null,null,null,null,null,null,null,null,null,null,null,null,null,null,null,null,null,null,null,null,null,null,null,null,null,null,null,null,null,null,null,null,null,null,null,null,null,null,null,null,null,null,null,null,null,null,null,null,"",null,"年月日\t\t0\t\t\t",0]
[374,null,null,null,null,null,null,null,null,null,null,null,null,null,null,null,null,null,null,null,null,null,null,null,null,null,null,null,null,null,null,null,null,null,null,null,null,null,null,null,null,null,null,null,null,null,null,null,null,null,null,null,null,null,null,null,null,null,null,null,null,null,null,null,null,null,null,null,null,null,null,null,null,null,null,null,null,null,null,null,null,null,null,null,null,null,null,null,null,null,null,null,null,null,null,null,null,null,null,null,null,null,null,null,null,null,null,null,null,null,null,null,null,null,null,null,null,null,null,null,null,null,null,null,null,null,null,null,null,null,null,null,null,null,null,null,null,null,null,null,null,null,null,null,null,null,null,null,null,null,null,null,null,null,null,null,null,null,null,null,null,null,null,null,null,null,null,null,null,null,null,null,null,null,null,null,null,null,null,null,null,null,null,null,null,null,null,null,null,null,null,null,null,null,null,null,null,null,null,null,null,null,null,null,null,null,null,null,null,null,null,null,null,null,null,null,null,"",null,"年月日\t\t0\t\t\t",0]
[383,null,null,null,null,null,null,null,null,null,null,null,null,null,null,null,null,null,null,null,null,null,null,null,null,null,null,null,null,null,null,null,null,null,null,null,null,null,null,null,null,null,null,null,null,null,null,null,null,null,null,null,null,null,null,null,null,null,null,null,null,null,null,null,null,null,null,null,null,null,null,null,null,null,null,null,null,null,null,null,null,null,null,null,null,null,null,null,null,null,null,null,null,null,null,null,null,null,null,null,null,null,null,null,null,null,null,null,null,null,null,null,null,null,null,null,null,null,null,null,null,null,null,null,null,null,null,null,null,null,null,null,null,null,null,null,null,null,null,null,null,null,null,null,null,null,null,null,null,null,null,null,null,null,null,null,null,null,null,null,null,null,null,null,null,null,null,null,null,null,null,null,null,null,null,null,null,null,null,null,null,null,null,null,null,null,null,null,null,null,null,null,null,null,null,null,null,null,null,null,null,null,null,null,null,null,null,null,null,null,null,null,null,null,null,null,null,"",null,"年月日\t\t0\t\t\t",0]
[392,null,null,null,null,null,null,null,null,null,null,null,null,null,null,null,null,null,null,null,null,null,null,null,null,null,null,null,null,null,null,null,null,null,null,null,null,null,null,null,null,null,null,null,null,null,null,null,null,null,null,null,null,null,null,null,null,null,null,null,null,null,null,null,null,null,null,null,null,null,null,null,null,null,null,null,null,null,null,null,null,null,null,null,null,null,null,null,null,null,null,null,null,null,null,null,null,null,null,null,null,null,null,null,null,null,null,null,null,null,null,null,null,null,null,null,null,null,null,null,null,null,null,null,null,null,null,null,null,null,null,null,null,null,null,null,null,null,null,null,null,null,null,null,null,null,null,null,null,null,null,null,null,null,null,null,null,null,null,null,null,null,null,null,null,null,null,null,null,null,null,null,null,null,null,null,null,null,null,null,null,null,null,null,null,null,null,null,null,null,null,null,null,null,null,null,null,null,null,null,null,null,null,null,null,null,null,null,null,null,null,null,null,null,null,null,null,"",null,"年月日\t\t0\t\t\t",0]
[401,null,null,null,null,null,null,null,null,null,null,null,null,null,null,null,null,null,null,null,null,null,null,null,null,null,null,null,null,null,null,null,null,null,null,null,null,null,null,null,null,null,null,null,null,null,null,null,null,null,null,null,null,null,null,null,null,null,null,null,null,null,null,null,null,null,null,null,null,null,null,null,null,null,null,null,null,null,null,null,null,null,null,null,null,null,null,null,null,null,null,null,null,null,null,null,null,null,null,null,null,null,null,null,null,null,null,null,null,null,null,null,null,null,null,null,null,null,null,null,null,null,null,null,null,null,null,null,null,null,null,null,null,null,null,null,null,null,null,null,null,null,null,null,null,null,null,null,null,null,null,null,null,null,null,null,null,null,null,null,null,null,null,null,null,null,null,null,null,null,null,null,null,null,null,null,null,null,null,null,null,null,null,null,null,null,null,null,null,null,null,null,null,null,null,null,null,null,null,null,null,null,null,null,null,null,null,null,null,null,null,null,null,null,null,null,null,"",null,"年月日\t\t0\t\t\t",0]
[410,null,null,null,null,null,null,null,null,null,null,null,null,null,null,null,null,null,null,null,null,null,null,null,null,null,null,null,null,null,null,null,null,null,null,null,null,null,null,null,null,null,null,null,null,null,null,null,null,null,null,null,null,null,null,null,null,null,null,null,null,null,null,null,null,null,null,null,null,null,null,null,null,null,null,null,null,null,null,null,null,null,null,null,null,null,null,null,null,null,null,null,null,null,null,null,null,null,null,null,null,null,null,null,null,null,null,null,null,null,null,null,null,null,null,null,null,null,null,null,null,null,null,null,null,null,null,null,null,null,null,null,null,null,null,null,null,null,null,null,null,null,null,null,null,null,null,null,null,null,null,null,null,null,null,null,null,null,null,null,null,null,null,null,null,null,null,null,null,null,null,null,null,null,null,null,null,null,null,null,null,null,null,null,null,null,null,null,null,null,null,null,null,null,null,null,null,null,null,null,null,null,null,null,null,null,null,null,null,null,null,null,null,null,null,null,null,"",null,"年月日\t\t0\t\t\t",0]
[418,null,null,null,null,null,null,null,null,null,null,null,null,null,null,null,null,null,null,null,null,null,null,null,null,null,null,null,null,null,null,null,null,null,null,null,null,null,null,null,null,null,null,null,null,null,null,null,null,null,null,null,null,null,null,null,null,null,null,null,null,null,null,null,null,null,null,null,null,null,null,null,null,null,null,null,null,null,null,null,null,null,null,null,null,null,null,null,null,null,null,null,null,null,null,null,null,null,null,null,null,null,null,null,null,null,null,null,null,null,null,null,null,null,null,null,null,null,null,null,null,null,null,null,null,null,null,null,null,null,null,null,null,null,null,null,null,null,null,null,null,null,null,null,null,null,null,null,null,null,null,null,null,null,null,null,null,null,null,null,null,null,null,null,null,null,null,null,null,null,null,null,null,null,null,null,null,null,null,null,null,null,null,null,null,null,null,null,null,null,null,null,null,null,null,null,null,null,null,null,null,null,null,null,null,null,null,null,null,null,null,null,null,null,null,null,null,"",null,"年月日\t\t0\t\t\t",0]
[427,null,null,null,null,null,null,null,null,null,null,null,null,null,null,null,null,null,null,null,null,null,null,null,null,null,null,null,null,null,null,null,null,null,null,null,null,null,null,null,null,null,null,null,null,null,null,null,null,null,null,null,null,null,null,null,null,null,null,null,null,null,null,null,null,null,null,null,null,null,null,null,null,null,null,null,null,null,null,null,null,null,null,null,null,null,null,null,null,null,null,null,null,null,null,null,null,null,null,null,null,null,null,null,null,null,null,null,null,null,null,null,null,null,null,null,null,null,null,null,null,null,null,null,null,null,null,null,null,null,null,null,null,null,null,null,null,null,null,null,null,null,null,null,null,null,null,null,null,null,null,null,null,null,null,null,null,null,null,null,null,null,null,null,null,null,null,null,null,null,null,null,null,null,null,null,null,null,null,null,null,null,null,null,null,null,null,null,null,null,null,null,null,null,null,null,null,null,null,null,null,null,null,null,null,null,null,null,null,null,null,null,null,null,null,null,null,"",null,"年月日\t\t0\t\t\t",0]
[428,null,null,null,null,null,null,null,null,null,null,null,null,null,null,null,null,null,null,null,null,null,null,null,null,null,null,null,null,null,null,null,null,null,null,null,null,null,null,null,null,null,null,null,null,null,null,null,null,null,null,null,null,null,null,null,null,null,null,null,null,null,null,null,null,null,null,null,null,null,null,null,null,null,null,null,null,null,null,null,null,null,null,null,null,null,null,null,null,null,null,null,null,null,null,null,null,null,null,null,null,null,null,null,null,null,null,null,null,null,null,null,null,null,null,null,null,null,null,null,null,null,null,null,null,null,null,null,null,null,null,null,null,null,null,null,null,null,null,null,null,null,null,null,null,null,null,null,null,null,null,null,null,null,null,null,null,null,null,null,null,null,null,null,null,null,null,null,null,null,null,null,null,null,null,null,null,null,null,null,null,null,null,null,null,null,null,null,null,null,null,null,null,null,null,null,null,null,null,null,null,null,null,null,null,null,null,null,null,null,null,null,null,null,null,null,null,"",null,"年月日\t\t0\t\t\t",0]
[437,null,null,null,null,null,null,null,null,null,null,null,null,null,null,null,null,null,null,null,null,null,null,null,null,null,null,null,null,null,null,null,null,null,null,null,null,null,null,null,null,null,null,null,null,null,null,null,null,null,null,null,null,null,null,null,null,null,null,null,null,null,null,null,null,null,null,null,null,null,null,null,null,null,null,null,null,null,null,null,null,null,null,null,null,null,null,null,null,null,null,null,null,null,null,null,null,null,null,null,null,null,null,null,null,null,null,null,null,null,null,null,null,null,null,null,null,null,null,null,null,null,null,null,null,null,null,null,null,null,null,null,null,null,null,null,null,null,null,null,null,null,null,null,null,null,null,null,null,null,null,null,null,null,null,null,null,null,null,null,null,null,null,null,null,null,null,null,null,null,null,null,null,null,null,null,null,null,null,null,null,null,null,null,null,null,null,null,null,null,null,null,null,null,null,null,null,null,null,null,null,null,null,null,null,null,null,null,null,null,null,null,null,null,null,null,null,"",null,"年月日\t\t0\t\t\t",0]
[448,null,null,null,null,null,null,null,null,null,null,null,null,null,null,null,null,null,null,null,null,null,null,null,null,null,null,null,null,null,null,null,null,null,null,null,null,null,null,null,null,null,null,null,null,null,null,null,null,null,null,null,null,null,null,null,null,null,null,null,null,null,null,null,null,null,null,null,null,null,null,null,null,null,null,null,null,null,null,null,null,null,null,null,null,null,null,null,null,null,null,null,null,null,null,null,null,null,null,null,null,null,null,null,null,null,null,null,null,null,null,null,null,null,null,null,null,null,null,null,null,null,null,null,null,null,null,null,null,null,null,null,null,null,null,null,null,null,null,null,null,null,null,null,null,null,null,null,null,null,null,null,null,null,null,null,null,null,null,null,null,null,null,null,null,null,null,null,null,null,null,null,null,null,null,null,null,null,null,null,null,null,null,null,null,null,null,null,null,null,null,null,null,null,null,null,null,null,null,null,null,null,null,null,null,null,null,null,null,null,null,null,null,null,null,null,null,"",null,"年月日\t\t0\t\t\t",0]
[454,null,null,null,null,null,null,null,null,null,null,null,null,null,null,null,null,null,null,null,null,null,null,null,null,null,null,null,null,null,null,null,null,null,null,null,null,null,null,null,null,null,null,null,null,null,null,null,null,null,null,null,null,null,null,null,null,null,null,null,null,null,null,null,null,null,null,null,null,null,null,null,null,null,null,null,null,null,null,null,null,null,null,null,null,null,null,null,null,null,null,null,null,null,null,null,null,null,null,null,null,null,null,null,null,null,null,null,null,null,null,null,null,null,null,null,null,null,null,null,null,null,null,null,null,null,null,null,null,null,null,null,null,null,null,null,null,null,null,null,null,null,null,null,null,null,null,null,null,null,null,null,null,null,null,null,null,null,null,null,null,null,null,null,null,null,null,null,null,null,null,null,null,null,null,null,null,null,null,null,null,null,null,null,null,null,null,null,null,null,null,null,null,null,null,null,null,null,null,null,null,null,null,null,null,null,null,null,null,null,null,null,null,null,null,null,null,"",null,"年月日\t\t0\t\t\t",0]
[463,null,null,null,null,null,null,null,null,null,null,null,null,null,null,null,null,null,null,null,null,null,null,null,null,null,null,null,null,null,null,null,null,null,null,null,null,null,null,null,null,null,null,null,null,null,null,null,null,null,null,null,null,null,null,null,null,null,null,null,null,null,null,null,null,null,null,null,null,null,null,null,null,null,null,null,null,null,null,null,null,null,null,null,null,null,null,null,null,null,null,null,null,null,null,null,null,null,null,null,null,null,null,null,null,null,null,null,null,null,null,null,null,null,null,null,null,null,null,null,null,null,null,null,null,null,null,null,null,null,null,null,null,null,null,null,null,null,null,null,null,null,null,null,null,null,null,null,null,null,null,null,null,null,null,null,null,null,null,null,null,null,null,null,null,null,null,null,null,null,null,null,null,null,null,null,null,null,null,null,null,null,null,null,null,null,null,null,null,null,null,null,null,null,null,null,null,null,null,null,null,null,null,null,null,null,null,null,null,null,null,null,null,null,null,null,null,"",null,"年月日\t\t0\t\t\t",0]
[472,null,null,null,null,null,null,null,null,null,null,null,null,null,null,null,null,null,null,null,null,null,null,null,null,null,null,null,null,null,null,null,null,null,null,null,null,null,null,null,null,null,null,null,null,null,null,null,null,null,null,null,null,null,null,null,null,null,null,null,null,null,null,null,null,null,null,null,null,null,null,null,null,null,null,null,null,null,null,null,null,null,null,null,null,null,null,null,null,null,null,null,null,null,null,null,null,null,null,null,null,null,null,null,null,null,null,null,null,null,null,null,null,null,null,null,null,null,null,null,null,null,null,null,null,null,null,null,null,null,null,null,null,null,null,null,null,null,null,null,null,null,null,null,null,null,null,null,null,null,null,null,null,null,null,null,null,null,null,null,null,null,null,null,null,null,null,null,null,null,null,null,null,null,null,null,null,null,null,null,null,null,null,null,null,null,null,null,null,null,null,null,null,null,null,null,null,null,null,null,null,null,null,null,null,null,null,null,null,null,null,null,null,null,null,null,null,"",null,"年月日\t\t0\t\t\t",0]
[481,null,null,null,null,null,null,null,null,null,null,null,null,null,null,null,null,null,null,null,null,null,null,null,null,null,null,null,null,null,null,null,null,null,null,null,null,null,null,null,null,null,null,null,null,null,null,null,null,null,null,null,null,null,null,null,null,null,null,null,null,null,null,null,null,null,null,null,null,null,null,null,null,null,null,null,null,null,null,null,null,null,null,null,null,null,null,null,null,null,null,null,null,null,null,null,null,null,null,null,null,null,null,null,null,null,null,null,null,null,null,null,null,null,null,null,null,null,null,null,null,null,null,null,null,null,null,null,null,null,null,null,null,null,null,null,null,null,null,null,null,null,null,null,null,null,null,null,null,null,null,null,null,null,null,null,null,null,null,null,null,null,null,null,null,null,null,null,null,null,null,null,null,null,null,null,null,null,null,null,null,null,null,null,null,null,null,null,null,null,null,null,null,null,null,null,null,null,null,null,null,null,null,null,null,null,null,null,null,null,null,null,null,null,null,null,null,"",null,"年月日\t\t0\t\t\t",0]
[486,null,null,null,null,null,null,null,null,null,null,null,null,null,null,null,null,null,null,null,null,null,null,null,null,null,null,null,null,null,null,null,null,null,null,null,null,null,null,null,null,null,null,null,null,null,null,null,null,null,null,null,null,null,null,null,null,null,null,null,null,null,null,null,null,null,null,null,null,null,null,null,null,null,null,null,null,null,null,null,null,null,null,null,null,null,null,null,null,null,null,null,null,null,null,null,null,null,null,null,null,null,null,null,null,null,null,null,null,null,null,null,null,null,null,null,null,null,null,null,null,null,null,null,null,null,null,null,null,null,null,null,null,null,null,null,null,null,null,null,null,null,null,null,null,null,null,null,null,null,null,null,null,null,null,null,null,null,null,null,null,null,null,null,null,null,null,null,null,null,null,null,null,null,null,null,null,null,null,null,null,null,null,null,null,null,null,null,null,null,null,null,null,null,null,null,null,null,null,null,null,null,null,null,null,null,null,null,null,null,null,null,null,null,null,null,null,"",null,"年月日\t\t0\t\t\t",0]
[490,null,null,null,null,null,null,null,null,null,null,null,null,null,null,null,null,null,null,null,null,null,null,null,null,null,null,null,null,null,null,null,null,null,null,null,null,null,null,null,null,null,null,null,null,null,null,null,null,null,null,null,null,null,null,null,null,null,null,null,null,null,null,null,null,null,null,null,null,null,null,null,null,null,null,null,null,null,null,null,null,null,null,null,null,null,null,null,null,null,null,null,null,null,null,null,null,null,null,null,null,null,null,null,null,null,null,null,null,null,null,null,null,null,null,null,null,null,null,null,null,null,null,null,null,null,null,null,null,null,null,null,null,null,null,null,null,null,null,null,null,null,null,null,null,null,null,null,null,null,null,null,null,null,null,null,null,null,null,null,null,null,null,null,null,null,null,null,null,null,null,null,null,null,null,null,null,null,null,null,null,null,null,null,null,null,null,null,null,null,null,null,null,null,null,null,null,null,null,null,null,null,null,null,null,null,null,null,null,null,null,null,null,null,null,null,null,"",null,"年月日\t\t0\t\t\t",0]
[499,null,null,null,null,null,null,null,null,null,null,null,null,null,null,null,null,null,null,null,null,null,null,null,null,null,null,null,null,null,null,null,null,null,null,null,null,null,null,null,null,null,null,null,null,null,null,null,null,null,null,null,null,null,null,null,null,null,null,null,null,null,null,null,null,null,null,null,null,null,null,null,null,null,null,null,null,null,null,null,null,null,null,null,null,null,null,null,null,null,null,null,null,null,null,null,null,null,null,null,null,null,null,null,null,null,null,null,null,null,null,null,null,null,null,null,null,null,null,null,null,null,null,null,null,null,null,null,null,null,null,null,null,null,null,null,null,null,null,null,null,null,null,null,null,null,null,null,null,null,null,null,null,null,null,null,null,null,null,null,null,null,null,null,null,null,null,null,null,null,null,null,null,null,null,null,null,null,null,null,null,null,null,null,null,null,null,null,null,null,null,null,null,null,null,null,null,null,null,null,null,null,null,null,null,null,null,null,null,null,null,null,null,null,null,null,null,"",null,"年月日\t\t0\t\t\t",0]
[508,null,null,null,null,null,null,null,null,null,null,null,null,null,null,null,null,null,null,null,null,null,null,null,null,null,null,null,null,null,null,null,null,null,null,null,null,null,null,null,null,null,null,null,null,null,null,null,null,null,null,null,null,null,null,null,null,null,null,null,null,null,null,null,null,null,null,null,null,null,null,null,null,null,null,null,null,null,null,null,null,null,null,null,null,null,null,null,null,null,null,null,null,null,null,null,null,null,null,null,null,null,null,null,null,null,null,null,null,null,null,null,null,null,null,null,null,null,null,null,null,null,null,null,null,null,null,null,null,null,null,null,null,null,null,null,null,null,null,null,null,null,null,null,null,null,null,null,null,null,null,null,null,null,null,null,null,null,null,null,null,null,null,null,null,null,null,null,null,null,null,null,null,null,null,null,null,null,null,null,null,null,null,null,null,null,null,null,null,null,null,null,null,null,null,null,null,null,null,null,null,null,null,null,null,null,null,null,null,null,null,null,null,null,null,null,null,"",null,"年月日\t\t0\t\t\t",0]
[517,null,null,null,null,null,null,null,null,null,null,null,null,null,null,null,null,null,null,null,null,null,null,null,null,null,null,null,null,null,null,null,null,null,null,null,null,null,null,null,null,null,null,null,null,null,null,null,null,null,null,null,null,null,null,null,null,null,null,null,null,null,null,null,null,null,null,null,null,null,null,null,null,null,null,null,null,null,null,null,null,null,null,null,null,null,null,null,null,null,null,null,null,null,null,null,null,null,null,null,null,null,null,null,null,null,null,null,null,null,null,null,null,null,null,null,null,null,null,null,null,null,null,null,null,null,null,null,null,null,null,null,null,null,null,null,null,null,null,null,null,null,null,null,null,null,null,null,null,null,null,null,null,null,null,null,null,null,null,null,null,null,null,null,null,null,null,null,null,null,null,null,null,null,null,null,null,null,null,null,null,null,null,null,null,null,null,null,null,null,null,null,null,null,null,null,null,null,null,null,null,null,null,null,null,null,null,null,null,null,null,null,null,null,null,null,null,"",null,"年月日\t\t0\t\t\t",0]
[526,null,null,null,null,null,null,null,null,null,null,null,null,null,null,null,null,null,null,null,null,null,null,null,null,null,null,null,null,null,null,null,null,null,null,null,null,null,null,null,null,null,null,null,null,null,null,null,null,null,null,null,null,null,null,null,null,null,null,null,null,null,null,null,null,null,null,null,null,null,null,null,null,null,null,null,null,null,null,null,null,null,null,null,null,null,null,null,null,null,null,null,null,null,null,null,null,null,null,null,null,null,null,null,null,null,null,null,null,null,null,null,null,null,null,null,null,null,null,null,null,null,null,null,null,null,null,null,null,null,null,null,null,null,null,null,null,null,null,null,null,null,null,null,null,null,null,null,null,null,null,null,null,null,null,null,null,null,null,null,null,null,null,null,null,null,null,null,null,null,null,null,null,null,null,null,null,null,null,null,null,null,null,null,null,null,null,null,null,null,null,null,null,null,null,null,null,null,null,null,null,null,null,null,null,null,null,null,null,null,null,null,null,null,null,null,null,"",null,"年月日\t\t0\t\t\t",0]
[533,null,null,null,null,null,null,null,null,null,null,null,null,null,null,null,null,null,null,null,null,null,null,null,null,null,null,null,null,null,null,null,null,null,null,null,null,null,null,null,null,null,null,null,null,null,null,null,null,null,null,null,null,null,null,null,null,null,null,null,null,null,null,null,null,null,null,null,null,null,null,null,null,null,null,null,null,null,null,null,null,null,null,null,null,null,null,null,null,null,null,null,null,null,null,null,null,null,null,null,null,null,null,null,null,null,null,null,null,null,null,null,null,null,null,null,null,null,null,null,null,null,null,null,null,null,null,null,null,null,null,null,null,null,null,null,null,null,null,null,null,null,null,null,null,null,null,null,null,null,null,null,null,null,null,null,null,null,null,null,null,null,null,null,null,null,null,null,null,null,null,null,null,null,null,null,null,null,null,null,null,null,null,null,null,null,null,null,null,null,null,null,null,null,null,null,null,null,null,null,null,null,null,null,null,null,null,null,null,null,null,null,null,null,null,null,null,"",null,"年月日\t\t0\t\t\t",0]
[543,null,null,null,null,null,null,null,null,null,null,null,null,null,null,null,null,null,null,null,null,null,null,null,null,null,null,null,null,null,null,null,null,null,null,null,null,null,null,null,null,null,null,null,null,null,null,null,null,null,null,null,null,null,null,null,null,null,null,null,null,null,null,null,null,null,null,null,null,null,null,null,null,null,null,null,null,null,null,null,null,null,null,null,null,null,null,null,null,null,null,null,null,null,null,null,null,null,null,null,null,null,null,null,null,null,null,null,null,null,null,null,null,null,null,null,null,null,null,null,null,null,null,null,null,null,null,null,null,null,null,null,null,null,null,null,null,null,null,null,null,null,null,null,null,null,null,null,null,null,null,null,null,null,null,null,null,null,null,null,null,null,null,null,null,null,null,null,null,null,null,null,null,null,null,null,null,null,null,null,null,null,null,null,null,null,null,null,null,null,null,null,null,null,null,null,null,null,null,null,null,null,null,null,null,null,null,null,null,null,null,null,null,null,null,null,null,"",null,"年月日\t\t0\t\t\t",0]
[552,null,null,null,null,null,null,null,null,null,null,null,null,null,null,null,null,null,null,null,null,null,null,null,null,null,null,null,null,null,null,null,null,null,null,null,null,null,null,null,null,null,null,null,null,null,null,null,null,null,null,null,null,null,null,null,null,null,null,null,null,null,null,null,null,null,null,null,null,null,null,null,null,null,null,null,null,null,null,null,null,null,null,null,null,null,null,null,null,null,null,null,null,null,null,null,null,null,null,null,null,null,null,null,null,null,null,null,null,null,null,null,null,null,null,null,null,null,null,null,null,null,null,null,null,null,null,null,null,null,null,null,null,null,null,null,null,null,null,null,null,null,null,null,null,null,null,null,null,null,null,null,null,null,null,null,null,null,null,null,null,null,null,null,null,null,null,null,null,null,null,null,null,null,null,null,null,null,null,null,null,null,null,null,null,null,null,null,null,null,null,null,null,null,null,null,null,null,null,null,null,null,null,null,null,null,null,null,null,null,null,null,null,null,null,null,null,"",null,"年月日\t\t0\t\t\t",0]
[553,null,null,null,null,null,null,null,null,null,null,null,null,null,null,null,null,null,null,null,null,null,null,null,null,null,null,null,null,null,null,null,null,null,null,null,null,null,null,null,null,null,null,null,null,null,null,null,null,null,null,null,null,null,null,null,null,null,null,null,null,null,null,null,null,null,null,null,null,null,null,null,null,null,null,null,null,null,null,null,null,null,null,null,null,null,null,null,null,null,null,null,null,null,null,null,null,null,null,null,null,null,null,null,null,null,null,null,null,null,null,null,null,null,null,null,null,null,null,null,null,null,null,null,null,null,null,null,null,null,null,null,null,null,null,null,null,null,null,null,null,null,null,null,null,null,null,null,null,null,null,null,null,null,null,null,null,null,null,null,null,null,null,null,null,null,null,null,null,null,null,null,null,null,null,null,null,null,null,null,null,null,null,null,null,null,null,null,null,null,null,null,null,null,null,null,null,null,null,null,null,null,null,null,null,null,null,null,null,null,null,null,null,null,null,null,null,"",null,"年月日\t\t0\t\t\t",0]
[562,null,null,null,null,null,null,null,null,null,null,null,null,null,null,null,null,null,null,null,null,null,null,null,null,null,null,null,null,null,null,null,null,null,null,null,null,null,null,null,null,null,null,null,null,null,null,null,null,null,null,null,null,null,null,null,null,null,null,null,null,null,null,null,null,null,null,null,null,null,null,null,null,null,null,null,null,null,null,null,null,null,null,null,null,null,null,null,null,null,null,null,null,null,null,null,null,null,null,null,null,null,null,null,null,null,null,null,null,null,null,null,null,null,null,null,null,null,null,null,null,null,null,null,null,null,null,null,null,null,null,null,null,null,null,null,null,null,null,null,null,null,null,null,null,null,null,null,null,null,null,null,null,null,null,null,null,null,null,null,null,null,null,null,null,null,null,null,null,null,null,null,null,null,null,null,null,null,null,null,null,null,null,null,null,null,null,null,null,null,null,null,null,null,null,null,null,null,null,null,null,null,null,null,null,null,null,null,null,null,null,null,null,null,null,null,null,"",null,"年月日\t\t0\t\t\t",0]
[571,null,null,null,null,null,null,null,null,null,null,null,null,null,null,null,null,null,null,null,null,null,null,null,null,null,null,null,null,null,null,null,null,null,null,null,null,null,null,null,null,null,null,null,null,null,null,null,null,null,null,null,null,null,null,null,null,null,null,null,null,null,null,null,null,null,null,null,null,null,null,null,null,null,null,null,null,null,null,null,null,null,null,null,null,null,null,null,null,null,null,null,null,null,null,null,null,null,null,null,null,null,null,null,null,null,null,null,null,null,null,null,null,null,null,null,null,null,null,null,null,null,null,null,null,null,null,null,null,null,null,null,null,null,null,null,null,null,null,null,null,null,null,null,null,null,null,null,null,null,null,null,null,null,null,null,null,null,null,null,null,null,null,null,null,null,null,null,null,null,null,null,null,null,null,null,null,null,null,null,null,null,null,null,null,null,null,null,null,null,null,null,null,null,null,null,null,null,null,null,null,null,null,null,null,null,null,null,null,null,null,null,null,null,null,null,null,"",null,"年月日\t\t0\t\t\t",0]
[579,null,null,null,null,null,null,null,null,null,null,null,null,null,null,null,null,null,null,null,null,null,null,null,null,null,null,null,null,null,null,null,null,null,null,null,null,null,null,null,null,null,null,null,null,null,null,null,null,null,null,null,null,null,null,null,null,null,null,null,null,null,null,null,null,null,null,null,null,null,null,null,null,null,null,null,null,null,null,null,null,null,null,null,null,null,null,null,null,null,null,null,null,null,null,null,null,null,null,null,null,null,null,null,null,null,null,null,null,null,null,null,null,null,null,null,null,null,null,null,null,null,null,null,null,null,null,null,null,null,null,null,null,null,null,null,null,null,null,null,null,null,null,null,null,null,null,null,null,null,null,null,null,null,null,null,null,null,null,null,null,null,null,null,null,null,null,null,null,null,null,null,null,null,null,null,null,null,null,null,null,null,null,null,null,null,null,null,null,null,null,null,null,null,null,null,null,null,null,null,null,null,null,null,null,null,null,null,null,null,null,null,null,null,null,null,null,"",null,"年月日\t\t0\t\t\t",0]
[588,null,null,null,null,null,null,null,null,null,null,null,null,null,null,null,null,null,null,null,null,null,null,null,null,null,null,null,null,null,null,null,null,null,null,null,null,null,null,null,null,null,null,null,null,null,null,null,null,null,null,null,null,null,null,null,null,null,null,null,null,null,null,null,null,null,null,null,null,null,null,null,null,null,null,null,null,null,null,null,null,null,null,null,null,null,null,null,null,null,null,null,null,null,null,null,null,null,null,null,null,null,null,null,null,null,null,null,null,null,null,null,null,null,null,null,null,null,null,null,null,null,null,null,null,null,null,null,null,null,null,null,null,null,null,null,null,null,null,null,null,null,null,null,null,null,null,null,null,null,null,null,null,null,null,null,null,null,null,null,null,null,null,null,null,null,null,null,null,null,null,null,null,null,null,null,null,null,null,null,null,null,null,null,null,null,null,null,null,null,null,null,null,null,null,null,null,null,null,null,null,null,null,null,null,null,null,null,null,null,null,null,null,null,null,null,null,"",null,"年月日\t\t0\t\t\t",0]
[597,null,null,null,null,null,null,null,null,null,null,null,null,null,null,null,null,null,null,null,null,null,null,null,null,null,null,null,null,null,null,null,null,null,null,null,null,null,null,null,null,null,null,null,null,null,null,null,null,null,null,null,null,null,null,null,null,null,null,null,null,null,null,null,null,null,null,null,null,null,null,null,null,null,null,null,null,null,null,null,null,null,null,null,null,null,null,null,null,null,null,null,null,null,null,null,null,null,null,null,null,null,null,null,null,null,null,null,null,null,null,null,null,null,null,null,null,null,null,null,null,null,null,null,null,null,null,null,null,null,null,null,null,null,null,null,null,null,null,null,null,null,null,null,null,null,null,null,null,null,null,null,null,null,null,null,null,null,null,null,null,null,null,null,null,null,null,null,null,null,null,null,null,null,null,null,null,null,null,null,null,null,null,null,null,null,null,null,null,null,null,null,null,null,null,null,null,null,null,null,null,null,null,null,null,null,null,null,null,null,null,null,null,null,null,null,null,"",null,"年月日\t\t0\t\t\t",0]
[606,null,null,null,null,null,null,null,null,null,null,null,null,null,null,null,null,null,null,null,null,null,null,null,null,null,null,null,null,null,null,null,null,null,null,null,null,null,null,null,null,null,null,null,null,null,null,null,null,null,null,null,null,null,null,null,null,null,null,null,null,null,null,null,null,null,null,null,null,null,null,null,null,null,null,null,null,null,null,null,null,null,null,null,null,null,null,null,null,null,null,null,null,null,null,null,null,null,null,null,null,null,null,null,null,null,null,null,null,null,null,null,null,null,null,null,null,null,null,null,null,null,null,null,null,null,null,null,null,null,null,null,null,null,null,null,null,null,null,null,null,null,null,null,null,null,null,null,null,null,null,null,null,null,null,null,null,null,null,null,null,null,null,null,null,null,null,null,null,null,null,null,null,null,null,null,null,null,null,null,null,null,null,null,null,null,null,null,null,null,null,null,null,null,null,null,null,null,null,null,null,null,null,null,null,null,null,null,null,null,null,null,null,null,null,null,null,"",null,"年月日\t\t0\t\t\t",0]
[609,null,null,null,null,null,null,null,null,null,null,null,null,null,null,null,null,null,null,null,null,null,null,null,null,null,null,null,null,null,null,null,null,null,null,null,null,null,null,null,null,null,null,null,null,null,null,null,null,null,null,null,null,null,null,null,null,null,null,null,null,null,null,null,null,null,null,null,null,null,null,null,null,null,null,null,null,null,null,null,null,null,null,null,null,null,null,null,null,null,null,null,null,null,null,null,null,null,null,null,null,null,null,null,null,null,null,null,null,null,null,null,null,null,null,null,null,null,null,null,null,null,null,null,null,null,null,null,null,null,null,null,null,null,null,null,null,null,null,null,null,null,null,null,null,null,null,null,null,null,null,null,null,null,null,null,null,null,null,null,null,null,null,null,null,null,null,null,null,null,null,null,null,null,null,null,null,null,null,null,null,null,null,null,null,null,null,null,null,null,null,null,null,null,null,null,null,null,null,null,null,null,null,null,null,null,null,null,null,null,null,null,null,null,null,null,null,"",null,"年月日\t\t0\t\t\t",0]
[615,null,null,null,null,null,null,null,null,null,null,null,null,null,null,null,null,null,null,null,null,null,null,null,null,null,null,null,null,null,null,null,null,null,null,null,null,null,null,null,null,null,null,null,null,null,null,null,null,null,null,null,null,null,null,null,null,null,null,null,null,null,null,null,null,null,null,null,null,null,null,null,null,null,null,null,null,null,null,null,null,null,null,null,null,null,null,null,null,null,null,null,null,null,null,null,null,null,null,null,null,null,null,null,null,null,null,null,null,null,null,null,null,null,null,null,null,null,null,null,null,null,null,null,null,null,null,null,null,null,null,null,null,null,null,null,null,null,null,null,null,null,null,null,null,null,null,null,null,null,null,null,null,null,null,null,null,null,null,null,null,null,null,null,null,null,null,null,null,null,null,null,null,null,null,null,null,null,null,null,null,null,null,null,null,null,null,null,null,null,null,null,null,null,null,null,null,null,null,null,null,null,null,null,null,null,null,null,null,null,null,null,null,null,null,null,null,"",null,"年月日\t\t0\t\t\t",0]
[624,null,null,null,null,null,null,null,null,null,null,null,null,null,null,null,null,null,null,null,null,null,null,null,null,null,null,null,null,null,null,null,null,null,null,null,null,null,null,null,null,null,null,null,null,null,null,null,null,null,null,null,null,null,null,null,null,null,null,null,null,null,null,null,null,null,null,null,null,null,null,null,null,null,null,null,null,null,null,null,null,null,null,null,null,null,null,null,null,null,null,null,null,null,null,null,null,null,null,null,null,null,null,null,null,null,null,null,null,null,null,null,null,null,null,null,null,null,null,null,null,null,null,null,null,null,null,null,null,null,null,null,null,null,null,null,null,null,null,null,null,null,null,null,null,null,null,null,null,null,null,null,null,null,null,null,null,null,null,null,null,null,null,null,null,null,null,null,null,null,null,null,null,null,null,null,null,null,null,null,null,null,null,null,null,null,null,null,null,null,null,null,null,null,null,null,null,null,null,null,null,null,null,null,null,null,null,null,null,null,null,null,null,null,null,null,null,"",null,"年月日\t\t0\t\t\t",0]
[633,null,null,null,null,null,null,null,null,null,null,null,null,null,null,null,null,null,null,null,null,null,null,null,null,null,null,null,null,null,null,null,null,null,null,null,null,null,null,null,null,null,null,null,null,null,null,null,null,null,null,null,null,null,null,null,null,null,null,null,null,null,null,null,null,null,null,null,null,null,null,null,null,null,null,null,null,null,null,null,null,null,null,null,null,null,null,null,null,null,null,null,null,null,null,null,null,null,null,null,null,null,null,null,null,null,null,null,null,null,null,null,null,null,null,null,null,null,null,null,null,null,null,null,null,null,null,null,null,null,null,null,null,null,null,null,null,null,null,null,null,null,null,null,null,null,null,null,null,null,null,null,null,null,null,null,null,null,null,null,null,null,null,null,null,null,null,null,null,null,null,null,null,null,null,null,null,null,null,null,null,null,null,null,null,null,null,null,null,null,null,null,null,null,null,null,null,null,null,null,null,null,null,null,null,null,null,null,null,null,null,null,null,null,null,null,null,"",null,"年月日\t\t0\t\t\t",0]
[642,null,null,null,null,null,null,null,null,null,null,null,null,null,null,null,null,null,null,null,null,null,null,null,null,null,null,null,null,null,null,null,null,null,null,null,null,null,null,null,null,null,null,null,null,null,null,null,null,null,null,null,null,null,null,null,null,null,null,null,null,null,null,null,null,null,null,null,null,null,null,null,null,null,null,null,null,null,null,null,null,null,null,null,null,null,null,null,null,null,null,null,null,null,null,null,null,null,null,null,null,null,null,null,null,null,null,null,null,null,null,null,null,null,null,null,null,null,null,null,null,null,null,null,null,null,null,null,null,null,null,null,null,null,null,null,null,null,null,null,null,null,null,null,null,null,null,null,null,null,null,null,null,null,null,null,null,null,null,null,null,null,null,null,null,null,null,null,null,null,null,null,null,null,null,null,null,null,null,null,null,null,null,null,null,null,null,null,null,null,null,null,null,null,null,null,null,null,null,null,null,null,null,null,null,null,null,null,null,null,null,null,null,null,null,null,null,"",null,"年月日\t\t0\t\t\t",0]
[647,null,null,null,null,null,null,null,null,null,null,null,null,null,null,null,null,null,null,null,null,null,null,null,null,null,null,null,null,null,null,null,null,null,null,null,null,null,null,null,null,null,null,null,null,null,null,null,null,null,null,null,null,null,null,null,null,null,null,null,null,null,null,null,null,null,null,null,null,null,null,null,null,null,null,null,null,null,null,null,null,null,null,null,null,null,null,null,null,null,null,null,null,null,null,null,null,null,null,null,null,null,null,null,null,null,null,null,null,null,null,null,null,null,null,null,null,null,null,null,null,null,null,null,null,null,null,null,null,null,null,null,null,null,null,null,null,null,null,null,null,null,null,null,null,null,null,null,null,null,null,null,null,null,null,null,null,null,null,null,null,null,null,null,null,null,null,null,null,null,null,null,null,null,null,null,null,null,null,null,null,null,null,null,null,null,null,null,null,null,null,null,null,null,null,null,null,null,null,null,null,null,null,null,null,null,null,null,null,null,null,null,null,null,null,null,null,"",null,"年月日\t\t0\t\t\t",0]
[659,null,null,null,null,null,null,null,null,null,null,null,null,null,null,null,null,null,null,null,null,null,null,null,null,null,null,null,null,null,null,null,null,null,null,null,null,null,null,null,null,null,null,null,null,null,null,null,null,null,null,null,null,null,null,null,null,null,null,null,null,null,null,null,null,null,null,null,null,null,null,null,null,null,null,null,null,null,null,null,null,null,null,null,null,null,null,null,null,null,null,null,null,null,null,null,null,null,null,null,null,null,null,null,null,null,null,null,null,null,null,null,null,null,null,null,null,null,null,null,null,null,null,null,null,null,null,null,null,null,null,null,null,null,null,null,null,null,null,null,null,null,null,null,null,null,null,null,null,null,null,null,null,null,null,null,null,null,null,null,null,null,null,null,null,null,null,null,null,null,null,null,null,null,null,null,null,null,null,null,null,null,null,null,null,null,null,null,null,null,null,null,null,null,null,null,null,null,null,null,null,null,null,null,null,null,null,null,null,null,null,null,null,null,null,null,null,"",null,"年月日\t\t0\t\t\t",0]
[668,null,null,null,null,null,null,null,null,null,null,null,null,null,null,null,null,null,null,null,null,null,null,null,null,null,null,null,null,null,null,null,null,null,null,null,null,null,null,null,null,null,null,null,null,null,null,null,null,null,null,null,null,null,null,null,null,null,null,null,null,null,null,null,null,null,null,null,null,null,null,null,null,null,null,null,null,null,null,null,null,null,null,null,null,null,null,null,null,null,null,null,null,null,null,null,null,null,null,null,null,null,null,null,null,null,null,null,null,null,null,null,null,null,null,null,null,null,null,null,null,null,null,null,null,null,null,null,null,null,null,null,null,null,null,null,null,null,null,null,null,null,null,null,null,null,null,null,null,null,null,null,null,null,null,null,null,null,null,null,null,null,null,null,null,null,null,null,null,null,null,null,null,null,null,null,null,null,null,null,null,null,null,null,null,null,null,null,null,null,null,null,null,null,null,null,null,null,null,null,null,null,null,null,null,null,null,null,null,null,null,null,null,null,null,null,null,"",null,"年月日\t\t0\t\t\t",0]
[677,null,null,null,null,null,null,null,null,null,null,null,null,null,null,null,null,null,null,null,null,null,null,null,null,null,null,null,null,null,null,null,null,null,null,null,null,null,null,null,null,null,null,null,null,null,null,null,null,null,null,null,null,null,null,null,null,null,null,null,null,null,null,null,null,null,null,null,null,null,null,null,null,null,null,null,null,null,null,null,null,null,null,null,null,null,null,null,null,null,null,null,null,null,null,null,null,null,null,null,null,null,null,null,null,null,null,null,null,null,null,null,null,null,null,null,null,null,null,null,null,null,null,null,null,null,null,null,null,null,null,null,null,null,null,null,null,null,null,null,null,null,null,null,null,null,null,null,null,null,null,null,null,null,null,null,null,null,null,null,null,null,null,null,null,null,null,null,null,null,null,null,null,null,null,null,null,null,null,null,null,null,null,null,null,null,null,null,null,null,null,null,null,null,null,null,null,null,null,null,null,null,null,null,null,null,null,null,null,null,null,null,null,null,null,null,null,"",null,"年月日\t\t0\t\t\t",0]
[678,null,null,null,null,null,null,null,null,null,null,null,null,null,null,null,null,null,null,null,null,null,null,null,null,null,null,null,null,null,null,null,null,null,null,null,null,null,null,null,null,null,null,null,null,null,null,null,null,null,null,null,null,null,null,null,null,null,null,null,null,null,null,null,null,null,null,null,null,null,null,null,null,null,null,null,null,null,null,null,null,null,null,null,null,null,null,null,null,null,null,null,null,null,null,null,null,null,null,null,null,null,null,null,null,null,null,null,null,null,null,null,null,null,null,null,null,null,null,null,null,null,null,null,null,null,null,null,null,null,null,null,null,null,null,null,null,null,null,null,null,null,null,null,null,null,null,null,null,null,null,null,null,null,null,null,null,null,null,null,null,null,null,null,null,null,null,null,null,null,null,null,null,null,null,null,null,null,null,null,null,null,null,null,null,null,null,null,null,null,null,null,null,null,null,null,null,null,null,null,null,null,null,null,null,null,null,null,null,null,null,null,null,null,null,null,null,"",null,"年月日\t\t0\t\t\t",0]
[692,null,null,null,null,null,null,null,null,null,null,null,null,null,null,null,null,null,null,null,null,null,null,null,null,null,null,null,null,null,null,null,null,null,null,null,null,null,null,null,null,null,null,null,null,null,null,null,null,null,null,null,null,null,null,null,null,null,null,null,null,null,null,null,null,null,null,null,null,null,null,null,null,null,null,null,null,null,null,null,null,null,null,null,null,null,null,null,null,null,null,null,null,null,null,null,null,null,null,null,null,null,null,null,null,null,null,null,null,null,null,null,null,null,null,null,null,null,null,null,null,null,null,null,null,null,null,null,null,null,null,null,null,null,null,null,null,null,null,null,null,null,null,null,null,null,null,null,null,null,null,null,null,null,null,null,null,null,null,null,null,null,null,null,null,null,null,null,null,null,null,null,null,null,null,null,null,null,null,null,null,null,null,null,null,null,null,null,null,null,null,null,null,null,null,null,null,null,null,null,null,null,null,null,null,null,null,null,null,null,null,null,null,null,null,null,null,"",null,"年月日\t\t0\t\t\t",0]
[695,null,null,null,null,null,null,null,null,null,null,null,null,null,null,null,null,null,null,null,null,null,null,null,null,null,null,null,null,null,null,null,null,null,null,null,null,null,null,null,null,null,null,null,null,null,null,null,null,null,null,null,null,null,null,null,null,null,null,null,null,null,null,null,null,null,null,null,null,null,null,null,null,null,null,null,null,null,null,null,null,null,null,null,null,null,null,null,null,null,null,null,null,null,null,null,null,null,null,null,null,null,null,null,null,null,null,null,null,null,null,null,null,null,null,null,null,null,null,null,null,null,null,null,null,null,null,null,null,null,null,null,null,null,null,null,null,null,null,null,null,null,null,null,null,null,null,null,null,null,null,null,null,null,null,null,null,null,null,null,null,null,null,null,null,null,null,null,null,null,null,null,null,null,null,null,null,null,null,null,null,null,null,null,null,null,null,null,null,null,null,null,null,null,null,null,null,null,null,null,null,null,null,null,null,null,null,null,null,null,null,null,null,null,null,null,null,"",null,"年月日\t\t0\t\t\t",0]
[704,null,null,null,null,null,null,null,null,null,null,null,null,null,null,null,null,null,null,null,null,null,null,null,null,null,null,null,null,null,null,null,null,null,null,null,null,null,null,null,null,null,null,null,null,null,null,null,null,null,null,null,null,null,null,null,null,null,null,null,null,null,null,null,null,null,null,null,null,null,null,null,null,null,null,null,null,null,null,null,null,null,null,null,null,null,null,null,null,null,null,null,null,null,null,null,null,null,null,null,null,null,null,null,null,null,null,null,null,null,null,null,null,null,null,null,null,null,null,null,null,null,null,null,null,null,null,null,null,null,null,null,null,null,null,null,null,null,null,null,null,null,null,null,null,null,null,null,null,null,null,null,null,null,null,null,null,null,null,null,null,null,null,null,null,null,null,null,null,null,null,null,null,null,null,null,null,null,null,null,null,null,null,null,null,null,null,null,null,null,null,null,null,null,null,null,null,null,null,null,null,null,null,null,null,null,null,null,null,null,null,null,null,null,null,null,null,"",null,"年月日\t\t0\t\t\t",0]
[713,null,null,null,null,null,null,null,null,null,null,null,null,null,null,null,null,null,null,null,null,null,null,null,null,null,null,null,null,null,null,null,null,null,null,null,null,null,null,null,null,null,null,null,null,null,null,null,null,null,null,null,null,null,null,null,null,null,null,null,null,null,null,null,null,null,null,null,null,null,null,null,null,null,null,null,null,null,null,null,null,null,null,null,null,null,null,null,null,null,null,null,null,null,null,null,null,null,null,null,null,null,null,null,null,null,null,null,null,null,null,null,null,null,null,null,null,null,null,null,null,null,null,null,null,null,null,null,null,null,null,null,null,null,null,null,null,null,null,null,null,null,null,null,null,null,null,null,null,null,null,null,null,null,null,null,null,null,null,null,null,null,null,null,null,null,null,null,null,null,null,null,null,null,null,null,null,null,null,null,null,null,null,null,null,null,null,null,null,null,null,null,null,null,null,null,null,null,null,null,null,null,null,null,null,null,null,null,null,null,null,null,null,null,null,null,null,"",null,"年月日\t\t0\t\t\t",0]
[722,null,null,null,null,null,null,null,null,null,null,null,null,null,null,null,null,null,null,null,null,null,null,null,null,null,null,null,null,null,null,null,null,null,null,null,null,null,null,null,null,null,null,null,null,null,null,null,null,null,null,null,null,null,null,null,null,null,null,null,null,null,null,null,null,null,null,null,null,null,null,null,null,null,null,null,null,null,null,null,null,null,null,null,null,null,null,null,null,null,null,null,null,null,null,null,null,null,null,null,null,null,null,null,null,null,null,null,null,null,null,null,null,null,null,null,null,null,null,null,null,null,null,null,null,null,null,null,null,null,null,null,null,null,null,null,null,null,null,null,null,null,null,null,null,null,null,null,null,null,null,null,null,null,null,null,null,null,null,null,null,null,null,null,null,null,null,null,null,null,null,null,null,null,null,null,null,null,null,null,null,null,null,null,null,null,null,null,null,null,null,null,null,null,null,null,null,null,null,null,null,null,null,null,null,null,null,null,null,null,null,null,null,null,null,null,null,"",null,"年月日\t\t0\t\t\t",0]
[731,null,null,null,null,null,null,null,null,null,null,null,null,null,null,null,null,null,null,null,null,null,null,null,null,null,null,null,null,null,null,null,null,null,null,null,null,null,null,null,null,null,null,null,null,null,null,null,null,null,null,null,null,null,null,null,null,null,null,null,null,null,null,null,null,null,null,null,null,null,null,null,null,null,null,null,null,null,null,null,null,null,null,null,null,null,null,null,null,null,null,null,null,null,null,null,null,null,null,null,null,null,null,null,null,null,null,null,null,null,null,null,null,null,null,null,null,null,null,null,null,null,null,null,null,null,null,null,null,null,null,null,null,null,null,null,null,null,null,null,null,null,null,null,null,null,null,null,null,null,null,null,null,null,null,null,null,null,null,null,null,null,null,null,null,null,null,null,null,null,null,null,null,null,null,null,null,null,null,null,null,null,null,null,null,null,null,null,null,null,null,null,null,null,null,null,null,null,null,null,null,null,null,null,null,null,null,null,null,null,null,null,null,null,null,null,null,"",null,"年月日\t\t0\t\t\t",0]
[739,null,null,null,null,null,null,null,null,null,null,null,null,null,null,null,null,null,null,null,null,null,null,null,null,null,null,null,null,null,null,null,null,null,null,null,null,null,null,null,null,null,null,null,null,null,null,null,null,null,null,null,null,null,null,null,null,null,null,null,null,null,null,null,null,null,null,null,null,null,null,null,null,null,null,null,null,null,null,null,null,null,null,null,null,null,null,null,null,null,null,null,null,null,null,null,null,null,null,null,null,null,null,null,null,null,null,null,null,null,null,null,null,null,null,null,null,null,null,null,null,null,null,null,null,null,null,null,null,null,null,null,null,null,null,null,null,null,null,null,null,null,null,null,null,null,null,null,null,null,null,null,null,null,null,null,null,null,null,null,null,null,null,null,null,null,null,null,null,null,null,null,null,null,null,null,null,null,null,null,null,null,null,null,null,null,null,null,null,null,null,null,null,null,null,null,null,null,null,null,null,null,null,null,null,null,null,null,null,null,null,null,null,null,null,null,null,"",null,"年月日\t\t0\t\t\t",0]
[740,null,null,null,null,null,null,null,null,null,null,null,null,null,null,null,null,null,null,null,null,null,null,null,null,null,null,null,null,null,null,null,null,null,null,null,null,null,null,null,null,null,null,null,null,null,null,null,null,null,null,null,null,null,null,null,null,null,null,null,null,null,null,null,null,null,null,null,null,null,null,null,null,null,null,null,null,null,null,null,null,null,null,null,null,null,null,null,null,null,null,null,null,null,null,null,null,null,null,null,null,null,null,null,null,null,null,null,null,null,null,null,null,null,null,null,null,null,null,null,null,null,null,null,null,null,null,null,null,null,null,null,null,null,null,null,null,null,null,null,null,null,null,null,null,null,null,null,null,null,null,null,null,null,null,null,null,null,null,null,null,null,null,null,null,null,null,null,null,null,null,null,null,null,null,null,null,null,null,null,null,null,null,null,null,null,null,null,null,null,null,null,null,null,null,null,null,null,null,null,null,null,null,null,null,null,null,null,null,null,null,null,null,null,null,null,null,"",null,"年月日\t\t0\t\t\t",0]
[749,null,null,null,null,null,null,null,null,null,null,null,null,null,null,null,null,null,null,null,null,null,null,null,null,null,null,null,null,null,null,null,null,null,null,null,null,null,null,null,null,null,null,null,null,null,null,null,null,null,null,null,null,null,null,null,null,null,null,null,null,null,null,null,null,null,null,null,null,null,null,null,null,null,null,null,null,null,null,null,null,null,null,null,null,null,null,null,null,null,null,null,null,null,null,null,null,null,null,null,null,null,null,null,null,null,null,null,null,null,null,null,null,null,null,null,null,null,null,null,null,null,null,null,null,null,null,null,null,null,null,null,null,null,null,null,null,null,null,null,null,null,null,null,null,null,null,null,null,null,null,null,null,null,null,null,null,null,null,null,null,null,null,null,null,null,null,null,null,null,null,null,null,null,null,null,null,null,null,null,null,null,null,null,null,null,null,null,null,null,null,null,null,null,null,null,null,null,null,null,null,null,null,null,null,null,null,null,null,null,null,null,null,null,null,null,null,"",null,"年月日\t\t0\t\t\t",0]
[758,null,null,null,null,null,null,null,null,null,null,null,null,null,null,null,null,null,null,null,null,null,null,null,null,null,null,null,null,null,null,null,null,null,null,null,null,null,null,null,null,null,null,null,null,null,null,null,null,null,null,null,null,null,null,null,null,null,null,null,null,null,null,null,null,null,null,null,null,null,null,null,null,null,null,null,null,null,null,null,null,null,null,null,null,null,null,null,null,null,null,null,null,null,null,null,null,null,null,null,null,null,null,null,null,null,null,null,null,null,null,null,null,null,null,null,null,null,null,null,null,null,null,null,null,null,null,null,null,null,null,null,null,null,null,null,null,null,null,null,null,null,null,null,null,null,null,null,null,null,null,null,null,null,null,null,null,null,null,null,null,null,null,null,null,null,null,null,null,null,null,null,null,null,null,null,null,null,null,null,null,null,null,null,null,null,null,null,null,null,null,null,null,null,null,null,null,null,null,null,null,null,null,null,null,null,null,null,null,null,null,null,null,null,null,null,null,"",null,"年月日\t\t0\t\t\t",0]
[767,null,null,null,null,null,null,null,null,null,null,null,null,null,null,null,null,null,null,null,null,null,null,null,null,null,null,null,null,null,null,null,null,null,null,null,null,null,null,null,null,null,null,null,null,null,null,null,null,null,null,null,null,null,null,null,null,null,null,null,null,null,null,null,null,null,null,null,null,null,null,null,null,null,null,null,null,null,null,null,null,null,null,null,null,null,null,null,null,null,null,null,null,null,null,null,null,null,null,null,null,null,null,null,null,null,null,null,null,null,null,null,null,null,null,null,null,null,null,null,null,null,null,null,null,null,null,null,null,null,null,null,null,null,null,null,null,null,null,null,null,null,null,null,null,null,null,null,null,null,null,null,null,null,null,null,null,null,null,null,null,null,null,null,null,null,null,null,null,null,null,null,null,null,null,null,null,null,null,null,null,null,null,null,null,null,null,null,null,null,null,null,null,null,null,null,null,null,null,null,null,null,null,null,null,null,null,null,null,null,null,null,null,null,null,null,null,"",null,"年月日\t\t0\t\t\t",0]
[777,null,null,null,null,null,null,null,null,null,null,null,null,null,null,null,null,null,null,null,null,null,null,null,null,null,null,null,null,null,null,null,null,null,null,null,null,null,null,null,null,null,null,null,null,null,null,null,null,null,null,null,null,null,null,null,null,null,null,null,null,null,null,null,null,null,null,null,null,null,null,null,null,null,null,null,null,null,null,null,null,null,null,null,null,null,null,null,null,null,null,null,null,null,null,null,null,null,null,null,null,null,null,null,null,null,null,null,null,null,null,null,null,null,null,null,null,null,null,null,null,null,null,null,null,null,null,null,null,null,null,null,null,null,null,null,null,null,null,null,null,null,null,null,null,null,null,null,null,null,null,null,null,null,null,null,null,null,null,null,null,null,null,null,null,null,null,null,null,null,null,null,null,null,null,null,null,null,null,null,null,null,null,null,null,null,null,null,null,null,null,null,null,null,null,null,null,null,null,null,null,null,null,null,null,null,null,null,null,null,null,null,null,null,null,null,null,"",null,"年月日\t\t0\t\t\t",0]
[784,null,null,null,null,null,null,null,null,null,null,null,null,null,null,null,null,null,null,null,null,null,null,null,null,null,null,null,null,null,null,null,null,null,null,null,null,null,null,null,null,null,null,null,null,null,null,null,null,null,null,null,null,null,null,null,null,null,null,null,null,null,null,null,null,null,null,null,null,null,null,null,null,null,null,null,null,null,null,null,null,null,null,null,null,null,null,null,null,null,null,null,null,null,null,null,null,null,null,null,null,null,null,null,null,null,null,null,null,null,null,null,null,null,null,null,null,null,null,null,null,null,null,null,null,null,null,null,null,null,null,null,null,null,null,null,null,null,null,null,null,null,null,null,null,null,null,null,null,null,null,null,null,null,null,null,null,null,null,null,null,null,null,null,null,null,null,null,null,null,null,null,null,null,null,null,null,null,null,null,null,null,null,null,null,null,null,null,null,null,null,null,null,null,null,null,null,null,null,null,null,null,null,null,null,null,null,null,null,null,null,null,null,null,null,null,null,"",null,"年月日\t\t0\t\t\t",0]
[793,null,null,null,null,null,null,null,null,null,null,null,null,null,null,null,null,null,null,null,null,null,null,null,null,null,null,null,null,null,null,null,null,null,null,null,null,null,null,null,null,null,null,null,null,null,null,null,null,null,null,null,null,null,null,null,null,null,null,null,null,null,null,null,null,null,null,null,null,null,null,null,null,null,null,null,null,null,null,null,null,null,null,null,null,null,null,null,null,null,null,null,null,null,null,null,null,null,null,null,null,null,null,null,null,null,null,null,null,null,null,null,null,null,null,null,null,null,null,null,null,null,null,null,null,null,null,null,null,null,null,null,null,null,null,null,null,null,null,null,null,null,null,null,null,null,null,null,null,null,null,null,null,null,null,null,null,null,null,null,null,null,null,null,null,null,null,null,null,null,null,null,null,null,null,null,null,null,null,null,null,null,null,null,null,null,null,null,null,null,null,null,null,null,null,null,null,null,null,null,null,null,null,null,null,null,null,null,null,null,null,null,null,null,null,null,null,"",null,"年月日\t\t0\t\t\t",0]
[802,null,null,null,null,null,null,null,null,null,null,null,null,null,null,null,null,null,null,null,null,null,null,null,null,null,null,null,null,null,null,null,null,null,null,null,null,null,null,null,null,null,null,null,null,null,null,null,null,null,null,null,null,null,null,null,null,null,null,null,null,null,null,null,null,null,null,null,null,null,null,null,null,null,null,null,null,null,null,null,null,null,null,null,null,null,null,null,null,null,null,null,null,null,null,null,null,null,null,null,null,null,null,null,null,null,null,null,null,null,null,null,null,null,null,null,null,null,null,null,null,null,null,null,null,null,null,null,null,null,null,null,null,null,null,null,null,null,null,null,null,null,null,null,null,null,null,null,null,null,null,null,null,null,null,null,null,null,null,null,null,null,null,null,null,null,null,null,null,null,null,null,null,null,null,null,null,null,null,null,null,null,null,null,null,null,null,null,null,null,null,null,null,null,null,null,null,null,null,null,null,null,null,null,null,null,null,null,null,null,null,null,null,null,null,null,null,"",null,"年月日\t\t0\t\t\t",0]
[803,null,null,null,null,null,null,null,null,null,null,null,null,null,null,null,null,null,null,null,null,null,null,null,null,null,null,null,null,null,null,null,null,null,null,null,null,null,null,null,null,null,null,null,null,null,null,null,null,null,null,null,null,null,null,null,null,null,null,null,null,null,null,null,null,null,null,null,null,null,null,null,null,null,null,null,null,null,null,null,null,null,null,null,null,null,null,null,null,null,null,null,null,null,null,null,null,null,null,null,null,null,null,null,null,null,null,null,null,null,null,null,null,null,null,null,null,null,null,null,null,null,null,null,null,null,null,null,null,null,null,null,null,null,null,null,null,null,null,null,null,null,null,null,null,null,null,null,null,null,null,null,null,null,null,null,null,null,null,null,null,null,null,null,null,null,null,null,null,null,null,null,null,null,null,null,null,null,null,null,null,null,null,null,null,null,null,null,null,null,null,null,null,null,null,null,null,null,null,null,null,null,null,null,null,null,null,null,null,null,null,null,null,null,null,null,null,"",null,"年月日\t\t0\t\t\t",0]
[815,null,null,null,null,null,null,null,null,null,null,null,null,null,null,null,null,null,null,null,null,null,null,null,null,null,null,null,null,null,null,null,null,null,null,null,null,null,null,null,null,null,null,null,null,null,null,null,null,null,null,null,null,null,null,null,null,null,null,null,null,null,null,null,null,null,null,null,null,null,null,null,null,null,null,null,null,null,null,null,null,null,null,null,null,null,null,null,null,null,null,null,null,null,null,null,null,null,null,null,null,null,null,null,null,null,null,null,null,null,null,null,null,null,null,null,null,null,null,null,null,null,null,null,null,null,null,null,null,null,null,null,null,null,null,null,null,null,null,null,null,null,null,null,null,null,null,null,null,null,null,null,null,null,null,null,null,null,null,null,null,null,null,null,null,null,null,null,null,null,null,null,null,null,null,null,null,null,null,null,null,null,null,null,null,null,null,null,null,null,null,null,null,null,null,null,null,null,null,null,null,null,null,null,null,null,null,null,null,null,null,null,null,null,null,null,null,"",null,"年月日\t\t0\t\t\t",0]
[820,null,null,null,null,null,null,null,null,null,null,null,null,null,null,null,null,null,null,null,null,null,null,null,null,null,null,null,null,null,null,null,null,null,null,null,null,null,null,null,null,null,null,null,null,null,null,null,null,null,null,null,null,null,null,null,null,null,null,null,null,null,null,null,null,null,null,null,null,null,null,null,null,null,null,null,null,null,null,null,null,null,null,null,null,null,null,null,null,null,null,null,null,null,null,null,null,null,null,null,null,null,null,null,null,null,null,null,null,null,null,null,null,null,null,null,null,null,null,null,null,null,null,null,null,null,null,null,null,null,null,null,null,null,null,null,null,null,null,null,null,null,null,null,null,null,null,null,null,null,null,null,null,null,null,null,null,null,null,null,null,null,null,null,null,null,null,null,null,null,null,null,null,null,null,null,null,null,null,null,null,null,null,null,null,null,null,null,null,null,null,null,null,null,null,null,null,null,null,null,null,null,null,null,null,null,null,null,null,null,null,null,null,null,null,null,null,"",null,"年月日\t\t0\t\t\t",0]
[829,null,null,null,null,null,null,null,null,null,null,null,null,null,null,null,null,null,null,null,null,null,null,null,null,null,null,null,null,null,null,null,null,null,null,null,null,null,null,null,null,null,null,null,null,null,null,null,null,null,null,null,null,null,null,null,null,null,null,null,null,null,null,null,null,null,null,null,null,null,null,null,null,null,null,null,null,null,null,null,null,null,null,null,null,null,null,null,null,null,null,null,null,null,null,null,null,null,null,null,null,null,null,null,null,null,null,null,null,null,null,null,null,null,null,null,null,null,null,null,null,null,null,null,null,null,null,null,null,null,null,null,null,null,null,null,null,null,null,null,null,null,null,null,null,null,null,null,null,null,null,null,null,null,null,null,null,null,null,null,null,null,null,null,null,null,null,null,null,null,null,null,null,null,null,null,null,null,null,null,null,null,null,null,null,null,null,null,null,null,null,null,null,null,null,null,null,null,null,null,null,null,null,null,null,null,null,null,null,null,null,null,null,null,null,null,null,"",null,"年月日\t\t0\t\t\t",0]
[838,null,null,null,null,null,null,null,null,null,null,null,null,null,null,null,null,null,null,null,null,null,null,null,null,null,null,null,null,null,null,null,null,null,null,null,null,null,null,null,null,null,null,null,null,null,null,null,null,null,null,null,null,null,null,null,null,null,null,null,null,null,null,null,null,null,null,null,null,null,null,null,null,null,null,null,null,null,null,null,null,null,null,null,null,null,null,null,null,null,null,null,null,null,null,null,null,null,null,null,null,null,null,null,null,null,null,null,null,null,null,null,null,null,null,null,null,null,null,null,null,null,null,null,null,null,null,null,null,null,null,null,null,null,null,null,null,null,null,null,null,null,null,null,null,null,null,null,null,null,null,null,null,null,null,null,null,null,null,null,null,null,null,null,null,null,null,null,null,null,null,null,null,null,null,null,null,null,null,null,null,null,null,null,null,null,null,null,null,null,null,null,null,null,null,null,null,null,null,null,null,null,null,null,null,null,null,null,null,null,null,null,null,null,null,null,null,"",null,"年月日\t\t0\t\t\t",0]
[847,null,null,null,null,null,null,null,null,null,null,null,null,null,null,null,null,null,null,null,null,null,null,null,null,null,null,null,null,null,null,null,null,null,null,null,null,null,null,null,null,null,null,null,null,null,null,null,null,null,null,null,null,null,null,null,null,null,null,null,null,null,null,null,null,null,null,null,null,null,null,null,null,null,null,null,null,null,null,null,null,null,null,null,null,null,null,null,null,null,null,null,null,null,null,null,null,null,null,null,null,null,null,null,null,null,null,null,null,null,null,null,null,null,null,null,null,null,null,null,null,null,null,null,null,null,null,null,null,null,null,null,null,null,null,null,null,null,null,null,null,null,null,null,null,null,null,null,null,null,null,null,null,null,null,null,null,null,null,null,null,null,null,null,null,null,null,null,null,null,null,null,null,null,null,null,null,null,null,null,null,null,null,null,null,null,null,null,null,null,null,null,null,null,null,null,null,null,null,null,null,null,null,null,null,null,null,null,null,null,null,null,null,null,null,null,null,"",null,"年月日\t\t0\t\t\t",0]
[853,null,null,null,null,null,null,null,null,null,null,null,null,null,null,null,null,null,null,null,null,null,null,null,null,null,null,null,null,null,null,null,null,null,null,null,null,null,null,null,null,null,null,null,null,null,null,null,null,null,null,null,null,null,null,null,null,null,null,null,null,null,null,null,null,null,null,null,null,null,null,null,null,null,null,null,null,null,null,null,null,null,null,null,null,null,null,null,null,null,null,null,null,null,null,null,null,null,null,null,null,null,null,null,null,null,null,null,null,null,null,null,null,null,null,null,null,null,null,null,null,null,null,null,null,null,null,null,null,null,null,null,null,null,null,null,null,null,null,null,null,null,null,null,null,null,null,null,null,null,null,null,null,null,null,null,null,null,null,null,null,null,null,null,null,null,null,null,null,null,null,null,null,null,null,null,null,null,null,null,null,null,null,null,null,null,null,null,null,null,null,null,null,null,null,null,null,null,null,null,null,null,null,null,null,null,null,null,null,null,null,null,null,null,null,null,null,"",null,"年月日\t\t0\t\t\t",0]
[864,null,null,null,null,null,null,null,null,null,null,null,null,null,null,null,null,null,null,null,null,null,null,null,null,null,null,null,null,null,null,null,null,null,null,null,null,null,null,null,null,null,null,null,null,null,null,null,null,null,null,null,null,null,null,null,null,null,null,null,null,null,null,null,null,null,null,null,null,null,null,null,null,null,null,null,null,null,null,null,null,null,null,null,null,null,null,null,null,null,null,null,null,null,null,null,null,null,null,null,null,null,null,null,null,null,null,null,null,null,null,null,null,null,null,null,null,null,null,null,null,null,null,null,null,null,null,null,null,null,null,null,null,null,null,null,null,null,null,null,null,null,null,null,null,null,null,null,null,null,null,null,null,null,null,null,null,null,null,null,null,null,null,null,null,null,null,null,null,null,null,null,null,null,null,null,null,null,null,null,null,null,null,null,null,null,null,null,null,null,null,null,null,null,null,null,null,null,null,null,null,null,null,null,null,null,null,null,null,null,null,null,null,null,null,null,null,"",null,"年月日\t\t0\t\t\t",0]
[865,null,null,null,null,null,null,null,null,null,null,null,null,null,null,null,null,null,null,null,null,null,null,null,null,null,null,null,null,null,null,null,null,null,null,null,null,null,null,null,null,null,null,null,null,null,null,null,null,null,null,null,null,null,null,null,null,null,null,null,null,null,null,null,null,null,null,null,null,null,null,null,null,null,null,null,null,null,null,null,null,null,null,null,null,null,null,null,null,null,null,null,null,null,null,null,null,null,null,null,null,null,null,null,null,null,null,null,null,null,null,null,null,null,null,null,null,null,null,null,null,null,null,null,null,null,null,null,null,null,null,null,null,null,null,null,null,null,null,null,null,null,null,null,null,null,null,null,null,null,null,null,null,null,null,null,null,null,null,null,null,null,null,null,null,null,null,null,null,null,null,null,null,null,null,null,null,null,null,null,null,null,null,null,null,null,null,null,null,null,null,null,null,null,null,null,null,null,null,null,null,null,null,null,null,null,null,null,null,null,null,null,null,null,null,null,null,"",null,"年月日\t\t0\t\t\t",0]
[874,null,null,null,null,null,null,null,null,null,null,null,null,null,null,null,null,null,null,null,null,null,null,null,null,null,null,null,null,null,null,null,null,null,null,null,null,null,null,null,null,null,null,null,null,null,null,null,null,null,null,null,null,null,null,null,null,null,null,null,null,null,null,null,null,null,null,null,null,null,null,null,null,null,null,null,null,null,null,null,null,null,null,null,null,null,null,null,null,null,null,null,null,null,null,null,null,null,null,null,null,null,null,null,null,null,null,null,null,null,null,null,null,null,null,null,null,null,null,null,null,null,null,null,null,null,null,null,null,null,null,null,null,null,null,null,null,null,null,null,null,null,null,null,null,null,null,null,null,null,null,null,null,null,null,null,null,null,null,null,null,null,null,null,null,null,null,null,null,null,null,null,null,null,null,null,null,null,null,null,null,null,null,null,null,null,null,null,null,null,null,null,null,null,null,null,null,null,null,null,null,null,null,null,null,null,null,null,null,null,null,null,null,null,null,null,null,"",null,"年月日\t\t0\t\t\t",0]
[883,null,null,null,null,null,null,null,null,null,null,null,null,null,null,null,null,null,null,null,null,null,null,null,null,null,null,null,null,null,null,null,null,null,null,null,null,null,null,null,null,null,null,null,null,null,null,null,null,null,null,null,null,null,null,null,null,null,null,null,null,null,null,null,null,null,null,null,null,null,null,null,null,null,null,null,null,null,null,null,null,null,null,null,null,null,null,null,null,null,null,null,null,null,null,null,null,null,null,null,null,null,null,null,null,null,null,null,null,null,null,null,null,null,null,null,null,null,null,null,null,null,null,null,null,null,null,null,null,null,null,null,null,null,null,null,null,null,null,null,null,null,null,null,null,null,null,null,null,null,null,null,null,null,null,null,null,null,null,null,null,null,null,null,null,null,null,null,null,null,null,null,null,null,null,null,null,null,null,null,null,null,null,null,null,null,null,null,null,null,null,null,null,null,null,null,null,null,null,null,null,null,null,null,null,null,null,null,null,null,null,null,null,null,null,null,null,"",null,"年月日\t\t0\t\t\t",0]
[891,null,null,null,null,null,null,null,null,null,null,null,null,null,null,null,null,null,null,null,null,null,null,null,null,null,null,null,null,null,null,null,null,null,null,null,null,null,null,null,null,null,null,null,null,null,null,null,null,null,null,null,null,null,null,null,null,null,null,null,null,null,null,null,null,null,null,null,null,null,null,null,null,null,null,null,null,null,null,null,null,null,null,null,null,null,null,null,null,null,null,null,null,null,null,null,null,null,null,null,null,null,null,null,null,null,null,null,null,null,null,null,null,null,null,null,null,null,null,null,null,null,null,null,null,null,null,null,null,null,null,null,null,null,null,null,null,null,null,null,null,null,null,null,null,null,null,null,null,null,null,null,null,null,null,null,null,null,null,null,null,null,null,null,null,null,null,null,null,null,null,null,null,null,null,null,null,null,null,null,null,null,null,null,null,null,null,null,null,null,null,null,null,null,null,null,null,null,null,null,null,null,null,null,null,null,null,null,null,null,null,null,null,null,null,null,null,"",null,"年月日\t\t0\t\t\t",0]
[null,null,null,null,null,null,null,null,null,null,null,null,null,null,null,null,null,null,null,null,null,null,null,null,null,null,null,null,null,null,null,null,null,null,null,null,null,null,null,null,null,null,null,null,null,null,null,null,null,null,null,null,null,null,null,null,null,null,null,null,null,null,null,null,null,null,null,null,null,null,null,null,null,null,null,null,null,null,null,null,null,null,null,null,null,null,null,null,null,null,null,null,null,null,null,null,null,null,null,null,null,null,null,null,null,null,null,null,null,null,null,null,null,null,null,null,null,null,null,null,null,null,null,null,null,null,null,null,null,null,null,null,null,null,null,null,null,null,null,null,null,null,null,null,null,null,null,null,null,null,null,null,null,null,null,null,null,null,null,null,null,null,null,null,null,null,null,null,null,null,null,null,null,null,null,null,null,null,null,null,null,null,null,null,null,null,null,null,null,null,null,null,null,null,null,null,null,null,null,null,null,null,null,null,null,null,null,null,null,null,null,null,null,null,null,null,null,"",null,"年月日\t\t0\t\t\t",0]
[null,null,null,null,null,null,null,null,null,null,null,null,null,null,null,null,null,null,null,null,null,null,null,null,null,null,null,null,null,null,null,null,null,null,null,null,null,null,null,null,null,null,null,null,null,null,null,null,null,null,null,null,null,null,null,null,null,null,null,null,null,null,null,null,null,null,null,null,null,null,null,null,null,null,null,null,null,null,null,null,null,null,null,null,null,null,null,null,null,null,null,null,null,null,null,null,null,null,null,null,null,null,null,null,null,null,null,null,null,null,null,null,null,null,null,null,null,null,null,null,null,null,null,null,null,null,null,null,null,null,null,null,null,null,null,null,null,null,null,null,null,null,null,null,null,null,null,null,null,null,null,null,null,null,null,null,null,null,null,null,null,null,null,null,null,null,null,null,null,null,null,null,null,null,null,null,null,null,null,null,null,null,null,null,null,null,null,null,null,null,null,null,null,null,null,null,null,null,null,null,null,null,null,null,null,null,null,null,null,null,null,null,null,null,null,null,null,"",null,"年月日\t\t0\t\t\t",0]
[null,null,null,null,null,null,null,null,null,null,null,null,null,null,null,null,null,null,null,null,null,null,null,null,null,null,null,null,null,null,null,null,null,null,null,null,null,null,null,null,null,null,null,null,null,null,null,null,null,null,null,null,null,null,null,null,null,null,null,null,null,null,null,null,null,null,null,null,null,null,null,null,null,null,null,null,null,null,null,null,null,null,null,null,null,null,null,null,null,null,null,null,null,null,null,null,null,null,null,null,null,null,null,null,null,null,null,null,null,null,null,null,null,null,null,null,null,null,null,null,null,null,null,null,null,null,null,null,null,null,null,null,null,null,null,null,null,null,null,null,null,null,null,null,null,null,null,null,null,null,null,null,null,null,null,null,null,null,null,null,null,null,null,null,null,null,null,null,null,null,null,null,null,null,null,null,null,null,null,null,null,null,null,null,null,null,null,null,null,null,null,null,null,null,null,null,null,null,null,null,null,null,null,null,null,null,null,null,null,null,null,null,null,null,null,null,null,"",null,"年月日\t\t0\t\t\t",0]
[null,null,null,null,null,null,null,null,null,null,null,null,null,null,null,null,null,null,null,null,null,null,null,null,null,null,null,null,null,null,null,null,null,null,null,null,null,null,null,null,null,null,null,null,null,null,null,null,null,null,null,null,null,null,null,null,null,null,null,null,null,null,null,null,null,null,null,null,null,null,null,null,null,null,null,null,null,null,null,null,null,null,null,null,null,null,null,null,null,null,null,null,null,null,null,null,null,null,null,null,null,null,null,null,null,null,null,null,null,null,null,null,null,null,null,null,null,null,null,null,null,null,null,null,null,null,null,null,null,null,null,null,null,null,null,null,null,null,null,null,null,null,null,null,null,null,null,null,null,null,null,null,null,null,null,null,null,null,null,null,null,null,null,null,null,null,null,null,null,null,null,null,null,null,null,null,null,null,null,null,null,null,null,null,null,null,null,null,null,null,null,null,null,null,null,null,null,null,null,null,null,null,null,null,null,null,null,null,null,null,null,null,null,null,null,null,null,"",null,"年月日\t\t0\t\t\t",0]
[null,null,null,null,null,null,null,null,null,null,null,null,null,null,null,null,null,null,null,null,null,null,null,null,null,null,null,null,null,null,null,null,null,null,null,null,null,null,null,null,null,null,null,null,null,null,null,null,null,null,null,null,null,null,null,null,null,null,null,null,null,null,null,null,null,null,null,null,null,null,null,null,null,null,null,null,null,null,null,null,null,null,null,null,null,null,null,null,null,null,null,null,null,null,null,null,null,null,null,null,null,null,null,null,null,null,null,null,null,null,null,null,null,null,null,null,null,null,null,null,null,null,null,null,null,null,null,null,null,null,null,null,null,null,null,null,null,null,null,null,null,null,null,null,null,null,null,null,null,null,null,null,null,null,null,null,null,null,null,null,null,null,null,null,null,null,null,null,null,null,null,null,null,null,null,null,null,null,null,null,null,null,null,null,null,null,null,null,null,null,null,null,null,null,null,null,null,null,null,null,null,null,null,null,null,null,null,null,null,null,null,null,null,null,null,null,null,"",null,"年月日\t\t0\t\t\t",0]
[null,null,null,null,null,null,null,null,null,null,null,null,null,null,null,null,null,null,null,null,null,null,null,null,null,null,null,null,null,null,null,null,null,null,null,null,null,null,null,null,null,null,null,null,null,null,null,null,null,null,null,null,null,null,null,null,null,null,null,null,null,null,null,null,null,null,null,null,null,null,null,null,null,null,null,null,null,null,null,null,null,null,null,null,null,null,null,null,null,null,null,null,null,null,null,null,null,null,null,null,null,null,null,null,null,null,null,null,null,null,null,null,null,null,null,null,null,null,null,null,null,null,null,null,null,null,null,null,null,null,null,null,null,null,null,null,null,null,null,null,null,null,null,null,null,null,null,null,null,null,null,null,null,null,null,null,null,null,null,null,null,null,null,null,null,null,null,null,null,null,null,null,null,null,null,null,null,null,null,null,null,null,null,null,null,null,null,null,null,null,null,null,null,null,null,null,null,null,null,null,null,null,null,null,null,null,null,null,null,null,null,null,null,null,null,null,null,"",null,"年月日\t\t0\t\t\t",0]
[null,null,null,null,null,null,null,null,null,null,null,null,null,null,null,null,null,null,null,null,null,null,null,null,null,null,null,null,null,null,null,null,null,null,null,null,null,null,null,null,null,null,null,null,null,null,null,null,null,null,null,null,null,null,null,null,null,null,null,null,null,null,null,null,null,null,null,null,null,null,null,null,null,null,null,null,null,null,null,null,null,null,null,null,null,null,null,null,null,null,null,null,null,null,null,null,null,null,null,null,null,null,null,null,null,null,null,null,null,null,null,null,null,null,null,null,null,null,null,null,null,null,null,null,null,null,null,null,null,null,null,null,null,null,null,null,null,null,null,null,null,null,null,null,null,null,null,null,null,null,null,null,null,null,null,null,null,null,null,null,null,null,null,null,null,null,null,null,null,null,null,null,null,null,null,null,null,null,null,null,null,null,null,null,null,null,null,null,null,null,null,null,null,null,null,null,null,null,null,null,null,null,null,null,null,null,null,null,null,null,null,null,null,null,null,null,null,"",null,"年月日\t\t0\t\t\t",0]
[null,null,null,null,null,null,null,null,null,null,null,null,null,null,null,null,null,null,null,null,null,null,null,null,null,null,null,null,null,null,null,null,null,null,null,null,null,null,null,null,null,null,null,null,null,null,null,null,null,null,null,null,null,null,null,null,null,null,null,null,null,null,null,null,null,null,null,null,null,null,null,null,null,null,null,null,null,null,null,null,null,null,null,null,null,null,null,null,null,null,null,null,null,null,null,null,null,null,null,null,null,null,null,null,null,null,null,null,null,null,null,null,null,null,null,null,null,null,null,null,null,null,null,null,null,null,null,null,null,null,null,null,null,null,null,null,null,null,null,null,null,null,null,null,null,null,null,null,null,null,null,null,null,null,null,null,null,null,null,null,null,null,null,null,null,null,null,null,null,null,null,null,null,null,null,null,null,null,null,null,null,null,null,null,null,null,null,null,null,null,null,null,null,null,null,null,null,null,null,null,null,null,null,null,null,null,null,null,null,null,null,null,null,null,null,null,null,"",null,"年月日\t\t0\t\t\t",0]
[null,null,null,null,null,null,null,null,null,null,null,null,null,null,null,null,null,null,null,null,null,null,null,null,null,null,null,null,null,null,null,null,null,null,null,null,null,null,null,null,null,null,null,null,null,null,null,null,null,null,null,null,null,null,null,null,null,null,null,null,null,null,null,null,null,null,null,null,null,null,null,null,null,null,null,null,null,null,null,null,null,null,null,null,null,null,null,null,null,null,null,null,null,null,null,null,null,null,null,null,null,null,null,null,null,null,null,null,null,null,null,null,null,null,null,null,null,null,null,null,null,null,null,null,null,null,null,null,null,null,null,null,null,null,null,null,null,null,null,null,null,null,null,null,null,null,null,null,null,null,null,null,null,null,null,null,null,null,null,null,null,null,null,null,null,null,null,null,null,null,null,null,null,null,null,null,null,null,null,null,null,null,null,null,null,null,null,null,null,null,null,null,null,null,null,null,null,null,null,null,null,null,null,null,null,null,null,null,null,null,null,null,null,null,null,null,null,"",null,"年月日\t\t0\t\t\t",0]
[null,null,null,null,null,null,null,null,null,null,null,null,null,null,null,null,null,null,null,null,null,null,null,null,null,null,null,null,null,null,null,null,null,null,null,null,null,null,null,null,null,null,null,null,null,null,null,null,null,null,null,null,null,null,null,null,null,null,null,null,null,null,null,null,null,null,null,null,null,null,null,null,null,null,null,null,null,null,null,null,null,null,null,null,null,null,null,null,null,null,null,null,null,null,null,null,null,null,null,null,null,null,null,null,null,null,null,null,null,null,null,null,null,null,null,null,null,null,null,null,null,null,null,null,null,null,null,null,null,null,null,null,null,null,null,null,null,null,null,null,null,null,null,null,null,null,null,null,null,null,null,null,null,null,null,null,null,null,null,null,null,null,null,null,null,null,null,null,null,null,null,null,null,null,null,null,null,null,null,null,null,null,null,null,null,null,null,null,null,null,null,null,null,null,null,null,null,null,null,null,null,null,null,null,null,null,null,null,null,null,null,null,null,null,null,null,null,"",null,"年月日\t\t0\t\t\t",0]
[null,null,null,null,null,null,null,null,null,null,null,null,null,null,null,null,null,null,null,null,null,null,null,null,null,null,null,null,null,null,null,null,null,null,null,null,null,null,null,null,null,null,null,null,null,null,null,null,null,null,null,null,null,null,null,null,null,null,null,null,null,null,null,null,null,null,null,null,null,null,null,null,null,null,null,null,null,null,null,null,null,null,null,null,null,null,null,null,null,null,null,null,null,null,null,null,null,null,null,null,null,null,null,null,null,null,null,null,null,null,null,null,null,null,null,null,null,null,null,null,null,null,null,null,null,null,null,null,null,null,null,null,null,null,null,null,null,null,null,null,null,null,null,null,null,null,null,null,null,null,null,null,null,null,null,null,null,null,null,null,null,null,null,null,null,null,null,null,null,null,null,null,null,null,null,null,null,null,null,null,null,null,null,null,null,null,null,null,null,null,null,null,null,null,null,null,null,null,null,null,null,null,null,null,null,null,null,null,null,null,null,null,null,null,null,null,null,"",null,"年月日\t\t0\t\t\t",0]
[null,null,null,null,null,null,null,null,null,null,null,null,null,null,null,null,null,null,null,null,null,null,null,null,null,null,null,null,null,null,null,null,null,null,null,null,null,null,null,null,null,null,null,null,null,null,null,null,null,null,null,null,null,null,null,null,null,null,null,null,null,null,null,null,null,null,null,null,null,null,null,null,null,null,null,null,null,null,null,null,null,null,null,null,null,null,null,null,null,null,null,null,null,null,null,null,null,null,null,null,null,null,null,null,null,null,null,null,null,null,null,null,null,null,null,null,null,null,null,null,null,null,null,null,null,null,null,null,null,null,null,null,null,null,null,null,null,null,null,null,null,null,null,null,null,null,null,null,null,null,null,null,null,null,null,null,null,null,null,null,null,null,null,null,null,null,null,null,null,null,null,null,null,null,null,null,null,null,null,null,null,null,null,null,null,null,null,null,null,null,null,null,null,null,null,null,null,null,null,null,null,null,null,null,null,null,null,null,null,null,null,null,null,null,null,null,null,"",null,"年月日\t\t0\t\t\t",0]
[null,null,null,null,null,null,null,null,null,null,null,null,null,null,null,null,null,null,null,null,null,null,null,null,null,null,null,null,null,null,null,null,null,null,null,null,null,null,null,null,null,null,null,null,null,null,null,null,null,null,null,null,null,null,null,null,null,null,null,null,null,null,null,null,null,null,null,null,null,null,null,null,null,null,null,null,null,null,null,null,null,null,null,null,null,null,null,null,null,null,null,null,null,null,null,null,null,null,null,null,null,null,null,null,null,null,null,null,null,null,null,null,null,null,null,null,null,null,null,null,null,null,null,null,null,null,null,null,null,null,null,null,null,null,null,null,null,null,null,null,null,null,null,null,null,null,null,null,null,null,null,null,null,null,null,null,null,null,null,null,null,null,null,null,null,null,null,null,null,null,null,null,null,null,null,null,null,null,null,null,null,null,null,null,null,null,null,null,null,null,null,null,null,null,null,null,null,null,null,null,null,null,null,null,null,null,null,null,null,null,null,null,null,null,null,null,null,"",null,"年月日\t\t0\t\t\t",0]
[null,null,null,null,null,null,null,null,null,null,null,null,null,null,null,null,null,null,null,null,null,null,null,null,null,null,null,null,null,null,null,null,null,null,null,null,null,null,null,null,null,null,null,null,null,null,null,null,null,null,null,null,null,null,null,null,null,null,null,null,null,null,null,null,null,null,null,null,null,null,null,null,null,null,null,null,null,null,null,null,null,null,null,null,null,null,null,null,null,null,null,null,null,null,null,null,null,null,null,null,null,null,null,null,null,null,null,null,null,null,null,null,null,null,null,null,null,null,null,null,null,null,null,null,null,null,null,null,null,null,null,null,null,null,null,null,null,null,null,null,null,null,null,null,null,null,null,null,null,null,null,null,null,null,null,null,null,null,null,null,null,null,null,null,null,null,null,null,null,null,null,null,null,null,null,null,null,null,null,null,null,null,null,null,null,null,null,null,null,null,null,null,null,null,null,null,null,null,null,null,null,null,null,null,null,null,null,null,null,null,null,null,null,null,null,null,null,"",null,"年月日\t\t0\t\t\t",0]
[null,null,null,null,null,null,null,null,null,null,null,null,null,null,null,null,null,null,null,null,null,null,null,null,null,null,null,null,null,null,null,null,null,null,null,null,null,null,null,null,null,null,null,null,null,null,null,null,null,null,null,null,null,null,null,null,null,null,null,null,null,null,null,null,null,null,null,null,null,null,null,null,null,null,null,null,null,null,null,null,null,null,null,null,null,null,null,null,null,null,null,null,null,null,null,null,null,null,null,null,null,null,null,null,null,null,null,null,null,null,null,null,null,null,null,null,null,null,null,null,null,null,null,null,null,null,null,null,null,null,null,null,null,null,null,null,null,null,null,null,null,null,null,null,null,null,null,null,null,null,null,null,null,null,null,null,null,null,null,null,null,null,null,null,null,null,null,null,null,null,null,null,null,null,null,null,null,null,null,null,null,null,null,null,null,null,null,null,null,null,null,null,null,null,null,null,null,null,null,null,null,null,null,null,null,null,null,null,null,null,null,null,null,null,null,null,null,"",null,"年月日\t\t0\t\t\t",0]
[null,null,null,null,null,null,null,null,null,null,null,null,null,null,null,null,null,null,null,null,null,null,null,null,null,null,null,null,null,null,null,null,null,null,null,null,null,null,null,null,null,null,null,null,null,null,null,null,null,null,null,null,null,null,null,null,null,null,null,null,null,null,null,null,null,null,null,null,null,null,null,null,null,null,null,null,null,null,null,null,null,null,null,null,null,null,null,null,null,null,null,null,null,null,null,null,null,null,null,null,null,null,null,null,null,null,null,null,null,null,null,null,null,null,null,null,null,null,null,null,null,null,null,null,null,null,null,null,null,null,null,null,null,null,null,null,null,null,null,null,null,null,null,null,null,null,null,null,null,null,null,null,null,null,null,null,null,null,null,null,null,null,null,null,null,null,null,null,null,null,null,null,null,null,null,null,null,null,null,null,null,null,null,null,null,null,null,null,null,null,null,null,null,null,null,null,null,null,null,null,null,null,null,null,null,null,null,null,null,null,null,null,null,null,null,null,null,"",null,"年月日\t\t0\t\t\t",0]
[null,null,null,null,null,null,null,null,null,null,null,null,null,null,null,null,null,null,null,null,null,null,null,null,null,null,null,null,null,null,null,null,null,null,null,null,null,null,null,null,null,null,null,null,null,null,null,null,null,null,null,null,null,null,null,null,null,null,null,null,null,null,null,null,null,null,null,null,null,null,null,null,null,null,null,null,null,null,null,null,null,null,null,null,null,null,null,null,null,null,null,null,null,null,null,null,null,null,null,null,null,null,null,null,null,null,null,null,null,null,null,null,null,null,null,null,null,null,null,null,null,null,null,null,null,null,null,null,null,null,null,null,null,null,null,null,null,null,null,null,null,null,null,null,null,null,null,null,null,null,null,null,null,null,null,null,null,null,null,null,null,null,null,null,null,null,null,null,null,null,null,null,null,null,null,null,null,null,null,null,null,null,null,null,null,null,null,null,null,null,null,null,null,null,null,null,null,null,null,null,null,null,null,null,null,null,null,null,null,null,null,null,null,null,null,null,null,{"$f":"IF(HI1027=\"\",\"\",IF(LENB(INDIRECT(\"n\"&HI1027+2))<15,VLOOKUP(HI1027,$A$3:$T$9999,5,FALSE)&CHAR(9)&INDIRECT(\"gs\"&HI1027+2)&CHAR(9)&CHAR(9)&CHAR(9)&VLOOKUP(HI1027,$A$3:$T$9999,20,FALSE),VLOOKUP(HI1027,$A$3:$T$9999,5,FALSE)&CHAR(9)&INDIRECT(\"gs\"&HI1027+2)&CHAR(9)&CHAR(9)&VLOOKUP(HI1027,$A$3:$T$9999,20,FALSE)))","v":""},null,{"$f":"IF(LENB(N1027)<15,F1027&\"年\"&G1027&\"月\"&H1027&\"日\"&CHAR(9)&E1027&CHAR(9)&HM1027&CHAR(9)&CHAR(9)&CHAR(9)&T1027,F1027&\"年\"&G1027&\"月\"&H1027&\"日\"&CHAR(9)&E1027&CHAR(9)&HM1027&CHAR(9)&CHAR(9)&T1027)","v":"年月日\t\t0\t\t\t"},{"$f":"IF(LENB(N1027)<15,N1027,LEFT(N1027,9)&\"(略)\")","v":0}]
[null,null,null,null,null,null,null,null,null,null,null,null,null,null,null,null,null,null,null,null,null,null,null,null,null,null,null,null,null,null,null,null,null,null,null,null,null,null,null,null,null,null,null,null,null,null,null,null,null,null,null,null,null,null,null,null,null,null,null,null,null,null,null,null,null,null,null,null,null,null,null,null,null,null,null,null,null,null,null,null,null,null,null,null,null,null,null,null,null,null,null,null,null,null,null,null,null,null,null,null,null,null,null,null,null,null,null,null,null,null,null,null,null,null,null,null,null,null,null,null,null,null,null,null,null,null,null,null,null,null,null,null,null,null,null,null,null,null,null,null,null,null,null,null,null,null,null,null,null,null,null,null,null,null,null,null,null,null,null,null,null,null,null,null,null,null,null,null,null,null,null,null,null,null,null,null,null,null,null,null,null,null,null,null,null,null,null,null,null,null,null,null,null,null,null,null,null,null,null,null,null,null,null,null,null,null,null,null,null,null,null,null,null,null,null,null,null,"",null,"年月日\t\t0\t\t\t",0]
[null,null,null,null,null,null,null,null,null,null,null,null,null,null,null,null,null,null,null,null,null,null,null,null,null,null,null,null,null,null,null,null,null,null,null,null,null,null,null,null,null,null,null,null,null,null,null,null,null,null,null,null,null,null,null,null,null,null,null,null,null,null,null,null,null,null,null,null,null,null,null,null,null,null,null,null,null,null,null,null,null,null,null,null,null,null,null,null,null,null,null,null,null,null,null,null,null,null,null,null,null,null,null,null,null,null,null,null,null,null,null,null,null,null,null,null,null,null,null,null,null,null,null,null,null,null,null,null,null,null,null,null,null,null,null,null,null,null,null,null,null,null,null,null,null,null,null,null,null,null,null,null,null,null,null,null,null,null,null,null,null,null,null,null,null,null,null,null,null,null,null,null,null,null,null,null,null,null,null,null,null,null,null,null,null,null,null,null,null,null,null,null,null,null,null,null,null,null,null,null,null,null,null,null,null,null,null,null,null,null,null,null,null,null,null,null,null,"",null,"年月日\t\t0\t\t\t",0]
[null,null,null,null,null,null,null,null,null,null,null,null,null,null,null,null,null,null,null,null,null,null,null,null,null,null,null,null,null,null,null,null,null,null,null,null,null,null,null,null,null,null,null,null,null,null,null,null,null,null,null,null,null,null,null,null,null,null,null,null,null,null,null,null,null,null,null,null,null,null,null,null,null,null,null,null,null,null,null,null,null,null,null,null,null,null,null,null,null,null,null,null,null,null,null,null,null,null,null,null,null,null,null,null,null,null,null,null,null,null,null,null,null,null,null,null,null,null,null,null,null,null,null,null,null,null,null,null,null,null,null,null,null,null,null,null,null,null,null,null,null,null,null,null,null,null,null,null,null,null,null,null,null,null,null,null,null,null,null,null,null,null,null,null,null,null,null,null,null,null,null,null,null,null,null,null,null,null,null,null,null,null,null,null,null,null,null,null,null,null,null,null,null,null,null,null,null,null,null,null,null,null,null,null,null,null,null,null,null,null,null,null,null,null,null,null,null,"",null,"年月日\t\t0\t\t\t",0]
[null,null,null,null,null,null,null,null,null,null,null,null,null,null,null,null,null,null,null,null,null,null,null,null,null,null,null,null,null,null,null,null,null,null,null,null,null,null,null,null,null,null,null,null,null,null,null,null,null,null,null,null,null,null,null,null,null,null,null,null,null,null,null,null,null,null,null,null,null,null,null,null,null,null,null,null,null,null,null,null,null,null,null,null,null,null,null,null,null,null,null,null,null,null,null,null,null,null,null,null,null,null,null,null,null,null,null,null,null,null,null,null,null,null,null,null,null,null,null,null,null,null,null,null,null,null,null,null,null,null,null,null,null,null,null,null,null,null,null,null,null,null,null,null,null,null,null,null,null,null,null,null,null,null,null,null,null,null,null,null,null,null,null,null,null,null,null,null,null,null,null,null,null,null,null,null,null,null,null,null,null,null,null,null,null,null,null,null,null,null,null,null,null,null,null,null,null,null,null,null,null,null,null,null,null,null,null,null,null,null,null,null,null,null,null,null,null,"",null,"年月日\t\t0\t\t\t",0]
[null,null,null,null,null,null,null,null,null,null,null,null,null,null,null,null,null,null,null,null,null,null,null,null,null,null,null,null,null,null,null,null,null,null,null,null,null,null,null,null,null,null,null,null,null,null,null,null,null,null,null,null,null,null,null,null,null,null,null,null,null,null,null,null,null,null,null,null,null,null,null,null,null,null,null,null,null,null,null,null,null,null,null,null,null,null,null,null,null,null,null,null,null,null,null,null,null,null,null,null,null,null,null,null,null,null,null,null,null,null,null,null,null,null,null,null,null,null,null,null,null,null,null,null,null,null,null,null,null,null,null,null,null,null,null,null,null,null,null,null,null,null,null,null,null,null,null,null,null,null,null,null,null,null,null,null,null,null,null,null,null,null,null,null,null,null,null,null,null,null,null,null,null,null,null,null,null,null,null,null,null,null,null,null,null,null,null,null,null,null,null,null,null,null,null,null,null,null,null,null,null,null,null,null,null,null,null,null,null,null,null,null,null,null,null,null,null,"",null,"年月日\t\t0\t\t\t",0]
[null,null,null,null,null,null,null,null,null,null,null,null,null,null,null,null,null,null,null,null,null,null,null,null,null,null,null,null,null,null,null,null,null,null,null,null,null,null,null,null,null,null,null,null,null,null,null,null,null,null,null,null,null,null,null,null,null,null,null,null,null,null,null,null,null,null,null,null,null,null,null,null,null,null,null,null,null,null,null,null,null,null,null,null,null,null,null,null,null,null,null,null,null,null,null,null,null,null,null,null,null,null,null,null,null,null,null,null,null,null,null,null,null,null,null,null,null,null,null,null,null,null,null,null,null,null,null,null,null,null,null,null,null,null,null,null,null,null,null,null,null,null,null,null,null,null,null,null,null,null,null,null,null,null,null,null,null,null,null,null,null,null,null,null,null,null,null,null,null,null,null,null,null,null,null,null,null,null,null,null,null,null,null,null,null,null,null,null,null,null,null,null,null,null,null,null,null,null,null,null,null,null,null,null,null,null,null,null,null,null,null,null,null,null,null,null,null,"",null,"年月日\t\t0\t\t\t",0]
[null,null,null,null,null,null,null,null,null,null,null,null,null,null,null,null,null,null,null,null,null,null,null,null,null,null,null,null,null,null,null,null,null,null,null,null,null,null,null,null,null,null,null,null,null,null,null,null,null,null,null,null,null,null,null,null,null,null,null,null,null,null,null,null,null,null,null,null,null,null,null,null,null,null,null,null,null,null,null,null,null,null,null,null,null,null,null,null,null,null,null,null,null,null,null,null,null,null,null,null,null,null,null,null,null,null,null,null,null,null,null,null,null,null,null,null,null,null,null,null,null,null,null,null,null,null,null,null,null,null,null,null,null,null,null,null,null,null,null,null,null,null,null,null,null,null,null,null,null,null,null,null,null,null,null,null,null,null,null,null,null,null,null,null,null,null,null,null,null,null,null,null,null,null,null,null,null,null,null,null,null,null,null,null,null,null,null,null,null,null,null,null,null,null,null,null,null,null,null,null,null,null,null,null,null,null,null,null,null,null,null,null,null,null,null,null,null,"",null,"年月日\t\t0\t\t\t",0]
[null,null,null,null,null,null,null,null,null,null,null,null,null,null,null,null,null,null,null,null,null,null,null,null,null,null,null,null,null,null,null,null,null,null,null,null,null,null,null,null,null,null,null,null,null,null,null,null,null,null,null,null,null,null,null,null,null,null,null,null,null,null,null,null,null,null,null,null,null,null,null,null,null,null,null,null,null,null,null,null,null,null,null,null,null,null,null,null,null,null,null,null,null,null,null,null,null,null,null,null,null,null,null,null,null,null,null,null,null,null,null,null,null,null,null,null,null,null,null,null,null,null,null,null,null,null,null,null,null,null,null,null,null,null,null,null,null,null,null,null,null,null,null,null,null,null,null,null,null,null,null,null,null,null,null,null,null,null,null,null,null,null,null,null,null,null,null,null,null,null,null,null,null,null,null,null,null,null,null,null,null,null,null,null,null,null,null,null,null,null,null,null,null,null,null,null,null,null,null,null,null,null,null,null,null,null,null,null,null,null,null,null,null,null,null,null,null,"",null,"年月日\t\t0\t\t\t",0]
[null,null,null,null,null,null,null,null,null,null,null,null,null,null,null,null,null,null,null,null,null,null,null,null,null,null,null,null,null,null,null,null,null,null,null,null,null,null,null,null,null,null,null,null,null,null,null,null,null,null,null,null,null,null,null,null,null,null,null,null,null,null,null,null,null,null,null,null,null,null,null,null,null,null,null,null,null,null,null,null,null,null,null,null,null,null,null,null,null,null,null,null,null,null,null,null,null,null,null,null,null,null,null,null,null,null,null,null,null,null,null,null,null,null,null,null,null,null,null,null,null,null,null,null,null,null,null,null,null,null,null,null,null,null,null,null,null,null,null,null,null,null,null,null,null,null,null,null,null,null,null,null,null,null,null,null,null,null,null,null,null,null,null,null,null,null,null,null,null,null,null,null,null,null,null,null,null,null,null,null,null,null,null,null,null,null,null,null,null,null,null,null,null,null,null,null,null,null,null,null,null,null,null,null,null,null,null,null,null,null,null,null,null,null,null,null,null,"",null,"年月日\t\t0\t\t\t",0]
[null,null,null,null,null,null,null,null,null,null,null,null,null,null,null,null,null,null,null,null,null,null,null,null,null,null,null,null,null,null,null,null,null,null,null,null,null,null,null,null,null,null,null,null,null,null,null,null,null,null,null,null,null,null,null,null,null,null,null,null,null,null,null,null,null,null,null,null,null,null,null,null,null,null,null,null,null,null,null,null,null,null,null,null,null,null,null,null,null,null,null,null,null,null,null,null,null,null,null,null,null,null,null,null,null,null,null,null,null,null,null,null,null,null,null,null,null,null,null,null,null,null,null,null,null,null,null,null,null,null,null,null,null,null,null,null,null,null,null,null,null,null,null,null,null,null,null,null,null,null,null,null,null,null,null,null,null,null,null,null,null,null,null,null,null,null,null,null,null,null,null,null,null,null,null,null,null,null,null,null,null,null,null,null,null,null,null,null,null,null,null,null,null,null,null,null,null,null,null,null,null,null,null,null,null,null,null,null,null,null,null,null,null,null,null,null,null,"",null,"年月日\t\t0\t\t\t",0]
[null,null,null,null,null,null,null,null,null,null,null,null,null,null,null,null,null,null,null,null,null,null,null,null,null,null,null,null,null,null,null,null,null,null,null,null,null,null,null,null,null,null,null,null,null,null,null,null,null,null,null,null,null,null,null,null,null,null,null,null,null,null,null,null,null,null,null,null,null,null,null,null,null,null,null,null,null,null,null,null,null,null,null,null,null,null,null,null,null,null,null,null,null,null,null,null,null,null,null,null,null,null,null,null,null,null,null,null,null,null,null,null,null,null,null,null,null,null,null,null,null,null,null,null,null,null,null,null,null,null,null,null,null,null,null,null,null,null,null,null,null,null,null,null,null,null,null,null,null,null,null,null,null,null,null,null,null,null,null,null,null,null,null,null,null,null,null,null,null,null,null,null,null,null,null,null,null,null,null,null,null,null,null,null,null,null,null,null,null,null,null,null,null,null,null,null,null,null,null,null,null,null,null,null,null,null,null,null,null,null,null,null,null,null,null,null,null,"",null,"年月日\t\t0\t\t\t",0]
[null,null,null,null,null,null,null,null,null,null,null,null,null,null,null,null,null,null,null,null,null,null,null,null,null,null,null,null,null,null,null,null,null,null,null,null,null,null,null,null,null,null,null,null,null,null,null,null,null,null,null,null,null,null,null,null,null,null,null,null,null,null,null,null,null,null,null,null,null,null,null,null,null,null,null,null,null,null,null,null,null,null,null,null,null,null,null,null,null,null,null,null,null,null,null,null,null,null,null,null,null,null,null,null,null,null,null,null,null,null,null,null,null,null,null,null,null,null,null,null,null,null,null,null,null,null,null,null,null,null,null,null,null,null,null,null,null,null,null,null,null,null,null,null,null,null,null,null,null,null,null,null,null,null,null,null,null,null,null,null,null,null,null,null,null,null,null,null,null,null,null,null,null,null,null,null,null,null,null,null,null,null,null,null,null,null,null,null,null,null,null,null,null,null,null,null,null,null,null,null,null,null,null,null,null,null,null,null,null,null,null,null,null,null,null,null,null,"",null,"年月日\t\t0\t\t\t",0]
[null,null,null,null,null,null,null,null,null,null,null,null,null,null,null,null,null,null,null,null,null,null,null,null,null,null,null,null,null,null,null,null,null,null,null,null,null,null,null,null,null,null,null,null,null,null,null,null,null,null,null,null,null,null,null,null,null,null,null,null,null,null,null,null,null,null,null,null,null,null,null,null,null,null,null,null,null,null,null,null,null,null,null,null,null,null,null,null,null,null,null,null,null,null,null,null,null,null,null,null,null,null,null,null,null,null,null,null,null,null,null,null,null,null,null,null,null,null,null,null,null,null,null,null,null,null,null,null,null,null,null,null,null,null,null,null,null,null,null,null,null,null,null,null,null,null,null,null,null,null,null,null,null,null,null,null,null,null,null,null,null,null,null,null,null,null,null,null,null,null,null,null,null,null,null,null,null,null,null,null,null,null,null,null,null,null,null,null,null,null,null,null,null,null,null,null,null,null,null,null,null,null,null,null,null,null,null,null,null,null,null,null,null,null,null,null,null,"",null,"年月日\t\t0\t\t\t",0]
[null,null,null,null,null,null,null,null,null,null,null,null,null,null,null,null,null,null,null,null,null,null,null,null,null,null,null,null,null,null,null,null,null,null,null,null,null,null,null,null,null,null,null,null,null,null,null,null,null,null,null,null,null,null,null,null,null,null,null,null,null,null,null,null,null,null,null,null,null,null,null,null,null,null,null,null,null,null,null,null,null,null,null,null,null,null,null,null,null,null,null,null,null,null,null,null,null,null,null,null,null,null,null,null,null,null,null,null,null,null,null,null,null,null,null,null,null,null,null,null,null,null,null,null,null,null,null,null,null,null,null,null,null,null,null,null,null,null,null,null,null,null,null,null,null,null,null,null,null,null,null,null,null,null,null,null,null,null,null,null,null,null,null,null,null,null,null,null,null,null,null,null,null,null,null,null,null,null,null,null,null,null,null,null,null,null,null,null,null,null,null,null,null,null,null,null,null,null,null,null,null,null,null,null,null,null,null,null,null,null,null,null,null,null,null,null,null,"",null,"年月日\t\t0\t\t\t",0]
[null,null,null,null,null,null,null,null,null,null,null,null,null,null,null,null,null,null,null,null,null,null,null,null,null,null,null,null,null,null,null,null,null,null,null,null,null,null,null,null,null,null,null,null,null,null,null,null,null,null,null,null,null,null,null,null,null,null,null,null,null,null,null,null,null,null,null,null,null,null,null,null,null,null,null,null,null,null,null,null,null,null,null,null,null,null,null,null,null,null,null,null,null,null,null,null,null,null,null,null,null,null,null,null,null,null,null,null,null,null,null,null,null,null,null,null,null,null,null,null,null,null,null,null,null,null,null,null,null,null,null,null,null,null,null,null,null,null,null,null,null,null,null,null,null,null,null,null,null,null,null,null,null,null,null,null,null,null,null,null,null,null,null,null,null,null,null,null,null,null,null,null,null,null,null,null,null,null,null,null,null,null,null,null,null,null,null,null,null,null,null,null,null,null,null,null,null,null,null,null,null,null,null,null,null,null,null,null,null,null,null,null,null,null,null,null,null,"",null,"年月日\t\t0\t\t\t",0]
[null,null,null,null,null,null,null,null,null,null,null,null,null,null,null,null,null,null,null,null,null,null,null,null,null,null,null,null,null,null,null,null,null,null,null,null,null,null,null,null,null,null,null,null,null,null,null,null,null,null,null,null,null,null,null,null,null,null,null,null,null,null,null,null,null,null,null,null,null,null,null,null,null,null,null,null,null,null,null,null,null,null,null,null,null,null,null,null,null,null,null,null,null,null,null,null,null,null,null,null,null,null,null,null,null,null,null,null,null,null,null,null,null,null,null,null,null,null,null,null,null,null,null,null,null,null,null,null,null,null,null,null,null,null,null,null,null,null,null,null,null,null,null,null,null,null,null,null,null,null,null,null,null,null,null,null,null,null,null,null,null,null,null,null,null,null,null,null,null,null,null,null,null,null,null,null,null,null,null,null,null,null,null,null,null,null,null,null,null,null,null,null,null,null,null,null,null,null,null,null,null,null,null,null,null,null,null,null,null,null,null,null,null,null,null,null,null,"",null,"年月日\t\t0\t\t\t",0]
[null,null,null,null,null,null,null,null,null,null,null,null,null,null,null,null,null,null,null,null,null,null,null,null,null,null,null,null,null,null,null,null,null,null,null,null,null,null,null,null,null,null,null,null,null,null,null,null,null,null,null,null,null,null,null,null,null,null,null,null,null,null,null,null,null,null,null,null,null,null,null,null,null,null,null,null,null,null,null,null,null,null,null,null,null,null,null,null,null,null,null,null,null,null,null,null,null,null,null,null,null,null,null,null,null,null,null,null,null,null,null,null,null,null,null,null,null,null,null,null,null,null,null,null,null,null,null,null,null,null,null,null,null,null,null,null,null,null,null,null,null,null,null,null,null,null,null,null,null,null,null,null,null,null,null,null,null,null,null,null,null,null,null,null,null,null,null,null,null,null,null,null,null,null,null,null,null,null,null,null,null,null,null,null,null,null,null,null,null,null,null,null,null,null,null,null,null,null,null,null,null,null,null,null,null,null,null,null,null,null,null,null,null,null,null,null,null,"",null,"年月日\t\t0\t\t\t",0]
[null,null,null,null,null,null,null,null,null,null,null,null,null,null,null,null,null,null,null,null,null,null,null,null,null,null,null,null,null,null,null,null,null,null,null,null,null,null,null,null,null,null,null,null,null,null,null,null,null,null,null,null,null,null,null,null,null,null,null,null,null,null,null,null,null,null,null,null,null,null,null,null,null,null,null,null,null,null,null,null,null,null,null,null,null,null,null,null,null,null,null,null,null,null,null,null,null,null,null,null,null,null,null,null,null,null,null,null,null,null,null,null,null,null,null,null,null,null,null,null,null,null,null,null,null,null,null,null,null,null,null,null,null,null,null,null,null,null,null,null,null,null,null,null,null,null,null,null,null,null,null,null,null,null,null,null,null,null,null,null,null,null,null,null,null,null,null,null,null,null,null,null,null,null,null,null,null,null,null,null,null,null,null,null,null,null,null,null,null,null,null,null,null,null,null,null,null,null,null,null,null,null,null,null,null,null,null,null,null,null,null,null,null,null,null,null,null,"",null,"年月日\t\t0\t\t\t",0]
[null,null,null,null,null,null,null,null,null,null,null,null,null,null,null,null,null,null,null,null,null,null,null,null,null,null,null,null,null,null,null,null,null,null,null,null,null,null,null,null,null,null,null,null,null,null,null,null,null,null,null,null,null,null,null,null,null,null,null,null,null,null,null,null,null,null,null,null,null,null,null,null,null,null,null,null,null,null,null,null,null,null,null,null,null,null,null,null,null,null,null,null,null,null,null,null,null,null,null,null,null,null,null,null,null,null,null,null,null,null,null,null,null,null,null,null,null,null,null,null,null,null,null,null,null,null,null,null,null,null,null,null,null,null,null,null,null,null,null,null,null,null,null,null,null,null,null,null,null,null,null,null,null,null,null,null,null,null,null,null,null,null,null,null,null,null,null,null,null,null,null,null,null,null,null,null,null,null,null,null,null,null,null,null,null,null,null,null,null,null,null,null,null,null,null,null,null,null,null,null,null,null,null,null,null,null,null,null,null,null,null,null,null,null,null,null,null,"",null,"年月日\t\t0\t\t\t",0]
[null,null,null,null,null,null,null,null,null,null,null,null,null,null,null,null,null,null,null,null,null,null,null,null,null,null,null,null,null,null,null,null,null,null,null,null,null,null,null,null,null,null,null,null,null,null,null,null,null,null,null,null,null,null,null,null,null,null,null,null,null,null,null,null,null,null,null,null,null,null,null,null,null,null,null,null,null,null,null,null,null,null,null,null,null,null,null,null,null,null,null,null,null,null,null,null,null,null,null,null,null,null,null,null,null,null,null,null,null,null,null,null,null,null,null,null,null,null,null,null,null,null,null,null,null,null,null,null,null,null,null,null,null,null,null,null,null,null,null,null,null,null,null,null,null,null,null,null,null,null,null,null,null,null,null,null,null,null,null,null,null,null,null,null,null,null,null,null,null,null,null,null,null,null,null,null,null,null,null,null,null,null,null,null,null,null,null,null,null,null,null,null,null,null,null,null,null,null,null,null,null,null,null,null,null,null,null,null,null,null,null,null,null,null,null,null,null,"",null,"年月日\t\t0\t\t\t",0]
[null,null,null,null,null,null,null,null,null,null,null,null,null,null,null,null,null,null,null,null,null,null,null,null,null,null,null,null,null,null,null,null,null,null,null,null,null,null,null,null,null,null,null,null,null,null,null,null,null,null,null,null,null,null,null,null,null,null,null,null,null,null,null,null,null,null,null,null,null,null,null,null,null,null,null,null,null,null,null,null,null,null,null,null,null,null,null,null,null,null,null,null,null,null,null,null,null,null,null,null,null,null,null,null,null,null,null,null,null,null,null,null,null,null,null,null,null,null,null,null,null,null,null,null,null,null,null,null,null,null,null,null,null,null,null,null,null,null,null,null,null,null,null,null,null,null,null,null,null,null,null,null,null,null,null,null,null,null,null,null,null,null,null,null,null,null,null,null,null,null,null,null,null,null,null,null,null,null,null,null,null,null,null,null,null,null,null,null,null,null,null,null,null,null,null,null,null,null,null,null,null,null,null,null,null,null,null,null,null,null,null,null,null,null,null,null,null,"",null,"年月日\t\t0\t\t\t",0]
[null,null,null,null,null,null,null,null,null,null,null,null,null,null,null,null,null,null,null,null,null,null,null,null,null,null,null,null,null,null,null,null,null,null,null,null,null,null,null,null,null,null,null,null,null,null,null,null,null,null,null,null,null,null,null,null,null,null,null,null,null,null,null,null,null,null,null,null,null,null,null,null,null,null,null,null,null,null,null,null,null,null,null,null,null,null,null,null,null,null,null,null,null,null,null,null,null,null,null,null,null,null,null,null,null,null,null,null,null,null,null,null,null,null,null,null,null,null,null,null,null,null,null,null,null,null,null,null,null,null,null,null,null,null,null,null,null,null,null,null,null,null,null,null,null,null,null,null,null,null,null,null,null,null,null,null,null,null,null,null,null,null,null,null,null,null,null,null,null,null,null,null,null,null,null,null,null,null,null,null,null,null,null,null,null,null,null,null,null,null,null,null,null,null,null,null,null,null,null,null,null,null,null,null,null,null,null,null,null,null,null,null,null,null,null,null,null,"",null,"年月日\t\t0\t\t\t",0]
[null,null,null,null,null,null,null,null,null,null,null,null,null,null,null,null,null,null,null,null,null,null,null,null,null,null,null,null,null,null,null,null,null,null,null,null,null,null,null,null,null,null,null,null,null,null,null,null,null,null,null,null,null,null,null,null,null,null,null,null,null,null,null,null,null,null,null,null,null,null,null,null,null,null,null,null,null,null,null,null,null,null,null,null,null,null,null,null,null,null,null,null,null,null,null,null,null,null,null,null,null,null,null,null,null,null,null,null,null,null,null,null,null,null,null,null,null,null,null,null,null,null,null,null,null,null,null,null,null,null,null,null,null,null,null,null,null,null,null,null,null,null,null,null,null,null,null,null,null,null,null,null,null,null,null,null,null,null,null,null,null,null,null,null,null,null,null,null,null,null,null,null,null,null,null,null,null,null,null,null,null,null,null,null,null,null,null,null,null,null,null,null,null,null,null,null,null,null,null,null,null,null,null,null,null,null,null,null,null,null,null,null,null,null,null,null,null,"",null,"年月日\t\t0\t\t\t",0]
[null,null,null,null,null,null,null,null,null,null,null,null,null,null,null,null,null,null,null,null,null,null,null,null,null,null,null,null,null,null,null,null,null,null,null,null,null,null,null,null,null,null,null,null,null,null,null,null,null,null,null,null,null,null,null,null,null,null,null,null,null,null,null,null,null,null,null,null,null,null,null,null,null,null,null,null,null,null,null,null,null,null,null,null,null,null,null,null,null,null,null,null,null,null,null,null,null,null,null,null,null,null,null,null,null,null,null,null,null,null,null,null,null,null,null,null,null,null,null,null,null,null,null,null,null,null,null,null,null,null,null,null,null,null,null,null,null,null,null,null,null,null,null,null,null,null,null,null,null,null,null,null,null,null,null,null,null,null,null,null,null,null,null,null,null,null,null,null,null,null,null,null,null,null,null,null,null,null,null,null,null,null,null,null,null,null,null,null,null,null,null,null,null,null,null,null,null,null,null,null,null,null,null,null,null,null,null,null,null,null,null,null,null,null,null,null,null,"",null,"年月日\t\t0\t\t\t",0]
[null,null,null,null,null,null,null,null,null,null,null,null,null,null,null,null,null,null,null,null,null,null,null,null,null,null,null,null,null,null,null,null,null,null,null,null,null,null,null,null,null,null,null,null,null,null,null,null,null,null,null,null,null,null,null,null,null,null,null,null,null,null,null,null,null,null,null,null,null,null,null,null,null,null,null,null,null,null,null,null,null,null,null,null,null,null,null,null,null,null,null,null,null,null,null,null,null,null,null,null,null,null,null,null,null,null,null,null,null,null,null,null,null,null,null,null,null,null,null,null,null,null,null,null,null,null,null,null,null,null,null,null,null,null,null,null,null,null,null,null,null,null,null,null,null,null,null,null,null,null,null,null,null,null,null,null,null,null,null,null,null,null,null,null,null,null,null,null,null,null,null,null,null,null,null,null,null,null,null,null,null,null,null,null,null,null,null,null,null,null,null,null,null,null,null,null,null,null,null,null,null,null,null,null,null,null,null,null,null,null,null,null,null,null,null,null,null,"",null,"年月日\t\t0\t\t\t",0]
[null,null,null,null,null,null,null,null,null,null,null,null,null,null,null,null,null,null,null,null,null,null,null,null,null,null,null,null,null,null,null,null,null,null,null,null,null,null,null,null,null,null,null,null,null,null,null,null,null,null,null,null,null,null,null,null,null,null,null,null,null,null,null,null,null,null,null,null,null,null,null,null,null,null,null,null,null,null,null,null,null,null,null,null,null,null,null,null,null,null,null,null,null,null,null,null,null,null,null,null,null,null,null,null,null,null,null,null,null,null,null,null,null,null,null,null,null,null,null,null,null,null,null,null,null,null,null,null,null,null,null,null,null,null,null,null,null,null,null,null,null,null,null,null,null,null,null,null,null,null,null,null,null,null,null,null,null,null,null,null,null,null,null,null,null,null,null,null,null,null,null,null,null,null,null,null,null,null,null,null,null,null,null,null,null,null,null,null,null,null,null,null,null,null,null,null,null,null,null,null,null,null,null,null,null,null,null,null,null,null,null,null,null,null,null,null,null,"",null,"年月日\t\t0\t\t\t",0]
[null,null,null,null,null,null,null,null,null,null,null,null,null,null,null,null,null,null,null,null,null,null,null,null,null,null,null,null,null,null,null,null,null,null,null,null,null,null,null,null,null,null,null,null,null,null,null,null,null,null,null,null,null,null,null,null,null,null,null,null,null,null,null,null,null,null,null,null,null,null,null,null,null,null,null,null,null,null,null,null,null,null,null,null,null,null,null,null,null,null,null,null,null,null,null,null,null,null,null,null,null,null,null,null,null,null,null,null,null,null,null,null,null,null,null,null,null,null,null,null,null,null,null,null,null,null,null,null,null,null,null,null,null,null,null,null,null,null,null,null,null,null,null,null,null,null,null,null,null,null,null,null,null,null,null,null,null,null,null,null,null,null,null,null,null,null,null,null,null,null,null,null,null,null,null,null,null,null,null,null,null,null,null,null,null,null,null,null,null,null,null,null,null,null,null,null,null,null,null,null,null,null,null,null,null,null,null,null,null,null,null,null,null,null,null,null,null,"",null,"年月日\t\t0\t\t\t",0]
[null,null,null,null,null,null,null,null,null,null,null,null,null,null,null,null,null,null,null,null,null,null,null,null,null,null,null,null,null,null,null,null,null,null,null,null,null,null,null,null,null,null,null,null,null,null,null,null,null,null,null,null,null,null,null,null,null,null,null,null,null,null,null,null,null,null,null,null,null,null,null,null,null,null,null,null,null,null,null,null,null,null,null,null,null,null,null,null,null,null,null,null,null,null,null,null,null,null,null,null,null,null,null,null,null,null,null,null,null,null,null,null,null,null,null,null,null,null,null,null,null,null,null,null,null,null,null,null,null,null,null,null,null,null,null,null,null,null,null,null,null,null,null,null,null,null,null,null,null,null,null,null,null,null,null,null,null,null,null,null,null,null,null,null,null,null,null,null,null,null,null,null,null,null,null,null,null,null,null,null,null,null,null,null,null,null,null,null,null,null,null,null,null,null,null,null,null,null,null,null,null,null,null,null,null,null,null,null,null,null,null,null,null,null,null,null,null,"",null,"年月日\t\t0\t\t\t",0]
[null,null,null,null,null,null,null,null,null,null,null,null,null,null,null,null,null,null,null,null,null,null,null,null,null,null,null,null,null,null,null,null,null,null,null,null,null,null,null,null,null,null,null,null,null,null,null,null,null,null,null,null,null,null,null,null,null,null,null,null,null,null,null,null,null,null,null,null,null,null,null,null,null,null,null,null,null,null,null,null,null,null,null,null,null,null,null,null,null,null,null,null,null,null,null,null,null,null,null,null,null,null,null,null,null,null,null,null,null,null,null,null,null,null,null,null,null,null,null,null,null,null,null,null,null,null,null,null,null,null,null,null,null,null,null,null,null,null,null,null,null,null,null,null,null,null,null,null,null,null,null,null,null,null,null,null,null,null,null,null,null,null,null,null,null,null,null,null,null,null,null,null,null,null,null,null,null,null,null,null,null,null,null,null,null,null,null,null,null,null,null,null,null,null,null,null,null,null,null,null,null,null,null,null,null,null,null,null,null,null,null,null,null,null,null,null,null,"",null,"年月日\t\t0\t\t\t",0]
[null,null,null,null,null,null,null,null,null,null,null,null,null,null,null,null,null,null,null,null,null,null,null,null,null,null,null,null,null,null,null,null,null,null,null,null,null,null,null,null,null,null,null,null,null,null,null,null,null,null,null,null,null,null,null,null,null,null,null,null,null,null,null,null,null,null,null,null,null,null,null,null,null,null,null,null,null,null,null,null,null,null,null,null,null,null,null,null,null,null,null,null,null,null,null,null,null,null,null,null,null,null,null,null,null,null,null,null,null,null,null,null,null,null,null,null,null,null,null,null,null,null,null,null,null,null,null,null,null,null,null,null,null,null,null,null,null,null,null,null,null,null,null,null,null,null,null,null,null,null,null,null,null,null,null,null,null,null,null,null,null,null,null,null,null,null,null,null,null,null,null,null,null,null,null,null,null,null,null,null,null,null,null,null,null,null,null,null,null,null,null,null,null,null,null,null,null,null,null,null,null,null,null,null,null,null,null,null,null,null,null,null,null,null,null,null,null,"",null,"年月日\t\t0\t\t\t",0]
[null,null,null,null,null,null,null,null,null,null,null,null,null,null,null,null,null,null,null,null,null,null,null,null,null,null,null,null,null,null,null,null,null,null,null,null,null,null,null,null,null,null,null,null,null,null,null,null,null,null,null,null,null,null,null,null,null,null,null,null,null,null,null,null,null,null,null,null,null,null,null,null,null,null,null,null,null,null,null,null,null,null,null,null,null,null,null,null,null,null,null,null,null,null,null,null,null,null,null,null,null,null,null,null,null,null,null,null,null,null,null,null,null,null,null,null,null,null,null,null,null,null,null,null,null,null,null,null,null,null,null,null,null,null,null,null,null,null,null,null,null,null,null,null,null,null,null,null,null,null,null,null,null,null,null,null,null,null,null,null,null,null,null,null,null,null,null,null,null,null,null,null,null,null,null,null,null,null,null,null,null,null,null,null,null,null,null,null,null,null,null,null,null,null,null,null,null,null,null,null,null,null,null,null,null,null,null,null,null,null,null,null,null,null,null,null,null,"",null,"年月日\t\t0\t\t\t",0]
[null,null,null,null,null,null,null,null,null,null,null,null,null,null,null,null,null,null,null,null,null,null,null,null,null,null,null,null,null,null,null,null,null,null,null,null,null,null,null,null,null,null,null,null,null,null,null,null,null,null,null,null,null,null,null,null,null,null,null,null,null,null,null,null,null,null,null,null,null,null,null,null,null,null,null,null,null,null,null,null,null,null,null,null,null,null,null,null,null,null,null,null,null,null,null,null,null,null,null,null,null,null,null,null,null,null,null,null,null,null,null,null,null,null,null,null,null,null,null,null,null,null,null,null,null,null,null,null,null,null,null,null,null,null,null,null,null,null,null,null,null,null,null,null,null,null,null,null,null,null,null,null,null,null,null,null,null,null,null,null,null,null,null,null,null,null,null,null,null,null,null,null,null,null,null,null,null,null,null,null,null,null,null,null,null,null,null,null,null,null,null,null,null,null,null,null,null,null,null,null,null,null,null,null,null,null,null,null,null,null,null,null,null,null,null,null,null,"",null,"年月日\t\t0\t\t\t",0]
[null,null,null,null,null,null,null,null,null,null,null,null,null,null,null,null,null,null,null,null,null,null,null,null,null,null,null,null,null,null,null,null,null,null,null,null,null,null,null,null,null,null,null,null,null,null,null,null,null,null,null,null,null,null,null,null,null,null,null,null,null,null,null,null,null,null,null,null,null,null,null,null,null,null,null,null,null,null,null,null,null,null,null,null,null,null,null,null,null,null,null,null,null,null,null,null,null,null,null,null,null,null,null,null,null,null,null,null,null,null,null,null,null,null,null,null,null,null,null,null,null,null,null,null,null,null,null,null,null,null,null,null,null,null,null,null,null,null,null,null,null,null,null,null,null,null,null,null,null,null,null,null,null,null,null,null,null,null,null,null,null,null,null,null,null,null,null,null,null,null,null,null,null,null,null,null,null,null,null,null,null,null,null,null,null,null,null,null,null,null,null,null,null,null,null,null,null,null,null,null,null,null,null,null,null,null,null,null,null,null,null,null,null,null,null,null,null,"",null,"年月日\t\t0\t\t\t",0]
[null,null,null,null,null,null,null,null,null,null,null,null,null,null,null,null,null,null,null,null,null,null,null,null,null,null,null,null,null,null,null,null,null,null,null,null,null,null,null,null,null,null,null,null,null,null,null,null,null,null,null,null,null,null,null,null,null,null,null,null,null,null,null,null,null,null,null,null,null,null,null,null,null,null,null,null,null,null,null,null,null,null,null,null,null,null,null,null,null,null,null,null,null,null,null,null,null,null,null,null,null,null,null,null,null,null,null,null,null,null,null,null,null,null,null,null,null,null,null,null,null,null,null,null,null,null,null,null,null,null,null,null,null,null,null,null,null,null,null,null,null,null,null,null,null,null,null,null,null,null,null,null,null,null,null,null,null,null,null,null,null,null,null,null,null,null,null,null,null,null,null,null,null,null,null,null,null,null,null,null,null,null,null,null,null,null,null,null,null,null,null,null,null,null,null,null,null,null,null,null,null,null,null,null,null,null,null,null,null,null,null,null,null,null,null,null,null,"",null,"年月日\t\t0\t\t\t",0]
[null,null,null,null,null,null,null,null,null,null,null,null,null,null,null,null,null,null,null,null,null,null,null,null,null,null,null,null,null,null,null,null,null,null,null,null,null,null,null,null,null,null,null,null,null,null,null,null,null,null,null,null,null,null,null,null,null,null,null,null,null,null,null,null,null,null,null,null,null,null,null,null,null,null,null,null,null,null,null,null,null,null,null,null,null,null,null,null,null,null,null,null,null,null,null,null,null,null,null,null,null,null,null,null,null,null,null,null,null,null,null,null,null,null,null,null,null,null,null,null,null,null,null,null,null,null,null,null,null,null,null,null,null,null,null,null,null,null,null,null,null,null,null,null,null,null,null,null,null,null,null,null,null,null,null,null,null,null,null,null,null,null,null,null,null,null,null,null,null,null,null,null,null,null,null,null,null,null,null,null,null,null,null,null,null,null,null,null,null,null,null,null,null,null,null,null,null,null,null,null,null,null,null,null,null,null,null,null,null,null,null,null,null,null,null,null,null,"",null,"年月日\t\t0\t\t\t",0]
[null,null,null,null,null,null,null,null,null,null,null,null,null,null,null,null,null,null,null,null,null,null,null,null,null,null,null,null,null,null,null,null,null,null,null,null,null,null,null,null,null,null,null,null,null,null,null,null,null,null,null,null,null,null,null,null,null,null,null,null,null,null,null,null,null,null,null,null,null,null,null,null,null,null,null,null,null,null,null,null,null,null,null,null,null,null,null,null,null,null,null,null,null,null,null,null,null,null,null,null,null,null,null,null,null,null,null,null,null,null,null,null,null,null,null,null,null,null,null,null,null,null,null,null,null,null,null,null,null,null,null,null,null,null,null,null,null,null,null,null,null,null,null,null,null,null,null,null,null,null,null,null,null,null,null,null,null,null,null,null,null,null,null,null,null,null,null,null,null,null,null,null,null,null,null,null,null,null,null,null,null,null,null,null,null,null,null,null,null,null,null,null,null,null,null,null,null,null,null,null,null,null,null,null,null,null,null,null,null,null,null,null,null,null,null,null,null,"",null,"年月日\t\t0\t\t\t",0]
[null,null,null,null,null,null,null,null,null,null,null,null,null,null,null,null,null,null,null,null,null,null,null,null,null,null,null,null,null,null,null,null,null,null,null,null,null,null,null,null,null,null,null,null,null,null,null,null,null,null,null,null,null,null,null,null,null,null,null,null,null,null,null,null,null,null,null,null,null,null,null,null,null,null,null,null,null,null,null,null,null,null,null,null,null,null,null,null,null,null,null,null,null,null,null,null,null,null,null,null,null,null,null,null,null,null,null,null,null,null,null,null,null,null,null,null,null,null,null,null,null,null,null,null,null,null,null,null,null,null,null,null,null,null,null,null,null,null,null,null,null,null,null,null,null,null,null,null,null,null,null,null,null,null,null,null,null,null,null,null,null,null,null,null,null,null,null,null,null,null,null,null,null,null,null,null,null,null,null,null,null,null,null,null,null,null,null,null,null,null,null,null,null,null,null,null,null,null,null,null,null,null,null,null,null,null,null,null,null,null,null,null,null,null,null,null,null,"",null,null,0]
[null,null,null,null,null,null,null,null,null,null,null,null,null,null,null,null,null,null,null,null,null,null,null,null,null,null,null,null,null,null,null,null,null,null,null,null,null,null,null,null,null,null,null,null,null,null,null,null,null,null,null,null,null,null,null,null,null,null,null,null,null,null,null,null,null,null,null,null,null,null,null,null,null,null,null,null,null,null,null,null,null,null,null,null,null,null,null,null,null,null,null,null,null,null,null,null,null,null,null,null,null,null,null,null,null,null,null,null,null,null,null,null,null,null,null,null,null,null,null,null,null,null,null,null,null,null,null,null,null,null,null,null,null,null,null,null,null,null,null,null,null,null,null,null,null,null,null,null,null,null,null,null,null,null,null,null,null,null,null,null,null,null,null,null,null,null,null,null,null,null,null,null,null,null,null,null,null,null,null,null,null,null,null,null,null,null,null,null,null,null,null,null,null,null,null,null,null,null,null,null,null,null,null,null,null,null,null,null,null,null,null,null,null,null,null,null,null,"",null,null,0]
[null,null,null,null,null,null,null,null,null,null,null,null,null,null,null,null,null,null,null,null,null,null,null,null,null,null,null,null,null,null,null,null,null,null,null,null,null,null,null,null,null,null,null,null,null,null,null,null,null,null,null,null,null,null,null,null,null,null,null,null,null,null,null,null,null,null,null,null,null,null,null,null,null,null,null,null,null,null,null,null,null,null,null,null,null,null,null,null,null,null,null,null,null,null,null,null,null,null,null,null,null,null,null,null,null,null,null,null,null,null,null,null,null,null,null,null,null,null,null,null,null,null,null,null,null,null,null,null,null,null,null,null,null,null,null,null,null,null,null,null,null,null,null,null,null,null,null,null,null,null,null,null,null,null,null,null,null,null,null,null,null,null,null,null,null,null,null,null,null,null,null,null,null,null,null,null,null,null,null,null,null,null,null,null,null,null,null,null,null,null,null,null,null,null,null,null,null,null,null,null,null,null,null,null,null,null,null,null,null,null,null,null,null,null,null,null,null,null,null,null,0]
[null,null,null,null,null,null,null,null,null,null,null,null,null,null,null,null,null,null,null,null,null,null,null,null,null,null,null,null,null,null,null,null,null,null,null,null,null,null,null,null,null,null,null,null,null,null,null,null,null,null,null,null,null,null,null,null,null,null,null,null,null,null,null,null,null,null,null,null,null,null,null,null,null,null,null,null,null,null,null,null,null,null,null,null,null,null,null,null,null,null,null,null,null,null,null,null,null,null,null,null,null,null,null,null,null,null,null,null,null,null,null,null,null,null,null,null,null,null,null,null,null,null,null,null,null,null,null,null,null,null,null,null,null,null,null,null,null,null,null,null,null,null,null,null,null,null,null,null,null,null,null,null,null,null,null,null,null,null,null,null,null,null,null,null,null,null,null,null,null,null,null,null,null,null,null,null,null,null,null,null,null,null,null,null,null,null,null,null,null,null,null,null,null,null,null,null,null,null,null,null,null,null,null,null,null,null,null,null,null,null,null,null,null,null,null,null,null,null,null,null,0]

{"sheet":"リスト","index":1,"n_rows":215,"n_cols":9,"rows_kept":215,"cut":false,"hidden":true,"merged":[]}
["選択","対応セル","入力セル","対応セル","結合セル","泊対応セル","入力セル","対応セル","入力セル"]
["有・無","命令年","BI5","命令年","BI5:BO9","旅行年","AK12","命令年","BI5"]
["有","命令月","BR5","命令月","BR5:BV9","旅行月","AS12","命令月","BR5"]
["無","命令日","BZ5","命令日","BZ5:CD9","旅行日","BA12","命令日","BZ5"]
[null,"氏名","BA10","氏名","BA10:CG11","泊数1","AY15","氏名","BA10"]
[null,"旅行年1","O12","旅行年1","O12:R12","泊数2","AY16","旅行年1","O12"]
[null,"旅行月1","U12","旅行月1","U12:X12","泊数3","AY17","旅行月1","U12"]
[null,"旅行日1","Z12","旅行日1","Z12:AB12","泊数4","AY18","旅行日1","Z12"]
[null,"旅行年2","AK12","旅行年2","AK12:AN12","泊数5","AY19","旅行年2","AK12"]
[null,"旅行月2","AS12","旅行月2","AS12:AV12","泊数6","AY20","旅行月2","AS12"]
[null,"旅行日3","BA12","旅行日3","BA12:BE12","宿泊費1","BI15","旅行日3","BA12"]
[null,"泊","BL12","泊","BL12:BP12","宿泊費2","BI16","泊","BL12"]
[null,"日",null,"用務","A15:P20","宿泊費3","BI17","日","BU12"]
[null,"用務1","A15","用務先","S15:AX20","宿泊費4","BI18","用務1","A15"]
[null,"用務2","A16","泊数","AY15:BF20","宿泊費5","BI19","用務2","A16"]
[null,"用務3","A17","宿泊費","BI15:BP20","宿泊費6","BI20","用務3","A17"]
[null,"用務4","A18","朝食～夕食","BS15:CG20","朝食1","BS15","用務4","A18"]
[null,"用務5","A19","公用車","E22:F22","朝食2","BS16","用務5","A19"]
[null,"用務6","A20","自家用車","P22:Q22","朝食3","BS17","用務6","A20"]
[null,"用務先1","S15","距離","AC21:AH23","朝食4","BS18","用務先1","S15"]
[null,"用務先2","S16","同乗","AN22:AP22","朝食5","BS19","用務先2","S16"]
[null,"用務先3","S17","徒歩","BJ22:BL22","朝食6","BS20","用務先3","S17"]
[null,"用務先4","S18","発公署","E25:F25","夕食1","CA15","用務先4","S18"]
[null,"用務先5","S19","発公署名","K25:O25","夕食2","CA16","用務先5","S19"]
[null,"用務先6","S20","発自宅","AG25:AI25","夕食3","CA17","用務先6","S20"]
[null,"泊数1","AY15","往復","BL25:BN25","夕食4","CA18","泊数1","AY15"]
[null,"泊数2","AY16","経路順","B29:I38","夕食5","CA19","泊数2","AY16"]
[null,"泊数3","AY17","乗り換え","L29:Q38","夕食6","CA20","泊数3","AY17"]
[null,"泊数4","AY18","どこまで","T29:AE38",null,null,"泊数4","AY18"]
[null,"泊数5","AY19","私鉄","AH29:AM38",null,null,"泊数5","AY19"]
[null,"泊数6","AY20","バス","AT29:AW38",null,null,"泊数6","AY20"]
[null,"宿泊費1","BI15","自家用車","BL29:BT38",null,null,"宿泊費1","BI15"]
[null,"宿泊費2","BI16","タクシー","CA29:CF38",null,null,"宿泊費2","BI16"]
[null,"宿泊費3","BI17","帰公署","F40:G40",null,null,"宿泊費3","BI17"]
[null,"宿泊費4","BI18","帰公署名","L40:R40",null,null,"宿泊費4","BI18"]
[null,"宿泊費5","BI19","帰着自宅","AL40:AM40",null,null,"宿泊費5","BI19"]
[null,"宿泊費6","BI20","調整1","F43:L43",null,null,"宿泊費6","BI20"]
[null,"朝食1","BS15","調整2","O43:AC43",null,null,"朝食1","BS15"]
[null,"朝食2","BS16","調整3","AE43:AN43",null,null,"朝食2","BS16"]
[null,"朝食3","BS17","調整4","F45:L45",null,null,"朝食3","BS17"]
[null,"朝食4","BS18","調整5","O45:AC45",null,null,"朝食4","BS18"]
[null,"朝食5","BS19","調整6","AE45:AN45",null,null,"朝食5","BS19"]
[null,"朝食6","BS20","プリペイト","BO42:CE45",null,null,"朝食6","BS20"]
[null,"夕食1","CA15","同乗者1","O47:X49",null,null,"夕食1","CA15"]
[null,"夕食2","CA16","同乗者2","Z47:AI49",null,null,"夕食2","CA16"]
[null,"夕食3","CA17","交通不便","N50:O50",null,null,"夕食3","CA17"]
[null,"夕食4","CA18","緊急","V50:W50",null,null,"夕食4","CA18"]
[null,"夕食5","CA19","時間外","AA50:AB50",null,null,"夕食5","CA19"]
[null,"夕食6","CA20","運搬","F50:G50",null,null,"夕食6","CA20"]
[null,"公用車","E22","多目的地","F52:G52",null,null,"公用車","E22"]
[null,"自家用車","P22","その他","N52:O52",null,null,"自家用車","P22"]
[null,"距離","AC21","その他理由","Y51:AD53",null,null,"距離","AC21"]
[null,"同乗","AN22","チケット","AW47:AX47",null,null,"同乗","AN22"]
[null,"徒歩","BJ22","旅費請求","BH47:BJ47",null,null,"徒歩","BJ22"]
[null,"発公署","E25","同乗","BV47:BX47",null,null,"発公署","E25"]
[null,"発公署名","K25","交通不便","AV50:AW50",null,null,"発公署名","K25"]
[null,"発自宅","AG25","緊急","BG50:BI50",null,null,"発自宅","AG25"]
[null,"往復","BL25","時間外","BO50:BQ50",null,null,"往復","BL25"]
[null,"経路順1","B29","運搬","CA50:CC50",null,null,"経路順1","B29"]
[null,"経路順2","B30","多目的地","AV52:AW52",null,null,"経路順2","B30"]
[null,"経路順3","B31","その他","BG52:BI52",null,null,"経路順3","B31"]
[null,"経路順4","B32","その他理由","BR51:CF53",null,null,"経路順4","B32"]
[null,"経路順5","B33","有料道路区間1","I54:S54",null,null,"経路順5","B33"]
[null,"経路順6","B34","有料道路区間2","V54:AT54",null,null,"経路順6","B34"]
[null,"経路順7","B35","有料道路区間3","AW54:BN54",null,null,"経路順7","B35"]
[null,"経路順8","B36","時間短縮1","J56:K56",null,null,"経路順8","B36"]
[null,"経路順9","B37","利用が一般的1","V56:W56",null,null,"経路順9","B37"]
[null,"経路順10","B38","通勤区間1","J58:K58",null,null,"経路順10","B38"]
[null,"どこから1","C29","時間短縮2","AG56:AI56",null,null,"どこから1","C29"]
[null,"どこから2","C30","利用が一般的2","AW56:AX56",null,null,"どこから2","C30"]
[null,"どこから3","C31","通勤区間2","AG58:AI58",null,null,"どこから3","C31"]
[null,"どこから4","C32","有料道路合計","BO56:CD57",null,null,"どこから4","C32"]
[null,"どこから5","C33","駐車場名1","I60:S60",null,null,"どこから5","C33"]
[null,"どこから6","C34","駐車場名2","V60:AT60",null,null,"どこから6","C34"]
[null,"どこから7","C35","駐車場名3","AW60:BN60",null,null,"どこから7","C35"]
[null,"どこから8","C36","駐車場理由1","J62:K62",null,null,"どこから8","C36"]
[null,"どこから9","C37","駐車場理由2","AG62:AI62",null,null,"どこから9","C37"]
[null,"どこから10","C38","駐車場合計","BO62:CD62",null,null,"どこから10","C38"]
[null,"乗り換え1","L29","別途支給","F65:G65",null,null,"乗り換え1","L29"]
[null,"乗り換え2","L30","別途支給金額","N65:AC65",null,null,"乗り換え2","L30"]
[null,"乗り換え3","L31","別途支給先","AK65:BT65",null,null,"乗り換え3","L31"]
[null,"乗り換え4","L32","備考1","N67:AE67",null,null,"乗り換え4","L32"]
[null,"乗り換え5","L33","備考2","AX67:CG67",null,null,"乗り換え5","L33"]
[null,"乗り換え6","L34","備考3","N68:CG68",null,null,"乗り換え6","L34"]
[null,"乗り換え7","L35","備考4","E69:CG69",null,null,"乗り換え7","L35"]
[null,"乗り換え8","L36",null,null,null,null,"乗り換え8","L36"]
[null,"乗り換え9","L37",null,null,null,null,"乗り換え9","L37"]
[null,"乗り換え10","L38",null,null,null,null,"乗り換え10","L38"]
[null,"どこまで1","T29",null,null,null,null,"どこまで1","T29"]
[null,"どこまで2","T30",null,null,null,null,"どこまで2","T30"]
[null,"どこまで3","T31",null,null,null,null,"どこまで3","T31"]
[null,"どこまで4","T32",null,null,null,null,"どこまで4","T32"]
[null,"どこまで5","T33",null,null,null,null,"どこまで5","T33"]
[null,"どこまで6","T34",null,null,null,null,"どこまで6","T34"]
[null,"どこまで7","T35",null,null,null,null,"どこまで7","T35"]
[null,"どこまで8","T36",null,null,null,null,"どこまで8","T36"]
[null,"どこまで9","T37",null,null,null,null,"どこまで9","T37"]
[null,"どこまで10","T38",null,null,null,null,"どこまで10","T38"]
[null,"バス1","AB29",null,null,null,null,"バス1","AB29"]
[null,"バス2","AB30",null,null,null,null,"バス2","AB30"]
[null,"バス3","AB31",null,null,null,null,"バス3","AB31"]
[null,"バス4","AB32",null,null,null,null,"バス4","AB32"]
[null,"バス5","AB33",null,null,null,null,"バス5","AB33"]
[null,"バス6","AB34",null,null,null,null,"バス6","AB34"]
[null,"バス7","AB35",null,null,null,null,"バス7","AB35"]
[null,"バス8","AB36",null,null,null,null,"バス8","AB36"]
[null,"バス9","AB37",null,null,null,null,"バス9","AB37"]
[null,"バス10","AB38",null,null,null,null,"バス10","AB38"]
[null,"車使用1","AD29",null,null,null,null,"車使用1","AD29"]
[null,"車使用2","AD30",null,null,null,null,"車使用2","AD30"]
[null,"車使用3","AD31",null,null,null,null,"車使用3","AD31"]
[null,"車使用4","AD32",null,null,null,null,"車使用4","AD32"]
[null,"車使用5","AD33",null,null,null,null,"車使用5","AD33"]
[null,"車使用6","AD34",null,null,null,null,"車使用6","AD34"]
[null,"車使用7","AD35",null,null,null,null,"車使用7","AD35"]
[null,"車使用8","AD36",null,null,null,null,"車使用8","AD36"]
[null,"車使用9","AD37",null,null,null,null,"車使用9","AD37"]
[null,"車使用10","AD38",null,null,null,null,"車使用10","AD38"]
[null,"私鉄1","AH29",null,null,null,null,"私鉄1","AH29"]
[null,"私鉄2","AH30",null,null,null,null,"私鉄2","AH30"]
[null,"私鉄3","AH31",null,null,null,null,"私鉄3","AH31"]
[null,"私鉄4","AH32",null,null,null,null,"私鉄4","AH32"]
[null,"私鉄5","AH33",null,null,null,null,"私鉄5","AH33"]
[null,"私鉄6","AH34",null,null,null,null,"私鉄6","AH34"]
[null,"私鉄7","AH35",null,null,null,null,"私鉄7","AH35"]
[null,"私鉄8","AH36",null,null,null,null,"私鉄8","AH36"]
[null,"私鉄9","AH37",null,null,null,null,"私鉄9","AH37"]
[null,"私鉄10","AH38",null,null,null,null,"私鉄10","AH38"]
[null,"バス1","AT29",null,null,null,null,"バス1","AT29"]
[null,"バス2","AT30",null,null,null,null,"バス2","AT30"]
[null,"バス3","AT31",null,null,null,null,"バス3","AT31"]
[null,"バス4","AT32",null,null,null,null,"バス4","AT32"]
[null,"バス5","AT33",null,null,null,null,"バス5","AT33"]
[null,"バス6","AT34",null,null,null,null,"バス6","AT34"]
[null,"バス7","AT35",null,null,null,null,"バス7","AT35"]
[null,"バス8","AT36",null,null,null,null,"バス8","AT36"]
[null,"バス9","AT37",null,null,null,null,"バス9","AT37"]
[null,"バス10","AT38",null,null,null,null,"バス10","AT38"]
[null,"自家用車1","BL29",null,null,null,null,"自家用車1","BL29"]
[null,"自家用車2","BL30",null,null,null,null,"自家用車2","BL30"]
[null,"自家用車3","BL31",null,null,null,null,"自家用車3","BL31"]
[null,"自家用車4","BL32",null,null,null,null,"自家用車4","BL32"]
[null,"自家用車5","BL33",null,null,null,null,"自家用車5","BL33"]
[null,"自家用車6","BL34",null,null,null,null,"自家用車6","BL34"]
[null,"自家用車7","BL35",null,null,null,null,"自家用車7","BL35"]
[null,"自家用車8","BL36",null,null,null,null,"自家用車8","BL36"]
[null,"自家用車9","BL37",null,null,null,null,"自家用車9","BL37"]
[null,"自家用車10","BL38",null,null,null,null,"自家用車10","BL38"]
[null,"タクシー1","CA29",null,null,null,null,"タクシー1","CA29"]
[null,"タクシー2","CA30",null,null,null,null,"タクシー2","CA30"]
[null,"タクシー3","CA31",null,null,null,null,"タクシー3","CA31"]
[null,"タクシー4","CA32",null,null,null,null,"タクシー4","CA32"]
[null,"タクシー5","CA33",null,null,null,null,"タクシー5","CA33"]
[null,"タクシー6","CA34",null,null,null,null,"タクシー6","CA34"]
[null,"タクシー7","CA35",null,null,null,null,"タクシー7","CA35"]
[null,"タクシー8","CA36",null,null,null,null,"タクシー8","CA36"]
[null,"タクシー9","CA37",null,null,null,null,"タクシー9","CA37"]
[null,"タクシー10","CA38",null,null,null,null,"タクシー10","CA38"]
[null,"帰公署","F40",null,null,null,null,"帰公署","F40"]
[null,"帰公署名","L40",null,null,null,null,"帰公署名","L40"]
[null,"帰着自宅","AL40",null,null,null,null,"帰着自宅","AL40"]
[null,"調整1","F43",null,null,null,null,"調整1","F43"]
[null,"調整2","O43",null,null,null,null,"調整2","O43"]
[null,"調整3","X43",null,null,null,null,"調整3","X43"]
[null,"調整4","AE43",null,null,null,null,"調整4","AE43"]
[null,"調整5","F45",null,null,null,null,"調整5","F45"]
[null,"調整6","O45",null,null,null,null,"調整6","O45"]
[null,"調整7","X45",null,null,null,null,"調整7","X45"]
[null,"調整8","AE45",null,null,null,null,"調整8","AE45"]
[null,"プリペイト","BO42",null,null,null,null,"プリペイト","BO42"]
[null,"同乗者1","O47",null,null,null,null,"同乗者1","O47"]
[null,"同乗者2","O48",null,null,null,null,"同乗者2","O48"]
[null,"同乗者3","O49",null,null,null,null,"同乗者3","O49"]
[null,"同乗者4","Z47",null,null,null,null,"同乗者4","Z47"]
[null,"同乗者5","Z48",null,null,null,null,"同乗者5","Z48"]
[null,"同乗者6","Z49",null,null,null,null,"同乗者6","Z49"]
[null,"交通不便","F50",null,null,null,null,"交通不便","F50"]
[null,"緊急","N50",null,null,null,null,"緊急","N50"]
[null,"時間外","V50",null,null,null,null,"時間外","V50"]
[null,"運搬","AA50",null,null,null,null,"運搬","AA50"]
[null,"多目的地","F52",null,null,null,null,"多目的地","F52"]
[null,"その他","N52",null,null,null,null,"その他","N52"]
[null,"その他理由","Y51",null,null,null,null,"その他理由","Y51"]
[null,"チケット","AW47",null,null,null,null,"チケット","AW47"]
[null,"旅費請求","BH47",null,null,null,null,"旅費請求","BH47"]
[null,"同乗","BW47",null,null,null,null,"同乗","BW47"]
[null,"緊急","BH50",null,null,null,null,"緊急","BH50"]
[null,"時間外","BO50",null,null,null,null,"時間外","BO50"]
[null,"運搬","CA50",null,null,null,null,"運搬","CA50"]
[null,"多目的地","AV52",null,null,null,null,"多目的地","AV52"]
[null,"その他","BG52",null,null,null,null,"その他","BG52"]
[null,"その他理由","BR51",null,null,null,null,"その他理由","BR51"]
[null,"有料道路区間1","I54",null,null,null,null,"有料道路区間1","I54"]
[null,"有料道路区間2","V54",null,null,null,null,"有料道路区間2","V54"]
[null,"有料道路区間3","AF54",null,null,null,null,"有料道路区間3","AF54"]
[null,"有料道路区間4","AW54",null,null,null,null,"有料道路区間4","AW54"]
[null,"時間短縮1","J56",null,null,null,null,"時間短縮1","J56"]
[null,"利用が一般的1","V56",null,null,null,null,"利用が一般的1","V56"]
[null,"通勤区間1","J58",null,null,null,null,"通勤区間1","J58"]
[null,"時間短縮2","AG56",null,null,null,null,"時間短縮2","AG56"]
[null,"利用が一般的2","AW56",null,null,null,null,"利用が一般的2","AW56"]
[null,"通勤区間2","AG58",null,null,null,null,"通勤区間2","AG58"]
[null,"有料道路合計","BO56",null,null,null,null,"有料道路合計","BO56"]
[null,"駐車場名1","I60",null,null,null,null,"駐車場名1","I60"]
[null,"駐車場理由1","J62",null,null,null,null,"駐車場理由1","J62"]
[null,"駐車場名2","AF60",null,null,null,null,"駐車場名2","AF60"]
[null,"駐車場理由2","AG62",null,null,null,null,"駐車場理由2","AG62"]
[null,"駐車場合計","BO62",null,null,null,null,"駐車場合計","BO62"]
[null,"別途支給","F65",null,null,null,null,"別途支給","F65"]
[null,"別途支給金額","N65",null,null,null,null,"別途支給金額","N65"]
[null,"別途支給先","AK65",null,null,null,null,"別途支給先","AK65"]
[null,"備考1","N67",null,null,null,null,"備考1","N67"]
[null,"備考2","AX67",null,null,null,null,"備考2","AX67"]
[null,"備考3","N68",null,null,null,null,"備考3","N68"]
[null,"備考4","E69",null,null,null,null,"備考4","E69"]

{"sheet":"基礎データ","index":2,"n_rows":1001,"n_cols":81,"rows_kept":1001,"cut":false,"hidden":false,"merged":[[0,4,0,11],[1,10,1,11],[1,6,1,7],[1,8,1,9],[1,4,1,5]]}
[null,null,null,null,"通勤手当利用調整",null,null,null,null,null,null,null,null,"№",null,"駅名","頻度","頻度順",null,"№","Rank","用務名","頻度 + row()/10000","用務名（頻度順）","№","Rank","用務先","頻度 + row()/10000","用務名（頻度順）",null,"学校名",null,"方法",null,"出発地・帰着地","方法",null,"主要用務先","距離数",null,"駐車場",null,"有料道路",null,"備考",null,"見本1名前","経路発","経路着","方法","見本1用務名","見本1用務先",null,"見本2名前","経路発","経路着","方法","見本2用務名","見本2用務先",null,"見本3名前","経路発","経路着","方法","見本3用務名","見本3用務先",null,"見本4名前","経路発","経路着","方法","見本4用務名","見本4用務先",null,"見本5名前","経路発","経路着","方法","見本5用務名","見本5用務先","旅行日始"]
["名前","職名","職員番号","住所","名鉄",null,"地下鉄",null,"ＪＲ",null,"通勤同一",null,null,1,{"$f":"RANK(Q2,$Q$2:$Q$1002)","v":69},"赤池",{"$f":"IF(P2=\"\",ROW()/100000000,COUNTIF(過去ログ!$BQ$3:$CT$9999,基礎データ!P2)+ROW()/10000)","v":2.0000000000000001E-4},{"$f":"IF(P2=\"\",\"\",VLOOKUP(N2,$O$2:$P$1002,2,FALSE))","v":"勝川駅"},null,1,{"$f":"RANK(W2,$W$2:$W$1002)","v":1000},null,{"$f":"IF(V2=\"\",ROW()/100000000,COUNTIF(過去ログ!$N$3:$N$9999,基礎データ!V2)+ROW()/10000)","v":2E-8},{"$f":"IF(VLOOKUP(T2,$U$2:$V$1002,2,FALSE)=0,\"\",VLOOKUP(T2,$U$2:$V$1002,2,FALSE))","v":""},1,{"$f":"RANK(AB2,$AB$2:$AB$1002)","v":1000},null,{"$f":"IF(AA2=\"\",ROW()/100000000,COUNTIF(過去ログ!$N$3:$Y$9999,基礎データ!AA2)+ROW()/10000)","v":2E-8},{"$f":"IF(VLOOKUP(Y2,$Z$2:$AA$1002,2,FALSE)=0,\"\",VLOOKUP(Y2,$Z$2:$AA$1002,2,FALSE))","v":""},null,"豊明市立豊明小学校",null,"地下鉄",null,"学校","全経路自家用車",null,"豊明小学校",null,null,"名古屋市",null,"鳴海IC",null,"何を使って",null,"市役所往復","固定公署","固定公署","固定全経路自家用車","a","豊明市（市役所）",null,"市内小中学校往復","固定公署","固定公署","固定全経路自家用車","固定豊明市（市役所）",null,null,"健康診断","固定公署","固定公署","固定全経路自家用車",null,null,null,"社会見学引率","固定公署","固定公署","固定全経路自家用車","第1学年社会見学引率","普通",null,"社会見学下見","固定公署","固定公署","固定全経路自家用車","第1学年社会見学下見","普通",{"$f":"DATE(旅行命令!$O$12+2018,旅行命令!$U$12,旅行命令!$Z$12)","v":"2025-05-25"}]
[null,null,null,null,null,null,null,null,null,null,null,null,null,2,{"$f":"RANK(Q3,$Q$2:$Q$1002)","v":68},"学校",{"$f":"IF(P3=\"\",ROW()/100000000,COUNTIF(過去ログ!$BQ$3:$CT$9999,基礎データ!P3)+ROW()/10000)","v":2.9999999999999997E-4},"下末",null,2,{"$f":"RANK(W3,$W$2:$W$1002)","v":999},null,{"$f":"IF(V3=\"\",ROW()/100000000,COUNTIF(過去ログ!$N$3:$N$9999,基礎データ!V3)+ROW()/10000)","v":2.9999999999999997E-8},{"$f":"IF(VLOOKUP(T3,$U$2:$V$1002,2,FALSE)=0,\"\",VLOOKUP(T3,$U$2:$V$1002,2,FALSE))","v":""},2,{"$f":"RANK(AB3,$AB$2:$AB$1002)","v":999},null,{"$f":"IF(AA3=\"\",ROW()/100000000,COUNTIF(過去ログ!$N$3:$Y$9999,基礎データ!AA3)+ROW()/10000)","v":2.9999999999999997E-8},{"$f":"IF(VLOOKUP(Y3,$Z$2:$AA$1002,2,FALSE)=0,\"\",VLOOKUP(Y3,$Z$2:$AA$1002,2,FALSE))","v":""},null,"豊明市立中央小学校",null,"名鉄",null,"自宅","全経路同乗",null,"中央小学校",null,null,"豊明市",null,"大高IC",null,null,null,null,null,null,null,"b",null,null,null,null,null,null,null,null,null,null,null,null,null,null,null,null,null,null,null,null,"第2学年社会見学引率",null,null,null,null,null,null,"第2学年社会見学下見",null,"今日の日付"]
[null,null,null,null,null,null,null,null,null,null,null,null,null,3,67,"金山",{"$f":"IF(P4=\"\",ROW()/100000000,COUNTIF(過去ログ!$BQ$3:$CT$9999,基礎データ!P4)+ROW()/10000)","v":4.0000000000000002E-4},"勝川",null,3,{"$f":"RANK(W4,$W$2:$W$1002)","v":998},null,{"$f":"IF(V4=\"\",ROW()/100000000,COUNTIF(過去ログ!$N$3:$N$9999,基礎データ!V4)+ROW()/10000)","v":4.0000000000000001E-8},{"$f":"IF(VLOOKUP(T4,$U$2:$V$1002,2,FALSE)=0,\"\",VLOOKUP(T4,$U$2:$V$1002,2,FALSE))","v":""},3,{"$f":"RANK(AB4,$AB$2:$AB$1002)","v":998},null,{"$f":"IF(AA4=\"\",ROW()/100000000,COUNTIF(過去ログ!$N$3:$Y$9999,基礎データ!AA4)+ROW()/10000)","v":4.0000000000000001E-8},{"$f":"IF(VLOOKUP(Y4,$Z$2:$AA$1002,2,FALSE)=0,\"\",VLOOKUP(Y4,$Z$2:$AA$1002,2,FALSE))","v":""},null,"豊明市立沓掛小学校",null,"近鉄",null,"なし","全経路徒歩",null,"沓掛小学校",null,null,"長久手市",null,"有松IC",null,null,null,null,null,null,null,null,null,null,null,null,null,null,null,null,null,null,null,null,null,null,null,null,null,null,null,null,"第3学年社会見学引率",null,null,null,null,null,null,"第3学年社会見学下見",null,{"$f":"NOW()","v":"2025-05-19T16:31:36.290"}]
[null,null,null,null,null,null,null,null,null,null,null,null,null,4,66,"栄",{"$f":"IF(P5=\"\",ROW()/100000000,COUNTIF(過去ログ!$BQ$3:$CT$9999,基礎データ!P5)+ROW()/10000)","v":5.0000000000000001E-4},"名古屋城",null,4,{"$f":"RANK(W5,$W$2:$W$1002)","v":997},null,{"$f":"IF(V5=\"\",ROW()/100000000,COUNTIF(過去ログ!$N$3:$N$9999,基礎データ!V5)+ROW()/10000)","v":4.9999999999999998E-8},"",4,997,null,{"$f":"IF(AA5=\"\",ROW()/100000000,COUNTIF(過去ログ!$N$3:$Y$9999,基礎データ!AA5)+ROW()/10000)","v":4.9999999999999998E-8},{"$f":"IF(VLOOKUP(Y5,$Z$2:$AA$1002,2,FALSE)=0,\"\",VLOOKUP(Y5,$Z$2:$AA$1002,2,FALSE))","v":""},null,"豊明市立栄小学校",null,"JR",null,null,"交通機関",null,"栄小学校",null,null,"東郷町",null,"本郷IC",null,null,null,null,null,null,null,null,null,null,null,null,null,null,null,null,null,null,null,null,null,null,null,null,null,null,null,null,"第4学年社会見学引率",null,null,null,null,null,null,"第4学年社会見学下見",null,"旅行日終"]
[null,null,null,null,null,null,null,null,null,null,null,null,null,5,65,"前後",{"$f":"IF(P6=\"\",ROW()/100000000,COUNTIF(過去ログ!$BQ$3:$CT$9999,基礎データ!P6)+ROW()/10000)","v":5.9999999999999995E-4},"神沢駅",null,5,996,null,{"$f":"IF(V6=\"\",ROW()/100000000,COUNTIF(過去ログ!$N$3:$N$9999,基礎データ!V6)+ROW()/10000)","v":5.9999999999999995E-8},"",5,996,null,{"$f":"IF(AA6=\"\",ROW()/100000000,COUNTIF(過去ログ!$N$3:$Y$9999,基礎データ!AA6)+ROW()/10000)","v":5.9999999999999995E-8},"",null,"豊明市立二村台小学校",null,"回数券",null,null,"その他",null,"二村台小学校",null,null,"日進市",null,"丸の内IC",null,null,null,null,null,null,null,null,null,null,null,null,null,null,null,null,null,null,null,null,null,null,null,null,null,null,null,null,"第5学年社会見学引率",null,null,null,null,null,null,"第5学年社会見学下見",null,{"$f":"IF(旅行命令!$AK$12=\"\",\"\",DATE(旅行命令!$AK$12+2018,旅行命令!$AS$12,旅行命令!$BA$12))","v":""}]
[null,null,null,null,null,null,null,null,null,null,null,null,null,6,64,"センター前",{"$f":"IF(P7=\"\",ROW()/100000000,COUNTIF(過去ログ!$BQ$3:$CT$9999,基礎データ!P7)+ROW()/10000)","v":6.9999999999999999E-4},"日比野",null,6,995,null,{"$f":"IF(V7=\"\",ROW()/100000000,COUNTIF(過去ログ!$N$3:$N$9999,基礎データ!V7)+ROW()/10000)","v":7.0000000000000005E-8},"",6,995,null,{"$f":"IF(AA7=\"\",ROW()/100000000,COUNTIF(過去ログ!$N$3:$Y$9999,基礎データ!AA7)+ROW()/10000)","v":7.0000000000000005E-8},"",null,"豊明市立三崎小学校",null,"通勤同一",null,null,null,null,"三崎小学校",null,null,"春日井市",null,"守山スマートIC",null,null,null,null,null,null,null,null,null,null,null,null,null,null,null,null,null,null,null,null,null,null,null,null,null,null,null,null,"第6学年社会見学引率",null,null,null,null,null,null,"第6学年社会見学下見",null,"泊"]
[null,null,null,null,null,null,null,null,null,null,null,null,null,7,63,"豊明団地",{"$f":"IF(P8=\"\",ROW()/100000000,COUNTIF(過去ログ!$BQ$3:$CT$9999,基礎データ!P8)+ROW()/10000)","v":8.0000000000000004E-4},"住吉町",null,7,994,null,{"$f":"IF(V8=\"\",ROW()/100000000,COUNTIF(過去ログ!$N$3:$N$9999,基礎データ!V8)+ROW()/10000)","v":8.0000000000000002E-8},"",7,994,null,{"$f":"IF(AA8=\"\",ROW()/100000000,COUNTIF(過去ログ!$N$3:$Y$9999,基礎データ!AA8)+ROW()/10000)","v":8.0000000000000002E-8},"",null,"豊明市立大宮小学校",null,"車使用",null,null,null,null,"大宮小学校",null,null,"小牧市",null,"引山IC",null,null,null,null,null,null,null,null,null,null,null,null,null,null,null,null,null,null,null,null,null,null,null,null,null,null,null,null,null,null,null,null,null,null,null,null,null,{"$f":"旅行命令!$BL$12","v":0}]
[null,null,null,null,null,null,null,null,null,null,null,null,null,8,62,"名古屋",{"$f":"IF(P9=\"\",ROW()/100000000,COUNTIF(過去ログ!$BQ$3:$CT$9999,基礎データ!P9)+ROW()/10000)","v":8.9999999999999998E-4},{"$f":"IF(P9=\"\",\"\",VLOOKUP(N9,$O$2:$P$1002,2,FALSE))","v":"名鉄名古屋"},null,8,993,null,{"$f":"IF(V9=\"\",ROW()/100000000,COUNTIF(過去ログ!$N$3:$N$9999,基礎データ!V9)+ROW()/10000)","v":8.9999999999999999E-8},"",8,993,null,{"$f":"IF(AA9=\"\",ROW()/100000000,COUNTIF(過去ログ!$N$3:$Y$9999,基礎データ!AA9)+ROW()/10000)","v":8.9999999999999999E-8},"",null,"豊明市立舘小学校",null,"車同乗",null,null,null,null,"舘小学校",null,null,"尾張旭市",null,"勝川IC",null,null,null,null,null,null,null,null,null,null,null,null,null,null,null,null,null,null,null,null,null,null,null,null,null,null,null,null,null,null,null,null,null,null,null,null,null,"日"]
[null,null,null,null,null,null,null,null,null,null,null,null,null,9,61,"市役所",{"$f":"IF(P10=\"\",ROW()/100000000,COUNTIF(過去ログ!$BQ$3:$CT$9999,基礎データ!P10)+ROW()/10000)","v":1E-3},"星ヶ丘",null,9,992,null,{"$f":"IF(V10=\"\",ROW()/100000000,COUNTIF(過去ログ!$N$3:$N$9999,基礎データ!V10)+ROW()/10000)","v":9.9999999999999995E-8},"",9,992,null,{"$f":"IF(AA10=\"\",ROW()/100000000,COUNTIF(過去ログ!$N$3:$Y$9999,基礎データ!AA10)+ROW()/10000)","v":9.9999999999999995E-8},"",null,"豊明市立豊明中学校",null,"バス",null,null,null,null,"豊明中学校",null,null,null,null,null,null,null,null,null,null,null,null,null,null,null,null,null,null,null,null,null,null,null,null,null,null,null,null,null,null,null,null,null,null,null,null,null,null,null,null,null,null,{"$f":"IF($CC$6=\"\",1,$CC$6-$CC$2+1)","v":1}]
[null,null,null,null,null,null,null,null,null,null,null,null,null,10,60,"伏見",{"$f":"IF(P11=\"\",ROW()/100000000,COUNTIF(過去ログ!$BQ$3:$CT$9999,基礎データ!P11)+ROW()/10000)","v":1.1000000000000001E-3},"山ノ神",null,10,991,null,{"$f":"IF(V11=\"\",ROW()/100000000,COUNTIF(過去ログ!$N$3:$N$9999,基礎データ!V11)+ROW()/10000)","v":1.1000000000000001E-7},"",10,991,null,{"$f":"IF(AA11=\"\",ROW()/100000000,COUNTIF(過去ログ!$N$3:$Y$9999,基礎データ!AA11)+ROW()/10000)","v":1.1000000000000001E-7},"",null,"豊明市立栄中学校",null,"タクシー",null,null,null,null,"栄中学校"]
[null,null,null,null,null,null,null,null,null,null,null,null,null,11,59,"有松",{"$f":"IF(P12=\"\",ROW()/100000000,COUNTIF(過去ログ!$BQ$3:$CT$9999,基礎データ!P12)+ROW()/10000)","v":1.1999999999999999E-3},"野並",null,11,990,null,{"$f":"IF(V12=\"\",ROW()/100000000,COUNTIF(過去ログ!$N$3:$N$9999,基礎データ!V12)+ROW()/10000)","v":1.1999999999999999E-7},"",11,990,null,{"$f":"IF(AA12=\"\",ROW()/100000000,COUNTIF(過去ログ!$N$3:$Y$9999,基礎データ!AA12)+ROW()/10000)","v":1.1999999999999999E-7},"",null,"豊明市立沓掛中学校",null,"公用車",null,null,null,null,"沓掛中学校"]
[null,null,null,null,null,null,null,null,null,null,null,null,null,12,58,"吹上",{"$f":"IF(P13=\"\",ROW()/100000000,COUNTIF(過去ログ!$BQ$3:$CT$9999,基礎データ!P13)+ROW()/10000)","v":1.2999999999999999E-3},"牛巻",null,12,989,null,{"$f":"IF(V13=\"\",ROW()/100000000,COUNTIF(過去ログ!$N$3:$N$9999,基礎データ!V13)+ROW()/10000)","v":1.3E-7},"",12,989,null,{"$f":"IF(AA13=\"\",ROW()/100000000,COUNTIF(過去ログ!$N$3:$Y$9999,基礎データ!AA13)+ROW()/10000)","v":1.3E-7},"",null,null,null,"私鉄",null,null,null,null,"豊明市(市役所)"]
[null,null,null,null,null,null,null,null,null,null,null,null,null,13,57,"池下",{"$f":"IF(P14=\"\",ROW()/100000000,COUNTIF(過去ログ!$BQ$3:$CT$9999,基礎データ!P14)+ROW()/10000)","v":1.4E-3},"新瑞橋駅",null,13,988,null,{"$f":"IF(V14=\"\",ROW()/100000000,COUNTIF(過去ログ!$N$3:$N$9999,基礎データ!V14)+ROW()/10000)","v":1.4000000000000001E-7},"",13,988,null,{"$f":"IF(AA14=\"\",ROW()/100000000,COUNTIF(過去ログ!$N$3:$Y$9999,基礎データ!AA14)+ROW()/10000)","v":1.4000000000000001E-7},"",null,null,null,null,null,null,null,null,"文化会館"]
[null,null,null,null,null,null,null,null,null,null,null,null,null,14,56,"自宅",{"$f":"IF(P15=\"\",ROW()/100000000,COUNTIF(過去ログ!$BQ$3:$CT$9999,基礎データ!P15)+ROW()/10000)","v":1.5E-3},"新瑞橋",null,14,987,null,{"$f":"IF(V15=\"\",ROW()/100000000,COUNTIF(過去ログ!$N$3:$N$9999,基礎データ!V15)+ROW()/10000)","v":1.4999999999999999E-7},"",14,987,null,{"$f":"IF(AA15=\"\",ROW()/100000000,COUNTIF(過去ログ!$N$3:$Y$9999,基礎データ!AA15)+ROW()/10000)","v":1.4999999999999999E-7},"",null,null,null,null,null,null,null,null,"中央調理場"]
[null,null,null,null,null,null,null,null,null,null,null,null,null,15,55,"中川車庫前",{"$f":"IF(P16=\"\",ROW()/100000000,COUNTIF(過去ログ!$BQ$3:$CT$9999,基礎データ!P16)+ROW()/10000)","v":1.6000000000000001E-3},"相生山駅",null,15,986,null,{"$f":"IF(V16=\"\",ROW()/100000000,COUNTIF(過去ログ!$N$3:$N$9999,基礎データ!V16)+ROW()/10000)","v":1.6E-7},"",15,986,null,{"$f":"IF(AA16=\"\",ROW()/100000000,COUNTIF(過去ログ!$N$3:$Y$9999,基礎データ!AA16)+ROW()/10000)","v":1.6E-7},"",null,null,null,null,null,null,null,null,"総合教育センター"]
[null,null,null,null,null,null,null,null,null,null,null,null,null,16,54,"上池",{"$f":"IF(P17=\"\",ROW()/100000000,COUNTIF(過去ログ!$BQ$3:$CT$9999,基礎データ!P17)+ROW()/10000)","v":1.6999999999999999E-3},"西高蔵",null,16,985,null,{"$f":"IF(V17=\"\",ROW()/100000000,COUNTIF(過去ログ!$N$3:$N$9999,基礎データ!V17)+ROW()/10000)","v":1.6999999999999999E-7},"",16,985,null,{"$f":"IF(AA17=\"\",ROW()/100000000,COUNTIF(過去ログ!$N$3:$Y$9999,基礎データ!AA17)+ROW()/10000)","v":1.6999999999999999E-7},"",null,null,null,null,null,null,null,null,"中京サテライト"]
[null,null,null,null,null,null,null,null,null,null,null,null,null,17,53,"豊明中学校前",{"$f":"IF(P18=\"\",ROW()/100000000,COUNTIF(過去ログ!$BQ$3:$CT$9999,基礎データ!P18)+ROW()/10000)","v":1.8E-3},"鳴子北駅",null,17,984,null,{"$f":"IF(V18=\"\",ROW()/100000000,COUNTIF(過去ログ!$N$3:$N$9999,基礎データ!V18)+ROW()/10000)","v":1.8E-7},"",17,984,null,{"$f":"IF(AA18=\"\",ROW()/100000000,COUNTIF(過去ログ!$N$3:$Y$9999,基礎データ!AA18)+ROW()/10000)","v":1.8E-7},"",null,null,null,null,null,null,null,null,"総合福祉会館"]
[null,null,null,null,null,null,null,null,null,null,null,null,null,18,52,"鶴舞",{"$f":"IF(P19=\"\",ROW()/100000000,COUNTIF(過去ログ!$BQ$3:$CT$9999,基礎データ!P19)+ROW()/10000)","v":1.9E-3},"小坂",null,18,983,null,{"$f":"IF(V19=\"\",ROW()/100000000,COUNTIF(過去ログ!$N$3:$N$9999,基礎データ!V19)+ROW()/10000)","v":1.9000000000000001E-7},"",18,983,null,{"$f":"IF(AA19=\"\",ROW()/100000000,COUNTIF(過去ログ!$N$3:$Y$9999,基礎データ!AA19)+ROW()/10000)","v":1.9000000000000001E-7},"",null,null,null,null,null,null,null,null,"東郷町民会館"]
[null,null,null,null,null,null,null,null,null,null,null,null,null,19,51,"大曽根",{"$f":"IF(P20=\"\",ROW()/100000000,COUNTIF(過去ログ!$BQ$3:$CT$9999,基礎データ!P20)+ROW()/10000)","v":2E-3},"西口",null,19,982,null,{"$f":"IF(V20=\"\",ROW()/100000000,COUNTIF(過去ログ!$N$3:$N$9999,基礎データ!V20)+ROW()/10000)","v":1.9999999999999999E-7},"",19,982,null,{"$f":"IF(AA20=\"\",ROW()/100000000,COUNTIF(過去ログ!$N$3:$Y$9999,基礎データ!AA20)+ROW()/10000)","v":1.9999999999999999E-7},"",null,null,null,null,null,null,null,null,"日進市民会館"]
[null,null,null,null,null,null,null,null,null,null,null,null,null,20,50,"高蔵寺",{"$f":"IF(P21=\"\",ROW()/100000000,COUNTIF(過去ログ!$BQ$3:$CT$9999,基礎データ!P21)+ROW()/10000)","v":2.0999999999999999E-3},"豊橋駅前",null,20,981,null,{"$f":"IF(V21=\"\",ROW()/100000000,COUNTIF(過去ログ!$N$3:$N$9999,基礎データ!V21)+ROW()/10000)","v":2.1E-7},"",20,981,null,{"$f":"IF(AA21=\"\",ROW()/100000000,COUNTIF(過去ログ!$N$3:$Y$9999,基礎データ!AA21)+ROW()/10000)","v":2.1E-7},""]
[null,null,null,null,null,null,null,null,null,null,null,null,null,21,49,"六番町",{"$f":"IF(P22=\"\",ROW()/100000000,COUNTIF(過去ログ!$BQ$3:$CT$9999,基礎データ!P22)+ROW()/10000)","v":2.2000000000000001E-3},"茗荷谷",null,21,980,null,{"$f":"IF(V22=\"\",ROW()/100000000,COUNTIF(過去ログ!$N$3:$N$9999,基礎データ!V22)+ROW()/10000)","v":2.2000000000000001E-7},"",21,980,null,{"$f":"IF(AA22=\"\",ROW()/100000000,COUNTIF(過去ログ!$N$3:$Y$9999,基礎データ!AA22)+ROW()/10000)","v":2.2000000000000001E-7},""]
[null,null,null,null,null,null,null,null,null,null,null,null,null,22,48,"高畑",{"$f":"IF(P23=\"\",ROW()/100000000,COUNTIF(過去ログ!$BQ$3:$CT$9999,基礎データ!P23)+ROW()/10000)","v":2.3E-3},"東京",null,22,979,null,{"$f":"IF(V23=\"\",ROW()/100000000,COUNTIF(過去ログ!$N$3:$N$9999,基礎データ!V23)+ROW()/10000)","v":2.2999999999999999E-7},"",22,979,null,{"$f":"IF(AA23=\"\",ROW()/100000000,COUNTIF(過去ログ!$N$3:$Y$9999,基礎データ!AA23)+ROW()/10000)","v":2.2999999999999999E-7},""]
[null,null,null,null,null,null,null,null,null,null,null,null,null,23,47,"神宮前",{"$f":"IF(P24=\"\",ROW()/100000000,COUNTIF(過去ログ!$BQ$3:$CT$9999,基礎データ!P24)+ROW()/10000)","v":2.3999999999999998E-3},"間米",null,23,978,null,{"$f":"IF(V24=\"\",ROW()/100000000,COUNTIF(過去ログ!$N$3:$N$9999,基礎データ!V24)+ROW()/10000)","v":2.3999999999999998E-7},"",23,978,null,{"$f":"IF(AA24=\"\",ROW()/100000000,COUNTIF(過去ログ!$N$3:$Y$9999,基礎データ!AA24)+ROW()/10000)","v":2.3999999999999998E-7},""]
[null,null,null,null,null,null,null,null,null,null,null,null,null,24,46,"港区役所",{"$f":"IF(P25=\"\",ROW()/100000000,COUNTIF(過去ログ!$BQ$3:$CT$9999,基礎データ!P25)+ROW()/10000)","v":2.5000000000000001E-3},"新栄1丁目西",null,24,977,null,{"$f":"IF(V25=\"\",ROW()/100000000,COUNTIF(過去ログ!$N$3:$N$9999,基礎データ!V25)+ROW()/10000)","v":2.4999999999999999E-7},"",24,977,null,{"$f":"IF(AA25=\"\",ROW()/100000000,COUNTIF(過去ログ!$N$3:$Y$9999,基礎データ!AA25)+ROW()/10000)","v":2.4999999999999999E-7},""]
[null,null,null,null,null,null,null,null,null,null,null,null,null,25,45,"平安通",{"$f":"IF(P26=\"\",ROW()/100000000,COUNTIF(過去ログ!$BQ$3:$CT$9999,基礎データ!P26)+ROW()/10000)","v":2.5999999999999999E-3},"二村台保育園",null,25,976,null,{"$f":"IF(V26=\"\",ROW()/100000000,COUNTIF(過去ログ!$N$3:$N$9999,基礎データ!V26)+ROW()/10000)","v":2.6E-7},"",25,976,null,{"$f":"IF(AA26=\"\",ROW()/100000000,COUNTIF(過去ログ!$N$3:$Y$9999,基礎データ!AA26)+ROW()/10000)","v":2.6E-7},""]
[null,null,null,null,null,null,null,null,null,null,null,null,null,26,44,"小牧",{"$f":"IF(P27=\"\",ROW()/100000000,COUNTIF(過去ログ!$BQ$3:$CT$9999,基礎データ!P27)+ROW()/10000)","v":2.7000000000000001E-3},"千種",null,26,975,null,{"$f":"IF(V27=\"\",ROW()/100000000,COUNTIF(過去ログ!$N$3:$N$9999,基礎データ!V27)+ROW()/10000)","v":2.7000000000000001E-7},"",26,975,null,{"$f":"IF(AA27=\"\",ROW()/100000000,COUNTIF(過去ログ!$N$3:$Y$9999,基礎データ!AA27)+ROW()/10000)","v":2.7000000000000001E-7},""]
[null,null,null,null,null,null,null,null,null,null,null,null,null,27,43,"上前津",{"$f":"IF(P28=\"\",ROW()/100000000,COUNTIF(過去ログ!$BQ$3:$CT$9999,基礎データ!P28)+ROW()/10000)","v":2.8E-3},"保見",null,27,974,null,{"$f":"IF(V28=\"\",ROW()/100000000,COUNTIF(過去ログ!$N$3:$N$9999,基礎データ!V28)+ROW()/10000)","v":2.8000000000000002E-7},"",27,974,null,{"$f":"IF(AA28=\"\",ROW()/100000000,COUNTIF(過去ログ!$N$3:$Y$9999,基礎データ!AA28)+ROW()/10000)","v":2.8000000000000002E-7},""]
[null,null,null,null,null,null,null,null,null,null,null,null,null,28,42,"米野木",{"$f":"IF(P29=\"\",ROW()/100000000,COUNTIF(過去ログ!$BQ$3:$CT$9999,基礎データ!P29)+ROW()/10000)","v":2.8999999999999998E-3},"新豊田",null,28,973,null,{"$f":"IF(V29=\"\",ROW()/100000000,COUNTIF(過去ログ!$N$3:$N$9999,基礎データ!V29)+ROW()/10000)","v":2.8999999999999998E-7},"",28,973,null,{"$f":"IF(AA29=\"\",ROW()/100000000,COUNTIF(過去ログ!$N$3:$Y$9999,基礎データ!AA29)+ROW()/10000)","v":2.8999999999999998E-7},""]
[null,null,null,null,null,null,null,null,null,null,null,null,null,29,41,"いりなか",{"$f":"IF(P30=\"\",ROW()/100000000,COUNTIF(過去ログ!$BQ$3:$CT$9999,基礎データ!P30)+ROW()/10000)","v":3.0000000000000001E-3},"二村台１丁目",null,29,972,null,{"$f":"IF(V30=\"\",ROW()/100000000,COUNTIF(過去ログ!$N$3:$N$9999,基礎データ!V30)+ROW()/10000)","v":2.9999999999999999E-7},"",29,972,null,{"$f":"IF(AA30=\"\",ROW()/100000000,COUNTIF(過去ログ!$N$3:$Y$9999,基礎データ!AA30)+ROW()/10000)","v":2.9999999999999999E-7},""]
[null,null,null,null,null,null,null,null,null,null,null,null,null,30,40,"公署",{"$f":"IF(P31=\"\",ROW()/100000000,COUNTIF(過去ログ!$BQ$3:$CT$9999,基礎データ!P31)+ROW()/10000)","v":3.0999999999999999E-3},"味岡",null,30,971,null,{"$f":"IF(V31=\"\",ROW()/100000000,COUNTIF(過去ログ!$N$3:$N$9999,基礎データ!V31)+ROW()/10000)","v":3.1E-7},"",30,971,null,{"$f":"IF(AA31=\"\",ROW()/100000000,COUNTIF(過去ログ!$N$3:$Y$9999,基礎データ!AA31)+ROW()/10000)","v":3.1E-7},""]
[null,null,null,null,null,null,null,null,null,null,null,null,null,31,39,"刈谷",{"$f":"IF(P32=\"\",ROW()/100000000,COUNTIF(過去ログ!$BQ$3:$CT$9999,基礎データ!P32)+ROW()/10000)","v":3.2000000000000002E-3},"上飯田",null,31,970,null,{"$f":"IF(V32=\"\",ROW()/100000000,COUNTIF(過去ログ!$N$3:$N$9999,基礎データ!V32)+ROW()/10000)","v":3.2000000000000001E-7},"",31,970,null,{"$f":"IF(AA32=\"\",ROW()/100000000,COUNTIF(過去ログ!$N$3:$Y$9999,基礎データ!AA32)+ROW()/10000)","v":3.2000000000000001E-7},""]
[null,null,null,null,null,null,null,null,null,null,null,null,null,32,38,"蒲郡",{"$f":"IF(P33=\"\",ROW()/100000000,COUNTIF(過去ログ!$BQ$3:$CT$9999,基礎データ!P33)+ROW()/10000)","v":3.3E-3},"八事日赤",null,32,969,null,{"$f":"IF(V33=\"\",ROW()/100000000,COUNTIF(過去ログ!$N$3:$N$9999,基礎データ!V33)+ROW()/10000)","v":3.3000000000000002E-7},"",32,969,null,{"$f":"IF(AA33=\"\",ROW()/100000000,COUNTIF(過去ログ!$N$3:$Y$9999,基礎データ!AA33)+ROW()/10000)","v":3.3000000000000002E-7},""]
[null,null,null,null,null,null,null,null,null,null,null,null,null,33,37,"知立",{"$f":"IF(P34=\"\",ROW()/100000000,COUNTIF(過去ログ!$BQ$3:$CT$9999,基礎データ!P34)+ROW()/10000)","v":3.3999999999999998E-3},"平針",null,33,968,null,{"$f":"IF(V34=\"\",ROW()/100000000,COUNTIF(過去ログ!$N$3:$N$9999,基礎データ!V34)+ROW()/10000)","v":3.3999999999999997E-7},"",33,968,null,{"$f":"IF(AA34=\"\",ROW()/100000000,COUNTIF(過去ログ!$N$3:$Y$9999,基礎データ!AA34)+ROW()/10000)","v":3.3999999999999997E-7},""]
[null,null,null,null,null,null,null,null,null,null,null,null,null,34,36,"豊田市",{"$f":"IF(P35=\"\",ROW()/100000000,COUNTIF(過去ログ!$BQ$3:$CT$9999,基礎データ!P35)+ROW()/10000)","v":3.5000000000000001E-3},"神宮東門",null,34,967,null,{"$f":"IF(V35=\"\",ROW()/100000000,COUNTIF(過去ログ!$N$3:$N$9999,基礎データ!V35)+ROW()/10000)","v":3.4999999999999998E-7},"",34,967,null,{"$f":"IF(AA35=\"\",ROW()/100000000,COUNTIF(過去ログ!$N$3:$Y$9999,基礎データ!AA35)+ROW()/10000)","v":3.4999999999999998E-7},""]
[null,null,null,null,null,null,null,null,null,null,null,null,null,35,35,"荒子駅",{"$f":"IF(P36=\"\",ROW()/100000000,COUNTIF(過去ログ!$BQ$3:$CT$9999,基礎データ!P36)+ROW()/10000)","v":3.5999999999999999E-3},"荒子駅",null,35,966,null,{"$f":"IF(V36=\"\",ROW()/100000000,COUNTIF(過去ログ!$N$3:$N$9999,基礎データ!V36)+ROW()/10000)","v":3.5999999999999999E-7},"",35,966,null,{"$f":"IF(AA36=\"\",ROW()/100000000,COUNTIF(過去ログ!$N$3:$Y$9999,基礎データ!AA36)+ROW()/10000)","v":3.5999999999999999E-7},""]
[null,null,null,null,null,null,null,null,null,null,null,null,null,36,34,"神宮東門",{"$f":"IF(P37=\"\",ROW()/100000000,COUNTIF(過去ログ!$BQ$3:$CT$9999,基礎データ!P37)+ROW()/10000)","v":3.7000000000000002E-3},"豊田市",null,36,965,null,{"$f":"IF(V37=\"\",ROW()/100000000,COUNTIF(過去ログ!$N$3:$N$9999,基礎データ!V37)+ROW()/10000)","v":3.7E-7},"",36,965,null,{"$f":"IF(AA37=\"\",ROW()/100000000,COUNTIF(過去ログ!$N$3:$Y$9999,基礎データ!AA37)+ROW()/10000)","v":3.7E-7},""]
[null,null,null,null,null,null,null,null,null,null,null,null,null,37,33,"平針",{"$f":"IF(P38=\"\",ROW()/100000000,COUNTIF(過去ログ!$BQ$3:$CT$9999,基礎データ!P38)+ROW()/10000)","v":3.8E-3},"知立",null,37,964,null,{"$f":"IF(V38=\"\",ROW()/100000000,COUNTIF(過去ログ!$N$3:$N$9999,基礎データ!V38)+ROW()/10000)","v":3.8000000000000001E-7},"",37,964,null,{"$f":"IF(AA38=\"\",ROW()/100000000,COUNTIF(過去ログ!$N$3:$Y$9999,基礎データ!AA38)+ROW()/10000)","v":3.8000000000000001E-7},""]
[null,null,null,null,null,null,null,null,null,null,null,null,null,38,32,"八事日赤",{"$f":"IF(P39=\"\",ROW()/100000000,COUNTIF(過去ログ!$BQ$3:$CT$9999,基礎データ!P39)+ROW()/10000)","v":3.8999999999999998E-3},"蒲郡",null,38,963,null,{"$f":"IF(V39=\"\",ROW()/100000000,COUNTIF(過去ログ!$N$3:$N$9999,基礎データ!V39)+ROW()/10000)","v":3.9000000000000002E-7},"",38,963,null,{"$f":"IF(AA39=\"\",ROW()/100000000,COUNTIF(過去ログ!$N$3:$Y$9999,基礎データ!AA39)+ROW()/10000)","v":3.9000000000000002E-7},""]
[null,null,null,null,null,null,null,null,null,null,null,null,null,39,31,"上飯田",{"$f":"IF(P40=\"\",ROW()/100000000,COUNTIF(過去ログ!$BQ$3:$CT$9999,基礎データ!P40)+ROW()/10000)","v":4.0000000000000001E-3},"刈谷",null,39,962,null,{"$f":"IF(V40=\"\",ROW()/100000000,COUNTIF(過去ログ!$N$3:$N$9999,基礎データ!V40)+ROW()/10000)","v":3.9999999999999998E-7},"",39,962,null,{"$f":"IF(AA40=\"\",ROW()/100000000,COUNTIF(過去ログ!$N$3:$Y$9999,基礎データ!AA40)+ROW()/10000)","v":3.9999999999999998E-7},""]
[null,null,null,null,null,null,null,null,null,null,null,null,null,40,30,"味岡",{"$f":"IF(P41=\"\",ROW()/100000000,COUNTIF(過去ログ!$BQ$3:$CT$9999,基礎データ!P41)+ROW()/10000)","v":4.1000000000000003E-3},"公署",null,40,961,null,{"$f":"IF(V41=\"\",ROW()/100000000,COUNTIF(過去ログ!$N$3:$N$9999,基礎データ!V41)+ROW()/10000)","v":4.0999999999999999E-7},"",40,961,null,{"$f":"IF(AA41=\"\",ROW()/100000000,COUNTIF(過去ログ!$N$3:$Y$9999,基礎データ!AA41)+ROW()/10000)","v":4.0999999999999999E-7},""]
[null,null,null,null,null,null,null,null,null,null,null,null,null,41,29,"二村台１丁目",{"$f":"IF(P42=\"\",ROW()/100000000,COUNTIF(過去ログ!$BQ$3:$CT$9999,基礎データ!P42)+ROW()/10000)","v":4.1999999999999997E-3},"いりなか",null,41,960,null,{"$f":"IF(V42=\"\",ROW()/100000000,COUNTIF(過去ログ!$N$3:$N$9999,基礎データ!V42)+ROW()/10000)","v":4.2E-7},"",41,960,null,{"$f":"IF(AA42=\"\",ROW()/100000000,COUNTIF(過去ログ!$N$3:$Y$9999,基礎データ!AA42)+ROW()/10000)","v":4.2E-7},""]
[null,null,null,null,null,null,null,null,null,null,null,null,null,42,28,"新豊田",{"$f":"IF(P43=\"\",ROW()/100000000,COUNTIF(過去ログ!$BQ$3:$CT$9999,基礎データ!P43)+ROW()/10000)","v":4.3E-3},"米野木",null,42,959,null,{"$f":"IF(V43=\"\",ROW()/100000000,COUNTIF(過去ログ!$N$3:$N$9999,基礎データ!V43)+ROW()/10000)","v":4.3000000000000001E-7},"",42,959,null,{"$f":"IF(AA43=\"\",ROW()/100000000,COUNTIF(過去ログ!$N$3:$Y$9999,基礎データ!AA43)+ROW()/10000)","v":4.3000000000000001E-7},""]
[null,null,null,null,null,null,null,null,null,null,null,null,null,43,27,"保見",{"$f":"IF(P44=\"\",ROW()/100000000,COUNTIF(過去ログ!$BQ$3:$CT$9999,基礎データ!P44)+ROW()/10000)","v":4.4000000000000003E-3},"上前津",null,43,958,null,{"$f":"IF(V44=\"\",ROW()/100000000,COUNTIF(過去ログ!$N$3:$N$9999,基礎データ!V44)+ROW()/10000)","v":4.4000000000000002E-7},"",43,958,null,{"$f":"IF(AA44=\"\",ROW()/100000000,COUNTIF(過去ログ!$N$3:$Y$9999,基礎データ!AA44)+ROW()/10000)","v":4.4000000000000002E-7},""]
[null,null,null,null,null,null,null,null,null,null,null,null,null,44,26,"千種",{"$f":"IF(P45=\"\",ROW()/100000000,COUNTIF(過去ログ!$BQ$3:$CT$9999,基礎データ!P45)+ROW()/10000)","v":4.4999999999999997E-3},"小牧",null,44,957,null,{"$f":"IF(V45=\"\",ROW()/100000000,COUNTIF(過去ログ!$N$3:$N$9999,基礎データ!V45)+ROW()/10000)","v":4.4999999999999998E-7},"",44,957,null,{"$f":"IF(AA45=\"\",ROW()/100000000,COUNTIF(過去ログ!$N$3:$Y$9999,基礎データ!AA45)+ROW()/10000)","v":4.4999999999999998E-7},""]
[null,null,null,null,null,null,null,null,null,null,null,null,null,45,25,"二村台保育園",{"$f":"IF(P46=\"\",ROW()/100000000,COUNTIF(過去ログ!$BQ$3:$CT$9999,基礎データ!P46)+ROW()/10000)","v":4.5999999999999999E-3},"平安通",null,45,956,null,{"$f":"IF(V46=\"\",ROW()/100000000,COUNTIF(過去ログ!$N$3:$N$9999,基礎データ!V46)+ROW()/10000)","v":4.5999999999999999E-7},"",45,956,null,{"$f":"IF(AA46=\"\",ROW()/100000000,COUNTIF(過去ログ!$N$3:$Y$9999,基礎データ!AA46)+ROW()/10000)","v":4.5999999999999999E-7},""]
[null,null,null,null,null,null,null,null,null,null,null,null,null,46,24,"新栄1丁目西",{"$f":"IF(P47=\"\",ROW()/100000000,COUNTIF(過去ログ!$BQ$3:$CT$9999,基礎データ!P47)+ROW()/10000)","v":4.7000000000000002E-3},"港区役所",null,46,955,null,{"$f":"IF(V47=\"\",ROW()/100000000,COUNTIF(過去ログ!$N$3:$N$9999,基礎データ!V47)+ROW()/10000)","v":4.7E-7},"",46,955,null,{"$f":"IF(AA47=\"\",ROW()/100000000,COUNTIF(過去ログ!$N$3:$Y$9999,基礎データ!AA47)+ROW()/10000)","v":4.7E-7},""]
[null,null,null,null,null,null,null,null,null,null,null,null,null,47,23,"間米",{"$f":"IF(P48=\"\",ROW()/100000000,COUNTIF(過去ログ!$BQ$3:$CT$9999,基礎データ!P48)+ROW()/10000)","v":4.7999999999999996E-3},"神宮前",null,47,954,null,{"$f":"IF(V48=\"\",ROW()/100000000,COUNTIF(過去ログ!$N$3:$N$9999,基礎データ!V48)+ROW()/10000)","v":4.7999999999999996E-7},"",47,954,null,{"$f":"IF(AA48=\"\",ROW()/100000000,COUNTIF(過去ログ!$N$3:$Y$9999,基礎データ!AA48)+ROW()/10000)","v":4.7999999999999996E-7},""]
[null,null,null,null,null,null,null,null,null,null,null,null,null,48,22,"東京",{"$f":"IF(P49=\"\",ROW()/100000000,COUNTIF(過去ログ!$BQ$3:$CT$9999,基礎データ!P49)+ROW()/10000)","v":4.8999999999999998E-3},"高畑",null,48,953,null,{"$f":"IF(V49=\"\",ROW()/100000000,COUNTIF(過去ログ!$N$3:$N$9999,基礎データ!V49)+ROW()/10000)","v":4.8999999999999997E-7},"",48,953,null,{"$f":"IF(AA49=\"\",ROW()/100000000,COUNTIF(過去ログ!$N$3:$Y$9999,基礎データ!AA49)+ROW()/10000)","v":4.8999999999999997E-7},""]
[null,null,null,null,null,null,null,null,null,null,null,null,null,49,21,"茗荷谷",{"$f":"IF(P50=\"\",ROW()/100000000,COUNTIF(過去ログ!$BQ$3:$CT$9999,基礎データ!P50)+ROW()/10000)","v":5.0000000000000001E-3},"六番町",null,49,952,null,{"$f":"IF(V50=\"\",ROW()/100000000,COUNTIF(過去ログ!$N$3:$N$9999,基礎データ!V50)+ROW()/10000)","v":4.9999999999999998E-7},"",49,952,null,{"$f":"IF(AA50=\"\",ROW()/100000000,COUNTIF(過去ログ!$N$3:$Y$9999,基礎データ!AA50)+ROW()/10000)","v":4.9999999999999998E-7},""]
[null,null,null,null,null,null,null,null,null,null,null,null,null,50,20,"豊橋駅前",{"$f":"IF(P51=\"\",ROW()/100000000,COUNTIF(過去ログ!$BQ$3:$CT$9999,基礎データ!P51)+ROW()/10000)","v":5.1000000000000004E-3},"高蔵寺",null,50,951,null,{"$f":"IF(V51=\"\",ROW()/100000000,COUNTIF(過去ログ!$N$3:$N$9999,基礎データ!V51)+ROW()/10000)","v":5.0999999999999999E-7},"",50,951,null,{"$f":"IF(AA51=\"\",ROW()/100000000,COUNTIF(過去ログ!$N$3:$Y$9999,基礎データ!AA51)+ROW()/10000)","v":5.0999999999999999E-7},""]
[null,null,null,null,null,null,null,null,null,null,null,null,null,51,19,"西口",{"$f":"IF(P52=\"\",ROW()/100000000,COUNTIF(過去ログ!$BQ$3:$CT$9999,基礎データ!P52)+ROW()/10000)","v":5.1999999999999998E-3},"大曽根",null,51,950,null,{"$f":"IF(V52=\"\",ROW()/100000000,COUNTIF(過去ログ!$N$3:$N$9999,基礎データ!V52)+ROW()/10000)","v":5.2E-7},"",51,950,null,{"$f":"IF(AA52=\"\",ROW()/100000000,COUNTIF(過去ログ!$N$3:$Y$9999,基礎データ!AA52)+ROW()/10000)","v":5.2E-7},""]
[null,null,null,null,null,null,null,null,null,null,null,null,null,52,18,"小坂",{"$f":"IF(P53=\"\",ROW()/100000000,COUNTIF(過去ログ!$BQ$3:$CT$9999,基礎データ!P53)+ROW()/10000)","v":5.3E-3},"鶴舞",null,52,949,null,{"$f":"IF(V53=\"\",ROW()/100000000,COUNTIF(過去ログ!$N$3:$N$9999,基礎データ!V53)+ROW()/10000)","v":5.3000000000000001E-7},"",52,949,null,{"$f":"IF(AA53=\"\",ROW()/100000000,COUNTIF(過去ログ!$N$3:$Y$9999,基礎データ!AA53)+ROW()/10000)","v":5.3000000000000001E-7},""]
[null,null,null,null,null,null,null,null,null,null,null,null,null,53,17,"鳴子北駅",{"$f":"IF(P54=\"\",ROW()/100000000,COUNTIF(過去ログ!$BQ$3:$CT$9999,基礎データ!P54)+ROW()/10000)","v":5.4000000000000003E-3},"豊明中学校前",null,53,948,null,{"$f":"IF(V54=\"\",ROW()/100000000,COUNTIF(過去ログ!$N$3:$N$9999,基礎データ!V54)+ROW()/10000)","v":5.4000000000000002E-7},"",53,948,null,{"$f":"IF(AA54=\"\",ROW()/100000000,COUNTIF(過去ログ!$N$3:$Y$9999,基礎データ!AA54)+ROW()/10000)","v":5.4000000000000002E-7},""]
[null,null,null,null,null,null,null,null,null,null,null,null,null,54,16,"西高蔵",{"$f":"IF(P55=\"\",ROW()/100000000,COUNTIF(過去ログ!$BQ$3:$CT$9999,基礎データ!P55)+ROW()/10000)","v":5.4999999999999997E-3},"上池",null,54,947,null,{"$f":"IF(V55=\"\",ROW()/100000000,COUNTIF(過去ログ!$N$3:$N$9999,基礎データ!V55)+ROW()/10000)","v":5.5000000000000003E-7},"",54,947,null,{"$f":"IF(AA55=\"\",ROW()/100000000,COUNTIF(過去ログ!$N$3:$Y$9999,基礎データ!AA55)+ROW()/10000)","v":5.5000000000000003E-7},""]
[null,null,null,null,null,null,null,null,null,null,null,null,null,55,15,"相生山駅",{"$f":"IF(P56=\"\",ROW()/100000000,COUNTIF(過去ログ!$BQ$3:$CT$9999,基礎データ!P56)+ROW()/10000)","v":5.5999999999999999E-3},"中川車庫前",null,55,946,null,{"$f":"IF(V56=\"\",ROW()/100000000,COUNTIF(過去ログ!$N$3:$N$9999,基礎データ!V56)+ROW()/10000)","v":5.6000000000000004E-7},"",55,946,null,{"$f":"IF(AA56=\"\",ROW()/100000000,COUNTIF(過去ログ!$N$3:$Y$9999,基礎データ!AA56)+ROW()/10000)","v":5.6000000000000004E-7},""]
[null,null,null,null,null,null,null,null,null,null,null,null,null,56,14,"新瑞橋",{"$f":"IF(P57=\"\",ROW()/100000000,COUNTIF(過去ログ!$BQ$3:$CT$9999,基礎データ!P57)+ROW()/10000)","v":5.7000000000000002E-3},"自宅",null,56,945,null,{"$f":"IF(V57=\"\",ROW()/100000000,COUNTIF(過去ログ!$N$3:$N$9999,基礎データ!V57)+ROW()/10000)","v":5.7000000000000005E-7},"",56,945,null,{"$f":"IF(AA57=\"\",ROW()/100000000,COUNTIF(過去ログ!$N$3:$Y$9999,基礎データ!AA57)+ROW()/10000)","v":5.7000000000000005E-7},""]
[null,null,null,null,null,null,null,null,null,null,null,null,null,57,13,"新瑞橋駅",{"$f":"IF(P58=\"\",ROW()/100000000,COUNTIF(過去ログ!$BQ$3:$CT$9999,基礎データ!P58)+ROW()/10000)","v":5.7999999999999996E-3},"池下",null,57,944,null,{"$f":"IF(V58=\"\",ROW()/100000000,COUNTIF(過去ログ!$N$3:$N$9999,基礎データ!V58)+ROW()/10000)","v":5.7999999999999995E-7},"",57,944,null,{"$f":"IF(AA58=\"\",ROW()/100000000,COUNTIF(過去ログ!$N$3:$Y$9999,基礎データ!AA58)+ROW()/10000)","v":5.7999999999999995E-7},""]
[null,null,null,null,null,null,null,null,null,null,null,null,null,58,12,"牛巻",{"$f":"IF(P59=\"\",ROW()/100000000,COUNTIF(過去ログ!$BQ$3:$CT$9999,基礎データ!P59)+ROW()/10000)","v":5.8999999999999999E-3},"吹上",null,58,943,null,{"$f":"IF(V59=\"\",ROW()/100000000,COUNTIF(過去ログ!$N$3:$N$9999,基礎データ!V59)+ROW()/10000)","v":5.8999999999999996E-7},"",58,943,null,{"$f":"IF(AA59=\"\",ROW()/100000000,COUNTIF(過去ログ!$N$3:$Y$9999,基礎データ!AA59)+ROW()/10000)","v":5.8999999999999996E-7},""]
[null,null,null,null,null,null,null,null,null,null,null,null,null,59,11,"野並",{"$f":"IF(P60=\"\",ROW()/100000000,COUNTIF(過去ログ!$BQ$3:$CT$9999,基礎データ!P60)+ROW()/10000)","v":6.0000000000000001E-3},"有松",null,59,942,null,{"$f":"IF(V60=\"\",ROW()/100000000,COUNTIF(過去ログ!$N$3:$N$9999,基礎データ!V60)+ROW()/10000)","v":5.9999999999999997E-7},"",59,942,null,{"$f":"IF(AA60=\"\",ROW()/100000000,COUNTIF(過去ログ!$N$3:$Y$9999,基礎データ!AA60)+ROW()/10000)","v":5.9999999999999997E-7},""]
[null,null,null,null,null,null,null,null,null,null,null,null,null,60,10,"山ノ神",{"$f":"IF(P61=\"\",ROW()/100000000,COUNTIF(過去ログ!$BQ$3:$CT$9999,基礎データ!P61)+ROW()/10000)","v":6.1000000000000004E-3},"伏見",null,60,941,null,{"$f":"IF(V61=\"\",ROW()/100000000,COUNTIF(過去ログ!$N$3:$N$9999,基礎データ!V61)+ROW()/10000)","v":6.0999999999999998E-7},"",60,941,null,{"$f":"IF(AA61=\"\",ROW()/100000000,COUNTIF(過去ログ!$N$3:$Y$9999,基礎データ!AA61)+ROW()/10000)","v":6.0999999999999998E-7},""]
[null,null,null,null,null,null,null,null,null,null,null,null,null,61,9,"星ヶ丘",{"$f":"IF(P62=\"\",ROW()/100000000,COUNTIF(過去ログ!$BQ$3:$CT$9999,基礎データ!P62)+ROW()/10000)","v":6.1999999999999998E-3},"市役所",null,61,940,null,{"$f":"IF(V62=\"\",ROW()/100000000,COUNTIF(過去ログ!$N$3:$N$9999,基礎データ!V62)+ROW()/10000)","v":6.1999999999999999E-7},"",61,940,null,{"$f":"IF(AA62=\"\",ROW()/100000000,COUNTIF(過去ログ!$N$3:$Y$9999,基礎データ!AA62)+ROW()/10000)","v":6.1999999999999999E-7},""]
[null,null,null,null,null,null,null,null,null,null,null,null,null,62,8,"名鉄名古屋",{"$f":"IF(P63=\"\",ROW()/100000000,COUNTIF(過去ログ!$BQ$3:$CT$9999,基礎データ!P63)+ROW()/10000)","v":6.3E-3},"名古屋",null,62,939,null,{"$f":"IF(V63=\"\",ROW()/100000000,COUNTIF(過去ログ!$N$3:$N$9999,基礎データ!V63)+ROW()/10000)","v":6.3E-7},"",62,939,null,{"$f":"IF(AA63=\"\",ROW()/100000000,COUNTIF(過去ログ!$N$3:$Y$9999,基礎データ!AA63)+ROW()/10000)","v":6.3E-7},""]
[null,null,null,null,null,null,null,null,null,null,null,null,null,63,7,"住吉町",{"$f":"IF(P64=\"\",ROW()/100000000,COUNTIF(過去ログ!$BQ$3:$CT$9999,基礎データ!P64)+ROW()/10000)","v":6.4000000000000003E-3},"豊明団地",null,63,938,null,{"$f":"IF(V64=\"\",ROW()/100000000,COUNTIF(過去ログ!$N$3:$N$9999,基礎データ!V64)+ROW()/10000)","v":6.4000000000000001E-7},"",63,938,null,{"$f":"IF(AA64=\"\",ROW()/100000000,COUNTIF(過去ログ!$N$3:$Y$9999,基礎データ!AA64)+ROW()/10000)","v":6.4000000000000001E-7},""]
[null,null,null,null,null,null,null,null,null,null,null,null,null,64,6,"日比野",{"$f":"IF(P65=\"\",ROW()/100000000,COUNTIF(過去ログ!$BQ$3:$CT$9999,基礎データ!P65)+ROW()/10000)","v":6.4999999999999997E-3},"センター前",null,64,937,null,{"$f":"IF(V65=\"\",ROW()/100000000,COUNTIF(過去ログ!$N$3:$N$9999,基礎データ!V65)+ROW()/10000)","v":6.5000000000000002E-7},"",64,937,null,{"$f":"IF(AA65=\"\",ROW()/100000000,COUNTIF(過去ログ!$N$3:$Y$9999,基礎データ!AA65)+ROW()/10000)","v":6.5000000000000002E-7},""]
[null,null,null,null,null,null,null,null,null,null,null,null,null,65,5,"神沢駅",{"$f":"IF(P66=\"\",ROW()/100000000,COUNTIF(過去ログ!$BQ$3:$CT$9999,基礎データ!P66)+ROW()/10000)","v":6.6E-3},"前後",null,65,936,null,{"$f":"IF(V66=\"\",ROW()/100000000,COUNTIF(過去ログ!$N$3:$N$9999,基礎データ!V66)+ROW()/10000)","v":6.6000000000000003E-7},"",65,936,null,{"$f":"IF(AA66=\"\",ROW()/100000000,COUNTIF(過去ログ!$N$3:$Y$9999,基礎データ!AA66)+ROW()/10000)","v":6.6000000000000003E-7},""]
[null,null,null,null,null,null,null,null,null,null,null,null,null,66,{"$f":"RANK(Q67,$Q$2:$Q$1002)","v":4},"名古屋城",{"$f":"IF(P67=\"\",ROW()/100000000,COUNTIF(過去ログ!$BQ$3:$CT$9999,基礎データ!P67)+ROW()/10000)","v":6.7000000000000002E-3},"栄",null,66,935,null,{"$f":"IF(V67=\"\",ROW()/100000000,COUNTIF(過去ログ!$N$3:$N$9999,基礎データ!V67)+ROW()/10000)","v":6.7000000000000004E-7},"",66,935,null,{"$f":"IF(AA67=\"\",ROW()/100000000,COUNTIF(過去ログ!$N$3:$Y$9999,基礎データ!AA67)+ROW()/10000)","v":6.7000000000000004E-7},""]
[null,null,null,null,null,null,null,null,null,null,null,null,null,67,3,"勝川",{"$f":"IF(P68=\"\",ROW()/100000000,COUNTIF(過去ログ!$BQ$3:$CT$9999,基礎データ!P68)+ROW()/10000)","v":6.7999999999999996E-3},"金山",null,67,934,null,{"$f":"IF(V68=\"\",ROW()/100000000,COUNTIF(過去ログ!$N$3:$N$9999,基礎データ!V68)+ROW()/10000)","v":6.7999999999999995E-7},{"$f":"IF(VLOOKUP(T68,$U$2:$V$1002,2,FALSE)=0,\"\",VLOOKUP(T68,$U$2:$V$1002,2,FALSE))","v":""},67,{"$f":"RANK(AB68,$AB$2:$AB$1002)","v":934},null,{"$f":"IF(AA68=\"\",ROW()/100000000,COUNTIF(過去ログ!$N$3:$Y$9999,基礎データ!AA68)+ROW()/10000)","v":6.7999999999999995E-7},""]
[null,null,null,null,null,null,null,null,null,null,null,null,null,68,2,"下末",{"$f":"IF(P69=\"\",ROW()/100000000,COUNTIF(過去ログ!$BQ$3:$CT$9999,基礎データ!P69)+ROW()/10000)","v":6.8999999999999999E-3},"学校",null,68,{"$f":"RANK(W69,$W$2:$W$1002)","v":933},null,{"$f":"IF(V69=\"\",ROW()/100000000,COUNTIF(過去ログ!$N$3:$N$9999,基礎データ!V69)+ROW()/10000)","v":6.8999999999999996E-7},"",68,933,null,{"$f":"IF(AA69=\"\",ROW()/100000000,COUNTIF(過去ログ!$N$3:$Y$9999,基礎データ!AA69)+ROW()/10000)","v":6.8999999999999996E-7},{"$f":"IF(VLOOKUP(Y69,$Z$2:$AA$1002,2,FALSE)=0,\"\",VLOOKUP(Y69,$Z$2:$AA$1002,2,FALSE))","v":""}]
[null,null,null,null,null,null,null,null,null,null,null,null,null,69,1,"勝川駅",{"$f":"IF(P70=\"\",ROW()/100000000,COUNTIF(過去ログ!$BQ$3:$CT$9999,基礎データ!P70)+ROW()/10000)","v":7.0000000000000001E-3},"赤池",null,69,932,null,{"$f":"IF(V70=\"\",ROW()/100000000,COUNTIF(過去ログ!$N$3:$N$9999,基礎データ!V70)+ROW()/10000)","v":6.9999999999999997E-7},"",69,932,null,{"$f":"IF(AA70=\"\",ROW()/100000000,COUNTIF(過去ログ!$N$3:$Y$9999,基礎データ!AA70)+ROW()/10000)","v":6.9999999999999997E-7},""]
[null,null,null,null,null,null,null,null,null,null,null,null,null,70,1000,null,{"$f":"IF(P71=\"\",ROW()/100000000,COUNTIF(過去ログ!$BQ$3:$CT$9999,基礎データ!P71)+ROW()/10000)","v":7.0999999999999998E-7},"",null,70,931,null,{"$f":"IF(V71=\"\",ROW()/100000000,COUNTIF(過去ログ!$N$3:$N$9999,基礎データ!V71)+ROW()/10000)","v":7.0999999999999998E-7},"",70,931,null,{"$f":"IF(AA71=\"\",ROW()/100000000,COUNTIF(過去ログ!$N$3:$Y$9999,基礎データ!AA71)+ROW()/10000)","v":7.0999999999999998E-7},""]
[null,null,null,null,null,null,null,null,null,null,null,null,null,71,999,null,{"$f":"IF(P72=\"\",ROW()/100000000,COUNTIF(過去ログ!$BQ$3:$CT$9999,基礎データ!P72)+ROW()/10000)","v":7.1999999999999999E-7},"",null,71,930,null,{"$f":"IF(V72=\"\",ROW()/100000000,COUNTIF(過去ログ!$N$3:$N$9999,基礎データ!V72)+ROW()/10000)","v":7.1999999999999999E-7},"",71,930,null,{"$f":"IF(AA72=\"\",ROW()/100000000,COUNTIF(過去ログ!$N$3:$Y$9999,基礎データ!AA72)+ROW()/10000)","v":7.1999999999999999E-7},""]
[null,null,null,null,null,null,null,null,null,null,null,null,null,72,998,null,{"$f":"IF(P73=\"\",ROW()/100000000,COUNTIF(過去ログ!$BQ$3:$CT$9999,基礎データ!P73)+ROW()/10000)","v":7.3E-7},{"$f":"IF(P73=\"\",\"\",VLOOKUP(N73,$O$2:$P$1002,2,FALSE))","v":""},null,72,929,null,{"$f":"IF(V73=\"\",ROW()/100000000,COUNTIF(過去ログ!$N$3:$N$9999,基礎データ!V73)+ROW()/10000)","v":7.3E-7},"",72,929,null,{"$f":"IF(AA73=\"\",ROW()/100000000,COUNTIF(過去ログ!$N$3:$Y$9999,基礎データ!AA73)+ROW()/10000)","v":7.3E-7},""]
[null,null,null,null,null,null,null,null,null,null,null,null,null,73,997,null,{"$f":"IF(P74=\"\",ROW()/100000000,COUNTIF(過去ログ!$BQ$3:$CT$9999,基礎データ!P74)+ROW()/10000)","v":7.4000000000000001E-7},"",null,73,928,null,{"$f":"IF(V74=\"\",ROW()/100000000,COUNTIF(過去ログ!$N$3:$N$9999,基礎データ!V74)+ROW()/10000)","v":7.4000000000000001E-7},"",73,928,null,{"$f":"IF(AA74=\"\",ROW()/100000000,COUNTIF(過去ログ!$N$3:$Y$9999,基礎データ!AA74)+ROW()/10000)","v":7.4000000000000001E-7},""]
[null,null,null,null,null,null,null,null,null,null,null,null,null,74,996,null,{"$f":"IF(P75=\"\",ROW()/100000000,COUNTIF(過去ログ!$BQ$3:$CT$9999,基礎データ!P75)+ROW()/10000)","v":7.5000000000000002E-7},"",null,74,927,null,{"$f":"IF(V75=\"\",ROW()/100000000,COUNTIF(過去ログ!$N$3:$N$9999,基礎データ!V75)+ROW()/10000)","v":7.5000000000000002E-7},"",74,927,null,{"$f":"IF(AA75=\"\",ROW()/100000000,COUNTIF(過去ログ!$N$3:$Y$9999,基礎データ!AA75)+ROW()/10000)","v":7.5000000000000002E-7},""]
[null,null,null,null,null,null,null,null,null,null,null,null,null,75,995,null,{"$f":"IF(P76=\"\",ROW()/100000000,COUNTIF(過去ログ!$BQ$3:$CT$9999,基礎データ!P76)+ROW()/10000)","v":7.6000000000000003E-7},"",null,75,926,null,{"$f":"IF(V76=\"\",ROW()/100000000,COUNTIF(過去ログ!$N$3:$N$9999,基礎データ!V76)+ROW()/10000)","v":7.6000000000000003E-7},"",75,926,null,{"$f":"IF(AA76=\"\",ROW()/100000000,COUNTIF(過去ログ!$N$3:$Y$9999,基礎データ!AA76)+ROW()/10000)","v":7.6000000000000003E-7},""]
[null,null,null,null,null,null,null,null,null,null,null,null,null,76,994,null,{"$f":"IF(P77=\"\",ROW()/100000000,COUNTIF(過去ログ!$BQ$3:$CT$9999,基礎データ!P77)+ROW()/10000)","v":7.7000000000000004E-7},"",null,76,925,null,{"$f":"IF(V77=\"\",ROW()/100000000,COUNTIF(過去ログ!$N$3:$N$9999,基礎データ!V77)+ROW()/10000)","v":7.7000000000000004E-7},"",76,925,null,{"$f":"IF(AA77=\"\",ROW()/100000000,COUNTIF(過去ログ!$N$3:$Y$9999,基礎データ!AA77)+ROW()/10000)","v":7.7000000000000004E-7},""]
[null,null,null,null,null,null,null,null,null,null,null,null,null,77,993,null,{"$f":"IF(P78=\"\",ROW()/100000000,COUNTIF(過去ログ!$BQ$3:$CT$9999,基礎データ!P78)+ROW()/10000)","v":7.8000000000000005E-7},"",null,77,924,null,{"$f":"IF(V78=\"\",ROW()/100000000,COUNTIF(過去ログ!$N$3:$N$9999,基礎データ!V78)+ROW()/10000)","v":7.8000000000000005E-7},"",77,924,null,{"$f":"IF(AA78=\"\",ROW()/100000000,COUNTIF(過去ログ!$N$3:$Y$9999,基礎データ!AA78)+ROW()/10000)","v":7.8000000000000005E-7},""]
[null,null,null,null,null,null,null,null,null,null,null,null,null,78,992,null,{"$f":"IF(P79=\"\",ROW()/100000000,COUNTIF(過去ログ!$BQ$3:$CT$9999,基礎データ!P79)+ROW()/10000)","v":7.8999999999999995E-7},"",null,78,923,null,{"$f":"IF(V79=\"\",ROW()/100000000,COUNTIF(過去ログ!$N$3:$N$9999,基礎データ!V79)+ROW()/10000)","v":7.8999999999999995E-7},"",78,923,null,{"$f":"IF(AA79=\"\",ROW()/100000000,COUNTIF(過去ログ!$N$3:$Y$9999,基礎データ!AA79)+ROW()/10000)","v":7.8999999999999995E-7},""]
[null,null,null,null,null,null,null,null,null,null,null,null,null,79,991,null,{"$f":"IF(P80=\"\",ROW()/100000000,COUNTIF(過去ログ!$BQ$3:$CT$9999,基礎データ!P80)+ROW()/10000)","v":7.9999999999999996E-7},"",null,79,922,null,{"$f":"IF(V80=\"\",ROW()/100000000,COUNTIF(過去ログ!$N$3:$N$9999,基礎データ!V80)+ROW()/10000)","v":7.9999999999999996E-7},"",79,922,null,{"$f":"IF(AA80=\"\",ROW()/100000000,COUNTIF(過去ログ!$N$3:$Y$9999,基礎データ!AA80)+ROW()/10000)","v":7.9999999999999996E-7},""]
[null,null,null,null,null,null,null,null,null,null,null,null,null,80,990,null,{"$f":"IF(P81=\"\",ROW()/100000000,COUNTIF(過去ログ!$BQ$3:$CT$9999,基礎データ!P81)+ROW()/10000)","v":8.0999999999999997E-7},"",null,80,921,null,{"$f":"IF(V81=\"\",ROW()/100000000,COUNTIF(過去ログ!$N$3:$N$9999,基礎データ!V81)+ROW()/10000)","v":8.0999999999999997E-7},"",80,921,null,{"$f":"IF(AA81=\"\",ROW()/100000000,COUNTIF(過去ログ!$N$3:$Y$9999,基礎データ!AA81)+ROW()/10000)","v":8.0999999999999997E-7},""]
[null,null,null,null,null,null,null,null,null,null,null,null,null,81,989,null,{"$f":"IF(P82=\"\",ROW()/100000000,COUNTIF(過去ログ!$BQ$3:$CT$9999,基礎データ!P82)+ROW()/10000)","v":8.1999999999999998E-7},"",null,81,920,null,{"$f":"IF(V82=\"\",ROW()/100000000,COUNTIF(過去ログ!$N$3:$N$9999,基礎データ!V82)+ROW()/10000)","v":8.1999999999999998E-7},"",81,920,null,{"$f":"IF(AA82=\"\",ROW()/100000000,COUNTIF(過去ログ!$N$3:$Y$9999,基礎データ!AA82)+ROW()/10000)","v":8.1999999999999998E-7},""]
[null,null,null,null,null,null,null,null,null,null,null,null,null,82,988,null,{"$f":"IF(P83=\"\",ROW()/100000000,COUNTIF(過去ログ!$BQ$3:$CT$9999,基礎データ!P83)+ROW()/10000)","v":8.2999999999999999E-7},"",null,82,919,null,{"$f":"IF(V83=\"\",ROW()/100000000,COUNTIF(過去ログ!$N$3:$N$9999,基礎データ!V83)+ROW()/10000)","v":8.2999999999999999E-7},"",82,919,null,{"$f":"IF(AA83=\"\",ROW()/100000000,COUNTIF(過去ログ!$N$3:$Y$9999,基礎データ!AA83)+ROW()/10000)","v":8.2999999999999999E-7},""]
[null,null,null,null,null,null,null,null,null,null,null,null,null,83,987,null,{"$f":"IF(P84=\"\",ROW()/100000000,COUNTIF(過去ログ!$BQ$3:$CT$9999,基礎データ!P84)+ROW()/10000)","v":8.4E-7},"",null,83,918,null,{"$f":"IF(V84=\"\",ROW()/100000000,COUNTIF(過去ログ!$N$3:$N$9999,基礎データ!V84)+ROW()/10000)","v":8.4E-7},"",83,918,null,{"$f":"IF(AA84=\"\",ROW()/100000000,COUNTIF(過去ログ!$N$3:$Y$9999,基礎データ!AA84)+ROW()/10000)","v":8.4E-7},""]
[null,null,null,null,null,null,null,null,null,null,null,null,null,84,986,null,{"$f":"IF(P85=\"\",ROW()/100000000,COUNTIF(過去ログ!$BQ$3:$CT$9999,基礎データ!P85)+ROW()/10000)","v":8.5000000000000001E-7},"",null,84,917,null,{"$f":"IF(V85=\"\",ROW()/100000000,COUNTIF(過去ログ!$N$3:$N$9999,基礎データ!V85)+ROW()/10000)","v":8.5000000000000001E-7},"",84,917,null,{"$f":"IF(AA85=\"\",ROW()/100000000,COUNTIF(過去ログ!$N$3:$Y$9999,基礎データ!AA85)+ROW()/10000)","v":8.5000000000000001E-7},""]
[null,null,null,null,null,null,null,null,null,null,null,null,null,85,985,null,{"$f":"IF(P86=\"\",ROW()/100000000,COUNTIF(過去ログ!$BQ$3:$CT$9999,基礎データ!P86)+ROW()/10000)","v":8.6000000000000002E-7},"",null,85,916,null,{"$f":"IF(V86=\"\",ROW()/100000000,COUNTIF(過去ログ!$N$3:$N$9999,基礎データ!V86)+ROW()/10000)","v":8.6000000000000002E-7},"",85,916,null,{"$f":"IF(AA86=\"\",ROW()/100000000,COUNTIF(過去ログ!$N$3:$Y$9999,基礎データ!AA86)+ROW()/10000)","v":8.6000000000000002E-7},""]
[null,null,null,null,null,null,null,null,null,null,null,null,null,86,984,null,{"$f":"IF(P87=\"\",ROW()/100000000,COUNTIF(過去ログ!$BQ$3:$CT$9999,基礎データ!P87)+ROW()/10000)","v":8.7000000000000003E-7},"",null,86,915,null,{"$f":"IF(V87=\"\",ROW()/100000000,COUNTIF(過去ログ!$N$3:$N$9999,基礎データ!V87)+ROW()/10000)","v":8.7000000000000003E-7},"",86,915,null,{"$f":"IF(AA87=\"\",ROW()/100000000,COUNTIF(過去ログ!$N$3:$Y$9999,基礎データ!AA87)+ROW()/10000)","v":8.7000000000000003E-7},""]
[null,null,null,null,null,null,null,null,null,null,null,null,null,87,983,null,{"$f":"IF(P88=\"\",ROW()/100000000,COUNTIF(過去ログ!$BQ$3:$CT$9999,基礎データ!P88)+ROW()/10000)","v":8.8000000000000004E-7},"",null,87,914,null,{"$f":"IF(V88=\"\",ROW()/100000000,COUNTIF(過去ログ!$N$3:$N$9999,基礎データ!V88)+ROW()/10000)","v":8.8000000000000004E-7},"",87,914,null,{"$f":"IF(AA88=\"\",ROW()/100000000,COUNTIF(過去ログ!$N$3:$Y$9999,基礎データ!AA88)+ROW()/10000)","v":8.8000000000000004E-7},""]
[null,null,null,null,null,null,null,null,null,null,null,null,null,88,982,null,{"$f":"IF(P89=\"\",ROW()/100000000,COUNTIF(過去ログ!$BQ$3:$CT$9999,基礎データ!P89)+ROW()/10000)","v":8.8999999999999995E-7},"",null,88,913,null,{"$f":"IF(V89=\"\",ROW()/100000000,COUNTIF(過去ログ!$N$3:$N$9999,基礎データ!V89)+ROW()/10000)","v":8.8999999999999995E-7},"",88,913,null,{"$f":"IF(AA89=\"\",ROW()/100000000,COUNTIF(過去ログ!$N$3:$Y$9999,基礎データ!AA89)+ROW()/10000)","v":8.8999999999999995E-7},""]
[null,null,null,null,null,null,null,null,null,null,null,null,null,89,981,null,{"$f":"IF(P90=\"\",ROW()/100000000,COUNTIF(過去ログ!$BQ$3:$CT$9999,基礎データ!P90)+ROW()/10000)","v":8.9999999999999996E-7},"",null,89,912,null,{"$f":"IF(V90=\"\",ROW()/100000000,COUNTIF(過去ログ!$N$3:$N$9999,基礎データ!V90)+ROW()/10000)","v":8.9999999999999996E-7},"",89,912,null,{"$f":"IF(AA90=\"\",ROW()/100000000,COUNTIF(過去ログ!$N$3:$Y$9999,基礎データ!AA90)+ROW()/10000)","v":8.9999999999999996E-7},""]
[null,null,null,null,null,null,null,null,null,null,null,null,null,90,980,null,{"$f":"IF(P91=\"\",ROW()/100000000,COUNTIF(過去ログ!$BQ$3:$CT$9999,基礎データ!P91)+ROW()/10000)","v":9.0999999999999997E-7},"",null,90,911,null,{"$f":"IF(V91=\"\",ROW()/100000000,COUNTIF(過去ログ!$N$3:$N$9999,基礎データ!V91)+ROW()/10000)","v":9.0999999999999997E-7},"",90,911,null,{"$f":"IF(AA91=\"\",ROW()/100000000,COUNTIF(過去ログ!$N$3:$Y$9999,基礎データ!AA91)+ROW()/10000)","v":9.0999999999999997E-7},""]
[null,null,null,null,null,null,null,null,null,null,null,null,null,91,979,null,{"$f":"IF(P92=\"\",ROW()/100000000,COUNTIF(過去ログ!$BQ$3:$CT$9999,基礎データ!P92)+ROW()/10000)","v":9.1999999999999998E-7},"",null,91,910,null,{"$f":"IF(V92=\"\",ROW()/100000000,COUNTIF(過去ログ!$N$3:$N$9999,基礎データ!V92)+ROW()/10000)","v":9.1999999999999998E-7},"",91,910,null,{"$f":"IF(AA92=\"\",ROW()/100000000,COUNTIF(過去ログ!$N$3:$Y$9999,基礎データ!AA92)+ROW()/10000)","v":9.1999999999999998E-7},""]
[null,null,null,null,null,null,null,null,null,null,null,null,null,92,978,null,{"$f":"IF(P93=\"\",ROW()/100000000,COUNTIF(過去ログ!$BQ$3:$CT$9999,基礎データ!P93)+ROW()/10000)","v":9.2999999999999999E-7},"",null,92,909,null,{"$f":"IF(V93=\"\",ROW()/100000000,COUNTIF(過去ログ!$N$3:$N$9999,基礎データ!V93)+ROW()/10000)","v":9.2999999999999999E-7},"",92,909,null,{"$f":"IF(AA93=\"\",ROW()/100000000,COUNTIF(過去ログ!$N$3:$Y$9999,基礎データ!AA93)+ROW()/10000)","v":9.2999999999999999E-7},""]
[null,null,null,null,null,null,null,null,null,null,null,null,null,93,977,null,{"$f":"IF(P94=\"\",ROW()/100000000,COUNTIF(過去ログ!$BQ$3:$CT$9999,基礎データ!P94)+ROW()/10000)","v":9.4E-7},"",null,93,908,null,{"$f":"IF(V94=\"\",ROW()/100000000,COUNTIF(過去ログ!$N$3:$N$9999,基礎データ!V94)+ROW()/10000)","v":9.4E-7},"",93,908,null,{"$f":"IF(AA94=\"\",ROW()/100000000,COUNTIF(過去ログ!$N$3:$Y$9999,基礎データ!AA94)+ROW()/10000)","v":9.4E-7},""]
[null,null,null,null,null,null,null,null,null,null,null,null,null,94,976,null,{"$f":"IF(P95=\"\",ROW()/100000000,COUNTIF(過去ログ!$BQ$3:$CT$9999,基礎データ!P95)+ROW()/10000)","v":9.5000000000000001E-7},"",null,94,907,null,{"$f":"IF(V95=\"\",ROW()/100000000,COUNTIF(過去ログ!$N$3:$N$9999,基礎データ!V95)+ROW()/10000)","v":9.5000000000000001E-7},"",94,907,null,{"$f":"IF(AA95=\"\",ROW()/100000000,COUNTIF(過去ログ!$N$3:$Y$9999,基礎データ!AA95)+ROW()/10000)","v":9.5000000000000001E-7},""]
[null,null,null,null,null,null,null,null,null,null,null,null,null,95,975,null,{"$f":"IF(P96=\"\",ROW()/100000000,COUNTIF(過去ログ!$BQ$3:$CT$9999,基礎データ!P96)+ROW()/10000)","v":9.5999999999999991E-7},"",null,95,906,null,{"$f":"IF(V96=\"\",ROW()/100000000,COUNTIF(過去ログ!$N$3:$N$9999,基礎データ!V96)+ROW()/10000)","v":9.5999999999999991E-7},"",95,906,null,{"$f":"IF(AA96=\"\",ROW()/100000000,COUNTIF(過去ログ!$N$3:$Y$9999,基礎データ!AA96)+ROW()/10000)","v":9.5999999999999991E-7},""]
[null,null,null,null,null,null,null,null,null,null,null,null,null,96,974,null,{"$f":"IF(P97=\"\",ROW()/100000000,COUNTIF(過去ログ!$BQ$3:$CT$9999,基礎データ!P97)+ROW()/10000)","v":9.7000000000000003E-7},"",null,96,905,null,{"$f":"IF(V97=\"\",ROW()/100000000,COUNTIF(過去ログ!$N$3:$N$9999,基礎データ!V97)+ROW()/10000)","v":9.7000000000000003E-7},"",96,905,null,{"$f":"IF(AA97=\"\",ROW()/100000000,COUNTIF(過去ログ!$N$3:$Y$9999,基礎データ!AA97)+ROW()/10000)","v":9.7000000000000003E-7},""]
[null,null,null,null,null,null,null,null,null,null,null,null,null,97,973,null,{"$f":"IF(P98=\"\",ROW()/100000000,COUNTIF(過去ログ!$BQ$3:$CT$9999,基礎データ!P98)+ROW()/10000)","v":9.7999999999999993E-7},"",null,97,904,null,{"$f":"IF(V98=\"\",ROW()/100000000,COUNTIF(過去ログ!$N$3:$N$9999,基礎データ!V98)+ROW()/10000)","v":9.7999999999999993E-7},"",97,904,null,{"$f":"IF(AA98=\"\",ROW()/100000000,COUNTIF(過去ログ!$N$3:$Y$9999,基礎データ!AA98)+ROW()/10000)","v":9.7999999999999993E-7},""]
[null,null,null,null,null,null,null,null,null,null,null,null,null,98,972,null,{"$f":"IF(P99=\"\",ROW()/100000000,COUNTIF(過去ログ!$BQ$3:$CT$9999,基礎データ!P99)+ROW()/10000)","v":9.9000000000000005E-7},"",null,98,903,null,{"$f":"IF(V99=\"\",ROW()/100000000,COUNTIF(過去ログ!$N$3:$N$9999,基礎データ!V99)+ROW()/10000)","v":9.9000000000000005E-7},"",98,903,null,{"$f":"IF(AA99=\"\",ROW()/100000000,COUNTIF(過去ログ!$N$3:$Y$9999,基礎データ!AA99)+ROW()/10000)","v":9.9000000000000005E-7},""]
[null,null,null,null,null,null,null,null,null,null,null,null,null,99,971,null,{"$f":"IF(P100=\"\",ROW()/100000000,COUNTIF(過去ログ!$BQ$3:$CT$9999,基礎データ!P100)+ROW()/10000)","v":9.9999999999999995E-7},"",null,99,902,null,{"$f":"IF(V100=\"\",ROW()/100000000,COUNTIF(過去ログ!$N$3:$N$9999,基礎データ!V100)+ROW()/10000)","v":9.9999999999999995E-7},"",99,902,null,{"$f":"IF(AA100=\"\",ROW()/100000000,COUNTIF(過去ログ!$N$3:$Y$9999,基礎データ!AA100)+ROW()/10000)","v":9.9999999999999995E-7},""]
[null,null,null,null,null,null,null,null,null,null,null,null,null,100,970,null,{"$f":"IF(P101=\"\",ROW()/100000000,COUNTIF(過去ログ!$BQ$3:$CT$9999,基礎データ!P101)+ROW()/10000)","v":1.0100000000000001E-6},"",null,100,901,null,{"$f":"IF(V101=\"\",ROW()/100000000,COUNTIF(過去ログ!$N$3:$N$9999,基礎データ!V101)+ROW()/10000)","v":1.0100000000000001E-6},"",100,901,null,{"$f":"IF(AA101=\"\",ROW()/100000000,COUNTIF(過去ログ!$N$3:$Y$9999,基礎データ!AA101)+ROW()/10000)","v":1.0100000000000001E-6},""]
[null,null,null,null,null,null,null,null,null,null,null,null,null,101,969,null,{"$f":"IF(P102=\"\",ROW()/100000000,COUNTIF(過去ログ!$BQ$3:$CT$9999,基礎データ!P102)+ROW()/10000)","v":1.02E-6},"",null,101,900,null,{"$f":"IF(V102=\"\",ROW()/100000000,COUNTIF(過去ログ!$N$3:$N$9999,基礎データ!V102)+ROW()/10000)","v":1.02E-6},"",101,900,null,{"$f":"IF(AA102=\"\",ROW()/100000000,COUNTIF(過去ログ!$N$3:$Y$9999,基礎データ!AA102)+ROW()/10000)","v":1.02E-6},""]
[null,null,null,null,null,null,null,null,null,null,null,null,null,102,968,null,{"$f":"IF(P103=\"\",ROW()/100000000,COUNTIF(過去ログ!$BQ$3:$CT$9999,基礎データ!P103)+ROW()/10000)","v":1.0300000000000001E-6},"",null,102,899,null,{"$f":"IF(V103=\"\",ROW()/100000000,COUNTIF(過去ログ!$N$3:$N$9999,基礎データ!V103)+ROW()/10000)","v":1.0300000000000001E-6},"",102,899,null,{"$f":"IF(AA103=\"\",ROW()/100000000,COUNTIF(過去ログ!$N$3:$Y$9999,基礎データ!AA103)+ROW()/10000)","v":1.0300000000000001E-6},""]
[null,null,null,null,null,null,null,null,null,null,null,null,null,103,967,null,{"$f":"IF(P104=\"\",ROW()/100000000,COUNTIF(過去ログ!$BQ$3:$CT$9999,基礎データ!P104)+ROW()/10000)","v":1.04E-6},"",null,103,898,null,{"$f":"IF(V104=\"\",ROW()/100000000,COUNTIF(過去ログ!$N$3:$N$9999,基礎データ!V104)+ROW()/10000)","v":1.04E-6},"",103,898,null,{"$f":"IF(AA104=\"\",ROW()/100000000,COUNTIF(過去ログ!$N$3:$Y$9999,基礎データ!AA104)+ROW()/10000)","v":1.04E-6},""]
[null,null,null,null,null,null,null,null,null,null,null,null,null,104,966,null,{"$f":"IF(P105=\"\",ROW()/100000000,COUNTIF(過去ログ!$BQ$3:$CT$9999,基礎データ!P105)+ROW()/10000)","v":1.0499999999999999E-6},"",null,104,897,null,{"$f":"IF(V105=\"\",ROW()/100000000,COUNTIF(過去ログ!$N$3:$N$9999,基礎データ!V105)+ROW()/10000)","v":1.0499999999999999E-6},"",104,897,null,{"$f":"IF(AA105=\"\",ROW()/100000000,COUNTIF(過去ログ!$N$3:$Y$9999,基礎データ!AA105)+ROW()/10000)","v":1.0499999999999999E-6},""]
[null,null,null,null,null,null,null,null,null,null,null,null,null,105,965,null,{"$f":"IF(P106=\"\",ROW()/100000000,COUNTIF(過去ログ!$BQ$3:$CT$9999,基礎データ!P106)+ROW()/10000)","v":1.06E-6},"",null,105,896,null,{"$f":"IF(V106=\"\",ROW()/100000000,COUNTIF(過去ログ!$N$3:$N$9999,基礎データ!V106)+ROW()/10000)","v":1.06E-6},"",105,896,null,{"$f":"IF(AA106=\"\",ROW()/100000000,COUNTIF(過去ログ!$N$3:$Y$9999,基礎データ!AA106)+ROW()/10000)","v":1.06E-6},""]
[null,null,null,null,null,null,null,null,null,null,null,null,null,106,964,null,{"$f":"IF(P107=\"\",ROW()/100000000,COUNTIF(過去ログ!$BQ$3:$CT$9999,基礎データ!P107)+ROW()/10000)","v":1.0699999999999999E-6},"",null,106,895,null,{"$f":"IF(V107=\"\",ROW()/100000000,COUNTIF(過去ログ!$N$3:$N$9999,基礎データ!V107)+ROW()/10000)","v":1.0699999999999999E-6},"",106,895,null,{"$f":"IF(AA107=\"\",ROW()/100000000,COUNTIF(過去ログ!$N$3:$Y$9999,基礎データ!AA107)+ROW()/10000)","v":1.0699999999999999E-6},""]
[null,null,null,null,null,null,null,null,null,null,null,null,null,107,963,null,{"$f":"IF(P108=\"\",ROW()/100000000,COUNTIF(過去ログ!$BQ$3:$CT$9999,基礎データ!P108)+ROW()/10000)","v":1.08E-6},"",null,107,894,null,{"$f":"IF(V108=\"\",ROW()/100000000,COUNTIF(過去ログ!$N$3:$N$9999,基礎データ!V108)+ROW()/10000)","v":1.08E-6},"",107,894,null,{"$f":"IF(AA108=\"\",ROW()/100000000,COUNTIF(過去ログ!$N$3:$Y$9999,基礎データ!AA108)+ROW()/10000)","v":1.08E-6},""]
[null,null,null,null,null,null,null,null,null,null,null,null,null,108,962,null,{"$f":"IF(P109=\"\",ROW()/100000000,COUNTIF(過去ログ!$BQ$3:$CT$9999,基礎データ!P109)+ROW()/10000)","v":1.0899999999999999E-6},"",null,108,893,null,{"$f":"IF(V109=\"\",ROW()/100000000,COUNTIF(過去ログ!$N$3:$N$9999,基礎データ!V109)+ROW()/10000)","v":1.0899999999999999E-6},"",108,893,null,{"$f":"IF(AA109=\"\",ROW()/100000000,COUNTIF(過去ログ!$N$3:$Y$9999,基礎データ!AA109)+ROW()/10000)","v":1.0899999999999999E-6},""]
[null,null,null,null,null,null,null,null,null,null,null,null,null,109,961,null,{"$f":"IF(P110=\"\",ROW()/100000000,COUNTIF(過去ログ!$BQ$3:$CT$9999,基礎データ!P110)+ROW()/10000)","v":1.1000000000000001E-6},"",null,109,892,null,{"$f":"IF(V110=\"\",ROW()/100000000,COUNTIF(過去ログ!$N$3:$N$9999,基礎データ!V110)+ROW()/10000)","v":1.1000000000000001E-6},"",109,892,null,{"$f":"IF(AA110=\"\",ROW()/100000000,COUNTIF(過去ログ!$N$3:$Y$9999,基礎データ!AA110)+ROW()/10000)","v":1.1000000000000001E-6},""]
[null,null,null,null,null,null,null,null,null,null,null,null,null,110,960,null,{"$f":"IF(P111=\"\",ROW()/100000000,COUNTIF(過去ログ!$BQ$3:$CT$9999,基礎データ!P111)+ROW()/10000)","v":1.11E-6},"",null,110,891,null,{"$f":"IF(V111=\"\",ROW()/100000000,COUNTIF(過去ログ!$N$3:$N$9999,基礎データ!V111)+ROW()/10000)","v":1.11E-6},"",110,891,null,{"$f":"IF(AA111=\"\",ROW()/100000000,COUNTIF(過去ログ!$N$3:$Y$9999,基礎データ!AA111)+ROW()/10000)","v":1.11E-6},""]
[null,null,null,null,null,null,null,null,null,null,null,null,null,111,959,null,{"$f":"IF(P112=\"\",ROW()/100000000,COUNTIF(過去ログ!$BQ$3:$CT$9999,基礎データ!P112)+ROW()/10000)","v":1.1200000000000001E-6},"",null,111,890,null,{"$f":"IF(V112=\"\",ROW()/100000000,COUNTIF(過去ログ!$N$3:$N$9999,基礎データ!V112)+ROW()/10000)","v":1.1200000000000001E-6},"",111,890,null,{"$f":"IF(AA112=\"\",ROW()/100000000,COUNTIF(過去ログ!$N$3:$Y$9999,基礎データ!AA112)+ROW()/10000)","v":1.1200000000000001E-6},""]
[null,null,null,null,null,null,null,null,null,null,null,null,null,112,958,null,{"$f":"IF(P113=\"\",ROW()/100000000,COUNTIF(過去ログ!$BQ$3:$CT$9999,基礎データ!P113)+ROW()/10000)","v":1.13E-6},"",null,112,889,null,{"$f":"IF(V113=\"\",ROW()/100000000,COUNTIF(過去ログ!$N$3:$N$9999,基礎データ!V113)+ROW()/10000)","v":1.13E-6},"",112,889,null,{"$f":"IF(AA113=\"\",ROW()/100000000,COUNTIF(過去ログ!$N$3:$Y$9999,基礎データ!AA113)+ROW()/10000)","v":1.13E-6},""]
[null,null,null,null,null,null,null,null,null,null,null,null,null,113,957,null,{"$f":"IF(P114=\"\",ROW()/100000000,COUNTIF(過去ログ!$BQ$3:$CT$9999,基礎データ!P114)+ROW()/10000)","v":1.1400000000000001E-6},"",null,113,888,null,{"$f":"IF(V114=\"\",ROW()/100000000,COUNTIF(過去ログ!$N$3:$N$9999,基礎データ!V114)+ROW()/10000)","v":1.1400000000000001E-6},"",113,888,null,{"$f":"IF(AA114=\"\",ROW()/100000000,COUNTIF(過去ログ!$N$3:$Y$9999,基礎データ!AA114)+ROW()/10000)","v":1.1400000000000001E-6},""]
[null,null,null,null,null,null,null,null,null,null,null,null,null,114,956,null,{"$f":"IF(P115=\"\",ROW()/100000000,COUNTIF(過去ログ!$BQ$3:$CT$9999,基礎データ!P115)+ROW()/10000)","v":1.15E-6},"",null,114,887,null,{"$f":"IF(V115=\"\",ROW()/100000000,COUNTIF(過去ログ!$N$3:$N$9999,基礎データ!V115)+ROW()/10000)","v":1.15E-6},"",114,887,null,{"$f":"IF(AA115=\"\",ROW()/100000000,COUNTIF(過去ログ!$N$3:$Y$9999,基礎データ!AA115)+ROW()/10000)","v":1.15E-6},{"$f":"IF(VLOOKUP(Y115,$Z$2:$AA$1002,2,FALSE)=0,\"\",VLOOKUP(Y115,$Z$2:$AA$1002,2,FALSE))","v":""}]
[null,null,null,null,null,null,null,null,null,null,null,null,null,115,955,null,{"$f":"IF(P116=\"\",ROW()/100000000,COUNTIF(過去ログ!$BQ$3:$CT$9999,基礎データ!P116)+ROW()/10000)","v":1.1599999999999999E-6},"",null,115,886,null,{"$f":"IF(V116=\"\",ROW()/100000000,COUNTIF(過去ログ!$N$3:$N$9999,基礎データ!V116)+ROW()/10000)","v":1.1599999999999999E-6},"",115,886,null,{"$f":"IF(AA116=\"\",ROW()/100000000,COUNTIF(過去ログ!$N$3:$Y$9999,基礎データ!AA116)+ROW()/10000)","v":1.1599999999999999E-6},""]
[null,null,null,null,null,null,null,null,null,null,null,null,null,116,954,null,{"$f":"IF(P117=\"\",ROW()/100000000,COUNTIF(過去ログ!$BQ$3:$CT$9999,基礎データ!P117)+ROW()/10000)","v":1.17E-6},"",null,116,885,null,{"$f":"IF(V117=\"\",ROW()/100000000,COUNTIF(過去ログ!$N$3:$N$9999,基礎データ!V117)+ROW()/10000)","v":1.17E-6},"",116,885,null,{"$f":"IF(AA117=\"\",ROW()/100000000,COUNTIF(過去ログ!$N$3:$Y$9999,基礎データ!AA117)+ROW()/10000)","v":1.17E-6},""]
[null,null,null,null,null,null,null,null,null,null,null,null,null,117,953,null,{"$f":"IF(P118=\"\",ROW()/100000000,COUNTIF(過去ログ!$BQ$3:$CT$9999,基礎データ!P118)+ROW()/10000)","v":1.1799999999999999E-6},"",null,117,884,null,{"$f":"IF(V118=\"\",ROW()/100000000,COUNTIF(過去ログ!$N$3:$N$9999,基礎データ!V118)+ROW()/10000)","v":1.1799999999999999E-6},"",117,884,null,{"$f":"IF(AA118=\"\",ROW()/100000000,COUNTIF(過去ログ!$N$3:$Y$9999,基礎データ!AA118)+ROW()/10000)","v":1.1799999999999999E-6},""]
[null,null,null,null,null,null,null,null,null,null,null,null,null,118,952,null,{"$f":"IF(P119=\"\",ROW()/100000000,COUNTIF(過去ログ!$BQ$3:$CT$9999,基礎データ!P119)+ROW()/10000)","v":1.19E-6},"",null,118,883,null,{"$f":"IF(V119=\"\",ROW()/100000000,COUNTIF(過去ログ!$N$3:$N$9999,基礎データ!V119)+ROW()/10000)","v":1.19E-6},"",118,883,null,{"$f":"IF(AA119=\"\",ROW()/100000000,COUNTIF(過去ログ!$N$3:$Y$9999,基礎データ!AA119)+ROW()/10000)","v":1.19E-6},""]
[null,null,null,null,null,null,null,null,null,null,null,null,null,119,951,null,{"$f":"IF(P120=\"\",ROW()/100000000,COUNTIF(過去ログ!$BQ$3:$CT$9999,基礎データ!P120)+ROW()/10000)","v":1.1999999999999999E-6},"",null,119,882,null,{"$f":"IF(V120=\"\",ROW()/100000000,COUNTIF(過去ログ!$N$3:$N$9999,基礎データ!V120)+ROW()/10000)","v":1.1999999999999999E-6},"",119,{"$f":"RANK(AB120,$AB$2:$AB$1002)","v":882},null,{"$f":"IF(AA120=\"\",ROW()/100000000,COUNTIF(過去ログ!$N$3:$Y$9999,基礎データ!AA120)+ROW()/10000)","v":1.1999999999999999E-6},""]
[null,null,null,null,null,null,null,null,null,null,null,null,null,120,950,null,{"$f":"IF(P121=\"\",ROW()/100000000,COUNTIF(過去ログ!$BQ$3:$CT$9999,基礎データ!P121)+ROW()/10000)","v":1.2100000000000001E-6},"",null,120,881,null,{"$f":"IF(V121=\"\",ROW()/100000000,COUNTIF(過去ログ!$N$3:$N$9999,基礎データ!V121)+ROW()/10000)","v":1.2100000000000001E-6},"",120,881,null,{"$f":"IF(AA121=\"\",ROW()/100000000,COUNTIF(過去ログ!$N$3:$Y$9999,基礎データ!AA121)+ROW()/10000)","v":1.2100000000000001E-6},""]
[null,null,null,null,null,null,null,null,null,null,null,null,null,121,949,null,{"$f":"IF(P122=\"\",ROW()/100000000,COUNTIF(過去ログ!$BQ$3:$CT$9999,基礎データ!P122)+ROW()/10000)","v":1.22E-6},"",null,121,880,null,{"$f":"IF(V122=\"\",ROW()/100000000,COUNTIF(過去ログ!$N$3:$N$9999,基礎データ!V122)+ROW()/10000)","v":1.22E-6},"",121,880,null,{"$f":"IF(AA122=\"\",ROW()/100000000,COUNTIF(過去ログ!$N$3:$Y$9999,基礎データ!AA122)+ROW()/10000)","v":1.22E-6},""]
[null,null,null,null,null,null,null,null,null,null,null,null,null,122,948,null,{"$f":"IF(P123=\"\",ROW()/100000000,COUNTIF(過去ログ!$BQ$3:$CT$9999,基礎データ!P123)+ROW()/10000)","v":1.2300000000000001E-6},"",null,122,879,null,{"$f":"IF(V123=\"\",ROW()/100000000,COUNTIF(過去ログ!$N$3:$N$9999,基礎データ!V123)+ROW()/10000)","v":1.2300000000000001E-6},"",122,879,null,{"$f":"IF(AA123=\"\",ROW()/100000000,COUNTIF(過去ログ!$N$3:$Y$9999,基礎データ!AA123)+ROW()/10000)","v":1.2300000000000001E-6},""]
[null,null,null,null,null,null,null,null,null,null,null,null,null,123,947,null,{"$f":"IF(P124=\"\",ROW()/100000000,COUNTIF(過去ログ!$BQ$3:$CT$9999,基礎データ!P124)+ROW()/10000)","v":1.24E-6},"",null,123,878,null,{"$f":"IF(V124=\"\",ROW()/100000000,COUNTIF(過去ログ!$N$3:$N$9999,基礎データ!V124)+ROW()/10000)","v":1.24E-6},"",123,878,null,{"$f":"IF(AA124=\"\",ROW()/100000000,COUNTIF(過去ログ!$N$3:$Y$9999,基礎データ!AA124)+ROW()/10000)","v":1.24E-6},""]
[null,null,null,null,null,null,null,null,null,null,null,null,null,124,946,null,{"$f":"IF(P125=\"\",ROW()/100000000,COUNTIF(過去ログ!$BQ$3:$CT$9999,基礎データ!P125)+ROW()/10000)","v":1.2500000000000001E-6},"",null,124,877,null,{"$f":"IF(V125=\"\",ROW()/100000000,COUNTIF(過去ログ!$N$3:$N$9999,基礎データ!V125)+ROW()/10000)","v":1.2500000000000001E-6},"",124,877,null,{"$f":"IF(AA125=\"\",ROW()/100000000,COUNTIF(過去ログ!$N$3:$Y$9999,基礎データ!AA125)+ROW()/10000)","v":1.2500000000000001E-6},""]
[null,null,null,null,null,null,null,null,null,null,null,null,null,125,945,null,{"$f":"IF(P126=\"\",ROW()/100000000,COUNTIF(過去ログ!$BQ$3:$CT$9999,基礎データ!P126)+ROW()/10000)","v":1.26E-6},"",null,125,876,null,{"$f":"IF(V126=\"\",ROW()/100000000,COUNTIF(過去ログ!$N$3:$N$9999,基礎データ!V126)+ROW()/10000)","v":1.26E-6},"",125,876,null,{"$f":"IF(AA126=\"\",ROW()/100000000,COUNTIF(過去ログ!$N$3:$Y$9999,基礎データ!AA126)+ROW()/10000)","v":1.26E-6},""]
[null,null,null,null,null,null,null,null,null,null,null,null,null,126,944,null,{"$f":"IF(P127=\"\",ROW()/100000000,COUNTIF(過去ログ!$BQ$3:$CT$9999,基礎データ!P127)+ROW()/10000)","v":1.2699999999999999E-6},"",null,126,875,null,{"$f":"IF(V127=\"\",ROW()/100000000,COUNTIF(過去ログ!$N$3:$N$9999,基礎データ!V127)+ROW()/10000)","v":1.2699999999999999E-6},"",126,875,null,{"$f":"IF(AA127=\"\",ROW()/100000000,COUNTIF(過去ログ!$N$3:$Y$9999,基礎データ!AA127)+ROW()/10000)","v":1.2699999999999999E-6},""]
[null,null,null,null,null,null,null,null,null,null,null,null,null,127,943,null,{"$f":"IF(P128=\"\",ROW()/100000000,COUNTIF(過去ログ!$BQ$3:$CT$9999,基礎データ!P128)+ROW()/10000)","v":1.28E-6},"",null,127,874,null,{"$f":"IF(V128=\"\",ROW()/100000000,COUNTIF(過去ログ!$N$3:$N$9999,基礎データ!V128)+ROW()/10000)","v":1.28E-6},"",127,874,null,{"$f":"IF(AA128=\"\",ROW()/100000000,COUNTIF(過去ログ!$N$3:$Y$9999,基礎データ!AA128)+ROW()/10000)","v":1.28E-6},""]
[null,null,null,null,null,null,null,null,null,null,null,null,null,128,942,null,{"$f":"IF(P129=\"\",ROW()/100000000,COUNTIF(過去ログ!$BQ$3:$CT$9999,基礎データ!P129)+ROW()/10000)","v":1.2899999999999999E-6},"",null,128,873,null,{"$f":"IF(V129=\"\",ROW()/100000000,COUNTIF(過去ログ!$N$3:$N$9999,基礎データ!V129)+ROW()/10000)","v":1.2899999999999999E-6},"",128,873,null,{"$f":"IF(AA129=\"\",ROW()/100000000,COUNTIF(過去ログ!$N$3:$Y$9999,基礎データ!AA129)+ROW()/10000)","v":1.2899999999999999E-6},""]
[null,null,null,null,null,null,null,null,null,null,null,null,null,129,941,null,{"$f":"IF(P130=\"\",ROW()/100000000,COUNTIF(過去ログ!$BQ$3:$CT$9999,基礎データ!P130)+ROW()/10000)","v":1.3E-6},"",null,129,872,null,{"$f":"IF(V130=\"\",ROW()/100000000,COUNTIF(過去ログ!$N$3:$N$9999,基礎データ!V130)+ROW()/10000)","v":1.3E-6},"",129,872,null,{"$f":"IF(AA130=\"\",ROW()/100000000,COUNTIF(過去ログ!$N$3:$Y$9999,基礎データ!AA130)+ROW()/10000)","v":1.3E-6},""]
[null,null,null,null,null,null,null,null,null,null,null,null,null,130,{"$f":"RANK(Q131,$Q$2:$Q$1002)","v":940},null,{"$f":"IF(P131=\"\",ROW()/100000000,COUNTIF(過去ログ!$BQ$3:$CT$9999,基礎データ!P131)+ROW()/10000)","v":1.31E-6},"",null,130,871,null,{"$f":"IF(V131=\"\",ROW()/100000000,COUNTIF(過去ログ!$N$3:$N$9999,基礎データ!V131)+ROW()/10000)","v":1.31E-6},"",130,871,null,{"$f":"IF(AA131=\"\",ROW()/100000000,COUNTIF(過去ログ!$N$3:$Y$9999,基礎データ!AA131)+ROW()/10000)","v":1.31E-6},""]
[null,null,null,null,null,null,null,null,null,null,null,null,null,131,939,null,{"$f":"IF(P132=\"\",ROW()/100000000,COUNTIF(過去ログ!$BQ$3:$CT$9999,基礎データ!P132)+ROW()/10000)","v":1.3200000000000001E-6},"",null,131,870,null,{"$f":"IF(V132=\"\",ROW()/100000000,COUNTIF(過去ログ!$N$3:$N$9999,基礎データ!V132)+ROW()/10000)","v":1.3200000000000001E-6},{"$f":"IF(VLOOKUP(T132,$U$2:$V$1002,2,FALSE)=0,\"\",VLOOKUP(T132,$U$2:$V$1002,2,FALSE))","v":""},131,870,null,{"$f":"IF(AA132=\"\",ROW()/100000000,COUNTIF(過去ログ!$N$3:$Y$9999,基礎データ!AA132)+ROW()/10000)","v":1.3200000000000001E-6},""]
[null,null,null,null,null,null,null,null,null,null,null,null,null,132,938,null,{"$f":"IF(P133=\"\",ROW()/100000000,COUNTIF(過去ログ!$BQ$3:$CT$9999,基礎データ!P133)+ROW()/10000)","v":1.33E-6},"",null,132,{"$f":"RANK(W133,$W$2:$W$1002)","v":869},null,{"$f":"IF(V133=\"\",ROW()/100000000,COUNTIF(過去ログ!$N$3:$N$9999,基礎データ!V133)+ROW()/10000)","v":1.33E-6},"",132,869,null,{"$f":"IF(AA133=\"\",ROW()/100000000,COUNTIF(過去ログ!$N$3:$Y$9999,基礎データ!AA133)+ROW()/10000)","v":1.33E-6},""]
[null,null,null,null,null,null,null,null,null,null,null,null,null,133,937,null,{"$f":"IF(P134=\"\",ROW()/100000000,COUNTIF(過去ログ!$BQ$3:$CT$9999,基礎データ!P134)+ROW()/10000)","v":1.3400000000000001E-6},"",null,133,868,null,{"$f":"IF(V134=\"\",ROW()/100000000,COUNTIF(過去ログ!$N$3:$N$9999,基礎データ!V134)+ROW()/10000)","v":1.3400000000000001E-6},"",133,868,null,{"$f":"IF(AA134=\"\",ROW()/100000000,COUNTIF(過去ログ!$N$3:$Y$9999,基礎データ!AA134)+ROW()/10000)","v":1.3400000000000001E-6},""]
[null,null,null,null,null,null,null,null,null,null,null,null,null,134,936,null,{"$f":"IF(P135=\"\",ROW()/100000000,COUNTIF(過去ログ!$BQ$3:$CT$9999,基礎データ!P135)+ROW()/10000)","v":1.35E-6},"",null,134,867,null,{"$f":"IF(V135=\"\",ROW()/100000000,COUNTIF(過去ログ!$N$3:$N$9999,基礎データ!V135)+ROW()/10000)","v":1.35E-6},"",134,867,null,{"$f":"IF(AA135=\"\",ROW()/100000000,COUNTIF(過去ログ!$N$3:$Y$9999,基礎データ!AA135)+ROW()/10000)","v":1.35E-6},""]
[null,null,null,null,null,null,null,null,null,null,null,null,null,135,935,null,{"$f":"IF(P136=\"\",ROW()/100000000,COUNTIF(過去ログ!$BQ$3:$CT$9999,基礎データ!P136)+ROW()/10000)","v":1.3599999999999999E-6},"",null,135,866,null,{"$f":"IF(V136=\"\",ROW()/100000000,COUNTIF(過去ログ!$N$3:$N$9999,基礎データ!V136)+ROW()/10000)","v":1.3599999999999999E-6},"",135,866,null,{"$f":"IF(AA136=\"\",ROW()/100000000,COUNTIF(過去ログ!$N$3:$Y$9999,基礎データ!AA136)+ROW()/10000)","v":1.3599999999999999E-6},""]
[null,null,null,null,null,null,null,null,null,null,null,null,null,136,934,null,{"$f":"IF(P137=\"\",ROW()/100000000,COUNTIF(過去ログ!$BQ$3:$CT$9999,基礎データ!P137)+ROW()/10000)","v":1.37E-6},{"$f":"IF(P137=\"\",\"\",VLOOKUP(N137,$O$2:$P$1002,2,FALSE))","v":""},null,136,865,null,{"$f":"IF(V137=\"\",ROW()/100000000,COUNTIF(過去ログ!$N$3:$N$9999,基礎データ!V137)+ROW()/10000)","v":1.37E-6},"",136,865,null,{"$f":"IF(AA137=\"\",ROW()/100000000,COUNTIF(過去ログ!$N$3:$Y$9999,基礎データ!AA137)+ROW()/10000)","v":1.37E-6},""]
[null,null,null,null,null,null,null,null,null,null,null,null,null,137,933,null,{"$f":"IF(P138=\"\",ROW()/100000000,COUNTIF(過去ログ!$BQ$3:$CT$9999,基礎データ!P138)+ROW()/10000)","v":1.3799999999999999E-6},"",null,137,864,null,{"$f":"IF(V138=\"\",ROW()/100000000,COUNTIF(過去ログ!$N$3:$N$9999,基礎データ!V138)+ROW()/10000)","v":1.3799999999999999E-6},"",137,864,null,{"$f":"IF(AA138=\"\",ROW()/100000000,COUNTIF(過去ログ!$N$3:$Y$9999,基礎データ!AA138)+ROW()/10000)","v":1.3799999999999999E-6},""]
[null,null,null,null,null,null,null,null,null,null,null,null,null,138,932,null,{"$f":"IF(P139=\"\",ROW()/100000000,COUNTIF(過去ログ!$BQ$3:$CT$9999,基礎データ!P139)+ROW()/10000)","v":1.39E-6},"",null,138,863,null,{"$f":"IF(V139=\"\",ROW()/100000000,COUNTIF(過去ログ!$N$3:$N$9999,基礎データ!V139)+ROW()/10000)","v":1.39E-6},"",138,863,null,{"$f":"IF(AA139=\"\",ROW()/100000000,COUNTIF(過去ログ!$N$3:$Y$9999,基礎データ!AA139)+ROW()/10000)","v":1.39E-6},""]
[null,null,null,null,null,null,null,null,null,null,null,null,null,139,931,null,{"$f":"IF(P140=\"\",ROW()/100000000,COUNTIF(過去ログ!$BQ$3:$CT$9999,基礎データ!P140)+ROW()/10000)","v":1.3999999999999999E-6},"",null,139,862,null,{"$f":"IF(V140=\"\",ROW()/100000000,COUNTIF(過去ログ!$N$3:$N$9999,基礎データ!V140)+ROW()/10000)","v":1.3999999999999999E-6},"",139,862,null,{"$f":"IF(AA140=\"\",ROW()/100000000,COUNTIF(過去ログ!$N$3:$Y$9999,基礎データ!AA140)+ROW()/10000)","v":1.3999999999999999E-6},""]
[null,null,null,null,null,null,null,null,null,null,null,null,null,140,930,null,{"$f":"IF(P141=\"\",ROW()/100000000,COUNTIF(過去ログ!$BQ$3:$CT$9999,基礎データ!P141)+ROW()/10000)","v":1.4100000000000001E-6},"",null,140,861,null,{"$f":"IF(V141=\"\",ROW()/100000000,COUNTIF(過去ログ!$N$3:$N$9999,基礎データ!V141)+ROW()/10000)","v":1.4100000000000001E-6},"",140,861,null,{"$f":"IF(AA141=\"\",ROW()/100000000,COUNTIF(過去ログ!$N$3:$Y$9999,基礎データ!AA141)+ROW()/10000)","v":1.4100000000000001E-6},""]
[null,null,null,null,null,null,null,null,null,null,null,null,null,141,929,null,{"$f":"IF(P142=\"\",ROW()/100000000,COUNTIF(過去ログ!$BQ$3:$CT$9999,基礎データ!P142)+ROW()/10000)","v":1.42E-6},"",null,141,860,null,{"$f":"IF(V142=\"\",ROW()/100000000,COUNTIF(過去ログ!$N$3:$N$9999,基礎データ!V142)+ROW()/10000)","v":1.42E-6},"",141,860,null,{"$f":"IF(AA142=\"\",ROW()/100000000,COUNTIF(過去ログ!$N$3:$Y$9999,基礎データ!AA142)+ROW()/10000)","v":1.42E-6},""]
[null,null,null,null,null,null,null,null,null,null,null,null,null,142,928,null,{"$f":"IF(P143=\"\",ROW()/100000000,COUNTIF(過去ログ!$BQ$3:$CT$9999,基礎データ!P143)+ROW()/10000)","v":1.4300000000000001E-6},"",null,142,859,null,{"$f":"IF(V143=\"\",ROW()/100000000,COUNTIF(過去ログ!$N$3:$N$9999,基礎データ!V143)+ROW()/10000)","v":1.4300000000000001E-6},"",142,859,null,{"$f":"IF(AA143=\"\",ROW()/100000000,COUNTIF(過去ログ!$N$3:$Y$9999,基礎データ!AA143)+ROW()/10000)","v":1.4300000000000001E-6},""]
[null,null,null,null,null,null,null,null,null,null,null,null,null,143,927,null,{"$f":"IF(P144=\"\",ROW()/100000000,COUNTIF(過去ログ!$BQ$3:$CT$9999,基礎データ!P144)+ROW()/10000)","v":1.44E-6},"",null,143,858,null,{"$f":"IF(V144=\"\",ROW()/100000000,COUNTIF(過去ログ!$N$3:$N$9999,基礎データ!V144)+ROW()/10000)","v":1.44E-6},"",143,858,null,{"$f":"IF(AA144=\"\",ROW()/100000000,COUNTIF(過去ログ!$N$3:$Y$9999,基礎データ!AA144)+ROW()/10000)","v":1.44E-6},""]
[null,null,null,null,null,null,null,null,null,null,null,null,null,144,926,null,{"$f":"IF(P145=\"\",ROW()/100000000,COUNTIF(過去ログ!$BQ$3:$CT$9999,基礎データ!P145)+ROW()/10000)","v":1.4500000000000001E-6},"",null,144,857,null,{"$f":"IF(V145=\"\",ROW()/100000000,COUNTIF(過去ログ!$N$3:$N$9999,基礎データ!V145)+ROW()/10000)","v":1.4500000000000001E-6},"",144,857,null,{"$f":"IF(AA145=\"\",ROW()/100000000,COUNTIF(過去ログ!$N$3:$Y$9999,基礎データ!AA145)+ROW()/10000)","v":1.4500000000000001E-6},""]
[null,null,null,null,null,null,null,null,null,null,null,null,null,145,925,null,{"$f":"IF(P146=\"\",ROW()/100000000,COUNTIF(過去ログ!$BQ$3:$CT$9999,基礎データ!P146)+ROW()/10000)","v":1.46E-6},"",null,145,856,null,{"$f":"IF(V146=\"\",ROW()/100000000,COUNTIF(過去ログ!$N$3:$N$9999,基礎データ!V146)+ROW()/10000)","v":1.46E-6},"",145,856,null,{"$f":"IF(AA146=\"\",ROW()/100000000,COUNTIF(過去ログ!$N$3:$Y$9999,基礎データ!AA146)+ROW()/10000)","v":1.46E-6},""]
[null,null,null,null,null,null,null,null,null,null,null,null,null,146,924,null,{"$f":"IF(P147=\"\",ROW()/100000000,COUNTIF(過去ログ!$BQ$3:$CT$9999,基礎データ!P147)+ROW()/10000)","v":1.4699999999999999E-6},"",null,146,855,null,{"$f":"IF(V147=\"\",ROW()/100000000,COUNTIF(過去ログ!$N$3:$N$9999,基礎データ!V147)+ROW()/10000)","v":1.4699999999999999E-6},"",146,855,null,{"$f":"IF(AA147=\"\",ROW()/100000000,COUNTIF(過去ログ!$N$3:$Y$9999,基礎データ!AA147)+ROW()/10000)","v":1.4699999999999999E-6},""]
[null,null,null,null,null,null,null,null,null,null,null,null,null,147,923,null,{"$f":"IF(P148=\"\",ROW()/100000000,COUNTIF(過去ログ!$BQ$3:$CT$9999,基礎データ!P148)+ROW()/10000)","v":1.48E-6},"",null,147,854,null,{"$f":"IF(V148=\"\",ROW()/100000000,COUNTIF(過去ログ!$N$3:$N$9999,基礎データ!V148)+ROW()/10000)","v":1.48E-6},"",147,854,null,{"$f":"IF(AA148=\"\",ROW()/100000000,COUNTIF(過去ログ!$N$3:$Y$9999,基礎データ!AA148)+ROW()/10000)","v":1.48E-6},""]
[null,null,null,null,null,null,null,null,null,null,null,null,null,148,922,null,{"$f":"IF(P149=\"\",ROW()/100000000,COUNTIF(過去ログ!$BQ$3:$CT$9999,基礎データ!P149)+ROW()/10000)","v":1.4899999999999999E-6},"",null,148,853,null,{"$f":"IF(V149=\"\",ROW()/100000000,COUNTIF(過去ログ!$N$3:$N$9999,基礎データ!V149)+ROW()/10000)","v":1.4899999999999999E-6},"",148,853,null,{"$f":"IF(AA149=\"\",ROW()/100000000,COUNTIF(過去ログ!$N$3:$Y$9999,基礎データ!AA149)+ROW()/10000)","v":1.4899999999999999E-6},""]
[null,null,null,null,null,null,null,null,null,null,null,null,null,149,921,null,{"$f":"IF(P150=\"\",ROW()/100000000,COUNTIF(過去ログ!$BQ$3:$CT$9999,基礎データ!P150)+ROW()/10000)","v":1.5E-6},"",null,149,852,null,{"$f":"IF(V150=\"\",ROW()/100000000,COUNTIF(過去ログ!$N$3:$N$9999,基礎データ!V150)+ROW()/10000)","v":1.5E-6},"",149,852,null,{"$f":"IF(AA150=\"\",ROW()/100000000,COUNTIF(過去ログ!$N$3:$Y$9999,基礎データ!AA150)+ROW()/10000)","v":1.5E-6},""]
[null,null,null,null,null,null,null,null,null,null,null,null,null,150,920,null,{"$f":"IF(P151=\"\",ROW()/100000000,COUNTIF(過去ログ!$BQ$3:$CT$9999,基礎データ!P151)+ROW()/10000)","v":1.5099999999999999E-6},"",null,150,851,null,{"$f":"IF(V151=\"\",ROW()/100000000,COUNTIF(過去ログ!$N$3:$N$9999,基礎データ!V151)+ROW()/10000)","v":1.5099999999999999E-6},"",150,851,null,{"$f":"IF(AA151=\"\",ROW()/100000000,COUNTIF(過去ログ!$N$3:$Y$9999,基礎データ!AA151)+ROW()/10000)","v":1.5099999999999999E-6},""]
[null,null,null,null,null,null,null,null,null,null,null,null,null,151,919,null,{"$f":"IF(P152=\"\",ROW()/100000000,COUNTIF(過去ログ!$BQ$3:$CT$9999,基礎データ!P152)+ROW()/10000)","v":1.5200000000000001E-6},"",null,151,850,null,{"$f":"IF(V152=\"\",ROW()/100000000,COUNTIF(過去ログ!$N$3:$N$9999,基礎データ!V152)+ROW()/10000)","v":1.5200000000000001E-6},"",151,850,null,{"$f":"IF(AA152=\"\",ROW()/100000000,COUNTIF(過去ログ!$N$3:$Y$9999,基礎データ!AA152)+ROW()/10000)","v":1.5200000000000001E-6},""]
[null,null,null,null,null,null,null,null,null,null,null,null,null,152,918,null,{"$f":"IF(P153=\"\",ROW()/100000000,COUNTIF(過去ログ!$BQ$3:$CT$9999,基礎データ!P153)+ROW()/10000)","v":1.53E-6},"",null,152,849,null,{"$f":"IF(V153=\"\",ROW()/100000000,COUNTIF(過去ログ!$N$3:$N$9999,基礎データ!V153)+ROW()/10000)","v":1.53E-6},"",152,849,null,{"$f":"IF(AA153=\"\",ROW()/100000000,COUNTIF(過去ログ!$N$3:$Y$9999,基礎データ!AA153)+ROW()/10000)","v":1.53E-6},""]
[null,null,null,null,null,null,null,null,null,null,null,null,null,153,917,null,{"$f":"IF(P154=\"\",ROW()/100000000,COUNTIF(過去ログ!$BQ$3:$CT$9999,基礎データ!P154)+ROW()/10000)","v":1.5400000000000001E-6},"",null,153,848,null,{"$f":"IF(V154=\"\",ROW()/100000000,COUNTIF(過去ログ!$N$3:$N$9999,基礎データ!V154)+ROW()/10000)","v":1.5400000000000001E-6},"",153,848,null,{"$f":"IF(AA154=\"\",ROW()/100000000,COUNTIF(過去ログ!$N$3:$Y$9999,基礎データ!AA154)+ROW()/10000)","v":1.5400000000000001E-6},""]
[null,null,null,null,null,null,null,null,null,null,null,null,null,154,916,null,{"$f":"IF(P155=\"\",ROW()/100000000,COUNTIF(過去ログ!$BQ$3:$CT$9999,基礎データ!P155)+ROW()/10000)","v":1.55E-6},"",null,154,847,null,{"$f":"IF(V155=\"\",ROW()/100000000,COUNTIF(過去ログ!$N$3:$N$9999,基礎データ!V155)+ROW()/10000)","v":1.55E-6},"",154,847,null,{"$f":"IF(AA155=\"\",ROW()/100000000,COUNTIF(過去ログ!$N$3:$Y$9999,基礎データ!AA155)+ROW()/10000)","v":1.55E-6},""]
[null,null,null,null,null,null,null,null,null,null,null,null,null,155,915,null,{"$f":"IF(P156=\"\",ROW()/100000000,COUNTIF(過去ログ!$BQ$3:$CT$9999,基礎データ!P156)+ROW()/10000)","v":1.5600000000000001E-6},"",null,155,846,null,{"$f":"IF(V156=\"\",ROW()/100000000,COUNTIF(過去ログ!$N$3:$N$9999,基礎データ!V156)+ROW()/10000)","v":1.5600000000000001E-6},"",155,846,null,{"$f":"IF(AA156=\"\",ROW()/100000000,COUNTIF(過去ログ!$N$3:$Y$9999,基礎データ!AA156)+ROW()/10000)","v":1.5600000000000001E-6},""]
[null,null,null,null,null,null,null,null,null,null,null,null,null,156,914,null,{"$f":"IF(P157=\"\",ROW()/100000000,COUNTIF(過去ログ!$BQ$3:$CT$9999,基礎データ!P157)+ROW()/10000)","v":1.57E-6},"",null,156,845,null,{"$f":"IF(V157=\"\",ROW()/100000000,COUNTIF(過去ログ!$N$3:$N$9999,基礎データ!V157)+ROW()/10000)","v":1.57E-6},"",156,845,null,{"$f":"IF(AA157=\"\",ROW()/100000000,COUNTIF(過去ログ!$N$3:$Y$9999,基礎データ!AA157)+ROW()/10000)","v":1.57E-6},""]
[null,null,null,null,null,null,null,null,null,null,null,null,null,157,913,null,{"$f":"IF(P158=\"\",ROW()/100000000,COUNTIF(過去ログ!$BQ$3:$CT$9999,基礎データ!P158)+ROW()/10000)","v":1.5799999999999999E-6},"",null,157,844,null,{"$f":"IF(V158=\"\",ROW()/100000000,COUNTIF(過去ログ!$N$3:$N$9999,基礎データ!V158)+ROW()/10000)","v":1.5799999999999999E-6},"",157,844,null,{"$f":"IF(AA158=\"\",ROW()/100000000,COUNTIF(過去ログ!$N$3:$Y$9999,基礎データ!AA158)+ROW()/10000)","v":1.5799999999999999E-6},""]
[null,null,null,null,null,null,null,null,null,null,null,null,null,158,912,null,{"$f":"IF(P159=\"\",ROW()/100000000,COUNTIF(過去ログ!$BQ$3:$CT$9999,基礎データ!P159)+ROW()/10000)","v":1.59E-6},"",null,158,843,null,{"$f":"IF(V159=\"\",ROW()/100000000,COUNTIF(過去ログ!$N$3:$N$9999,基礎データ!V159)+ROW()/10000)","v":1.59E-6},"",158,843,null,{"$f":"IF(AA159=\"\",ROW()/100000000,COUNTIF(過去ログ!$N$3:$Y$9999,基礎データ!AA159)+ROW()/10000)","v":1.59E-6},""]
[null,null,null,null,null,null,null,null,null,null,null,null,null,159,{"$f":"RANK(Q160,$Q$2:$Q$1002)","v":911},null,{"$f":"IF(P160=\"\",ROW()/100000000,COUNTIF(過去ログ!$BQ$3:$CT$9999,基礎データ!P160)+ROW()/10000)","v":1.5999999999999999E-6},"",null,159,842,null,{"$f":"IF(V160=\"\",ROW()/100000000,COUNTIF(過去ログ!$N$3:$N$9999,基礎データ!V160)+ROW()/10000)","v":1.5999999999999999E-6},"",159,842,null,{"$f":"IF(AA160=\"\",ROW()/100000000,COUNTIF(過去ログ!$N$3:$Y$9999,基礎データ!AA160)+ROW()/10000)","v":1.5999999999999999E-6},""]
[null,null,null,null,null,null,null,null,null,null,null,null,null,160,910,null,{"$f":"IF(P161=\"\",ROW()/100000000,COUNTIF(過去ログ!$BQ$3:$CT$9999,基礎データ!P161)+ROW()/10000)","v":1.61E-6},"",null,160,841,null,{"$f":"IF(V161=\"\",ROW()/100000000,COUNTIF(過去ログ!$N$3:$N$9999,基礎データ!V161)+ROW()/10000)","v":1.61E-6},"",160,841,null,{"$f":"IF(AA161=\"\",ROW()/100000000,COUNTIF(過去ログ!$N$3:$Y$9999,基礎データ!AA161)+ROW()/10000)","v":1.61E-6},""]
[null,null,null,null,null,null,null,null,null,null,null,null,null,161,909,null,{"$f":"IF(P162=\"\",ROW()/100000000,COUNTIF(過去ログ!$BQ$3:$CT$9999,基礎データ!P162)+ROW()/10000)","v":1.6199999999999999E-6},"",null,161,840,null,{"$f":"IF(V162=\"\",ROW()/100000000,COUNTIF(過去ログ!$N$3:$N$9999,基礎データ!V162)+ROW()/10000)","v":1.6199999999999999E-6},"",161,840,null,{"$f":"IF(AA162=\"\",ROW()/100000000,COUNTIF(過去ログ!$N$3:$Y$9999,基礎データ!AA162)+ROW()/10000)","v":1.6199999999999999E-6},""]
[null,null,null,null,null,null,null,null,null,null,null,null,null,162,908,null,{"$f":"IF(P163=\"\",ROW()/100000000,COUNTIF(過去ログ!$BQ$3:$CT$9999,基礎データ!P163)+ROW()/10000)","v":1.6300000000000001E-6},"",null,162,839,null,{"$f":"IF(V163=\"\",ROW()/100000000,COUNTIF(過去ログ!$N$3:$N$9999,基礎データ!V163)+ROW()/10000)","v":1.6300000000000001E-6},"",162,839,null,{"$f":"IF(AA163=\"\",ROW()/100000000,COUNTIF(過去ログ!$N$3:$Y$9999,基礎データ!AA163)+ROW()/10000)","v":1.6300000000000001E-6},""]
[null,null,null,null,null,null,null,null,null,null,null,null,null,163,907,null,{"$f":"IF(P164=\"\",ROW()/100000000,COUNTIF(過去ログ!$BQ$3:$CT$9999,基礎データ!P164)+ROW()/10000)","v":1.64E-6},"",null,163,838,null,{"$f":"IF(V164=\"\",ROW()/100000000,COUNTIF(過去ログ!$N$3:$N$9999,基礎データ!V164)+ROW()/10000)","v":1.64E-6},"",163,838,null,{"$f":"IF(AA164=\"\",ROW()/100000000,COUNTIF(過去ログ!$N$3:$Y$9999,基礎データ!AA164)+ROW()/10000)","v":1.64E-6},""]
[null,null,null,null,null,null,null,null,null,null,null,null,null,164,906,null,{"$f":"IF(P165=\"\",ROW()/100000000,COUNTIF(過去ログ!$BQ$3:$CT$9999,基礎データ!P165)+ROW()/10000)","v":1.6500000000000001E-6},"",null,164,837,null,{"$f":"IF(V165=\"\",ROW()/100000000,COUNTIF(過去ログ!$N$3:$N$9999,基礎データ!V165)+ROW()/10000)","v":1.6500000000000001E-6},"",164,837,null,{"$f":"IF(AA165=\"\",ROW()/100000000,COUNTIF(過去ログ!$N$3:$Y$9999,基礎データ!AA165)+ROW()/10000)","v":1.6500000000000001E-6},""]
[null,null,null,null,null,null,null,null,null,null,null,null,null,165,905,null,{"$f":"IF(P166=\"\",ROW()/100000000,COUNTIF(過去ログ!$BQ$3:$CT$9999,基礎データ!P166)+ROW()/10000)","v":1.66E-6},"",null,165,836,null,{"$f":"IF(V166=\"\",ROW()/100000000,COUNTIF(過去ログ!$N$3:$N$9999,基礎データ!V166)+ROW()/10000)","v":1.66E-6},"",165,836,null,{"$f":"IF(AA166=\"\",ROW()/100000000,COUNTIF(過去ログ!$N$3:$Y$9999,基礎データ!AA166)+ROW()/10000)","v":1.66E-6},""]
[null,null,null,null,null,null,null,null,null,null,null,null,null,166,904,null,{"$f":"IF(P167=\"\",ROW()/100000000,COUNTIF(過去ログ!$BQ$3:$CT$9999,基礎データ!P167)+ROW()/10000)","v":1.6700000000000001E-6},"",null,166,835,null,{"$f":"IF(V167=\"\",ROW()/100000000,COUNTIF(過去ログ!$N$3:$N$9999,基礎データ!V167)+ROW()/10000)","v":1.6700000000000001E-6},"",166,835,null,{"$f":"IF(AA167=\"\",ROW()/100000000,COUNTIF(過去ログ!$N$3:$Y$9999,基礎データ!AA167)+ROW()/10000)","v":1.6700000000000001E-6},""]
[null,null,null,null,null,null,null,null,null,null,null,null,null,167,903,null,{"$f":"IF(P168=\"\",ROW()/100000000,COUNTIF(過去ログ!$BQ$3:$CT$9999,基礎データ!P168)+ROW()/10000)","v":1.68E-6},"",null,167,834,null,{"$f":"IF(V168=\"\",ROW()/100000000,COUNTIF(過去ログ!$N$3:$N$9999,基礎データ!V168)+ROW()/10000)","v":1.68E-6},"",167,834,null,{"$f":"IF(AA168=\"\",ROW()/100000000,COUNTIF(過去ログ!$N$3:$Y$9999,基礎データ!AA168)+ROW()/10000)","v":1.68E-6},""]
[null,null,null,null,null,null,null,null,null,null,null,null,null,168,902,null,{"$f":"IF(P169=\"\",ROW()/100000000,COUNTIF(過去ログ!$BQ$3:$CT$9999,基礎データ!P169)+ROW()/10000)","v":1.6899999999999999E-6},"",null,168,833,null,{"$f":"IF(V169=\"\",ROW()/100000000,COUNTIF(過去ログ!$N$3:$N$9999,基礎データ!V169)+ROW()/10000)","v":1.6899999999999999E-6},"",168,833,null,{"$f":"IF(AA169=\"\",ROW()/100000000,COUNTIF(過去ログ!$N$3:$Y$9999,基礎データ!AA169)+ROW()/10000)","v":1.6899999999999999E-6},""]
[null,null,null,null,null,null,null,null,null,null,null,null,null,169,901,null,{"$f":"IF(P170=\"\",ROW()/100000000,COUNTIF(過去ログ!$BQ$3:$CT$9999,基礎データ!P170)+ROW()/10000)","v":1.7E-6},"",null,169,832,null,{"$f":"IF(V170=\"\",ROW()/100000000,COUNTIF(過去ログ!$N$3:$N$9999,基礎データ!V170)+ROW()/10000)","v":1.7E-6},"",169,832,null,{"$f":"IF(AA170=\"\",ROW()/100000000,COUNTIF(過去ログ!$N$3:$Y$9999,基礎データ!AA170)+ROW()/10000)","v":1.7E-6},""]
[null,null,null,null,null,null,null,null,null,null,null,null,null,170,900,null,{"$f":"IF(P171=\"\",ROW()/100000000,COUNTIF(過去ログ!$BQ$3:$CT$9999,基礎データ!P171)+ROW()/10000)","v":1.7099999999999999E-6},"",null,170,831,null,{"$f":"IF(V171=\"\",ROW()/100000000,COUNTIF(過去ログ!$N$3:$N$9999,基礎データ!V171)+ROW()/10000)","v":1.7099999999999999E-6},"",170,831,null,{"$f":"IF(AA171=\"\",ROW()/100000000,COUNTIF(過去ログ!$N$3:$Y$9999,基礎データ!AA171)+ROW()/10000)","v":1.7099999999999999E-6},""]
[null,null,null,null,null,null,null,null,null,null,null,null,null,171,899,null,{"$f":"IF(P172=\"\",ROW()/100000000,COUNTIF(過去ログ!$BQ$3:$CT$9999,基礎データ!P172)+ROW()/10000)","v":1.72E-6},"",null,171,830,null,{"$f":"IF(V172=\"\",ROW()/100000000,COUNTIF(過去ログ!$N$3:$N$9999,基礎データ!V172)+ROW()/10000)","v":1.72E-6},"",171,830,null,{"$f":"IF(AA172=\"\",ROW()/100000000,COUNTIF(過去ログ!$N$3:$Y$9999,基礎データ!AA172)+ROW()/10000)","v":1.72E-6},""]
[null,null,null,null,null,null,null,null,null,null,null,null,null,172,898,null,{"$f":"IF(P173=\"\",ROW()/100000000,COUNTIF(過去ログ!$BQ$3:$CT$9999,基礎データ!P173)+ROW()/10000)","v":1.73E-6},"",null,172,829,null,{"$f":"IF(V173=\"\",ROW()/100000000,COUNTIF(過去ログ!$N$3:$N$9999,基礎データ!V173)+ROW()/10000)","v":1.73E-6},"",172,829,null,{"$f":"IF(AA173=\"\",ROW()/100000000,COUNTIF(過去ログ!$N$3:$Y$9999,基礎データ!AA173)+ROW()/10000)","v":1.73E-6},""]
[null,null,null,null,null,null,null,null,null,null,null,null,null,173,897,null,{"$f":"IF(P174=\"\",ROW()/100000000,COUNTIF(過去ログ!$BQ$3:$CT$9999,基礎データ!P174)+ROW()/10000)","v":1.7400000000000001E-6},"",null,173,828,null,{"$f":"IF(V174=\"\",ROW()/100000000,COUNTIF(過去ログ!$N$3:$N$9999,基礎データ!V174)+ROW()/10000)","v":1.7400000000000001E-6},"",173,828,null,{"$f":"IF(AA174=\"\",ROW()/100000000,COUNTIF(過去ログ!$N$3:$Y$9999,基礎データ!AA174)+ROW()/10000)","v":1.7400000000000001E-6},""]
[null,null,null,null,null,null,null,null,null,null,null,null,null,174,896,null,{"$f":"IF(P175=\"\",ROW()/100000000,COUNTIF(過去ログ!$BQ$3:$CT$9999,基礎データ!P175)+ROW()/10000)","v":1.75E-6},"",null,174,827,null,{"$f":"IF(V175=\"\",ROW()/100000000,COUNTIF(過去ログ!$N$3:$N$9999,基礎データ!V175)+ROW()/10000)","v":1.75E-6},"",174,827,null,{"$f":"IF(AA175=\"\",ROW()/100000000,COUNTIF(過去ログ!$N$3:$Y$9999,基礎データ!AA175)+ROW()/10000)","v":1.75E-6},""]
[null,null,null,null,null,null,null,null,null,null,null,null,null,175,895,null,{"$f":"IF(P176=\"\",ROW()/100000000,COUNTIF(過去ログ!$BQ$3:$CT$9999,基礎データ!P176)+ROW()/10000)","v":1.7600000000000001E-6},"",null,175,826,null,{"$f":"IF(V176=\"\",ROW()/100000000,COUNTIF(過去ログ!$N$3:$N$9999,基礎データ!V176)+ROW()/10000)","v":1.7600000000000001E-6},"",175,826,null,{"$f":"IF(AA176=\"\",ROW()/100000000,COUNTIF(過去ログ!$N$3:$Y$9999,基礎データ!AA176)+ROW()/10000)","v":1.7600000000000001E-6},""]
[null,null,null,null,null,null,null,null,null,null,null,null,null,176,894,null,{"$f":"IF(P177=\"\",ROW()/100000000,COUNTIF(過去ログ!$BQ$3:$CT$9999,基礎データ!P177)+ROW()/10000)","v":1.77E-6},"",null,176,825,null,{"$f":"IF(V177=\"\",ROW()/100000000,COUNTIF(過去ログ!$N$3:$N$9999,基礎データ!V177)+ROW()/10000)","v":1.77E-6},"",176,825,null,{"$f":"IF(AA177=\"\",ROW()/100000000,COUNTIF(過去ログ!$N$3:$Y$9999,基礎データ!AA177)+ROW()/10000)","v":1.77E-6},""]
[null,null,null,null,null,null,null,null,null,null,null,null,null,177,893,null,{"$f":"IF(P178=\"\",ROW()/100000000,COUNTIF(過去ログ!$BQ$3:$CT$9999,基礎データ!P178)+ROW()/10000)","v":1.7799999999999999E-6},"",null,177,824,null,{"$f":"IF(V178=\"\",ROW()/100000000,COUNTIF(過去ログ!$N$3:$N$9999,基礎データ!V178)+ROW()/10000)","v":1.7799999999999999E-6},"",177,824,null,{"$f":"IF(AA178=\"\",ROW()/100000000,COUNTIF(過去ログ!$N$3:$Y$9999,基礎データ!AA178)+ROW()/10000)","v":1.7799999999999999E-6},""]
[null,null,null,null,null,null,null,null,null,null,null,null,null,178,892,null,{"$f":"IF(P179=\"\",ROW()/100000000,COUNTIF(過去ログ!$BQ$3:$CT$9999,基礎データ!P179)+ROW()/10000)","v":1.79E-6},"",null,178,823,null,{"$f":"IF(V179=\"\",ROW()/100000000,COUNTIF(過去ログ!$N$3:$N$9999,基礎データ!V179)+ROW()/10000)","v":1.79E-6},"",178,823,null,{"$f":"IF(AA179=\"\",ROW()/100000000,COUNTIF(過去ログ!$N$3:$Y$9999,基礎データ!AA179)+ROW()/10000)","v":1.79E-6},{"$f":"IF(VLOOKUP(Y179,$Z$2:$AA$1002,2,FALSE)=0,\"\",VLOOKUP(Y179,$Z$2:$AA$1002,2,FALSE))","v":""}]
[null,null,null,null,null,null,null,null,null,null,null,null,null,179,891,null,{"$f":"IF(P180=\"\",ROW()/100000000,COUNTIF(過去ログ!$BQ$3:$CT$9999,基礎データ!P180)+ROW()/10000)","v":1.7999999999999999E-6},"",null,179,822,null,{"$f":"IF(V180=\"\",ROW()/100000000,COUNTIF(過去ログ!$N$3:$N$9999,基礎データ!V180)+ROW()/10000)","v":1.7999999999999999E-6},"",179,822,null,{"$f":"IF(AA180=\"\",ROW()/100000000,COUNTIF(過去ログ!$N$3:$Y$9999,基礎データ!AA180)+ROW()/10000)","v":1.7999999999999999E-6},""]
[null,null,null,null,null,null,null,null,null,null,null,null,null,180,890,null,{"$f":"IF(P181=\"\",ROW()/100000000,COUNTIF(過去ログ!$BQ$3:$CT$9999,基礎データ!P181)+ROW()/10000)","v":1.81E-6},"",null,180,821,null,{"$f":"IF(V181=\"\",ROW()/100000000,COUNTIF(過去ログ!$N$3:$N$9999,基礎データ!V181)+ROW()/10000)","v":1.81E-6},"",180,821,null,{"$f":"IF(AA181=\"\",ROW()/100000000,COUNTIF(過去ログ!$N$3:$Y$9999,基礎データ!AA181)+ROW()/10000)","v":1.81E-6},""]
[null,null,null,null,null,null,null,null,null,null,null,null,null,181,889,null,{"$f":"IF(P182=\"\",ROW()/100000000,COUNTIF(過去ログ!$BQ$3:$CT$9999,基礎データ!P182)+ROW()/10000)","v":1.8199999999999999E-6},"",null,181,820,null,{"$f":"IF(V182=\"\",ROW()/100000000,COUNTIF(過去ログ!$N$3:$N$9999,基礎データ!V182)+ROW()/10000)","v":1.8199999999999999E-6},"",181,820,null,{"$f":"IF(AA182=\"\",ROW()/100000000,COUNTIF(過去ログ!$N$3:$Y$9999,基礎データ!AA182)+ROW()/10000)","v":1.8199999999999999E-6},""]
[null,null,null,null,null,null,null,null,null,null,null,null,null,182,888,null,{"$f":"IF(P183=\"\",ROW()/100000000,COUNTIF(過去ログ!$BQ$3:$CT$9999,基礎データ!P183)+ROW()/10000)","v":1.8300000000000001E-6},"",null,182,819,null,{"$f":"IF(V183=\"\",ROW()/100000000,COUNTIF(過去ログ!$N$3:$N$9999,基礎データ!V183)+ROW()/10000)","v":1.8300000000000001E-6},"",182,819,null,{"$f":"IF(AA183=\"\",ROW()/100000000,COUNTIF(過去ログ!$N$3:$Y$9999,基礎データ!AA183)+ROW()/10000)","v":1.8300000000000001E-6},""]
[null,null,null,null,null,null,null,null,null,null,null,null,null,183,887,null,{"$f":"IF(P184=\"\",ROW()/100000000,COUNTIF(過去ログ!$BQ$3:$CT$9999,基礎データ!P184)+ROW()/10000)","v":1.84E-6},"",null,183,818,null,{"$f":"IF(V184=\"\",ROW()/100000000,COUNTIF(過去ログ!$N$3:$N$9999,基礎データ!V184)+ROW()/10000)","v":1.84E-6},"",183,{"$f":"RANK(AB184,$AB$2:$AB$1002)","v":818},null,{"$f":"IF(AA184=\"\",ROW()/100000000,COUNTIF(過去ログ!$N$3:$Y$9999,基礎データ!AA184)+ROW()/10000)","v":1.84E-6},""]
[null,null,null,null,null,null,null,null,null,null,null,null,null,184,886,null,{"$f":"IF(P185=\"\",ROW()/100000000,COUNTIF(過去ログ!$BQ$3:$CT$9999,基礎データ!P185)+ROW()/10000)","v":1.8500000000000001E-6},"",null,184,817,null,{"$f":"IF(V185=\"\",ROW()/100000000,COUNTIF(過去ログ!$N$3:$N$9999,基礎データ!V185)+ROW()/10000)","v":1.8500000000000001E-6},"",184,817,null,{"$f":"IF(AA185=\"\",ROW()/100000000,COUNTIF(過去ログ!$N$3:$Y$9999,基礎データ!AA185)+ROW()/10000)","v":1.8500000000000001E-6},""]
[null,null,null,null,null,null,null,null,null,null,null,null,null,185,885,null,{"$f":"IF(P186=\"\",ROW()/100000000,COUNTIF(過去ログ!$BQ$3:$CT$9999,基礎データ!P186)+ROW()/10000)","v":1.86E-6},"",null,185,816,null,{"$f":"IF(V186=\"\",ROW()/100000000,COUNTIF(過去ログ!$N$3:$N$9999,基礎データ!V186)+ROW()/10000)","v":1.86E-6},"",185,816,null,{"$f":"IF(AA186=\"\",ROW()/100000000,COUNTIF(過去ログ!$N$3:$Y$9999,基礎データ!AA186)+ROW()/10000)","v":1.86E-6},""]
[null,null,null,null,null,null,null,null,null,null,null,null,null,186,884,null,{"$f":"IF(P187=\"\",ROW()/100000000,COUNTIF(過去ログ!$BQ$3:$CT$9999,基礎データ!P187)+ROW()/10000)","v":1.8700000000000001E-6},"",null,186,815,null,{"$f":"IF(V187=\"\",ROW()/100000000,COUNTIF(過去ログ!$N$3:$N$9999,基礎データ!V187)+ROW()/10000)","v":1.8700000000000001E-6},"",186,815,null,{"$f":"IF(AA187=\"\",ROW()/100000000,COUNTIF(過去ログ!$N$3:$Y$9999,基礎データ!AA187)+ROW()/10000)","v":1.8700000000000001E-6},""]
[null,null,null,null,null,null,null,null,null,null,null,null,null,187,883,null,{"$f":"IF(P188=\"\",ROW()/100000000,COUNTIF(過去ログ!$BQ$3:$CT$9999,基礎データ!P188)+ROW()/10000)","v":1.88E-6},"",null,187,814,null,{"$f":"IF(V188=\"\",ROW()/100000000,COUNTIF(過去ログ!$N$3:$N$9999,基礎データ!V188)+ROW()/10000)","v":1.88E-6},"",187,814,null,{"$f":"IF(AA188=\"\",ROW()/100000000,COUNTIF(過去ログ!$N$3:$Y$9999,基礎データ!AA188)+ROW()/10000)","v":1.88E-6},""]
[null,null,null,null,null,null,null,null,null,null,null,null,null,188,882,null,{"$f":"IF(P189=\"\",ROW()/100000000,COUNTIF(過去ログ!$BQ$3:$CT$9999,基礎データ!P189)+ROW()/10000)","v":1.8899999999999999E-6},"",null,188,813,null,{"$f":"IF(V189=\"\",ROW()/100000000,COUNTIF(過去ログ!$N$3:$N$9999,基礎データ!V189)+ROW()/10000)","v":1.8899999999999999E-6},"",188,813,null,{"$f":"IF(AA189=\"\",ROW()/100000000,COUNTIF(過去ログ!$N$3:$Y$9999,基礎データ!AA189)+ROW()/10000)","v":1.8899999999999999E-6},""]
[null,null,null,null,null,null,null,null,null,null,null,null,null,189,881,null,{"$f":"IF(P190=\"\",ROW()/100000000,COUNTIF(過去ログ!$BQ$3:$CT$9999,基礎データ!P190)+ROW()/10000)","v":1.9E-6},"",null,189,812,null,{"$f":"IF(V190=\"\",ROW()/100000000,COUNTIF(過去ログ!$N$3:$N$9999,基礎データ!V190)+ROW()/10000)","v":1.9E-6},"",189,812,null,{"$f":"IF(AA190=\"\",ROW()/100000000,COUNTIF(過去ログ!$N$3:$Y$9999,基礎データ!AA190)+ROW()/10000)","v":1.9E-6},""]
[null,null,null,null,null,null,null,null,null,null,null,null,null,190,880,null,{"$f":"IF(P191=\"\",ROW()/100000000,COUNTIF(過去ログ!$BQ$3:$CT$9999,基礎データ!P191)+ROW()/10000)","v":1.9099999999999999E-6},"",null,190,811,null,{"$f":"IF(V191=\"\",ROW()/100000000,COUNTIF(過去ログ!$N$3:$N$9999,基礎データ!V191)+ROW()/10000)","v":1.9099999999999999E-6},"",190,811,null,{"$f":"IF(AA191=\"\",ROW()/100000000,COUNTIF(過去ログ!$N$3:$Y$9999,基礎データ!AA191)+ROW()/10000)","v":1.9099999999999999E-6},""]
[null,null,null,null,null,null,null,null,null,null,null,null,null,191,879,null,{"$f":"IF(P192=\"\",ROW()/100000000,COUNTIF(過去ログ!$BQ$3:$CT$9999,基礎データ!P192)+ROW()/10000)","v":1.9199999999999998E-6},"",null,191,810,null,{"$f":"IF(V192=\"\",ROW()/100000000,COUNTIF(過去ログ!$N$3:$N$9999,基礎データ!V192)+ROW()/10000)","v":1.9199999999999998E-6},"",191,810,null,{"$f":"IF(AA192=\"\",ROW()/100000000,COUNTIF(過去ログ!$N$3:$Y$9999,基礎データ!AA192)+ROW()/10000)","v":1.9199999999999998E-6},""]
[null,null,null,null,null,null,null,null,null,null,null,null,null,192,878,null,{"$f":"IF(P193=\"\",ROW()/100000000,COUNTIF(過去ログ!$BQ$3:$CT$9999,基礎データ!P193)+ROW()/10000)","v":1.9300000000000002E-6},"",null,192,809,null,{"$f":"IF(V193=\"\",ROW()/100000000,COUNTIF(過去ログ!$N$3:$N$9999,基礎データ!V193)+ROW()/10000)","v":1.9300000000000002E-6},"",192,809,null,{"$f":"IF(AA193=\"\",ROW()/100000000,COUNTIF(過去ログ!$N$3:$Y$9999,基礎データ!AA193)+ROW()/10000)","v":1.9300000000000002E-6},""]
[null,null,null,null,null,null,null,null,null,null,null,null,null,193,877,null,{"$f":"IF(P194=\"\",ROW()/100000000,COUNTIF(過去ログ!$BQ$3:$CT$9999,基礎データ!P194)+ROW()/10000)","v":1.9400000000000001E-6},"",null,193,808,null,{"$f":"IF(V194=\"\",ROW()/100000000,COUNTIF(過去ログ!$N$3:$N$9999,基礎データ!V194)+ROW()/10000)","v":1.9400000000000001E-6},"",193,808,null,{"$f":"IF(AA194=\"\",ROW()/100000000,COUNTIF(過去ログ!$N$3:$Y$9999,基礎データ!AA194)+ROW()/10000)","v":1.9400000000000001E-6},""]
[null,null,null,null,null,null,null,null,null,null,null,null,null,194,876,null,{"$f":"IF(P195=\"\",ROW()/100000000,COUNTIF(過去ログ!$BQ$3:$CT$9999,基礎データ!P195)+ROW()/10000)","v":1.95E-6},"",null,194,807,null,{"$f":"IF(V195=\"\",ROW()/100000000,COUNTIF(過去ログ!$N$3:$N$9999,基礎データ!V195)+ROW()/10000)","v":1.95E-6},"",194,807,null,{"$f":"IF(AA195=\"\",ROW()/100000000,COUNTIF(過去ログ!$N$3:$Y$9999,基礎データ!AA195)+ROW()/10000)","v":1.95E-6},""]
[null,null,null,null,null,null,null,null,null,null,null,null,null,195,875,null,{"$f":"IF(P196=\"\",ROW()/100000000,COUNTIF(過去ログ!$BQ$3:$CT$9999,基礎データ!P196)+ROW()/10000)","v":1.9599999999999999E-6},"",null,195,806,null,{"$f":"IF(V196=\"\",ROW()/100000000,COUNTIF(過去ログ!$N$3:$N$9999,基礎データ!V196)+ROW()/10000)","v":1.9599999999999999E-6},{"$f":"IF(VLOOKUP(T196,$U$2:$V$1002,2,FALSE)=0,\"\",VLOOKUP(T196,$U$2:$V$1002,2,FALSE))","v":""},195,806,null,{"$f":"IF(AA196=\"\",ROW()/100000000,COUNTIF(過去ログ!$N$3:$Y$9999,基礎データ!AA196)+ROW()/10000)","v":1.9599999999999999E-6},""]
[null,null,null,null,null,null,null,null,null,null,null,null,null,196,874,null,{"$f":"IF(P197=\"\",ROW()/100000000,COUNTIF(過去ログ!$BQ$3:$CT$9999,基礎データ!P197)+ROW()/10000)","v":1.9700000000000002E-6},"",null,196,{"$f":"RANK(W197,$W$2:$W$1002)","v":805},null,{"$f":"IF(V197=\"\",ROW()/100000000,COUNTIF(過去ログ!$N$3:$N$9999,基礎データ!V197)+ROW()/10000)","v":1.9700000000000002E-6},"",196,805,null,{"$f":"IF(AA197=\"\",ROW()/100000000,COUNTIF(過去ログ!$N$3:$Y$9999,基礎データ!AA197)+ROW()/10000)","v":1.9700000000000002E-6},""]
[null,null,null,null,null,null,null,null,null,null,null,null,null,197,873,null,{"$f":"IF(P198=\"\",ROW()/100000000,COUNTIF(過去ログ!$BQ$3:$CT$9999,基礎データ!P198)+ROW()/10000)","v":1.9800000000000001E-6},"",null,197,804,null,{"$f":"IF(V198=\"\",ROW()/100000000,COUNTIF(過去ログ!$N$3:$N$9999,基礎データ!V198)+ROW()/10000)","v":1.9800000000000001E-6},"",197,804,null,{"$f":"IF(AA198=\"\",ROW()/100000000,COUNTIF(過去ログ!$N$3:$Y$9999,基礎データ!AA198)+ROW()/10000)","v":1.9800000000000001E-6},""]
[null,null,null,null,null,null,null,null,null,null,null,null,null,198,872,null,{"$f":"IF(P199=\"\",ROW()/100000000,COUNTIF(過去ログ!$BQ$3:$CT$9999,基礎データ!P199)+ROW()/10000)","v":1.99E-6},"",null,198,803,null,{"$f":"IF(V199=\"\",ROW()/100000000,COUNTIF(過去ログ!$N$3:$N$9999,基礎データ!V199)+ROW()/10000)","v":1.99E-6},"",198,803,null,{"$f":"IF(AA199=\"\",ROW()/100000000,COUNTIF(過去ログ!$N$3:$Y$9999,基礎データ!AA199)+ROW()/10000)","v":1.99E-6},""]
[null,null,null,null,null,null,null,null,null,null,null,null,null,199,871,null,{"$f":"IF(P200=\"\",ROW()/100000000,COUNTIF(過去ログ!$BQ$3:$CT$9999,基礎データ!P200)+ROW()/10000)","v":1.9999999999999999E-6},"",null,199,802,null,{"$f":"IF(V200=\"\",ROW()/100000000,COUNTIF(過去ログ!$N$3:$N$9999,基礎データ!V200)+ROW()/10000)","v":1.9999999999999999E-6},"",199,802,null,{"$f":"IF(AA200=\"\",ROW()/100000000,COUNTIF(過去ログ!$N$3:$Y$9999,基礎データ!AA200)+ROW()/10000)","v":1.9999999999999999E-6},""]
[null,null,null,null,null,null,null,null,null,null,null,null,null,200,870,null,{"$f":"IF(P201=\"\",ROW()/100000000,COUNTIF(過去ログ!$BQ$3:$CT$9999,基礎データ!P201)+ROW()/10000)","v":2.0099999999999998E-6},{"$f":"IF(P201=\"\",\"\",VLOOKUP(N201,$O$2:$P$1002,2,FALSE))","v":""},null,200,801,null,{"$f":"IF(V201=\"\",ROW()/100000000,COUNTIF(過去ログ!$N$3:$N$9999,基礎データ!V201)+ROW()/10000)","v":2.0099999999999998E-6},"",200,801,null,{"$f":"IF(AA201=\"\",ROW()/100000000,COUNTIF(過去ログ!$N$3:$Y$9999,基礎データ!AA201)+ROW()/10000)","v":2.0099999999999998E-6},""]
[null,null,null,null,null,null,null,null,null,null,null,null,null,201,869,null,{"$f":"IF(P202=\"\",ROW()/100000000,COUNTIF(過去ログ!$BQ$3:$CT$9999,基礎データ!P202)+ROW()/10000)","v":2.0200000000000001E-6},"",null,201,800,null,{"$f":"IF(V202=\"\",ROW()/100000000,COUNTIF(過去ログ!$N$3:$N$9999,基礎データ!V202)+ROW()/10000)","v":2.0200000000000001E-6},"",201,800,null,{"$f":"IF(AA202=\"\",ROW()/100000000,COUNTIF(過去ログ!$N$3:$Y$9999,基礎データ!AA202)+ROW()/10000)","v":2.0200000000000001E-6},""]
[null,null,null,null,null,null,null,null,null,null,null,null,null,202,868,null,{"$f":"IF(P203=\"\",ROW()/100000000,COUNTIF(過去ログ!$BQ$3:$CT$9999,基礎データ!P203)+ROW()/10000)","v":2.03E-6},"",null,202,799,null,{"$f":"IF(V203=\"\",ROW()/100000000,COUNTIF(過去ログ!$N$3:$N$9999,基礎データ!V203)+ROW()/10000)","v":2.03E-6},"",202,799,null,{"$f":"IF(AA203=\"\",ROW()/100000000,COUNTIF(過去ログ!$N$3:$Y$9999,基礎データ!AA203)+ROW()/10000)","v":2.03E-6},""]
[null,null,null,null,null,null,null,null,null,null,null,null,null,203,867,null,{"$f":"IF(P204=\"\",ROW()/100000000,COUNTIF(過去ログ!$BQ$3:$CT$9999,基礎データ!P204)+ROW()/10000)","v":2.04E-6},"",null,203,798,null,{"$f":"IF(V204=\"\",ROW()/100000000,COUNTIF(過去ログ!$N$3:$N$9999,基礎データ!V204)+ROW()/10000)","v":2.04E-6},"",203,798,null,{"$f":"IF(AA204=\"\",ROW()/100000000,COUNTIF(過去ログ!$N$3:$Y$9999,基礎データ!AA204)+ROW()/10000)","v":2.04E-6},""]
[null,null,null,null,null,null,null,null,null,null,null,null,null,204,866,null,{"$f":"IF(P205=\"\",ROW()/100000000,COUNTIF(過去ログ!$BQ$3:$CT$9999,基礎データ!P205)+ROW()/10000)","v":2.0499999999999999E-6},"",null,204,797,null,{"$f":"IF(V205=\"\",ROW()/100000000,COUNTIF(過去ログ!$N$3:$N$9999,基礎データ!V205)+ROW()/10000)","v":2.0499999999999999E-6},"",204,797,null,{"$f":"IF(AA205=\"\",ROW()/100000000,COUNTIF(過去ログ!$N$3:$Y$9999,基礎データ!AA205)+ROW()/10000)","v":2.0499999999999999E-6},""]
[null,null,null,null,null,null,null,null,null,null,null,null,null,205,865,null,{"$f":"IF(P206=\"\",ROW()/100000000,COUNTIF(過去ログ!$BQ$3:$CT$9999,基礎データ!P206)+ROW()/10000)","v":2.0600000000000002E-6},"",null,205,796,null,{"$f":"IF(V206=\"\",ROW()/100000000,COUNTIF(過去ログ!$N$3:$N$9999,基礎データ!V206)+ROW()/10000)","v":2.0600000000000002E-6},"",205,796,null,{"$f":"IF(AA206=\"\",ROW()/100000000,COUNTIF(過去ログ!$N$3:$Y$9999,基礎データ!AA206)+ROW()/10000)","v":2.0600000000000002E-6},""]
[null,null,null,null,null,null,null,null,null,null,null,null,null,206,864,null,{"$f":"IF(P207=\"\",ROW()/100000000,COUNTIF(過去ログ!$BQ$3:$CT$9999,基礎データ!P207)+ROW()/10000)","v":2.0700000000000001E-6},"",null,206,795,null,{"$f":"IF(V207=\"\",ROW()/100000000,COUNTIF(過去ログ!$N$3:$N$9999,基礎データ!V207)+ROW()/10000)","v":2.0700000000000001E-6},"",206,795,null,{"$f":"IF(AA207=\"\",ROW()/100000000,COUNTIF(過去ログ!$N$3:$Y$9999,基礎データ!AA207)+ROW()/10000)","v":2.0700000000000001E-6},""]
[null,null,null,null,null,null,null,null,null,null,null,null,null,207,863,null,{"$f":"IF(P208=\"\",ROW()/100000000,COUNTIF(過去ログ!$BQ$3:$CT$9999,基礎データ!P208)+ROW()/10000)","v":2.08E-6},"",null,207,794,null,{"$f":"IF(V208=\"\",ROW()/100000000,COUNTIF(過去ログ!$N$3:$N$9999,基礎データ!V208)+ROW()/10000)","v":2.08E-6},"",207,794,null,{"$f":"IF(AA208=\"\",ROW()/100000000,COUNTIF(過去ログ!$N$3:$Y$9999,基礎データ!AA208)+ROW()/10000)","v":2.08E-6},""]
[null,null,null,null,null,null,null,null,null,null,null,null,null,208,862,null,{"$f":"IF(P209=\"\",ROW()/100000000,COUNTIF(過去ログ!$BQ$3:$CT$9999,基礎データ!P209)+ROW()/10000)","v":2.0899999999999999E-6},"",null,208,793,null,{"$f":"IF(V209=\"\",ROW()/100000000,COUNTIF(過去ログ!$N$3:$N$9999,基礎データ!V209)+ROW()/10000)","v":2.0899999999999999E-6},"",208,793,null,{"$f":"IF(AA209=\"\",ROW()/100000000,COUNTIF(過去ログ!$N$3:$Y$9999,基礎データ!AA209)+ROW()/10000)","v":2.0899999999999999E-6},""]
[null,null,null,null,null,null,null,null,null,null,null,null,null,209,861,null,{"$f":"IF(P210=\"\",ROW()/100000000,COUNTIF(過去ログ!$BQ$3:$CT$9999,基礎データ!P210)+ROW()/10000)","v":2.0999999999999998E-6},"",null,209,792,null,{"$f":"IF(V210=\"\",ROW()/100000000,COUNTIF(過去ログ!$N$3:$N$9999,基礎データ!V210)+ROW()/10000)","v":2.0999999999999998E-6},"",209,792,null,{"$f":"IF(AA210=\"\",ROW()/100000000,COUNTIF(過去ログ!$N$3:$Y$9999,基礎データ!AA210)+ROW()/10000)","v":2.0999999999999998E-6},""]
[null,null,null,null,null,null,null,null,null,null,null,null,null,210,860,null,{"$f":"IF(P211=\"\",ROW()/100000000,COUNTIF(過去ログ!$BQ$3:$CT$9999,基礎データ!P211)+ROW()/10000)","v":2.1100000000000001E-6},"",null,210,791,null,{"$f":"IF(V211=\"\",ROW()/100000000,COUNTIF(過去ログ!$N$3:$N$9999,基礎データ!V211)+ROW()/10000)","v":2.1100000000000001E-6},"",210,791,null,{"$f":"IF(AA211=\"\",ROW()/100000000,COUNTIF(過去ログ!$N$3:$Y$9999,基礎データ!AA211)+ROW()/10000)","v":2.1100000000000001E-6},""]
[null,null,null,null,null,null,null,null,null,null,null,null,null,211,859,null,{"$f":"IF(P212=\"\",ROW()/100000000,COUNTIF(過去ログ!$BQ$3:$CT$9999,基礎データ!P212)+ROW()/10000)","v":2.12E-6},"",null,211,790,null,{"$f":"IF(V212=\"\",ROW()/100000000,COUNTIF(過去ログ!$N$3:$N$9999,基礎データ!V212)+ROW()/10000)","v":2.12E-6},"",211,790,null,{"$f":"IF(AA212=\"\",ROW()/100000000,COUNTIF(過去ログ!$N$3:$Y$9999,基礎データ!AA212)+ROW()/10000)","v":2.12E-6},""]
[null,null,null,null,null,null,null,null,null,null,null,null,null,212,858,null,{"$f":"IF(P213=\"\",ROW()/100000000,COUNTIF(過去ログ!$BQ$3:$CT$9999,基礎データ!P213)+ROW()/10000)","v":2.1299999999999999E-6},"",null,212,789,null,{"$f":"IF(V213=\"\",ROW()/100000000,COUNTIF(過去ログ!$N$3:$N$9999,基礎データ!V213)+ROW()/10000)","v":2.1299999999999999E-6},"",212,789,null,{"$f":"IF(AA213=\"\",ROW()/100000000,COUNTIF(過去ログ!$N$3:$Y$9999,基礎データ!AA213)+ROW()/10000)","v":2.1299999999999999E-6},""]
[null,null,null,null,null,null,null,null,null,null,null,null,null,213,857,null,{"$f":"IF(P214=\"\",ROW()/100000000,COUNTIF(過去ログ!$BQ$3:$CT$9999,基礎データ!P214)+ROW()/10000)","v":2.1399999999999998E-6},"",null,213,788,null,{"$f":"IF(V214=\"\",ROW()/100000000,COUNTIF(過去ログ!$N$3:$N$9999,基礎データ!V214)+ROW()/10000)","v":2.1399999999999998E-6},"",213,788,null,{"$f":"IF(AA214=\"\",ROW()/100000000,COUNTIF(過去ログ!$N$3:$Y$9999,基礎データ!AA214)+ROW()/10000)","v":2.1399999999999998E-6},""]
[null,null,null,null,null,null,null,null,null,null,null,null,null,214,856,null,{"$f":"IF(P215=\"\",ROW()/100000000,COUNTIF(過去ログ!$BQ$3:$CT$9999,基礎データ!P215)+ROW()/10000)","v":2.1500000000000002E-6},"",null,214,787,null,{"$f":"IF(V215=\"\",ROW()/100000000,COUNTIF(過去ログ!$N$3:$N$9999,基礎データ!V215)+ROW()/10000)","v":2.1500000000000002E-6},"",214,787,null,{"$f":"IF(AA215=\"\",ROW()/100000000,COUNTIF(過去ログ!$N$3:$Y$9999,基礎データ!AA215)+ROW()/10000)","v":2.1500000000000002E-6},""]
[null,null,null,null,null,null,null,null,null,null,null,null,null,215,855,null,{"$f":"IF(P216=\"\",ROW()/100000000,COUNTIF(過去ログ!$BQ$3:$CT$9999,基礎データ!P216)+ROW()/10000)","v":2.1600000000000001E-6},"",null,215,786,null,{"$f":"IF(V216=\"\",ROW()/100000000,COUNTIF(過去ログ!$N$3:$N$9999,基礎データ!V216)+ROW()/10000)","v":2.1600000000000001E-6},"",215,786,null,{"$f":"IF(AA216=\"\",ROW()/100000000,COUNTIF(過去ログ!$N$3:$Y$9999,基礎データ!AA216)+ROW()/10000)","v":2.1600000000000001E-6},""]
[null,null,null,null,null,null,null,null,null,null,null,null,null,216,854,null,{"$f":"IF(P217=\"\",ROW()/100000000,COUNTIF(過去ログ!$BQ$3:$CT$9999,基礎データ!P217)+ROW()/10000)","v":2.17E-6},"",null,216,785,null,{"$f":"IF(V217=\"\",ROW()/100000000,COUNTIF(過去ログ!$N$3:$N$9999,基礎データ!V217)+ROW()/10000)","v":2.17E-6},"",216,785,null,{"$f":"IF(AA217=\"\",ROW()/100000000,COUNTIF(過去ログ!$N$3:$Y$9999,基礎データ!AA217)+ROW()/10000)","v":2.17E-6},""]
[null,null,null,null,null,null,null,null,null,null,null,null,null,217,853,null,{"$f":"IF(P218=\"\",ROW()/100000000,COUNTIF(過去ログ!$BQ$3:$CT$9999,基礎データ!P218)+ROW()/10000)","v":2.1799999999999999E-6},"",null,217,784,null,{"$f":"IF(V218=\"\",ROW()/100000000,COUNTIF(過去ログ!$N$3:$N$9999,基礎データ!V218)+ROW()/10000)","v":2.1799999999999999E-6},"",217,784,null,{"$f":"IF(AA218=\"\",ROW()/100000000,COUNTIF(過去ログ!$N$3:$Y$9999,基礎データ!AA218)+ROW()/10000)","v":2.1799999999999999E-6},""]
[null,null,null,null,null,null,null,null,null,null,null,null,null,218,852,null,{"$f":"IF(P219=\"\",ROW()/100000000,COUNTIF(過去ログ!$BQ$3:$CT$9999,基礎データ!P219)+ROW()/10000)","v":2.1900000000000002E-6},"",null,218,783,null,{"$f":"IF(V219=\"\",ROW()/100000000,COUNTIF(過去ログ!$N$3:$N$9999,基礎データ!V219)+ROW()/10000)","v":2.1900000000000002E-6},"",218,783,null,{"$f":"IF(AA219=\"\",ROW()/100000000,COUNTIF(過去ログ!$N$3:$Y$9999,基礎データ!AA219)+ROW()/10000)","v":2.1900000000000002E-6},""]
[null,null,null,null,null,null,null,null,null,null,null,null,null,219,851,null,{"$f":"IF(P220=\"\",ROW()/100000000,COUNTIF(過去ログ!$BQ$3:$CT$9999,基礎データ!P220)+ROW()/10000)","v":2.2000000000000001E-6},"",null,219,782,null,{"$f":"IF(V220=\"\",ROW()/100000000,COUNTIF(過去ログ!$N$3:$N$9999,基礎データ!V220)+ROW()/10000)","v":2.2000000000000001E-6},"",219,782,null,{"$f":"IF(AA220=\"\",ROW()/100000000,COUNTIF(過去ログ!$N$3:$Y$9999,基礎データ!AA220)+ROW()/10000)","v":2.2000000000000001E-6},""]
[null,null,null,null,null,null,null,null,null,null,null,null,null,220,850,null,{"$f":"IF(P221=\"\",ROW()/100000000,COUNTIF(過去ログ!$BQ$3:$CT$9999,基礎データ!P221)+ROW()/10000)","v":2.21E-6},"",null,220,781,null,{"$f":"IF(V221=\"\",ROW()/100000000,COUNTIF(過去ログ!$N$3:$N$9999,基礎データ!V221)+ROW()/10000)","v":2.21E-6},"",220,781,null,{"$f":"IF(AA221=\"\",ROW()/100000000,COUNTIF(過去ログ!$N$3:$Y$9999,基礎データ!AA221)+ROW()/10000)","v":2.21E-6},""]
[null,null,null,null,null,null,null,null,null,null,null,null,null,221,849,null,{"$f":"IF(P222=\"\",ROW()/100000000,COUNTIF(過去ログ!$BQ$3:$CT$9999,基礎データ!P222)+ROW()/10000)","v":2.2199999999999999E-6},"",null,221,780,null,{"$f":"IF(V222=\"\",ROW()/100000000,COUNTIF(過去ログ!$N$3:$N$9999,基礎データ!V222)+ROW()/10000)","v":2.2199999999999999E-6},"",221,780,null,{"$f":"IF(AA222=\"\",ROW()/100000000,COUNTIF(過去ログ!$N$3:$Y$9999,基礎データ!AA222)+ROW()/10000)","v":2.2199999999999999E-6},""]
[null,null,null,null,null,null,null,null,null,null,null,null,null,222,848,null,{"$f":"IF(P223=\"\",ROW()/100000000,COUNTIF(過去ログ!$BQ$3:$CT$9999,基礎データ!P223)+ROW()/10000)","v":2.2299999999999998E-6},"",null,222,779,null,{"$f":"IF(V223=\"\",ROW()/100000000,COUNTIF(過去ログ!$N$3:$N$9999,基礎データ!V223)+ROW()/10000)","v":2.2299999999999998E-6},"",222,779,null,{"$f":"IF(AA223=\"\",ROW()/100000000,COUNTIF(過去ログ!$N$3:$Y$9999,基礎データ!AA223)+ROW()/10000)","v":2.2299999999999998E-6},""]
[null,null,null,null,null,null,null,null,null,null,null,null,null,223,{"$f":"RANK(Q224,$Q$2:$Q$1002)","v":847},null,{"$f":"IF(P224=\"\",ROW()/100000000,COUNTIF(過去ログ!$BQ$3:$CT$9999,基礎データ!P224)+ROW()/10000)","v":2.2400000000000002E-6},"",null,223,778,null,{"$f":"IF(V224=\"\",ROW()/100000000,COUNTIF(過去ログ!$N$3:$N$9999,基礎データ!V224)+ROW()/10000)","v":2.2400000000000002E-6},"",223,778,null,{"$f":"IF(AA224=\"\",ROW()/100000000,COUNTIF(過去ログ!$N$3:$Y$9999,基礎データ!AA224)+ROW()/10000)","v":2.2400000000000002E-6},""]
[null,null,null,null,null,null,null,null,null,null,null,null,null,224,846,null,{"$f":"IF(P225=\"\",ROW()/100000000,COUNTIF(過去ログ!$BQ$3:$CT$9999,基礎データ!P225)+ROW()/10000)","v":2.2500000000000001E-6},"",null,224,777,null,{"$f":"IF(V225=\"\",ROW()/100000000,COUNTIF(過去ログ!$N$3:$N$9999,基礎データ!V225)+ROW()/10000)","v":2.2500000000000001E-6},"",224,777,null,{"$f":"IF(AA225=\"\",ROW()/100000000,COUNTIF(過去ログ!$N$3:$Y$9999,基礎データ!AA225)+ROW()/10000)","v":2.2500000000000001E-6},""]
[null,null,null,null,null,null,null,null,null,null,null,null,null,225,845,null,{"$f":"IF(P226=\"\",ROW()/100000000,COUNTIF(過去ログ!$BQ$3:$CT$9999,基礎データ!P226)+ROW()/10000)","v":2.26E-6},"",null,225,776,null,{"$f":"IF(V226=\"\",ROW()/100000000,COUNTIF(過去ログ!$N$3:$N$9999,基礎データ!V226)+ROW()/10000)","v":2.26E-6},"",225,776,null,{"$f":"IF(AA226=\"\",ROW()/100000000,COUNTIF(過去ログ!$N$3:$Y$9999,基礎データ!AA226)+ROW()/10000)","v":2.26E-6},""]
[null,null,null,null,null,null,null,null,null,null,null,null,null,226,844,null,{"$f":"IF(P227=\"\",ROW()/100000000,COUNTIF(過去ログ!$BQ$3:$CT$9999,基礎データ!P227)+ROW()/10000)","v":2.2699999999999999E-6},"",null,226,775,null,{"$f":"IF(V227=\"\",ROW()/100000000,COUNTIF(過去ログ!$N$3:$N$9999,基礎データ!V227)+ROW()/10000)","v":2.2699999999999999E-6},"",226,775,null,{"$f":"IF(AA227=\"\",ROW()/100000000,COUNTIF(過去ログ!$N$3:$Y$9999,基礎データ!AA227)+ROW()/10000)","v":2.2699999999999999E-6},""]
[null,null,null,null,null,null,null,null,null,null,null,null,null,227,843,null,{"$f":"IF(P228=\"\",ROW()/100000000,COUNTIF(過去ログ!$BQ$3:$CT$9999,基礎データ!P228)+ROW()/10000)","v":2.2800000000000002E-6},"",null,227,774,null,{"$f":"IF(V228=\"\",ROW()/100000000,COUNTIF(過去ログ!$N$3:$N$9999,基礎データ!V228)+ROW()/10000)","v":2.2800000000000002E-6},"",227,774,null,{"$f":"IF(AA228=\"\",ROW()/100000000,COUNTIF(過去ログ!$N$3:$Y$9999,基礎データ!AA228)+ROW()/10000)","v":2.2800000000000002E-6},""]
[null,null,null,null,null,null,null,null,null,null,null,null,null,228,842,null,{"$f":"IF(P229=\"\",ROW()/100000000,COUNTIF(過去ログ!$BQ$3:$CT$9999,基礎データ!P229)+ROW()/10000)","v":2.2900000000000001E-6},"",null,228,773,null,{"$f":"IF(V229=\"\",ROW()/100000000,COUNTIF(過去ログ!$N$3:$N$9999,基礎データ!V229)+ROW()/10000)","v":2.2900000000000001E-6},"",228,773,null,{"$f":"IF(AA229=\"\",ROW()/100000000,COUNTIF(過去ログ!$N$3:$Y$9999,基礎データ!AA229)+ROW()/10000)","v":2.2900000000000001E-6},""]
[null,null,null,null,null,null,null,null,null,null,null,null,null,229,841,null,{"$f":"IF(P230=\"\",ROW()/100000000,COUNTIF(過去ログ!$BQ$3:$CT$9999,基礎データ!P230)+ROW()/10000)","v":2.3E-6},"",null,229,772,null,{"$f":"IF(V230=\"\",ROW()/100000000,COUNTIF(過去ログ!$N$3:$N$9999,基礎データ!V230)+ROW()/10000)","v":2.3E-6},"",229,772,null,{"$f":"IF(AA230=\"\",ROW()/100000000,COUNTIF(過去ログ!$N$3:$Y$9999,基礎データ!AA230)+ROW()/10000)","v":2.3E-6},""]
[null,null,null,null,null,null,null,null,null,null,null,null,null,230,840,null,{"$f":"IF(P231=\"\",ROW()/100000000,COUNTIF(過去ログ!$BQ$3:$CT$9999,基礎データ!P231)+ROW()/10000)","v":2.3099999999999999E-6},"",null,230,771,null,{"$f":"IF(V231=\"\",ROW()/100000000,COUNTIF(過去ログ!$N$3:$N$9999,基礎データ!V231)+ROW()/10000)","v":2.3099999999999999E-6},"",230,771,null,{"$f":"IF(AA231=\"\",ROW()/100000000,COUNTIF(過去ログ!$N$3:$Y$9999,基礎データ!AA231)+ROW()/10000)","v":2.3099999999999999E-6},""]
[null,null,null,null,null,null,null,null,null,null,null,null,null,231,839,null,{"$f":"IF(P232=\"\",ROW()/100000000,COUNTIF(過去ログ!$BQ$3:$CT$9999,基礎データ!P232)+ROW()/10000)","v":2.3199999999999998E-6},"",null,231,770,null,{"$f":"IF(V232=\"\",ROW()/100000000,COUNTIF(過去ログ!$N$3:$N$9999,基礎データ!V232)+ROW()/10000)","v":2.3199999999999998E-6},"",231,770,null,{"$f":"IF(AA232=\"\",ROW()/100000000,COUNTIF(過去ログ!$N$3:$Y$9999,基礎データ!AA232)+ROW()/10000)","v":2.3199999999999998E-6},""]
[null,null,null,null,null,null,null,null,null,null,null,null,null,232,838,null,{"$f":"IF(P233=\"\",ROW()/100000000,COUNTIF(過去ログ!$BQ$3:$CT$9999,基礎データ!P233)+ROW()/10000)","v":2.3300000000000001E-6},"",null,232,769,null,{"$f":"IF(V233=\"\",ROW()/100000000,COUNTIF(過去ログ!$N$3:$N$9999,基礎データ!V233)+ROW()/10000)","v":2.3300000000000001E-6},"",232,769,null,{"$f":"IF(AA233=\"\",ROW()/100000000,COUNTIF(過去ログ!$N$3:$Y$9999,基礎データ!AA233)+ROW()/10000)","v":2.3300000000000001E-6},""]
[null,null,null,null,null,null,null,null,null,null,null,null,null,233,837,null,{"$f":"IF(P234=\"\",ROW()/100000000,COUNTIF(過去ログ!$BQ$3:$CT$9999,基礎データ!P234)+ROW()/10000)","v":2.34E-6},"",null,233,768,null,{"$f":"IF(V234=\"\",ROW()/100000000,COUNTIF(過去ログ!$N$3:$N$9999,基礎データ!V234)+ROW()/10000)","v":2.34E-6},"",233,768,null,{"$f":"IF(AA234=\"\",ROW()/100000000,COUNTIF(過去ログ!$N$3:$Y$9999,基礎データ!AA234)+ROW()/10000)","v":2.34E-6},""]
[null,null,null,null,null,null,null,null,null,null,null,null,null,234,836,null,{"$f":"IF(P235=\"\",ROW()/100000000,COUNTIF(過去ログ!$BQ$3:$CT$9999,基礎データ!P235)+ROW()/10000)","v":2.3499999999999999E-6},"",null,234,767,null,{"$f":"IF(V235=\"\",ROW()/100000000,COUNTIF(過去ログ!$N$3:$N$9999,基礎データ!V235)+ROW()/10000)","v":2.3499999999999999E-6},"",234,767,null,{"$f":"IF(AA235=\"\",ROW()/100000000,COUNTIF(過去ログ!$N$3:$Y$9999,基礎データ!AA235)+ROW()/10000)","v":2.3499999999999999E-6},""]
[null,null,null,null,null,null,null,null,null,null,null,null,null,235,835,null,{"$f":"IF(P236=\"\",ROW()/100000000,COUNTIF(過去ログ!$BQ$3:$CT$9999,基礎データ!P236)+ROW()/10000)","v":2.3599999999999999E-6},"",null,235,766,null,{"$f":"IF(V236=\"\",ROW()/100000000,COUNTIF(過去ログ!$N$3:$N$9999,基礎データ!V236)+ROW()/10000)","v":2.3599999999999999E-6},"",235,766,null,{"$f":"IF(AA236=\"\",ROW()/100000000,COUNTIF(過去ログ!$N$3:$Y$9999,基礎データ!AA236)+ROW()/10000)","v":2.3599999999999999E-6},""]
[null,null,null,null,null,null,null,null,null,null,null,null,null,236,834,null,{"$f":"IF(P237=\"\",ROW()/100000000,COUNTIF(過去ログ!$BQ$3:$CT$9999,基礎データ!P237)+ROW()/10000)","v":2.3700000000000002E-6},"",null,236,765,null,{"$f":"IF(V237=\"\",ROW()/100000000,COUNTIF(過去ログ!$N$3:$N$9999,基礎データ!V237)+ROW()/10000)","v":2.3700000000000002E-6},"",236,765,null,{"$f":"IF(AA237=\"\",ROW()/100000000,COUNTIF(過去ログ!$N$3:$Y$9999,基礎データ!AA237)+ROW()/10000)","v":2.3700000000000002E-6},""]
[null,null,null,null,null,null,null,null,null,null,null,null,null,237,833,null,{"$f":"IF(P238=\"\",ROW()/100000000,COUNTIF(過去ログ!$BQ$3:$CT$9999,基礎データ!P238)+ROW()/10000)","v":2.3800000000000001E-6},"",null,237,764,null,{"$f":"IF(V238=\"\",ROW()/100000000,COUNTIF(過去ログ!$N$3:$N$9999,基礎データ!V238)+ROW()/10000)","v":2.3800000000000001E-6},"",237,764,null,{"$f":"IF(AA238=\"\",ROW()/100000000,COUNTIF(過去ログ!$N$3:$Y$9999,基礎データ!AA238)+ROW()/10000)","v":2.3800000000000001E-6},""]
[null,null,null,null,null,null,null,null,null,null,null,null,null,238,832,null,{"$f":"IF(P239=\"\",ROW()/100000000,COUNTIF(過去ログ!$BQ$3:$CT$9999,基礎データ!P239)+ROW()/10000)","v":2.39E-6},"",null,238,763,null,{"$f":"IF(V239=\"\",ROW()/100000000,COUNTIF(過去ログ!$N$3:$N$9999,基礎データ!V239)+ROW()/10000)","v":2.39E-6},"",238,763,null,{"$f":"IF(AA239=\"\",ROW()/100000000,COUNTIF(過去ログ!$N$3:$Y$9999,基礎データ!AA239)+ROW()/10000)","v":2.39E-6},""]
[null,null,null,null,null,null,null,null,null,null,null,null,null,239,831,null,{"$f":"IF(P240=\"\",ROW()/100000000,COUNTIF(過去ログ!$BQ$3:$CT$9999,基礎データ!P240)+ROW()/10000)","v":2.3999999999999999E-6},"",null,239,762,null,{"$f":"IF(V240=\"\",ROW()/100000000,COUNTIF(過去ログ!$N$3:$N$9999,基礎データ!V240)+ROW()/10000)","v":2.3999999999999999E-6},"",239,762,null,{"$f":"IF(AA240=\"\",ROW()/100000000,COUNTIF(過去ログ!$N$3:$Y$9999,基礎データ!AA240)+ROW()/10000)","v":2.3999999999999999E-6},""]
[null,null,null,null,null,null,null,null,null,null,null,null,null,240,830,null,{"$f":"IF(P241=\"\",ROW()/100000000,COUNTIF(過去ログ!$BQ$3:$CT$9999,基礎データ!P241)+ROW()/10000)","v":2.4099999999999998E-6},"",null,240,761,null,{"$f":"IF(V241=\"\",ROW()/100000000,COUNTIF(過去ログ!$N$3:$N$9999,基礎データ!V241)+ROW()/10000)","v":2.4099999999999998E-6},"",240,761,null,{"$f":"IF(AA241=\"\",ROW()/100000000,COUNTIF(過去ログ!$N$3:$Y$9999,基礎データ!AA241)+ROW()/10000)","v":2.4099999999999998E-6},""]
[null,null,null,null,null,null,null,null,null,null,null,null,null,241,829,null,{"$f":"IF(P242=\"\",ROW()/100000000,COUNTIF(過去ログ!$BQ$3:$CT$9999,基礎データ!P242)+ROW()/10000)","v":2.4200000000000001E-6},"",null,241,760,null,{"$f":"IF(V242=\"\",ROW()/100000000,COUNTIF(過去ログ!$N$3:$N$9999,基礎データ!V242)+ROW()/10000)","v":2.4200000000000001E-6},"",241,760,null,{"$f":"IF(AA242=\"\",ROW()/100000000,COUNTIF(過去ログ!$N$3:$Y$9999,基礎データ!AA242)+ROW()/10000)","v":2.4200000000000001E-6},""]
[null,null,null,null,null,null,null,null,null,null,null,null,null,242,828,null,{"$f":"IF(P243=\"\",ROW()/100000000,COUNTIF(過去ログ!$BQ$3:$CT$9999,基礎データ!P243)+ROW()/10000)","v":2.43E-6},"",null,242,759,null,{"$f":"IF(V243=\"\",ROW()/100000000,COUNTIF(過去ログ!$N$3:$N$9999,基礎データ!V243)+ROW()/10000)","v":2.43E-6},"",242,759,null,{"$f":"IF(AA243=\"\",ROW()/100000000,COUNTIF(過去ログ!$N$3:$Y$9999,基礎データ!AA243)+ROW()/10000)","v":2.43E-6},{"$f":"IF(VLOOKUP(Y243,$Z$2:$AA$1002,2,FALSE)=0,\"\",VLOOKUP(Y243,$Z$2:$AA$1002,2,FALSE))","v":""}]
[null,null,null,null,null,null,null,null,null,null,null,null,null,243,827,null,{"$f":"IF(P244=\"\",ROW()/100000000,COUNTIF(過去ログ!$BQ$3:$CT$9999,基礎データ!P244)+ROW()/10000)","v":2.4399999999999999E-6},"",null,243,758,null,{"$f":"IF(V244=\"\",ROW()/100000000,COUNTIF(過去ログ!$N$3:$N$9999,基礎データ!V244)+ROW()/10000)","v":2.4399999999999999E-6},"",243,758,null,{"$f":"IF(AA244=\"\",ROW()/100000000,COUNTIF(過去ログ!$N$3:$Y$9999,基礎データ!AA244)+ROW()/10000)","v":2.4399999999999999E-6},""]
[null,null,null,null,null,null,null,null,null,null,null,null,null,244,826,null,{"$f":"IF(P245=\"\",ROW()/100000000,COUNTIF(過去ログ!$BQ$3:$CT$9999,基礎データ!P245)+ROW()/10000)","v":2.4499999999999998E-6},"",null,244,757,null,{"$f":"IF(V245=\"\",ROW()/100000000,COUNTIF(過去ログ!$N$3:$N$9999,基礎データ!V245)+ROW()/10000)","v":2.4499999999999998E-6},"",244,757,null,{"$f":"IF(AA245=\"\",ROW()/100000000,COUNTIF(過去ログ!$N$3:$Y$9999,基礎データ!AA245)+ROW()/10000)","v":2.4499999999999998E-6},""]
[null,null,null,null,null,null,null,null,null,null,null,null,null,245,825,null,{"$f":"IF(P246=\"\",ROW()/100000000,COUNTIF(過去ログ!$BQ$3:$CT$9999,基礎データ!P246)+ROW()/10000)","v":2.4600000000000002E-6},"",null,245,756,null,{"$f":"IF(V246=\"\",ROW()/100000000,COUNTIF(過去ログ!$N$3:$N$9999,基礎データ!V246)+ROW()/10000)","v":2.4600000000000002E-6},"",245,756,null,{"$f":"IF(AA246=\"\",ROW()/100000000,COUNTIF(過去ログ!$N$3:$Y$9999,基礎データ!AA246)+ROW()/10000)","v":2.4600000000000002E-6},""]
[null,null,null,null,null,null,null,null,null,null,null,null,null,246,824,null,{"$f":"IF(P247=\"\",ROW()/100000000,COUNTIF(過去ログ!$BQ$3:$CT$9999,基礎データ!P247)+ROW()/10000)","v":2.4700000000000001E-6},"",null,246,755,null,{"$f":"IF(V247=\"\",ROW()/100000000,COUNTIF(過去ログ!$N$3:$N$9999,基礎データ!V247)+ROW()/10000)","v":2.4700000000000001E-6},"",246,755,null,{"$f":"IF(AA247=\"\",ROW()/100000000,COUNTIF(過去ログ!$N$3:$Y$9999,基礎データ!AA247)+ROW()/10000)","v":2.4700000000000001E-6},""]
[null,null,null,null,null,null,null,null,null,null,null,null,null,247,823,null,{"$f":"IF(P248=\"\",ROW()/100000000,COUNTIF(過去ログ!$BQ$3:$CT$9999,基礎データ!P248)+ROW()/10000)","v":2.48E-6},"",null,247,754,null,{"$f":"IF(V248=\"\",ROW()/100000000,COUNTIF(過去ログ!$N$3:$N$9999,基礎データ!V248)+ROW()/10000)","v":2.48E-6},"",247,{"$f":"RANK(AB248,$AB$2:$AB$1002)","v":754},null,{"$f":"IF(AA248=\"\",ROW()/100000000,COUNTIF(過去ログ!$N$3:$Y$9999,基礎データ!AA248)+ROW()/10000)","v":2.48E-6},""]
[null,null,null,null,null,null,null,null,null,null,null,null,null,248,822,null,{"$f":"IF(P249=\"\",ROW()/100000000,COUNTIF(過去ログ!$BQ$3:$CT$9999,基礎データ!P249)+ROW()/10000)","v":2.4899999999999999E-6},"",null,248,753,null,{"$f":"IF(V249=\"\",ROW()/100000000,COUNTIF(過去ログ!$N$3:$N$9999,基礎データ!V249)+ROW()/10000)","v":2.4899999999999999E-6},"",248,753,null,{"$f":"IF(AA249=\"\",ROW()/100000000,COUNTIF(過去ログ!$N$3:$Y$9999,基礎データ!AA249)+ROW()/10000)","v":2.4899999999999999E-6},""]
[null,null,null,null,null,null,null,null,null,null,null,null,null,249,821,null,{"$f":"IF(P250=\"\",ROW()/100000000,COUNTIF(過去ログ!$BQ$3:$CT$9999,基礎データ!P250)+ROW()/10000)","v":2.5000000000000002E-6},"",null,249,752,null,{"$f":"IF(V250=\"\",ROW()/100000000,COUNTIF(過去ログ!$N$3:$N$9999,基礎データ!V250)+ROW()/10000)","v":2.5000000000000002E-6},"",249,752,null,{"$f":"IF(AA250=\"\",ROW()/100000000,COUNTIF(過去ログ!$N$3:$Y$9999,基礎データ!AA250)+ROW()/10000)","v":2.5000000000000002E-6},""]
[null,null,null,null,null,null,null,null,null,null,null,null,null,250,820,null,{"$f":"IF(P251=\"\",ROW()/100000000,COUNTIF(過去ログ!$BQ$3:$CT$9999,基礎データ!P251)+ROW()/10000)","v":2.5100000000000001E-6},"",null,250,751,null,{"$f":"IF(V251=\"\",ROW()/100000000,COUNTIF(過去ログ!$N$3:$N$9999,基礎データ!V251)+ROW()/10000)","v":2.5100000000000001E-6},"",250,751,null,{"$f":"IF(AA251=\"\",ROW()/100000000,COUNTIF(過去ログ!$N$3:$Y$9999,基礎データ!AA251)+ROW()/10000)","v":2.5100000000000001E-6},""]
[null,null,null,null,null,null,null,null,null,null,null,null,null,251,819,null,{"$f":"IF(P252=\"\",ROW()/100000000,COUNTIF(過去ログ!$BQ$3:$CT$9999,基礎データ!P252)+ROW()/10000)","v":2.52E-6},"",null,251,750,null,{"$f":"IF(V252=\"\",ROW()/100000000,COUNTIF(過去ログ!$N$3:$N$9999,基礎データ!V252)+ROW()/10000)","v":2.52E-6},"",251,750,null,{"$f":"IF(AA252=\"\",ROW()/100000000,COUNTIF(過去ログ!$N$3:$Y$9999,基礎データ!AA252)+ROW()/10000)","v":2.52E-6},""]
[null,null,null,null,null,null,null,null,null,null,null,null,null,252,818,null,{"$f":"IF(P253=\"\",ROW()/100000000,COUNTIF(過去ログ!$BQ$3:$CT$9999,基礎データ!P253)+ROW()/10000)","v":2.5299999999999999E-6},"",null,252,749,null,{"$f":"IF(V253=\"\",ROW()/100000000,COUNTIF(過去ログ!$N$3:$N$9999,基礎データ!V253)+ROW()/10000)","v":2.5299999999999999E-6},"",252,749,null,{"$f":"IF(AA253=\"\",ROW()/100000000,COUNTIF(過去ログ!$N$3:$Y$9999,基礎データ!AA253)+ROW()/10000)","v":2.5299999999999999E-6},""]
[null,null,null,null,null,null,null,null,null,null,null,null,null,253,817,null,{"$f":"IF(P254=\"\",ROW()/100000000,COUNTIF(過去ログ!$BQ$3:$CT$9999,基礎データ!P254)+ROW()/10000)","v":2.5399999999999998E-6},"",null,253,748,null,{"$f":"IF(V254=\"\",ROW()/100000000,COUNTIF(過去ログ!$N$3:$N$9999,基礎データ!V254)+ROW()/10000)","v":2.5399999999999998E-6},"",253,748,null,{"$f":"IF(AA254=\"\",ROW()/100000000,COUNTIF(過去ログ!$N$3:$Y$9999,基礎データ!AA254)+ROW()/10000)","v":2.5399999999999998E-6},""]
[null,null,null,null,null,null,null,null,null,null,null,null,null,254,816,null,{"$f":"IF(P255=\"\",ROW()/100000000,COUNTIF(過去ログ!$BQ$3:$CT$9999,基礎データ!P255)+ROW()/10000)","v":2.5500000000000001E-6},"",null,254,747,null,{"$f":"IF(V255=\"\",ROW()/100000000,COUNTIF(過去ログ!$N$3:$N$9999,基礎データ!V255)+ROW()/10000)","v":2.5500000000000001E-6},"",254,747,null,{"$f":"IF(AA255=\"\",ROW()/100000000,COUNTIF(過去ログ!$N$3:$Y$9999,基礎データ!AA255)+ROW()/10000)","v":2.5500000000000001E-6},""]
[null,null,null,null,null,null,null,null,null,null,null,null,null,255,815,null,{"$f":"IF(P256=\"\",ROW()/100000000,COUNTIF(過去ログ!$BQ$3:$CT$9999,基礎データ!P256)+ROW()/10000)","v":2.5600000000000001E-6},"",null,255,746,null,{"$f":"IF(V256=\"\",ROW()/100000000,COUNTIF(過去ログ!$N$3:$N$9999,基礎データ!V256)+ROW()/10000)","v":2.5600000000000001E-6},"",255,746,null,{"$f":"IF(AA256=\"\",ROW()/100000000,COUNTIF(過去ログ!$N$3:$Y$9999,基礎データ!AA256)+ROW()/10000)","v":2.5600000000000001E-6},""]
[null,null,null,null,null,null,null,null,null,null,null,null,null,256,814,null,{"$f":"IF(P257=\"\",ROW()/100000000,COUNTIF(過去ログ!$BQ$3:$CT$9999,基礎データ!P257)+ROW()/10000)","v":2.57E-6},"",null,256,745,null,{"$f":"IF(V257=\"\",ROW()/100000000,COUNTIF(過去ログ!$N$3:$N$9999,基礎データ!V257)+ROW()/10000)","v":2.57E-6},"",256,745,null,{"$f":"IF(AA257=\"\",ROW()/100000000,COUNTIF(過去ログ!$N$3:$Y$9999,基礎データ!AA257)+ROW()/10000)","v":2.57E-6},""]
[null,null,null,null,null,null,null,null,null,null,null,null,null,257,813,null,{"$f":"IF(P258=\"\",ROW()/100000000,COUNTIF(過去ログ!$BQ$3:$CT$9999,基礎データ!P258)+ROW()/10000)","v":2.5799999999999999E-6},"",null,257,744,null,{"$f":"IF(V258=\"\",ROW()/100000000,COUNTIF(過去ログ!$N$3:$N$9999,基礎データ!V258)+ROW()/10000)","v":2.5799999999999999E-6},"",257,744,null,{"$f":"IF(AA258=\"\",ROW()/100000000,COUNTIF(過去ログ!$N$3:$Y$9999,基礎データ!AA258)+ROW()/10000)","v":2.5799999999999999E-6},""]
[null,null,null,null,null,null,null,null,null,null,null,null,null,258,812,null,{"$f":"IF(P259=\"\",ROW()/100000000,COUNTIF(過去ログ!$BQ$3:$CT$9999,基礎データ!P259)+ROW()/10000)","v":2.5900000000000002E-6},"",null,258,743,null,{"$f":"IF(V259=\"\",ROW()/100000000,COUNTIF(過去ログ!$N$3:$N$9999,基礎データ!V259)+ROW()/10000)","v":2.5900000000000002E-6},"",258,743,null,{"$f":"IF(AA259=\"\",ROW()/100000000,COUNTIF(過去ログ!$N$3:$Y$9999,基礎データ!AA259)+ROW()/10000)","v":2.5900000000000002E-6},""]
[null,null,null,null,null,null,null,null,null,null,null,null,null,259,811,null,{"$f":"IF(P260=\"\",ROW()/100000000,COUNTIF(過去ログ!$BQ$3:$CT$9999,基礎データ!P260)+ROW()/10000)","v":2.6000000000000001E-6},"",null,259,742,null,{"$f":"IF(V260=\"\",ROW()/100000000,COUNTIF(過去ログ!$N$3:$N$9999,基礎データ!V260)+ROW()/10000)","v":2.6000000000000001E-6},{"$f":"IF(VLOOKUP(T260,$U$2:$V$1002,2,FALSE)=0,\"\",VLOOKUP(T260,$U$2:$V$1002,2,FALSE))","v":""},259,742,null,{"$f":"IF(AA260=\"\",ROW()/100000000,COUNTIF(過去ログ!$N$3:$Y$9999,基礎データ!AA260)+ROW()/10000)","v":2.6000000000000001E-6},""]
[null,null,null,null,null,null,null,null,null,null,null,null,null,260,810,null,{"$f":"IF(P261=\"\",ROW()/100000000,COUNTIF(過去ログ!$BQ$3:$CT$9999,基礎データ!P261)+ROW()/10000)","v":2.61E-6},"",null,260,{"$f":"RANK(W261,$W$2:$W$1002)","v":741},null,{"$f":"IF(V261=\"\",ROW()/100000000,COUNTIF(過去ログ!$N$3:$N$9999,基礎データ!V261)+ROW()/10000)","v":2.61E-6},"",260,741,null,{"$f":"IF(AA261=\"\",ROW()/100000000,COUNTIF(過去ログ!$N$3:$Y$9999,基礎データ!AA261)+ROW()/10000)","v":2.61E-6},""]
[null,null,null,null,null,null,null,null,null,null,null,null,null,261,809,null,{"$f":"IF(P262=\"\",ROW()/100000000,COUNTIF(過去ログ!$BQ$3:$CT$9999,基礎データ!P262)+ROW()/10000)","v":2.6199999999999999E-6},"",null,261,740,null,{"$f":"IF(V262=\"\",ROW()/100000000,COUNTIF(過去ログ!$N$3:$N$9999,基礎データ!V262)+ROW()/10000)","v":2.6199999999999999E-6},"",261,740,null,{"$f":"IF(AA262=\"\",ROW()/100000000,COUNTIF(過去ログ!$N$3:$Y$9999,基礎データ!AA262)+ROW()/10000)","v":2.6199999999999999E-6},""]
[null,null,null,null,null,null,null,null,null,null,null,null,null,262,808,null,{"$f":"IF(P263=\"\",ROW()/100000000,COUNTIF(過去ログ!$BQ$3:$CT$9999,基礎データ!P263)+ROW()/10000)","v":2.6299999999999998E-6},"",null,262,739,null,{"$f":"IF(V263=\"\",ROW()/100000000,COUNTIF(過去ログ!$N$3:$N$9999,基礎データ!V263)+ROW()/10000)","v":2.6299999999999998E-6},"",262,739,null,{"$f":"IF(AA263=\"\",ROW()/100000000,COUNTIF(過去ログ!$N$3:$Y$9999,基礎データ!AA263)+ROW()/10000)","v":2.6299999999999998E-6},""]
[null,null,null,null,null,null,null,null,null,null,null,null,null,263,807,null,{"$f":"IF(P264=\"\",ROW()/100000000,COUNTIF(過去ログ!$BQ$3:$CT$9999,基礎データ!P264)+ROW()/10000)","v":2.6400000000000001E-6},"",null,263,738,null,{"$f":"IF(V264=\"\",ROW()/100000000,COUNTIF(過去ログ!$N$3:$N$9999,基礎データ!V264)+ROW()/10000)","v":2.6400000000000001E-6},"",263,738,null,{"$f":"IF(AA264=\"\",ROW()/100000000,COUNTIF(過去ログ!$N$3:$Y$9999,基礎データ!AA264)+ROW()/10000)","v":2.6400000000000001E-6},""]
[null,null,null,null,null,null,null,null,null,null,null,null,null,264,806,null,{"$f":"IF(P265=\"\",ROW()/100000000,COUNTIF(過去ログ!$BQ$3:$CT$9999,基礎データ!P265)+ROW()/10000)","v":2.65E-6},{"$f":"IF(P265=\"\",\"\",VLOOKUP(N265,$O$2:$P$1002,2,FALSE))","v":""},null,264,737,null,{"$f":"IF(V265=\"\",ROW()/100000000,COUNTIF(過去ログ!$N$3:$N$9999,基礎データ!V265)+ROW()/10000)","v":2.65E-6},"",264,737,null,{"$f":"IF(AA265=\"\",ROW()/100000000,COUNTIF(過去ログ!$N$3:$Y$9999,基礎データ!AA265)+ROW()/10000)","v":2.65E-6},""]
[null,null,null,null,null,null,null,null,null,null,null,null,null,265,805,null,{"$f":"IF(P266=\"\",ROW()/100000000,COUNTIF(過去ログ!$BQ$3:$CT$9999,基礎データ!P266)+ROW()/10000)","v":2.6599999999999999E-6},"",null,265,736,null,{"$f":"IF(V266=\"\",ROW()/100000000,COUNTIF(過去ログ!$N$3:$N$9999,基礎データ!V266)+ROW()/10000)","v":2.6599999999999999E-6},"",265,736,null,{"$f":"IF(AA266=\"\",ROW()/100000000,COUNTIF(過去ログ!$N$3:$Y$9999,基礎データ!AA266)+ROW()/10000)","v":2.6599999999999999E-6},""]
[null,null,null,null,null,null,null,null,null,null,null,null,null,266,804,null,{"$f":"IF(P267=\"\",ROW()/100000000,COUNTIF(過去ログ!$BQ$3:$CT$9999,基礎データ!P267)+ROW()/10000)","v":2.6699999999999998E-6},"",null,266,735,null,{"$f":"IF(V267=\"\",ROW()/100000000,COUNTIF(過去ログ!$N$3:$N$9999,基礎データ!V267)+ROW()/10000)","v":2.6699999999999998E-6},"",266,735,null,{"$f":"IF(AA267=\"\",ROW()/100000000,COUNTIF(過去ログ!$N$3:$Y$9999,基礎データ!AA267)+ROW()/10000)","v":2.6699999999999998E-6},""]
[null,null,null,null,null,null,null,null,null,null,null,null,null,267,803,null,{"$f":"IF(P268=\"\",ROW()/100000000,COUNTIF(過去ログ!$BQ$3:$CT$9999,基礎データ!P268)+ROW()/10000)","v":2.6800000000000002E-6},"",null,267,734,null,{"$f":"IF(V268=\"\",ROW()/100000000,COUNTIF(過去ログ!$N$3:$N$9999,基礎データ!V268)+ROW()/10000)","v":2.6800000000000002E-6},"",267,734,null,{"$f":"IF(AA268=\"\",ROW()/100000000,COUNTIF(過去ログ!$N$3:$Y$9999,基礎データ!AA268)+ROW()/10000)","v":2.6800000000000002E-6},""]
[null,null,null,null,null,null,null,null,null,null,null,null,null,268,802,null,{"$f":"IF(P269=\"\",ROW()/100000000,COUNTIF(過去ログ!$BQ$3:$CT$9999,基礎データ!P269)+ROW()/10000)","v":2.6900000000000001E-6},"",null,268,733,null,{"$f":"IF(V269=\"\",ROW()/100000000,COUNTIF(過去ログ!$N$3:$N$9999,基礎データ!V269)+ROW()/10000)","v":2.6900000000000001E-6},"",268,733,null,{"$f":"IF(AA269=\"\",ROW()/100000000,COUNTIF(過去ログ!$N$3:$Y$9999,基礎データ!AA269)+ROW()/10000)","v":2.6900000000000001E-6},""]
[null,null,null,null,null,null,null,null,null,null,null,null,null,269,801,null,{"$f":"IF(P270=\"\",ROW()/100000000,COUNTIF(過去ログ!$BQ$3:$CT$9999,基礎データ!P270)+ROW()/10000)","v":2.7E-6},"",null,269,732,null,{"$f":"IF(V270=\"\",ROW()/100000000,COUNTIF(過去ログ!$N$3:$N$9999,基礎データ!V270)+ROW()/10000)","v":2.7E-6},"",269,732,null,{"$f":"IF(AA270=\"\",ROW()/100000000,COUNTIF(過去ログ!$N$3:$Y$9999,基礎データ!AA270)+ROW()/10000)","v":2.7E-6},""]
[null,null,null,null,null,null,null,null,null,null,null,null,null,270,800,null,{"$f":"IF(P271=\"\",ROW()/100000000,COUNTIF(過去ログ!$BQ$3:$CT$9999,基礎データ!P271)+ROW()/10000)","v":2.7099999999999999E-6},"",null,270,731,null,{"$f":"IF(V271=\"\",ROW()/100000000,COUNTIF(過去ログ!$N$3:$N$9999,基礎データ!V271)+ROW()/10000)","v":2.7099999999999999E-6},{"$f":"IF(VLOOKUP(T271,$U$2:$V$1002,2,FALSE)=0,\"\",VLOOKUP(T271,$U$2:$V$1002,2,FALSE))","v":""},270,731,null,{"$f":"IF(AA271=\"\",ROW()/100000000,COUNTIF(過去ログ!$N$3:$Y$9999,基礎データ!AA271)+ROW()/10000)","v":2.7099999999999999E-6},""]
[null,null,null,null,null,null,null,null,null,null,null,null,null,271,799,null,{"$f":"IF(P272=\"\",ROW()/100000000,COUNTIF(過去ログ!$BQ$3:$CT$9999,基礎データ!P272)+ROW()/10000)","v":2.7199999999999998E-6},"",null,271,730,null,{"$f":"IF(V272=\"\",ROW()/100000000,COUNTIF(過去ログ!$N$3:$N$9999,基礎データ!V272)+ROW()/10000)","v":2.7199999999999998E-6},"",271,730,null,{"$f":"IF(AA272=\"\",ROW()/100000000,COUNTIF(過去ログ!$N$3:$Y$9999,基礎データ!AA272)+ROW()/10000)","v":2.7199999999999998E-6},""]
[null,null,null,null,null,null,null,null,null,null,null,null,null,272,798,null,{"$f":"IF(P273=\"\",ROW()/100000000,COUNTIF(過去ログ!$BQ$3:$CT$9999,基礎データ!P273)+ROW()/10000)","v":2.7300000000000001E-6},"",null,272,729,null,{"$f":"IF(V273=\"\",ROW()/100000000,COUNTIF(過去ログ!$N$3:$N$9999,基礎データ!V273)+ROW()/10000)","v":2.7300000000000001E-6},"",272,729,null,{"$f":"IF(AA273=\"\",ROW()/100000000,COUNTIF(過去ログ!$N$3:$Y$9999,基礎データ!AA273)+ROW()/10000)","v":2.7300000000000001E-6},""]
[null,null,null,null,null,null,null,null,null,null,null,null,null,273,797,null,{"$f":"IF(P274=\"\",ROW()/100000000,COUNTIF(過去ログ!$BQ$3:$CT$9999,基礎データ!P274)+ROW()/10000)","v":2.74E-6},"",null,273,728,null,{"$f":"IF(V274=\"\",ROW()/100000000,COUNTIF(過去ログ!$N$3:$N$9999,基礎データ!V274)+ROW()/10000)","v":2.74E-6},"",273,728,null,{"$f":"IF(AA274=\"\",ROW()/100000000,COUNTIF(過去ログ!$N$3:$Y$9999,基礎データ!AA274)+ROW()/10000)","v":2.74E-6},""]
[null,null,null,null,null,null,null,null,null,null,null,null,null,274,796,null,{"$f":"IF(P275=\"\",ROW()/100000000,COUNTIF(過去ログ!$BQ$3:$CT$9999,基礎データ!P275)+ROW()/10000)","v":2.7499999999999999E-6},"",null,274,727,null,{"$f":"IF(V275=\"\",ROW()/100000000,COUNTIF(過去ログ!$N$3:$N$9999,基礎データ!V275)+ROW()/10000)","v":2.7499999999999999E-6},"",274,727,null,{"$f":"IF(AA275=\"\",ROW()/100000000,COUNTIF(過去ログ!$N$3:$Y$9999,基礎データ!AA275)+ROW()/10000)","v":2.7499999999999999E-6},""]
[null,null,null,null,null,null,null,null,null,null,null,null,null,275,795,null,{"$f":"IF(P276=\"\",ROW()/100000000,COUNTIF(過去ログ!$BQ$3:$CT$9999,基礎データ!P276)+ROW()/10000)","v":2.7599999999999998E-6},"",null,275,726,null,{"$f":"IF(V276=\"\",ROW()/100000000,COUNTIF(過去ログ!$N$3:$N$9999,基礎データ!V276)+ROW()/10000)","v":2.7599999999999998E-6},"",275,726,null,{"$f":"IF(AA276=\"\",ROW()/100000000,COUNTIF(過去ログ!$N$3:$Y$9999,基礎データ!AA276)+ROW()/10000)","v":2.7599999999999998E-6},""]
[null,null,null,null,null,null,null,null,null,null,null,null,null,276,794,null,{"$f":"IF(P277=\"\",ROW()/100000000,COUNTIF(過去ログ!$BQ$3:$CT$9999,基礎データ!P277)+ROW()/10000)","v":2.7700000000000002E-6},"",null,276,725,null,{"$f":"IF(V277=\"\",ROW()/100000000,COUNTIF(過去ログ!$N$3:$N$9999,基礎データ!V277)+ROW()/10000)","v":2.7700000000000002E-6},"",276,725,null,{"$f":"IF(AA277=\"\",ROW()/100000000,COUNTIF(過去ログ!$N$3:$Y$9999,基礎データ!AA277)+ROW()/10000)","v":2.7700000000000002E-6},""]
[null,null,null,null,null,null,null,null,null,null,null,null,null,277,793,null,{"$f":"IF(P278=\"\",ROW()/100000000,COUNTIF(過去ログ!$BQ$3:$CT$9999,基礎データ!P278)+ROW()/10000)","v":2.7800000000000001E-6},"",null,277,724,null,{"$f":"IF(V278=\"\",ROW()/100000000,COUNTIF(過去ログ!$N$3:$N$9999,基礎データ!V278)+ROW()/10000)","v":2.7800000000000001E-6},"",277,724,null,{"$f":"IF(AA278=\"\",ROW()/100000000,COUNTIF(過去ログ!$N$3:$Y$9999,基礎データ!AA278)+ROW()/10000)","v":2.7800000000000001E-6},""]
[null,null,null,null,null,null,null,null,null,null,null,null,null,278,792,null,{"$f":"IF(P279=\"\",ROW()/100000000,COUNTIF(過去ログ!$BQ$3:$CT$9999,基礎データ!P279)+ROW()/10000)","v":2.79E-6},"",null,278,723,null,{"$f":"IF(V279=\"\",ROW()/100000000,COUNTIF(過去ログ!$N$3:$N$9999,基礎データ!V279)+ROW()/10000)","v":2.79E-6},"",278,723,null,{"$f":"IF(AA279=\"\",ROW()/100000000,COUNTIF(過去ログ!$N$3:$Y$9999,基礎データ!AA279)+ROW()/10000)","v":2.79E-6},""]
[null,null,null,null,null,null,null,null,null,null,null,null,null,279,791,null,{"$f":"IF(P280=\"\",ROW()/100000000,COUNTIF(過去ログ!$BQ$3:$CT$9999,基礎データ!P280)+ROW()/10000)","v":2.7999999999999999E-6},"",null,279,722,null,{"$f":"IF(V280=\"\",ROW()/100000000,COUNTIF(過去ログ!$N$3:$N$9999,基礎データ!V280)+ROW()/10000)","v":2.7999999999999999E-6},"",279,722,null,{"$f":"IF(AA280=\"\",ROW()/100000000,COUNTIF(過去ログ!$N$3:$Y$9999,基礎データ!AA280)+ROW()/10000)","v":2.7999999999999999E-6},""]
[null,null,null,null,null,null,null,null,null,null,null,null,null,280,790,null,{"$f":"IF(P281=\"\",ROW()/100000000,COUNTIF(過去ログ!$BQ$3:$CT$9999,基礎データ!P281)+ROW()/10000)","v":2.8100000000000002E-6},"",null,280,721,null,{"$f":"IF(V281=\"\",ROW()/100000000,COUNTIF(過去ログ!$N$3:$N$9999,基礎データ!V281)+ROW()/10000)","v":2.8100000000000002E-6},"",280,721,null,{"$f":"IF(AA281=\"\",ROW()/100000000,COUNTIF(過去ログ!$N$3:$Y$9999,基礎データ!AA281)+ROW()/10000)","v":2.8100000000000002E-6},""]
[null,null,null,null,null,null,null,null,null,null,null,null,null,281,789,null,{"$f":"IF(P282=\"\",ROW()/100000000,COUNTIF(過去ログ!$BQ$3:$CT$9999,基礎データ!P282)+ROW()/10000)","v":2.8200000000000001E-6},"",null,281,720,null,{"$f":"IF(V282=\"\",ROW()/100000000,COUNTIF(過去ログ!$N$3:$N$9999,基礎データ!V282)+ROW()/10000)","v":2.8200000000000001E-6},"",281,720,null,{"$f":"IF(AA282=\"\",ROW()/100000000,COUNTIF(過去ログ!$N$3:$Y$9999,基礎データ!AA282)+ROW()/10000)","v":2.8200000000000001E-6},""]
[null,null,null,null,null,null,null,null,null,null,null,null,null,282,788,null,{"$f":"IF(P283=\"\",ROW()/100000000,COUNTIF(過去ログ!$BQ$3:$CT$9999,基礎データ!P283)+ROW()/10000)","v":2.83E-6},"",null,282,719,null,{"$f":"IF(V283=\"\",ROW()/100000000,COUNTIF(過去ログ!$N$3:$N$9999,基礎データ!V283)+ROW()/10000)","v":2.83E-6},"",282,719,null,{"$f":"IF(AA283=\"\",ROW()/100000000,COUNTIF(過去ログ!$N$3:$Y$9999,基礎データ!AA283)+ROW()/10000)","v":2.83E-6},""]
[null,null,null,null,null,null,null,null,null,null,null,null,null,283,787,null,{"$f":"IF(P284=\"\",ROW()/100000000,COUNTIF(過去ログ!$BQ$3:$CT$9999,基礎データ!P284)+ROW()/10000)","v":2.8399999999999999E-6},"",null,283,718,null,{"$f":"IF(V284=\"\",ROW()/100000000,COUNTIF(過去ログ!$N$3:$N$9999,基礎データ!V284)+ROW()/10000)","v":2.8399999999999999E-6},"",283,718,null,{"$f":"IF(AA284=\"\",ROW()/100000000,COUNTIF(過去ログ!$N$3:$Y$9999,基礎データ!AA284)+ROW()/10000)","v":2.8399999999999999E-6},""]
[null,null,null,null,null,null,null,null,null,null,null,null,null,284,786,null,{"$f":"IF(P285=\"\",ROW()/100000000,COUNTIF(過去ログ!$BQ$3:$CT$9999,基礎データ!P285)+ROW()/10000)","v":2.8499999999999998E-6},"",null,284,717,null,{"$f":"IF(V285=\"\",ROW()/100000000,COUNTIF(過去ログ!$N$3:$N$9999,基礎データ!V285)+ROW()/10000)","v":2.8499999999999998E-6},"",284,717,null,{"$f":"IF(AA285=\"\",ROW()/100000000,COUNTIF(過去ログ!$N$3:$Y$9999,基礎データ!AA285)+ROW()/10000)","v":2.8499999999999998E-6},""]
[null,null,null,null,null,null,null,null,null,null,null,null,null,285,785,null,{"$f":"IF(P286=\"\",ROW()/100000000,COUNTIF(過去ログ!$BQ$3:$CT$9999,基礎データ!P286)+ROW()/10000)","v":2.8600000000000001E-6},"",null,285,716,null,{"$f":"IF(V286=\"\",ROW()/100000000,COUNTIF(過去ログ!$N$3:$N$9999,基礎データ!V286)+ROW()/10000)","v":2.8600000000000001E-6},"",285,716,null,{"$f":"IF(AA286=\"\",ROW()/100000000,COUNTIF(過去ログ!$N$3:$Y$9999,基礎データ!AA286)+ROW()/10000)","v":2.8600000000000001E-6},""]
[null,null,null,null,null,null,null,null,null,null,null,null,null,286,784,null,{"$f":"IF(P287=\"\",ROW()/100000000,COUNTIF(過去ログ!$BQ$3:$CT$9999,基礎データ!P287)+ROW()/10000)","v":2.8700000000000001E-6},"",null,286,715,null,{"$f":"IF(V287=\"\",ROW()/100000000,COUNTIF(過去ログ!$N$3:$N$9999,基礎データ!V287)+ROW()/10000)","v":2.8700000000000001E-6},"",286,715,null,{"$f":"IF(AA287=\"\",ROW()/100000000,COUNTIF(過去ログ!$N$3:$Y$9999,基礎データ!AA287)+ROW()/10000)","v":2.8700000000000001E-6},""]
[null,null,null,null,null,null,null,null,null,null,null,null,null,287,{"$f":"RANK(Q288,$Q$2:$Q$1002)","v":783},null,{"$f":"IF(P288=\"\",ROW()/100000000,COUNTIF(過去ログ!$BQ$3:$CT$9999,基礎データ!P288)+ROW()/10000)","v":2.88E-6},"",null,287,714,null,{"$f":"IF(V288=\"\",ROW()/100000000,COUNTIF(過去ログ!$N$3:$N$9999,基礎データ!V288)+ROW()/10000)","v":2.88E-6},"",287,714,null,{"$f":"IF(AA288=\"\",ROW()/100000000,COUNTIF(過去ログ!$N$3:$Y$9999,基礎データ!AA288)+ROW()/10000)","v":2.88E-6},""]
[null,null,null,null,null,null,null,null,null,null,null,null,null,288,782,null,{"$f":"IF(P289=\"\",ROW()/100000000,COUNTIF(過去ログ!$BQ$3:$CT$9999,基礎データ!P289)+ROW()/10000)","v":2.8899999999999999E-6},"",null,288,713,null,{"$f":"IF(V289=\"\",ROW()/100000000,COUNTIF(過去ログ!$N$3:$N$9999,基礎データ!V289)+ROW()/10000)","v":2.8899999999999999E-6},"",288,713,null,{"$f":"IF(AA289=\"\",ROW()/100000000,COUNTIF(過去ログ!$N$3:$Y$9999,基礎データ!AA289)+ROW()/10000)","v":2.8899999999999999E-6},""]
[null,null,null,null,null,null,null,null,null,null,null,null,null,289,781,null,{"$f":"IF(P290=\"\",ROW()/100000000,COUNTIF(過去ログ!$BQ$3:$CT$9999,基礎データ!P290)+ROW()/10000)","v":2.9000000000000002E-6},"",null,289,712,null,{"$f":"IF(V290=\"\",ROW()/100000000,COUNTIF(過去ログ!$N$3:$N$9999,基礎データ!V290)+ROW()/10000)","v":2.9000000000000002E-6},"",289,712,null,{"$f":"IF(AA290=\"\",ROW()/100000000,COUNTIF(過去ログ!$N$3:$Y$9999,基礎データ!AA290)+ROW()/10000)","v":2.9000000000000002E-6},""]
[null,null,null,null,null,null,null,null,null,null,null,null,null,290,780,null,{"$f":"IF(P291=\"\",ROW()/100000000,COUNTIF(過去ログ!$BQ$3:$CT$9999,基礎データ!P291)+ROW()/10000)","v":2.9100000000000001E-6},"",null,290,711,null,{"$f":"IF(V291=\"\",ROW()/100000000,COUNTIF(過去ログ!$N$3:$N$9999,基礎データ!V291)+ROW()/10000)","v":2.9100000000000001E-6},"",290,711,null,{"$f":"IF(AA291=\"\",ROW()/100000000,COUNTIF(過去ログ!$N$3:$Y$9999,基礎データ!AA291)+ROW()/10000)","v":2.9100000000000001E-6},""]
[null,null,null,null,null,null,null,null,null,null,null,null,null,291,779,null,{"$f":"IF(P292=\"\",ROW()/100000000,COUNTIF(過去ログ!$BQ$3:$CT$9999,基礎データ!P292)+ROW()/10000)","v":2.92E-6},"",null,291,710,null,{"$f":"IF(V292=\"\",ROW()/100000000,COUNTIF(過去ログ!$N$3:$N$9999,基礎データ!V292)+ROW()/10000)","v":2.92E-6},"",291,710,null,{"$f":"IF(AA292=\"\",ROW()/100000000,COUNTIF(過去ログ!$N$3:$Y$9999,基礎データ!AA292)+ROW()/10000)","v":2.92E-6},""]
[null,null,null,null,null,null,null,null,null,null,null,null,null,292,778,null,{"$f":"IF(P293=\"\",ROW()/100000000,COUNTIF(過去ログ!$BQ$3:$CT$9999,基礎データ!P293)+ROW()/10000)","v":2.9299999999999999E-6},"",null,292,709,null,{"$f":"IF(V293=\"\",ROW()/100000000,COUNTIF(過去ログ!$N$3:$N$9999,基礎データ!V293)+ROW()/10000)","v":2.9299999999999999E-6},"",292,709,null,{"$f":"IF(AA293=\"\",ROW()/100000000,COUNTIF(過去ログ!$N$3:$Y$9999,基礎データ!AA293)+ROW()/10000)","v":2.9299999999999999E-6},""]
[null,null,null,null,null,null,null,null,null,null,null,null,null,293,777,null,{"$f":"IF(P294=\"\",ROW()/100000000,COUNTIF(過去ログ!$BQ$3:$CT$9999,基礎データ!P294)+ROW()/10000)","v":2.9399999999999998E-6},"",null,293,708,null,{"$f":"IF(V294=\"\",ROW()/100000000,COUNTIF(過去ログ!$N$3:$N$9999,基礎データ!V294)+ROW()/10000)","v":2.9399999999999998E-6},"",293,708,null,{"$f":"IF(AA294=\"\",ROW()/100000000,COUNTIF(過去ログ!$N$3:$Y$9999,基礎データ!AA294)+ROW()/10000)","v":2.9399999999999998E-6},""]
[null,null,null,null,null,null,null,null,null,null,null,null,null,294,776,null,{"$f":"IF(P295=\"\",ROW()/100000000,COUNTIF(過去ログ!$BQ$3:$CT$9999,基礎データ!P295)+ROW()/10000)","v":2.9500000000000001E-6},"",null,294,707,null,{"$f":"IF(V295=\"\",ROW()/100000000,COUNTIF(過去ログ!$N$3:$N$9999,基礎データ!V295)+ROW()/10000)","v":2.9500000000000001E-6},"",294,707,null,{"$f":"IF(AA295=\"\",ROW()/100000000,COUNTIF(過去ログ!$N$3:$Y$9999,基礎データ!AA295)+ROW()/10000)","v":2.9500000000000001E-6},""]
[null,null,null,null,null,null,null,null,null,null,null,null,null,295,775,null,{"$f":"IF(P296=\"\",ROW()/100000000,COUNTIF(過去ログ!$BQ$3:$CT$9999,基礎データ!P296)+ROW()/10000)","v":2.96E-6},"",null,295,706,null,{"$f":"IF(V296=\"\",ROW()/100000000,COUNTIF(過去ログ!$N$3:$N$9999,基礎データ!V296)+ROW()/10000)","v":2.96E-6},"",295,706,null,{"$f":"IF(AA296=\"\",ROW()/100000000,COUNTIF(過去ログ!$N$3:$Y$9999,基礎データ!AA296)+ROW()/10000)","v":2.96E-6},""]
[null,null,null,null,null,null,null,null,null,null,null,null,null,296,774,null,{"$f":"IF(P297=\"\",ROW()/100000000,COUNTIF(過去ログ!$BQ$3:$CT$9999,基礎データ!P297)+ROW()/10000)","v":2.9699999999999999E-6},"",null,296,705,null,{"$f":"IF(V297=\"\",ROW()/100000000,COUNTIF(過去ログ!$N$3:$N$9999,基礎データ!V297)+ROW()/10000)","v":2.9699999999999999E-6},"",296,705,null,{"$f":"IF(AA297=\"\",ROW()/100000000,COUNTIF(過去ログ!$N$3:$Y$9999,基礎データ!AA297)+ROW()/10000)","v":2.9699999999999999E-6},""]
[null,null,null,null,null,null,null,null,null,null,null,null,null,297,773,null,{"$f":"IF(P298=\"\",ROW()/100000000,COUNTIF(過去ログ!$BQ$3:$CT$9999,基礎データ!P298)+ROW()/10000)","v":2.9799999999999998E-6},"",null,297,704,null,{"$f":"IF(V298=\"\",ROW()/100000000,COUNTIF(過去ログ!$N$3:$N$9999,基礎データ!V298)+ROW()/10000)","v":2.9799999999999998E-6},"",297,704,null,{"$f":"IF(AA298=\"\",ROW()/100000000,COUNTIF(過去ログ!$N$3:$Y$9999,基礎データ!AA298)+ROW()/10000)","v":2.9799999999999998E-6},""]
[null,null,null,null,null,null,null,null,null,null,null,null,null,298,772,null,{"$f":"IF(P299=\"\",ROW()/100000000,COUNTIF(過去ログ!$BQ$3:$CT$9999,基礎データ!P299)+ROW()/10000)","v":2.9900000000000002E-6},"",null,298,703,null,{"$f":"IF(V299=\"\",ROW()/100000000,COUNTIF(過去ログ!$N$3:$N$9999,基礎データ!V299)+ROW()/10000)","v":2.9900000000000002E-6},"",298,703,null,{"$f":"IF(AA299=\"\",ROW()/100000000,COUNTIF(過去ログ!$N$3:$Y$9999,基礎データ!AA299)+ROW()/10000)","v":2.9900000000000002E-6},""]
[null,null,null,null,null,null,null,null,null,null,null,null,null,299,771,null,{"$f":"IF(P300=\"\",ROW()/100000000,COUNTIF(過去ログ!$BQ$3:$CT$9999,基礎データ!P300)+ROW()/10000)","v":3.0000000000000001E-6},"",null,299,702,null,{"$f":"IF(V300=\"\",ROW()/100000000,COUNTIF(過去ログ!$N$3:$N$9999,基礎データ!V300)+ROW()/10000)","v":3.0000000000000001E-6},"",299,702,null,{"$f":"IF(AA300=\"\",ROW()/100000000,COUNTIF(過去ログ!$N$3:$Y$9999,基礎データ!AA300)+ROW()/10000)","v":3.0000000000000001E-6},""]
[null,null,null,null,null,null,null,null,null,null,null,null,null,300,770,null,{"$f":"IF(P301=\"\",ROW()/100000000,COUNTIF(過去ログ!$BQ$3:$CT$9999,基礎データ!P301)+ROW()/10000)","v":3.01E-6},"",null,300,701,null,{"$f":"IF(V301=\"\",ROW()/100000000,COUNTIF(過去ログ!$N$3:$N$9999,基礎データ!V301)+ROW()/10000)","v":3.01E-6},"",300,701,null,{"$f":"IF(AA301=\"\",ROW()/100000000,COUNTIF(過去ログ!$N$3:$Y$9999,基礎データ!AA301)+ROW()/10000)","v":3.01E-6},""]
[null,null,null,null,null,null,null,null,null,null,null,null,null,301,769,null,{"$f":"IF(P302=\"\",ROW()/100000000,COUNTIF(過去ログ!$BQ$3:$CT$9999,基礎データ!P302)+ROW()/10000)","v":3.0199999999999999E-6},"",null,301,700,null,{"$f":"IF(V302=\"\",ROW()/100000000,COUNTIF(過去ログ!$N$3:$N$9999,基礎データ!V302)+ROW()/10000)","v":3.0199999999999999E-6},"",301,700,null,{"$f":"IF(AA302=\"\",ROW()/100000000,COUNTIF(過去ログ!$N$3:$Y$9999,基礎データ!AA302)+ROW()/10000)","v":3.0199999999999999E-6},""]
[null,null,null,null,null,null,null,null,null,null,null,null,null,302,768,null,{"$f":"IF(P303=\"\",ROW()/100000000,COUNTIF(過去ログ!$BQ$3:$CT$9999,基礎データ!P303)+ROW()/10000)","v":3.0299999999999998E-6},"",null,302,699,null,{"$f":"IF(V303=\"\",ROW()/100000000,COUNTIF(過去ログ!$N$3:$N$9999,基礎データ!V303)+ROW()/10000)","v":3.0299999999999998E-6},"",302,699,null,{"$f":"IF(AA303=\"\",ROW()/100000000,COUNTIF(過去ログ!$N$3:$Y$9999,基礎データ!AA303)+ROW()/10000)","v":3.0299999999999998E-6},""]
[null,null,null,null,null,null,null,null,null,null,null,null,null,303,767,null,{"$f":"IF(P304=\"\",ROW()/100000000,COUNTIF(過去ログ!$BQ$3:$CT$9999,基礎データ!P304)+ROW()/10000)","v":3.0400000000000001E-6},"",null,303,698,null,{"$f":"IF(V304=\"\",ROW()/100000000,COUNTIF(過去ログ!$N$3:$N$9999,基礎データ!V304)+ROW()/10000)","v":3.0400000000000001E-6},"",303,698,null,{"$f":"IF(AA304=\"\",ROW()/100000000,COUNTIF(過去ログ!$N$3:$Y$9999,基礎データ!AA304)+ROW()/10000)","v":3.0400000000000001E-6},""]
[null,null,null,null,null,null,null,null,null,null,null,null,null,304,766,null,{"$f":"IF(P305=\"\",ROW()/100000000,COUNTIF(過去ログ!$BQ$3:$CT$9999,基礎データ!P305)+ROW()/10000)","v":3.05E-6},"",null,304,697,null,{"$f":"IF(V305=\"\",ROW()/100000000,COUNTIF(過去ログ!$N$3:$N$9999,基礎データ!V305)+ROW()/10000)","v":3.05E-6},"",304,697,null,{"$f":"IF(AA305=\"\",ROW()/100000000,COUNTIF(過去ログ!$N$3:$Y$9999,基礎データ!AA305)+ROW()/10000)","v":3.05E-6},""]
[null,null,null,null,null,null,null,null,null,null,null,null,null,305,765,null,{"$f":"IF(P306=\"\",ROW()/100000000,COUNTIF(過去ログ!$BQ$3:$CT$9999,基礎データ!P306)+ROW()/10000)","v":3.0599999999999999E-6},"",null,305,696,null,{"$f":"IF(V306=\"\",ROW()/100000000,COUNTIF(過去ログ!$N$3:$N$9999,基礎データ!V306)+ROW()/10000)","v":3.0599999999999999E-6},"",305,696,null,{"$f":"IF(AA306=\"\",ROW()/100000000,COUNTIF(過去ログ!$N$3:$Y$9999,基礎データ!AA306)+ROW()/10000)","v":3.0599999999999999E-6},""]
[null,null,null,null,null,null,null,null,null,null,null,null,null,306,764,null,{"$f":"IF(P307=\"\",ROW()/100000000,COUNTIF(過去ログ!$BQ$3:$CT$9999,基礎データ!P307)+ROW()/10000)","v":3.0699999999999998E-6},"",null,306,695,null,{"$f":"IF(V307=\"\",ROW()/100000000,COUNTIF(過去ログ!$N$3:$N$9999,基礎データ!V307)+ROW()/10000)","v":3.0699999999999998E-6},"",306,695,null,{"$f":"IF(AA307=\"\",ROW()/100000000,COUNTIF(過去ログ!$N$3:$Y$9999,基礎データ!AA307)+ROW()/10000)","v":3.0699999999999998E-6},{"$f":"IF(VLOOKUP(Y307,$Z$2:$AA$1002,2,FALSE)=0,\"\",VLOOKUP(Y307,$Z$2:$AA$1002,2,FALSE))","v":""}]
[null,null,null,null,null,null,null,null,null,null,null,null,null,307,763,null,{"$f":"IF(P308=\"\",ROW()/100000000,COUNTIF(過去ログ!$BQ$3:$CT$9999,基礎データ!P308)+ROW()/10000)","v":3.0800000000000002E-6},"",null,307,694,null,{"$f":"IF(V308=\"\",ROW()/100000000,COUNTIF(過去ログ!$N$3:$N$9999,基礎データ!V308)+ROW()/10000)","v":3.0800000000000002E-6},"",307,694,null,{"$f":"IF(AA308=\"\",ROW()/100000000,COUNTIF(過去ログ!$N$3:$Y$9999,基礎データ!AA308)+ROW()/10000)","v":3.0800000000000002E-6},""]
[null,null,null,null,null,null,null,null,null,null,null,null,null,308,762,null,{"$f":"IF(P309=\"\",ROW()/100000000,COUNTIF(過去ログ!$BQ$3:$CT$9999,基礎データ!P309)+ROW()/10000)","v":3.0900000000000001E-6},"",null,308,693,null,{"$f":"IF(V309=\"\",ROW()/100000000,COUNTIF(過去ログ!$N$3:$N$9999,基礎データ!V309)+ROW()/10000)","v":3.0900000000000001E-6},"",308,693,null,{"$f":"IF(AA309=\"\",ROW()/100000000,COUNTIF(過去ログ!$N$3:$Y$9999,基礎データ!AA309)+ROW()/10000)","v":3.0900000000000001E-6},""]
[null,null,null,null,null,null,null,null,null,null,null,null,null,309,761,null,{"$f":"IF(P310=\"\",ROW()/100000000,COUNTIF(過去ログ!$BQ$3:$CT$9999,基礎データ!P310)+ROW()/10000)","v":3.1E-6},"",null,309,692,null,{"$f":"IF(V310=\"\",ROW()/100000000,COUNTIF(過去ログ!$N$3:$N$9999,基礎データ!V310)+ROW()/10000)","v":3.1E-6},"",309,692,null,{"$f":"IF(AA310=\"\",ROW()/100000000,COUNTIF(過去ログ!$N$3:$Y$9999,基礎データ!AA310)+ROW()/10000)","v":3.1E-6},""]
[null,null,null,null,null,null,null,null,null,null,null,null,null,310,760,null,{"$f":"IF(P311=\"\",ROW()/100000000,COUNTIF(過去ログ!$BQ$3:$CT$9999,基礎データ!P311)+ROW()/10000)","v":3.1099999999999999E-6},"",null,310,691,null,{"$f":"IF(V311=\"\",ROW()/100000000,COUNTIF(過去ログ!$N$3:$N$9999,基礎データ!V311)+ROW()/10000)","v":3.1099999999999999E-6},"",310,691,null,{"$f":"IF(AA311=\"\",ROW()/100000000,COUNTIF(過去ログ!$N$3:$Y$9999,基礎データ!AA311)+ROW()/10000)","v":3.1099999999999999E-6},""]
[null,null,null,null,null,null,null,null,null,null,null,null,null,311,759,null,{"$f":"IF(P312=\"\",ROW()/100000000,COUNTIF(過去ログ!$BQ$3:$CT$9999,基礎データ!P312)+ROW()/10000)","v":3.1200000000000002E-6},"",null,311,690,null,{"$f":"IF(V312=\"\",ROW()/100000000,COUNTIF(過去ログ!$N$3:$N$9999,基礎データ!V312)+ROW()/10000)","v":3.1200000000000002E-6},"",311,{"$f":"RANK(AB312,$AB$2:$AB$1002)","v":690},null,{"$f":"IF(AA312=\"\",ROW()/100000000,COUNTIF(過去ログ!$N$3:$Y$9999,基礎データ!AA312)+ROW()/10000)","v":3.1200000000000002E-6},""]
[null,null,null,null,null,null,null,null,null,null,null,null,null,312,758,null,{"$f":"IF(P313=\"\",ROW()/100000000,COUNTIF(過去ログ!$BQ$3:$CT$9999,基礎データ!P313)+ROW()/10000)","v":3.1300000000000001E-6},"",null,312,689,null,{"$f":"IF(V313=\"\",ROW()/100000000,COUNTIF(過去ログ!$N$3:$N$9999,基礎データ!V313)+ROW()/10000)","v":3.1300000000000001E-6},"",312,689,null,{"$f":"IF(AA313=\"\",ROW()/100000000,COUNTIF(過去ログ!$N$3:$Y$9999,基礎データ!AA313)+ROW()/10000)","v":3.1300000000000001E-6},""]
[null,null,null,null,null,null,null,null,null,null,null,null,null,313,757,null,{"$f":"IF(P314=\"\",ROW()/100000000,COUNTIF(過去ログ!$BQ$3:$CT$9999,基礎データ!P314)+ROW()/10000)","v":3.14E-6},"",null,313,688,null,{"$f":"IF(V314=\"\",ROW()/100000000,COUNTIF(過去ログ!$N$3:$N$9999,基礎データ!V314)+ROW()/10000)","v":3.14E-6},"",313,688,null,{"$f":"IF(AA314=\"\",ROW()/100000000,COUNTIF(過去ログ!$N$3:$Y$9999,基礎データ!AA314)+ROW()/10000)","v":3.14E-6},""]
[null,null,null,null,null,null,null,null,null,null,null,null,null,314,756,null,{"$f":"IF(P315=\"\",ROW()/100000000,COUNTIF(過去ログ!$BQ$3:$CT$9999,基礎データ!P315)+ROW()/10000)","v":3.1499999999999999E-6},"",null,314,687,null,{"$f":"IF(V315=\"\",ROW()/100000000,COUNTIF(過去ログ!$N$3:$N$9999,基礎データ!V315)+ROW()/10000)","v":3.1499999999999999E-6},"",314,687,null,{"$f":"IF(AA315=\"\",ROW()/100000000,COUNTIF(過去ログ!$N$3:$Y$9999,基礎データ!AA315)+ROW()/10000)","v":3.1499999999999999E-6},""]
[null,null,null,null,null,null,null,null,null,null,null,null,null,315,755,null,{"$f":"IF(P316=\"\",ROW()/100000000,COUNTIF(過去ログ!$BQ$3:$CT$9999,基礎データ!P316)+ROW()/10000)","v":3.1599999999999998E-6},"",null,315,686,null,{"$f":"IF(V316=\"\",ROW()/100000000,COUNTIF(過去ログ!$N$3:$N$9999,基礎データ!V316)+ROW()/10000)","v":3.1599999999999998E-6},"",315,686,null,{"$f":"IF(AA316=\"\",ROW()/100000000,COUNTIF(過去ログ!$N$3:$Y$9999,基礎データ!AA316)+ROW()/10000)","v":3.1599999999999998E-6},""]
[null,null,null,null,null,null,null,null,null,null,null,null,null,316,754,null,{"$f":"IF(P317=\"\",ROW()/100000000,COUNTIF(過去ログ!$BQ$3:$CT$9999,基礎データ!P317)+ROW()/10000)","v":3.1700000000000001E-6},"",null,316,685,null,{"$f":"IF(V317=\"\",ROW()/100000000,COUNTIF(過去ログ!$N$3:$N$9999,基礎データ!V317)+ROW()/10000)","v":3.1700000000000001E-6},"",316,685,null,{"$f":"IF(AA317=\"\",ROW()/100000000,COUNTIF(過去ログ!$N$3:$Y$9999,基礎データ!AA317)+ROW()/10000)","v":3.1700000000000001E-6},""]
[null,null,null,null,null,null,null,null,null,null,null,null,null,317,753,null,{"$f":"IF(P318=\"\",ROW()/100000000,COUNTIF(過去ログ!$BQ$3:$CT$9999,基礎データ!P318)+ROW()/10000)","v":3.18E-6},"",null,317,684,null,{"$f":"IF(V318=\"\",ROW()/100000000,COUNTIF(過去ログ!$N$3:$N$9999,基礎データ!V318)+ROW()/10000)","v":3.18E-6},"",317,684,null,{"$f":"IF(AA318=\"\",ROW()/100000000,COUNTIF(過去ログ!$N$3:$Y$9999,基礎データ!AA318)+ROW()/10000)","v":3.18E-6},""]
[null,null,null,null,null,null,null,null,null,null,null,null,null,318,752,null,{"$f":"IF(P319=\"\",ROW()/100000000,COUNTIF(過去ログ!$BQ$3:$CT$9999,基礎データ!P319)+ROW()/10000)","v":3.19E-6},"",null,318,683,null,{"$f":"IF(V319=\"\",ROW()/100000000,COUNTIF(過去ログ!$N$3:$N$9999,基礎データ!V319)+ROW()/10000)","v":3.19E-6},"",318,683,null,{"$f":"IF(AA319=\"\",ROW()/100000000,COUNTIF(過去ログ!$N$3:$Y$9999,基礎データ!AA319)+ROW()/10000)","v":3.19E-6},""]
[null,null,null,null,null,null,null,null,null,null,null,null,null,319,751,null,{"$f":"IF(P320=\"\",ROW()/100000000,COUNTIF(過去ログ!$BQ$3:$CT$9999,基礎データ!P320)+ROW()/10000)","v":3.1999999999999999E-6},"",null,319,682,null,{"$f":"IF(V320=\"\",ROW()/100000000,COUNTIF(過去ログ!$N$3:$N$9999,基礎データ!V320)+ROW()/10000)","v":3.1999999999999999E-6},"",319,682,null,{"$f":"IF(AA320=\"\",ROW()/100000000,COUNTIF(過去ログ!$N$3:$Y$9999,基礎データ!AA320)+ROW()/10000)","v":3.1999999999999999E-6},""]
[null,null,null,null,null,null,null,null,null,null,null,null,null,320,750,null,{"$f":"IF(P321=\"\",ROW()/100000000,COUNTIF(過去ログ!$BQ$3:$CT$9999,基礎データ!P321)+ROW()/10000)","v":3.2100000000000002E-6},"",null,320,681,null,{"$f":"IF(V321=\"\",ROW()/100000000,COUNTIF(過去ログ!$N$3:$N$9999,基礎データ!V321)+ROW()/10000)","v":3.2100000000000002E-6},"",320,681,null,{"$f":"IF(AA321=\"\",ROW()/100000000,COUNTIF(過去ログ!$N$3:$Y$9999,基礎データ!AA321)+ROW()/10000)","v":3.2100000000000002E-6},""]
[null,null,null,null,null,null,null,null,null,null,null,null,null,321,749,null,{"$f":"IF(P322=\"\",ROW()/100000000,COUNTIF(過去ログ!$BQ$3:$CT$9999,基礎データ!P322)+ROW()/10000)","v":3.2200000000000001E-6},"",null,321,680,null,{"$f":"IF(V322=\"\",ROW()/100000000,COUNTIF(過去ログ!$N$3:$N$9999,基礎データ!V322)+ROW()/10000)","v":3.2200000000000001E-6},"",321,680,null,{"$f":"IF(AA322=\"\",ROW()/100000000,COUNTIF(過去ログ!$N$3:$Y$9999,基礎データ!AA322)+ROW()/10000)","v":3.2200000000000001E-6},""]
[null,null,null,null,null,null,null,null,null,null,null,null,null,322,748,null,{"$f":"IF(P323=\"\",ROW()/100000000,COUNTIF(過去ログ!$BQ$3:$CT$9999,基礎データ!P323)+ROW()/10000)","v":3.23E-6},"",null,322,679,null,{"$f":"IF(V323=\"\",ROW()/100000000,COUNTIF(過去ログ!$N$3:$N$9999,基礎データ!V323)+ROW()/10000)","v":3.23E-6},"",322,679,null,{"$f":"IF(AA323=\"\",ROW()/100000000,COUNTIF(過去ログ!$N$3:$Y$9999,基礎データ!AA323)+ROW()/10000)","v":3.23E-6},""]
[null,null,null,null,null,null,null,null,null,null,null,null,null,323,747,null,{"$f":"IF(P324=\"\",ROW()/100000000,COUNTIF(過去ログ!$BQ$3:$CT$9999,基礎データ!P324)+ROW()/10000)","v":3.2399999999999999E-6},"",null,323,678,null,{"$f":"IF(V324=\"\",ROW()/100000000,COUNTIF(過去ログ!$N$3:$N$9999,基礎データ!V324)+ROW()/10000)","v":3.2399999999999999E-6},"",323,678,null,{"$f":"IF(AA324=\"\",ROW()/100000000,COUNTIF(過去ログ!$N$3:$Y$9999,基礎データ!AA324)+ROW()/10000)","v":3.2399999999999999E-6},""]
[null,null,null,null,null,null,null,null,null,null,null,null,null,324,746,null,{"$f":"IF(P325=\"\",ROW()/100000000,COUNTIF(過去ログ!$BQ$3:$CT$9999,基礎データ!P325)+ROW()/10000)","v":3.2499999999999998E-6},"",null,324,{"$f":"RANK(W325,$W$2:$W$1002)","v":677},null,{"$f":"IF(V325=\"\",ROW()/100000000,COUNTIF(過去ログ!$N$3:$N$9999,基礎データ!V325)+ROW()/10000)","v":3.2499999999999998E-6},"",324,677,null,{"$f":"IF(AA325=\"\",ROW()/100000000,COUNTIF(過去ログ!$N$3:$Y$9999,基礎データ!AA325)+ROW()/10000)","v":3.2499999999999998E-6},""]
[null,null,null,null,null,null,null,null,null,null,null,null,null,325,745,null,{"$f":"IF(P326=\"\",ROW()/100000000,COUNTIF(過去ログ!$BQ$3:$CT$9999,基礎データ!P326)+ROW()/10000)","v":3.2600000000000001E-6},"",null,325,676,null,{"$f":"IF(V326=\"\",ROW()/100000000,COUNTIF(過去ログ!$N$3:$N$9999,基礎データ!V326)+ROW()/10000)","v":3.2600000000000001E-6},"",325,676,null,{"$f":"IF(AA326=\"\",ROW()/100000000,COUNTIF(過去ログ!$N$3:$Y$9999,基礎データ!AA326)+ROW()/10000)","v":3.2600000000000001E-6},""]
[null,null,null,null,null,null,null,null,null,null,null,null,null,326,744,null,{"$f":"IF(P327=\"\",ROW()/100000000,COUNTIF(過去ログ!$BQ$3:$CT$9999,基礎データ!P327)+ROW()/10000)","v":3.27E-6},"",null,326,675,null,{"$f":"IF(V327=\"\",ROW()/100000000,COUNTIF(過去ログ!$N$3:$N$9999,基礎データ!V327)+ROW()/10000)","v":3.27E-6},"",326,675,null,{"$f":"IF(AA327=\"\",ROW()/100000000,COUNTIF(過去ログ!$N$3:$Y$9999,基礎データ!AA327)+ROW()/10000)","v":3.27E-6},""]
[null,null,null,null,null,null,null,null,null,null,null,null,null,327,743,null,{"$f":"IF(P328=\"\",ROW()/100000000,COUNTIF(過去ログ!$BQ$3:$CT$9999,基礎データ!P328)+ROW()/10000)","v":3.2799999999999999E-6},"",null,327,674,null,{"$f":"IF(V328=\"\",ROW()/100000000,COUNTIF(過去ログ!$N$3:$N$9999,基礎データ!V328)+ROW()/10000)","v":3.2799999999999999E-6},"",327,674,null,{"$f":"IF(AA328=\"\",ROW()/100000000,COUNTIF(過去ログ!$N$3:$Y$9999,基礎データ!AA328)+ROW()/10000)","v":3.2799999999999999E-6},""]
[null,null,null,null,null,null,null,null,null,null,null,null,null,328,742,null,{"$f":"IF(P329=\"\",ROW()/100000000,COUNTIF(過去ログ!$BQ$3:$CT$9999,基礎データ!P329)+ROW()/10000)","v":3.2899999999999998E-6},{"$f":"IF(P329=\"\",\"\",VLOOKUP(N329,$O$2:$P$1002,2,FALSE))","v":""},null,328,673,null,{"$f":"IF(V329=\"\",ROW()/100000000,COUNTIF(過去ログ!$N$3:$N$9999,基礎データ!V329)+ROW()/10000)","v":3.2899999999999998E-6},"",328,673,null,{"$f":"IF(AA329=\"\",ROW()/100000000,COUNTIF(過去ログ!$N$3:$Y$9999,基礎データ!AA329)+ROW()/10000)","v":3.2899999999999998E-6},""]
[null,null,null,null,null,null,null,null,null,null,null,null,null,329,741,null,{"$f":"IF(P330=\"\",ROW()/100000000,COUNTIF(過去ログ!$BQ$3:$CT$9999,基礎データ!P330)+ROW()/10000)","v":3.3000000000000002E-6},"",null,329,672,null,{"$f":"IF(V330=\"\",ROW()/100000000,COUNTIF(過去ログ!$N$3:$N$9999,基礎データ!V330)+ROW()/10000)","v":3.3000000000000002E-6},"",329,672,null,{"$f":"IF(AA330=\"\",ROW()/100000000,COUNTIF(過去ログ!$N$3:$Y$9999,基礎データ!AA330)+ROW()/10000)","v":3.3000000000000002E-6},""]
[null,null,null,null,null,null,null,null,null,null,null,null,null,330,740,null,{"$f":"IF(P331=\"\",ROW()/100000000,COUNTIF(過去ログ!$BQ$3:$CT$9999,基礎データ!P331)+ROW()/10000)","v":3.3100000000000001E-6},"",null,330,671,null,{"$f":"IF(V331=\"\",ROW()/100000000,COUNTIF(過去ログ!$N$3:$N$9999,基礎データ!V331)+ROW()/10000)","v":3.3100000000000001E-6},"",330,671,null,{"$f":"IF(AA331=\"\",ROW()/100000000,COUNTIF(過去ログ!$N$3:$Y$9999,基礎データ!AA331)+ROW()/10000)","v":3.3100000000000001E-6},""]
[null,null,null,null,null,null,null,null,null,null,null,null,null,331,739,null,{"$f":"IF(P332=\"\",ROW()/100000000,COUNTIF(過去ログ!$BQ$3:$CT$9999,基礎データ!P332)+ROW()/10000)","v":3.32E-6},"",null,331,670,null,{"$f":"IF(V332=\"\",ROW()/100000000,COUNTIF(過去ログ!$N$3:$N$9999,基礎データ!V332)+ROW()/10000)","v":3.32E-6},"",331,670,null,{"$f":"IF(AA332=\"\",ROW()/100000000,COUNTIF(過去ログ!$N$3:$Y$9999,基礎データ!AA332)+ROW()/10000)","v":3.32E-6},""]
[null,null,null,null,null,null,null,null,null,null,null,null,null,332,738,null,{"$f":"IF(P333=\"\",ROW()/100000000,COUNTIF(過去ログ!$BQ$3:$CT$9999,基礎データ!P333)+ROW()/10000)","v":3.3299999999999999E-6},"",null,332,669,null,{"$f":"IF(V333=\"\",ROW()/100000000,COUNTIF(過去ログ!$N$3:$N$9999,基礎データ!V333)+ROW()/10000)","v":3.3299999999999999E-6},"",332,669,null,{"$f":"IF(AA333=\"\",ROW()/100000000,COUNTIF(過去ログ!$N$3:$Y$9999,基礎データ!AA333)+ROW()/10000)","v":3.3299999999999999E-6},""]
[null,null,null,null,null,null,null,null,null,null,null,null,null,333,737,null,{"$f":"IF(P334=\"\",ROW()/100000000,COUNTIF(過去ログ!$BQ$3:$CT$9999,基礎データ!P334)+ROW()/10000)","v":3.3400000000000002E-6},"",null,333,668,null,{"$f":"IF(V334=\"\",ROW()/100000000,COUNTIF(過去ログ!$N$3:$N$9999,基礎データ!V334)+ROW()/10000)","v":3.3400000000000002E-6},"",333,668,null,{"$f":"IF(AA334=\"\",ROW()/100000000,COUNTIF(過去ログ!$N$3:$Y$9999,基礎データ!AA334)+ROW()/10000)","v":3.3400000000000002E-6},""]
[null,null,null,null,null,null,null,null,null,null,null,null,null,334,736,null,{"$f":"IF(P335=\"\",ROW()/100000000,COUNTIF(過去ログ!$BQ$3:$CT$9999,基礎データ!P335)+ROW()/10000)","v":3.3500000000000001E-6},"",null,334,667,null,{"$f":"IF(V335=\"\",ROW()/100000000,COUNTIF(過去ログ!$N$3:$N$9999,基礎データ!V335)+ROW()/10000)","v":3.3500000000000001E-6},{"$f":"IF(VLOOKUP(T335,$U$2:$V$1002,2,FALSE)=0,\"\",VLOOKUP(T335,$U$2:$V$1002,2,FALSE))","v":""},334,667,null,{"$f":"IF(AA335=\"\",ROW()/100000000,COUNTIF(過去ログ!$N$3:$Y$9999,基礎データ!AA335)+ROW()/10000)","v":3.3500000000000001E-6},""]
[null,null,null,null,null,null,null,null,null,null,null,null,null,335,735,null,{"$f":"IF(P336=\"\",ROW()/100000000,COUNTIF(過去ログ!$BQ$3:$CT$9999,基礎データ!P336)+ROW()/10000)","v":3.36E-6},"",null,335,666,null,{"$f":"IF(V336=\"\",ROW()/100000000,COUNTIF(過去ログ!$N$3:$N$9999,基礎データ!V336)+ROW()/10000)","v":3.36E-6},"",335,666,null,{"$f":"IF(AA336=\"\",ROW()/100000000,COUNTIF(過去ログ!$N$3:$Y$9999,基礎データ!AA336)+ROW()/10000)","v":3.36E-6},""]
[null,null,null,null,null,null,null,null,null,null,null,null,null,336,734,null,{"$f":"IF(P337=\"\",ROW()/100000000,COUNTIF(過去ログ!$BQ$3:$CT$9999,基礎データ!P337)+ROW()/10000)","v":3.3699999999999999E-6},"",null,336,665,null,{"$f":"IF(V337=\"\",ROW()/100000000,COUNTIF(過去ログ!$N$3:$N$9999,基礎データ!V337)+ROW()/10000)","v":3.3699999999999999E-6},"",336,665,null,{"$f":"IF(AA337=\"\",ROW()/100000000,COUNTIF(過去ログ!$N$3:$Y$9999,基礎データ!AA337)+ROW()/10000)","v":3.3699999999999999E-6},""]
[null,null,null,null,null,null,null,null,null,null,null,null,null,337,733,null,{"$f":"IF(P338=\"\",ROW()/100000000,COUNTIF(過去ログ!$BQ$3:$CT$9999,基礎データ!P338)+ROW()/10000)","v":3.3799999999999998E-6},"",null,337,664,null,{"$f":"IF(V338=\"\",ROW()/100000000,COUNTIF(過去ログ!$N$3:$N$9999,基礎データ!V338)+ROW()/10000)","v":3.3799999999999998E-6},"",337,664,null,{"$f":"IF(AA338=\"\",ROW()/100000000,COUNTIF(過去ログ!$N$3:$Y$9999,基礎データ!AA338)+ROW()/10000)","v":3.3799999999999998E-6},""]
[null,null,null,null,null,null,null,null,null,null,null,null,null,338,732,null,{"$f":"IF(P339=\"\",ROW()/100000000,COUNTIF(過去ログ!$BQ$3:$CT$9999,基礎データ!P339)+ROW()/10000)","v":3.3900000000000002E-6},"",null,338,663,null,{"$f":"IF(V339=\"\",ROW()/100000000,COUNTIF(過去ログ!$N$3:$N$9999,基礎データ!V339)+ROW()/10000)","v":3.3900000000000002E-6},"",338,663,null,{"$f":"IF(AA339=\"\",ROW()/100000000,COUNTIF(過去ログ!$N$3:$Y$9999,基礎データ!AA339)+ROW()/10000)","v":3.3900000000000002E-6},""]
[null,null,null,null,null,null,null,null,null,null,null,null,null,339,731,null,{"$f":"IF(P340=\"\",ROW()/100000000,COUNTIF(過去ログ!$BQ$3:$CT$9999,基礎データ!P340)+ROW()/10000)","v":3.4000000000000001E-6},"",null,339,662,null,{"$f":"IF(V340=\"\",ROW()/100000000,COUNTIF(過去ログ!$N$3:$N$9999,基礎データ!V340)+ROW()/10000)","v":3.4000000000000001E-6},"",339,662,null,{"$f":"IF(AA340=\"\",ROW()/100000000,COUNTIF(過去ログ!$N$3:$Y$9999,基礎データ!AA340)+ROW()/10000)","v":3.4000000000000001E-6},""]
[null,null,null,null,null,null,null,null,null,null,null,null,null,340,730,null,{"$f":"IF(P341=\"\",ROW()/100000000,COUNTIF(過去ログ!$BQ$3:$CT$9999,基礎データ!P341)+ROW()/10000)","v":3.41E-6},"",null,340,661,null,{"$f":"IF(V341=\"\",ROW()/100000000,COUNTIF(過去ログ!$N$3:$N$9999,基礎データ!V341)+ROW()/10000)","v":3.41E-6},"",340,661,null,{"$f":"IF(AA341=\"\",ROW()/100000000,COUNTIF(過去ログ!$N$3:$Y$9999,基礎データ!AA341)+ROW()/10000)","v":3.41E-6},""]
[null,null,null,null,null,null,null,null,null,null,null,null,null,341,729,null,{"$f":"IF(P342=\"\",ROW()/100000000,COUNTIF(過去ログ!$BQ$3:$CT$9999,基礎データ!P342)+ROW()/10000)","v":3.4199999999999999E-6},"",null,341,660,null,{"$f":"IF(V342=\"\",ROW()/100000000,COUNTIF(過去ログ!$N$3:$N$9999,基礎データ!V342)+ROW()/10000)","v":3.4199999999999999E-6},"",341,660,null,{"$f":"IF(AA342=\"\",ROW()/100000000,COUNTIF(過去ログ!$N$3:$Y$9999,基礎データ!AA342)+ROW()/10000)","v":3.4199999999999999E-6},""]
[null,null,null,null,null,null,null,null,null,null,null,null,null,342,728,null,{"$f":"IF(P343=\"\",ROW()/100000000,COUNTIF(過去ログ!$BQ$3:$CT$9999,基礎データ!P343)+ROW()/10000)","v":3.4300000000000002E-6},"",null,342,659,null,{"$f":"IF(V343=\"\",ROW()/100000000,COUNTIF(過去ログ!$N$3:$N$9999,基礎データ!V343)+ROW()/10000)","v":3.4300000000000002E-6},"",342,659,null,{"$f":"IF(AA343=\"\",ROW()/100000000,COUNTIF(過去ログ!$N$3:$Y$9999,基礎データ!AA343)+ROW()/10000)","v":3.4300000000000002E-6},""]
[null,null,null,null,null,null,null,null,null,null,null,null,null,343,727,null,{"$f":"IF(P344=\"\",ROW()/100000000,COUNTIF(過去ログ!$BQ$3:$CT$9999,基礎データ!P344)+ROW()/10000)","v":3.4400000000000001E-6},"",null,343,658,null,{"$f":"IF(V344=\"\",ROW()/100000000,COUNTIF(過去ログ!$N$3:$N$9999,基礎データ!V344)+ROW()/10000)","v":3.4400000000000001E-6},"",343,658,null,{"$f":"IF(AA344=\"\",ROW()/100000000,COUNTIF(過去ログ!$N$3:$Y$9999,基礎データ!AA344)+ROW()/10000)","v":3.4400000000000001E-6},""]
[null,null,null,null,null,null,null,null,null,null,null,null,null,344,726,null,{"$f":"IF(P345=\"\",ROW()/100000000,COUNTIF(過去ログ!$BQ$3:$CT$9999,基礎データ!P345)+ROW()/10000)","v":3.45E-6},"",null,344,657,null,{"$f":"IF(V345=\"\",ROW()/100000000,COUNTIF(過去ログ!$N$3:$N$9999,基礎データ!V345)+ROW()/10000)","v":3.45E-6},"",344,657,null,{"$f":"IF(AA345=\"\",ROW()/100000000,COUNTIF(過去ログ!$N$3:$Y$9999,基礎データ!AA345)+ROW()/10000)","v":3.45E-6},""]
[null,null,null,null,null,null,null,null,null,null,null,null,null,345,725,null,{"$f":"IF(P346=\"\",ROW()/100000000,COUNTIF(過去ログ!$BQ$3:$CT$9999,基礎データ!P346)+ROW()/10000)","v":3.4599999999999999E-6},"",null,345,656,null,{"$f":"IF(V346=\"\",ROW()/100000000,COUNTIF(過去ログ!$N$3:$N$9999,基礎データ!V346)+ROW()/10000)","v":3.4599999999999999E-6},"",345,656,null,{"$f":"IF(AA346=\"\",ROW()/100000000,COUNTIF(過去ログ!$N$3:$Y$9999,基礎データ!AA346)+ROW()/10000)","v":3.4599999999999999E-6},""]
[null,null,null,null,null,null,null,null,null,null,null,null,null,346,724,null,{"$f":"IF(P347=\"\",ROW()/100000000,COUNTIF(過去ログ!$BQ$3:$CT$9999,基礎データ!P347)+ROW()/10000)","v":3.4699999999999998E-6},"",null,346,655,null,{"$f":"IF(V347=\"\",ROW()/100000000,COUNTIF(過去ログ!$N$3:$N$9999,基礎データ!V347)+ROW()/10000)","v":3.4699999999999998E-6},"",346,655,null,{"$f":"IF(AA347=\"\",ROW()/100000000,COUNTIF(過去ログ!$N$3:$Y$9999,基礎データ!AA347)+ROW()/10000)","v":3.4699999999999998E-6},""]
[null,null,null,null,null,null,null,null,null,null,null,null,null,347,723,null,{"$f":"IF(P348=\"\",ROW()/100000000,COUNTIF(過去ログ!$BQ$3:$CT$9999,基礎データ!P348)+ROW()/10000)","v":3.4800000000000001E-6},"",null,347,654,null,{"$f":"IF(V348=\"\",ROW()/100000000,COUNTIF(過去ログ!$N$3:$N$9999,基礎データ!V348)+ROW()/10000)","v":3.4800000000000001E-6},"",347,654,null,{"$f":"IF(AA348=\"\",ROW()/100000000,COUNTIF(過去ログ!$N$3:$Y$9999,基礎データ!AA348)+ROW()/10000)","v":3.4800000000000001E-6},""]
[null,null,null,null,null,null,null,null,null,null,null,null,null,348,722,null,{"$f":"IF(P349=\"\",ROW()/100000000,COUNTIF(過去ログ!$BQ$3:$CT$9999,基礎データ!P349)+ROW()/10000)","v":3.49E-6},"",null,348,653,null,{"$f":"IF(V349=\"\",ROW()/100000000,COUNTIF(過去ログ!$N$3:$N$9999,基礎データ!V349)+ROW()/10000)","v":3.49E-6},"",348,653,null,{"$f":"IF(AA349=\"\",ROW()/100000000,COUNTIF(過去ログ!$N$3:$Y$9999,基礎データ!AA349)+ROW()/10000)","v":3.49E-6},""]
[null,null,null,null,null,null,null,null,null,null,null,null,null,349,721,null,{"$f":"IF(P350=\"\",ROW()/100000000,COUNTIF(過去ログ!$BQ$3:$CT$9999,基礎データ!P350)+ROW()/10000)","v":3.4999999999999999E-6},"",null,349,652,null,{"$f":"IF(V350=\"\",ROW()/100000000,COUNTIF(過去ログ!$N$3:$N$9999,基礎データ!V350)+ROW()/10000)","v":3.4999999999999999E-6},"",349,652,null,{"$f":"IF(AA350=\"\",ROW()/100000000,COUNTIF(過去ログ!$N$3:$Y$9999,基礎データ!AA350)+ROW()/10000)","v":3.4999999999999999E-6},""]
[null,null,null,null,null,null,null,null,null,null,null,null,null,350,720,null,{"$f":"IF(P351=\"\",ROW()/100000000,COUNTIF(過去ログ!$BQ$3:$CT$9999,基礎データ!P351)+ROW()/10000)","v":3.5099999999999999E-6},"",null,350,651,null,{"$f":"IF(V351=\"\",ROW()/100000000,COUNTIF(過去ログ!$N$3:$N$9999,基礎データ!V351)+ROW()/10000)","v":3.5099999999999999E-6},"",350,651,null,{"$f":"IF(AA351=\"\",ROW()/100000000,COUNTIF(過去ログ!$N$3:$Y$9999,基礎データ!AA351)+ROW()/10000)","v":3.5099999999999999E-6},""]
[null,null,null,null,null,null,null,null,null,null,null,null,null,351,{"$f":"RANK(Q352,$Q$2:$Q$1002)","v":719},null,{"$f":"IF(P352=\"\",ROW()/100000000,COUNTIF(過去ログ!$BQ$3:$CT$9999,基礎データ!P352)+ROW()/10000)","v":3.5200000000000002E-6},"",null,351,650,null,{"$f":"IF(V352=\"\",ROW()/100000000,COUNTIF(過去ログ!$N$3:$N$9999,基礎データ!V352)+ROW()/10000)","v":3.5200000000000002E-6},"",351,650,null,{"$f":"IF(AA352=\"\",ROW()/100000000,COUNTIF(過去ログ!$N$3:$Y$9999,基礎データ!AA352)+ROW()/10000)","v":3.5200000000000002E-6},""]
[null,null,null,null,null,null,null,null,null,null,null,null,null,352,718,null,{"$f":"IF(P353=\"\",ROW()/100000000,COUNTIF(過去ログ!$BQ$3:$CT$9999,基礎データ!P353)+ROW()/10000)","v":3.5300000000000001E-6},"",null,352,649,null,{"$f":"IF(V353=\"\",ROW()/100000000,COUNTIF(過去ログ!$N$3:$N$9999,基礎データ!V353)+ROW()/10000)","v":3.5300000000000001E-6},"",352,649,null,{"$f":"IF(AA353=\"\",ROW()/100000000,COUNTIF(過去ログ!$N$3:$Y$9999,基礎データ!AA353)+ROW()/10000)","v":3.5300000000000001E-6},""]
[null,null,null,null,null,null,null,null,null,null,null,null,null,353,717,null,{"$f":"IF(P354=\"\",ROW()/100000000,COUNTIF(過去ログ!$BQ$3:$CT$9999,基礎データ!P354)+ROW()/10000)","v":3.54E-6},"",null,353,648,null,{"$f":"IF(V354=\"\",ROW()/100000000,COUNTIF(過去ログ!$N$3:$N$9999,基礎データ!V354)+ROW()/10000)","v":3.54E-6},"",353,648,null,{"$f":"IF(AA354=\"\",ROW()/100000000,COUNTIF(過去ログ!$N$3:$Y$9999,基礎データ!AA354)+ROW()/10000)","v":3.54E-6},""]
[null,null,null,null,null,null,null,null,null,null,null,null,null,354,716,null,{"$f":"IF(P355=\"\",ROW()/100000000,COUNTIF(過去ログ!$BQ$3:$CT$9999,基礎データ!P355)+ROW()/10000)","v":3.5499999999999999E-6},"",null,354,647,null,{"$f":"IF(V355=\"\",ROW()/100000000,COUNTIF(過去ログ!$N$3:$N$9999,基礎データ!V355)+ROW()/10000)","v":3.5499999999999999E-6},"",354,647,null,{"$f":"IF(AA355=\"\",ROW()/100000000,COUNTIF(過去ログ!$N$3:$Y$9999,基礎データ!AA355)+ROW()/10000)","v":3.5499999999999999E-6},""]
[null,null,null,null,null,null,null,null,null,null,null,null,null,355,715,null,{"$f":"IF(P356=\"\",ROW()/100000000,COUNTIF(過去ログ!$BQ$3:$CT$9999,基礎データ!P356)+ROW()/10000)","v":3.5599999999999998E-6},"",null,355,646,null,{"$f":"IF(V356=\"\",ROW()/100000000,COUNTIF(過去ログ!$N$3:$N$9999,基礎データ!V356)+ROW()/10000)","v":3.5599999999999998E-6},"",355,646,null,{"$f":"IF(AA356=\"\",ROW()/100000000,COUNTIF(過去ログ!$N$3:$Y$9999,基礎データ!AA356)+ROW()/10000)","v":3.5599999999999998E-6},""]
[null,null,null,null,null,null,null,null,null,null,null,null,null,356,714,null,{"$f":"IF(P357=\"\",ROW()/100000000,COUNTIF(過去ログ!$BQ$3:$CT$9999,基礎データ!P357)+ROW()/10000)","v":3.5700000000000001E-6},"",null,356,645,null,{"$f":"IF(V357=\"\",ROW()/100000000,COUNTIF(過去ログ!$N$3:$N$9999,基礎データ!V357)+ROW()/10000)","v":3.5700000000000001E-6},"",356,645,null,{"$f":"IF(AA357=\"\",ROW()/100000000,COUNTIF(過去ログ!$N$3:$Y$9999,基礎データ!AA357)+ROW()/10000)","v":3.5700000000000001E-6},""]
[null,null,null,null,null,null,null,null,null,null,null,null,null,357,713,null,{"$f":"IF(P358=\"\",ROW()/100000000,COUNTIF(過去ログ!$BQ$3:$CT$9999,基礎データ!P358)+ROW()/10000)","v":3.58E-6},"",null,357,644,null,{"$f":"IF(V358=\"\",ROW()/100000000,COUNTIF(過去ログ!$N$3:$N$9999,基礎データ!V358)+ROW()/10000)","v":3.58E-6},"",357,644,null,{"$f":"IF(AA358=\"\",ROW()/100000000,COUNTIF(過去ログ!$N$3:$Y$9999,基礎データ!AA358)+ROW()/10000)","v":3.58E-6},""]
[null,null,null,null,null,null,null,null,null,null,null,null,null,358,712,null,{"$f":"IF(P359=\"\",ROW()/100000000,COUNTIF(過去ログ!$BQ$3:$CT$9999,基礎データ!P359)+ROW()/10000)","v":3.5899999999999999E-6},"",null,358,643,null,{"$f":"IF(V359=\"\",ROW()/100000000,COUNTIF(過去ログ!$N$3:$N$9999,基礎データ!V359)+ROW()/10000)","v":3.5899999999999999E-6},"",358,643,null,{"$f":"IF(AA359=\"\",ROW()/100000000,COUNTIF(過去ログ!$N$3:$Y$9999,基礎データ!AA359)+ROW()/10000)","v":3.5899999999999999E-6},""]
[null,null,null,null,null,null,null,null,null,null,null,null,null,359,711,null,{"$f":"IF(P360=\"\",ROW()/100000000,COUNTIF(過去ログ!$BQ$3:$CT$9999,基礎データ!P360)+ROW()/10000)","v":3.5999999999999998E-6},"",null,359,642,null,{"$f":"IF(V360=\"\",ROW()/100000000,COUNTIF(過去ログ!$N$3:$N$9999,基礎データ!V360)+ROW()/10000)","v":3.5999999999999998E-6},"",359,642,null,{"$f":"IF(AA360=\"\",ROW()/100000000,COUNTIF(過去ログ!$N$3:$Y$9999,基礎データ!AA360)+ROW()/10000)","v":3.5999999999999998E-6},""]
[null,null,null,null,null,null,null,null,null,null,null,null,null,360,710,null,{"$f":"IF(P361=\"\",ROW()/100000000,COUNTIF(過去ログ!$BQ$3:$CT$9999,基礎データ!P361)+ROW()/10000)","v":3.6100000000000002E-6},"",null,360,641,null,{"$f":"IF(V361=\"\",ROW()/100000000,COUNTIF(過去ログ!$N$3:$N$9999,基礎データ!V361)+ROW()/10000)","v":3.6100000000000002E-6},"",360,641,null,{"$f":"IF(AA361=\"\",ROW()/100000000,COUNTIF(過去ログ!$N$3:$Y$9999,基礎データ!AA361)+ROW()/10000)","v":3.6100000000000002E-6},""]
[null,null,null,null,null,null,null,null,null,null,null,null,null,361,709,null,{"$f":"IF(P362=\"\",ROW()/100000000,COUNTIF(過去ログ!$BQ$3:$CT$9999,基礎データ!P362)+ROW()/10000)","v":3.6200000000000001E-6},"",null,361,640,null,{"$f":"IF(V362=\"\",ROW()/100000000,COUNTIF(過去ログ!$N$3:$N$9999,基礎データ!V362)+ROW()/10000)","v":3.6200000000000001E-6},"",361,640,null,{"$f":"IF(AA362=\"\",ROW()/100000000,COUNTIF(過去ログ!$N$3:$Y$9999,基礎データ!AA362)+ROW()/10000)","v":3.6200000000000001E-6},""]
[null,null,null,null,null,null,null,null,null,null,null,null,null,362,708,null,{"$f":"IF(P363=\"\",ROW()/100000000,COUNTIF(過去ログ!$BQ$3:$CT$9999,基礎データ!P363)+ROW()/10000)","v":3.63E-6},"",null,362,639,null,{"$f":"IF(V363=\"\",ROW()/100000000,COUNTIF(過去ログ!$N$3:$N$9999,基礎データ!V363)+ROW()/10000)","v":3.63E-6},"",362,639,null,{"$f":"IF(AA363=\"\",ROW()/100000000,COUNTIF(過去ログ!$N$3:$Y$9999,基礎データ!AA363)+ROW()/10000)","v":3.63E-6},""]
[null,null,null,null,null,null,null,null,null,null,null,null,null,363,707,null,{"$f":"IF(P364=\"\",ROW()/100000000,COUNTIF(過去ログ!$BQ$3:$CT$9999,基礎データ!P364)+ROW()/10000)","v":3.6399999999999999E-6},"",null,363,638,null,{"$f":"IF(V364=\"\",ROW()/100000000,COUNTIF(過去ログ!$N$3:$N$9999,基礎データ!V364)+ROW()/10000)","v":3.6399999999999999E-6},"",363,638,null,{"$f":"IF(AA364=\"\",ROW()/100000000,COUNTIF(過去ログ!$N$3:$Y$9999,基礎データ!AA364)+ROW()/10000)","v":3.6399999999999999E-6},""]
[null,null,null,null,null,null,null,null,null,null,null,null,null,364,706,null,{"$f":"IF(P365=\"\",ROW()/100000000,COUNTIF(過去ログ!$BQ$3:$CT$9999,基礎データ!P365)+ROW()/10000)","v":3.6500000000000002E-6},"",null,364,637,null,{"$f":"IF(V365=\"\",ROW()/100000000,COUNTIF(過去ログ!$N$3:$N$9999,基礎データ!V365)+ROW()/10000)","v":3.6500000000000002E-6},"",364,637,null,{"$f":"IF(AA365=\"\",ROW()/100000000,COUNTIF(過去ログ!$N$3:$Y$9999,基礎データ!AA365)+ROW()/10000)","v":3.6500000000000002E-6},""]
[null,null,null,null,null,null,null,null,null,null,null,null,null,365,705,null,{"$f":"IF(P366=\"\",ROW()/100000000,COUNTIF(過去ログ!$BQ$3:$CT$9999,基礎データ!P366)+ROW()/10000)","v":3.6600000000000001E-6},"",null,365,636,null,{"$f":"IF(V366=\"\",ROW()/100000000,COUNTIF(過去ログ!$N$3:$N$9999,基礎データ!V366)+ROW()/10000)","v":3.6600000000000001E-6},"",365,636,null,{"$f":"IF(AA366=\"\",ROW()/100000000,COUNTIF(過去ログ!$N$3:$Y$9999,基礎データ!AA366)+ROW()/10000)","v":3.6600000000000001E-6},""]
[null,null,null,null,null,null,null,null,null,null,null,null,null,366,704,null,{"$f":"IF(P367=\"\",ROW()/100000000,COUNTIF(過去ログ!$BQ$3:$CT$9999,基礎データ!P367)+ROW()/10000)","v":3.67E-6},"",null,366,635,null,{"$f":"IF(V367=\"\",ROW()/100000000,COUNTIF(過去ログ!$N$3:$N$9999,基礎データ!V367)+ROW()/10000)","v":3.67E-6},"",366,635,null,{"$f":"IF(AA367=\"\",ROW()/100000000,COUNTIF(過去ログ!$N$3:$Y$9999,基礎データ!AA367)+ROW()/10000)","v":3.67E-6},""]
[null,null,null,null,null,null,null,null,null,null,null,null,null,367,703,null,{"$f":"IF(P368=\"\",ROW()/100000000,COUNTIF(過去ログ!$BQ$3:$CT$9999,基礎データ!P368)+ROW()/10000)","v":3.6799999999999999E-6},"",null,367,634,null,{"$f":"IF(V368=\"\",ROW()/100000000,COUNTIF(過去ログ!$N$3:$N$9999,基礎データ!V368)+ROW()/10000)","v":3.6799999999999999E-6},"",367,634,null,{"$f":"IF(AA368=\"\",ROW()/100000000,COUNTIF(過去ログ!$N$3:$Y$9999,基礎データ!AA368)+ROW()/10000)","v":3.6799999999999999E-6},""]
[null,null,null,null,null,null,null,null,null,null,null,null,null,368,702,null,{"$f":"IF(P369=\"\",ROW()/100000000,COUNTIF(過去ログ!$BQ$3:$CT$9999,基礎データ!P369)+ROW()/10000)","v":3.6899999999999998E-6},"",null,368,633,null,{"$f":"IF(V369=\"\",ROW()/100000000,COUNTIF(過去ログ!$N$3:$N$9999,基礎データ!V369)+ROW()/10000)","v":3.6899999999999998E-6},"",368,633,null,{"$f":"IF(AA369=\"\",ROW()/100000000,COUNTIF(過去ログ!$N$3:$Y$9999,基礎データ!AA369)+ROW()/10000)","v":3.6899999999999998E-6},""]
[null,null,null,null,null,null,null,null,null,null,null,null,null,369,701,null,{"$f":"IF(P370=\"\",ROW()/100000000,COUNTIF(過去ログ!$BQ$3:$CT$9999,基礎データ!P370)+ROW()/10000)","v":3.7000000000000002E-6},"",null,369,632,null,{"$f":"IF(V370=\"\",ROW()/100000000,COUNTIF(過去ログ!$N$3:$N$9999,基礎データ!V370)+ROW()/10000)","v":3.7000000000000002E-6},"",369,632,null,{"$f":"IF(AA370=\"\",ROW()/100000000,COUNTIF(過去ログ!$N$3:$Y$9999,基礎データ!AA370)+ROW()/10000)","v":3.7000000000000002E-6},""]
[null,null,null,null,null,null,null,null,null,null,null,null,null,370,700,null,{"$f":"IF(P371=\"\",ROW()/100000000,COUNTIF(過去ログ!$BQ$3:$CT$9999,基礎データ!P371)+ROW()/10000)","v":3.7100000000000001E-6},"",null,370,631,null,{"$f":"IF(V371=\"\",ROW()/100000000,COUNTIF(過去ログ!$N$3:$N$9999,基礎データ!V371)+ROW()/10000)","v":3.7100000000000001E-6},"",370,631,null,{"$f":"IF(AA371=\"\",ROW()/100000000,COUNTIF(過去ログ!$N$3:$Y$9999,基礎データ!AA371)+ROW()/10000)","v":3.7100000000000001E-6},{"$f":"IF(VLOOKUP(Y371,$Z$2:$AA$1002,2,FALSE)=0,\"\",VLOOKUP(Y371,$Z$2:$AA$1002,2,FALSE))","v":""}]
[null,null,null,null,null,null,null,null,null,null,null,null,null,371,699,null,{"$f":"IF(P372=\"\",ROW()/100000000,COUNTIF(過去ログ!$BQ$3:$CT$9999,基礎データ!P372)+ROW()/10000)","v":3.72E-6},"",null,371,630,null,{"$f":"IF(V372=\"\",ROW()/100000000,COUNTIF(過去ログ!$N$3:$N$9999,基礎データ!V372)+ROW()/10000)","v":3.72E-6},"",371,630,null,{"$f":"IF(AA372=\"\",ROW()/100000000,COUNTIF(過去ログ!$N$3:$Y$9999,基礎データ!AA372)+ROW()/10000)","v":3.72E-6},""]
[null,null,null,null,null,null,null,null,null,null,null,null,null,372,698,null,{"$f":"IF(P373=\"\",ROW()/100000000,COUNTIF(過去ログ!$BQ$3:$CT$9999,基礎データ!P373)+ROW()/10000)","v":3.7299999999999999E-6},"",null,372,629,null,{"$f":"IF(V373=\"\",ROW()/100000000,COUNTIF(過去ログ!$N$3:$N$9999,基礎データ!V373)+ROW()/10000)","v":3.7299999999999999E-6},"",372,629,null,{"$f":"IF(AA373=\"\",ROW()/100000000,COUNTIF(過去ログ!$N$3:$Y$9999,基礎データ!AA373)+ROW()/10000)","v":3.7299999999999999E-6},""]
[null,null,null,null,null,null,null,null,null,null,null,null,null,373,697,null,{"$f":"IF(P374=\"\",ROW()/100000000,COUNTIF(過去ログ!$BQ$3:$CT$9999,基礎データ!P374)+ROW()/10000)","v":3.7400000000000002E-6},"",null,373,628,null,{"$f":"IF(V374=\"\",ROW()/100000000,COUNTIF(過去ログ!$N$3:$N$9999,基礎データ!V374)+ROW()/10000)","v":3.7400000000000002E-6},"",373,628,null,{"$f":"IF(AA374=\"\",ROW()/100000000,COUNTIF(過去ログ!$N$3:$Y$9999,基礎データ!AA374)+ROW()/10000)","v":3.7400000000000002E-6},""]
[null,null,null,null,null,null,null,null,null,null,null,null,null,374,696,null,{"$f":"IF(P375=\"\",ROW()/100000000,COUNTIF(過去ログ!$BQ$3:$CT$9999,基礎データ!P375)+ROW()/10000)","v":3.7500000000000001E-6},"",null,374,627,null,{"$f":"IF(V375=\"\",ROW()/100000000,COUNTIF(過去ログ!$N$3:$N$9999,基礎データ!V375)+ROW()/10000)","v":3.7500000000000001E-6},"",374,627,null,{"$f":"IF(AA375=\"\",ROW()/100000000,COUNTIF(過去ログ!$N$3:$Y$9999,基礎データ!AA375)+ROW()/10000)","v":3.7500000000000001E-6},""]
[null,null,null,null,null,null,null,null,null,null,null,null,null,375,695,null,{"$f":"IF(P376=\"\",ROW()/100000000,COUNTIF(過去ログ!$BQ$3:$CT$9999,基礎データ!P376)+ROW()/10000)","v":3.76E-6},"",null,375,626,null,{"$f":"IF(V376=\"\",ROW()/100000000,COUNTIF(過去ログ!$N$3:$N$9999,基礎データ!V376)+ROW()/10000)","v":3.76E-6},"",375,{"$f":"RANK(AB376,$AB$2:$AB$1002)","v":626},null,{"$f":"IF(AA376=\"\",ROW()/100000000,COUNTIF(過去ログ!$N$3:$Y$9999,基礎データ!AA376)+ROW()/10000)","v":3.76E-6},""]
[null,null,null,null,null,null,null,null,null,null,null,null,null,376,694,null,{"$f":"IF(P377=\"\",ROW()/100000000,COUNTIF(過去ログ!$BQ$3:$CT$9999,基礎データ!P377)+ROW()/10000)","v":3.7699999999999999E-6},"",null,376,625,null,{"$f":"IF(V377=\"\",ROW()/100000000,COUNTIF(過去ログ!$N$3:$N$9999,基礎データ!V377)+ROW()/10000)","v":3.7699999999999999E-6},"",376,625,null,{"$f":"IF(AA377=\"\",ROW()/100000000,COUNTIF(過去ログ!$N$3:$Y$9999,基礎データ!AA377)+ROW()/10000)","v":3.7699999999999999E-6},""]
[null,null,null,null,null,null,null,null,null,null,null,null,null,377,693,null,{"$f":"IF(P378=\"\",ROW()/100000000,COUNTIF(過去ログ!$BQ$3:$CT$9999,基礎データ!P378)+ROW()/10000)","v":3.7799999999999998E-6},"",null,377,624,null,{"$f":"IF(V378=\"\",ROW()/100000000,COUNTIF(過去ログ!$N$3:$N$9999,基礎データ!V378)+ROW()/10000)","v":3.7799999999999998E-6},"",377,624,null,{"$f":"IF(AA378=\"\",ROW()/100000000,COUNTIF(過去ログ!$N$3:$Y$9999,基礎データ!AA378)+ROW()/10000)","v":3.7799999999999998E-6},""]
[null,null,null,null,null,null,null,null,null,null,null,null,null,378,692,null,{"$f":"IF(P379=\"\",ROW()/100000000,COUNTIF(過去ログ!$BQ$3:$CT$9999,基礎データ!P379)+ROW()/10000)","v":3.7900000000000001E-6},"",null,378,623,null,{"$f":"IF(V379=\"\",ROW()/100000000,COUNTIF(過去ログ!$N$3:$N$9999,基礎データ!V379)+ROW()/10000)","v":3.7900000000000001E-6},"",378,623,null,{"$f":"IF(AA379=\"\",ROW()/100000000,COUNTIF(過去ログ!$N$3:$Y$9999,基礎データ!AA379)+ROW()/10000)","v":3.7900000000000001E-6},""]
[null,null,null,null,null,null,null,null,null,null,null,null,null,379,691,null,{"$f":"IF(P380=\"\",ROW()/100000000,COUNTIF(過去ログ!$BQ$3:$CT$9999,基礎データ!P380)+ROW()/10000)","v":3.8E-6},"",null,379,622,null,{"$f":"IF(V380=\"\",ROW()/100000000,COUNTIF(過去ログ!$N$3:$N$9999,基礎データ!V380)+ROW()/10000)","v":3.8E-6},"",379,622,null,{"$f":"IF(AA380=\"\",ROW()/100000000,COUNTIF(過去ログ!$N$3:$Y$9999,基礎データ!AA380)+ROW()/10000)","v":3.8E-6},""]
[null,null,null,null,null,null,null,null,null,null,null,null,null,380,690,null,{"$f":"IF(P381=\"\",ROW()/100000000,COUNTIF(過去ログ!$BQ$3:$CT$9999,基礎データ!P381)+ROW()/10000)","v":3.8099999999999999E-6},"",null,380,621,null,{"$f":"IF(V381=\"\",ROW()/100000000,COUNTIF(過去ログ!$N$3:$N$9999,基礎データ!V381)+ROW()/10000)","v":3.8099999999999999E-6},"",380,621,null,{"$f":"IF(AA381=\"\",ROW()/100000000,COUNTIF(過去ログ!$N$3:$Y$9999,基礎データ!AA381)+ROW()/10000)","v":3.8099999999999999E-6},""]
[null,null,null,null,null,null,null,null,null,null,null,null,null,381,689,null,{"$f":"IF(P382=\"\",ROW()/100000000,COUNTIF(過去ログ!$BQ$3:$CT$9999,基礎データ!P382)+ROW()/10000)","v":3.8199999999999998E-6},"",null,381,620,null,{"$f":"IF(V382=\"\",ROW()/100000000,COUNTIF(過去ログ!$N$3:$N$9999,基礎データ!V382)+ROW()/10000)","v":3.8199999999999998E-6},"",381,620,null,{"$f":"IF(AA382=\"\",ROW()/100000000,COUNTIF(過去ログ!$N$3:$Y$9999,基礎データ!AA382)+ROW()/10000)","v":3.8199999999999998E-6},""]
[null,null,null,null,null,null,null,null,null,null,null,null,null,382,688,null,{"$f":"IF(P383=\"\",ROW()/100000000,COUNTIF(過去ログ!$BQ$3:$CT$9999,基礎データ!P383)+ROW()/10000)","v":3.8299999999999998E-6},"",null,382,619,null,{"$f":"IF(V383=\"\",ROW()/100000000,COUNTIF(過去ログ!$N$3:$N$9999,基礎データ!V383)+ROW()/10000)","v":3.8299999999999998E-6},"",382,619,null,{"$f":"IF(AA383=\"\",ROW()/100000000,COUNTIF(過去ログ!$N$3:$Y$9999,基礎データ!AA383)+ROW()/10000)","v":3.8299999999999998E-6},""]
[null,null,null,null,null,null,null,null,null,null,null,null,null,383,687,null,{"$f":"IF(P384=\"\",ROW()/100000000,COUNTIF(過去ログ!$BQ$3:$CT$9999,基礎データ!P384)+ROW()/10000)","v":3.8399999999999997E-6},"",null,383,618,null,{"$f":"IF(V384=\"\",ROW()/100000000,COUNTIF(過去ログ!$N$3:$N$9999,基礎データ!V384)+ROW()/10000)","v":3.8399999999999997E-6},"",383,618,null,{"$f":"IF(AA384=\"\",ROW()/100000000,COUNTIF(過去ログ!$N$3:$Y$9999,基礎データ!AA384)+ROW()/10000)","v":3.8399999999999997E-6},""]
[null,null,null,null,null,null,null,null,null,null,null,null,null,384,686,null,{"$f":"IF(P385=\"\",ROW()/100000000,COUNTIF(過去ログ!$BQ$3:$CT$9999,基礎データ!P385)+ROW()/10000)","v":3.8500000000000004E-6},"",null,384,617,null,{"$f":"IF(V385=\"\",ROW()/100000000,COUNTIF(過去ログ!$N$3:$N$9999,基礎データ!V385)+ROW()/10000)","v":3.8500000000000004E-6},"",384,617,null,{"$f":"IF(AA385=\"\",ROW()/100000000,COUNTIF(過去ログ!$N$3:$Y$9999,基礎データ!AA385)+ROW()/10000)","v":3.8500000000000004E-6},""]
[null,null,null,null,null,null,null,null,null,null,null,null,null,385,685,null,{"$f":"IF(P386=\"\",ROW()/100000000,COUNTIF(過去ログ!$BQ$3:$CT$9999,基礎データ!P386)+ROW()/10000)","v":3.8600000000000003E-6},"",null,385,616,null,{"$f":"IF(V386=\"\",ROW()/100000000,COUNTIF(過去ログ!$N$3:$N$9999,基礎データ!V386)+ROW()/10000)","v":3.8600000000000003E-6},"",385,616,null,{"$f":"IF(AA386=\"\",ROW()/100000000,COUNTIF(過去ログ!$N$3:$Y$9999,基礎データ!AA386)+ROW()/10000)","v":3.8600000000000003E-6},""]
[null,null,null,null,null,null,null,null,null,null,null,null,null,386,684,null,{"$f":"IF(P387=\"\",ROW()/100000000,COUNTIF(過去ログ!$BQ$3:$CT$9999,基礎データ!P387)+ROW()/10000)","v":3.8700000000000002E-6},"",null,386,615,null,{"$f":"IF(V387=\"\",ROW()/100000000,COUNTIF(過去ログ!$N$3:$N$9999,基礎データ!V387)+ROW()/10000)","v":3.8700000000000002E-6},"",386,615,null,{"$f":"IF(AA387=\"\",ROW()/100000000,COUNTIF(過去ログ!$N$3:$Y$9999,基礎データ!AA387)+ROW()/10000)","v":3.8700000000000002E-6},""]
[null,null,null,null,null,null,null,null,null,null,null,null,null,387,683,null,{"$f":"IF(P388=\"\",ROW()/100000000,COUNTIF(過去ログ!$BQ$3:$CT$9999,基礎データ!P388)+ROW()/10000)","v":3.8800000000000001E-6},"",null,387,614,null,{"$f":"IF(V388=\"\",ROW()/100000000,COUNTIF(過去ログ!$N$3:$N$9999,基礎データ!V388)+ROW()/10000)","v":3.8800000000000001E-6},"",387,614,null,{"$f":"IF(AA388=\"\",ROW()/100000000,COUNTIF(過去ログ!$N$3:$Y$9999,基礎データ!AA388)+ROW()/10000)","v":3.8800000000000001E-6},""]
[null,null,null,null,null,null,null,null,null,null,null,null,null,388,682,null,{"$f":"IF(P389=\"\",ROW()/100000000,COUNTIF(過去ログ!$BQ$3:$CT$9999,基礎データ!P389)+ROW()/10000)","v":3.89E-6},"",null,388,{"$f":"RANK(W389,$W$2:$W$1002)","v":613},null,{"$f":"IF(V389=\"\",ROW()/100000000,COUNTIF(過去ログ!$N$3:$N$9999,基礎データ!V389)+ROW()/10000)","v":3.89E-6},"",388,613,null,{"$f":"IF(AA389=\"\",ROW()/100000000,COUNTIF(過去ログ!$N$3:$Y$9999,基礎データ!AA389)+ROW()/10000)","v":3.89E-6},""]
[null,null,null,null,null,null,null,null,null,null,null,null,null,389,681,null,{"$f":"IF(P390=\"\",ROW()/100000000,COUNTIF(過去ログ!$BQ$3:$CT$9999,基礎データ!P390)+ROW()/10000)","v":3.8999999999999999E-6},"",null,389,612,null,{"$f":"IF(V390=\"\",ROW()/100000000,COUNTIF(過去ログ!$N$3:$N$9999,基礎データ!V390)+ROW()/10000)","v":3.8999999999999999E-6},"",389,612,null,{"$f":"IF(AA390=\"\",ROW()/100000000,COUNTIF(過去ログ!$N$3:$Y$9999,基礎データ!AA390)+ROW()/10000)","v":3.8999999999999999E-6},""]
[null,null,null,null,null,null,null,null,null,null,null,null,null,390,680,null,{"$f":"IF(P391=\"\",ROW()/100000000,COUNTIF(過去ログ!$BQ$3:$CT$9999,基礎データ!P391)+ROW()/10000)","v":3.9099999999999998E-6},"",null,390,611,null,{"$f":"IF(V391=\"\",ROW()/100000000,COUNTIF(過去ログ!$N$3:$N$9999,基礎データ!V391)+ROW()/10000)","v":3.9099999999999998E-6},"",390,611,null,{"$f":"IF(AA391=\"\",ROW()/100000000,COUNTIF(過去ログ!$N$3:$Y$9999,基礎データ!AA391)+ROW()/10000)","v":3.9099999999999998E-6},""]
[null,null,null,null,null,null,null,null,null,null,null,null,null,391,679,null,{"$f":"IF(P392=\"\",ROW()/100000000,COUNTIF(過去ログ!$BQ$3:$CT$9999,基礎データ!P392)+ROW()/10000)","v":3.9199999999999997E-6},"",null,391,610,null,{"$f":"IF(V392=\"\",ROW()/100000000,COUNTIF(過去ログ!$N$3:$N$9999,基礎データ!V392)+ROW()/10000)","v":3.9199999999999997E-6},"",391,610,null,{"$f":"IF(AA392=\"\",ROW()/100000000,COUNTIF(過去ログ!$N$3:$Y$9999,基礎データ!AA392)+ROW()/10000)","v":3.9199999999999997E-6},""]
[null,null,null,null,null,null,null,null,null,null,null,null,null,392,678,null,{"$f":"IF(P393=\"\",ROW()/100000000,COUNTIF(過去ログ!$BQ$3:$CT$9999,基礎データ!P393)+ROW()/10000)","v":3.9299999999999996E-6},{"$f":"IF(P393=\"\",\"\",VLOOKUP(N393,$O$2:$P$1002,2,FALSE))","v":""},null,392,609,null,{"$f":"IF(V393=\"\",ROW()/100000000,COUNTIF(過去ログ!$N$3:$N$9999,基礎データ!V393)+ROW()/10000)","v":3.9299999999999996E-6},"",392,609,null,{"$f":"IF(AA393=\"\",ROW()/100000000,COUNTIF(過去ログ!$N$3:$Y$9999,基礎データ!AA393)+ROW()/10000)","v":3.9299999999999996E-6},""]
[null,null,null,null,null,null,null,null,null,null,null,null,null,393,677,null,{"$f":"IF(P394=\"\",ROW()/100000000,COUNTIF(過去ログ!$BQ$3:$CT$9999,基礎データ!P394)+ROW()/10000)","v":3.9400000000000004E-6},"",null,393,608,null,{"$f":"IF(V394=\"\",ROW()/100000000,COUNTIF(過去ログ!$N$3:$N$9999,基礎データ!V394)+ROW()/10000)","v":3.9400000000000004E-6},"",393,608,null,{"$f":"IF(AA394=\"\",ROW()/100000000,COUNTIF(過去ログ!$N$3:$Y$9999,基礎データ!AA394)+ROW()/10000)","v":3.9400000000000004E-6},""]
[null,null,null,null,null,null,null,null,null,null,null,null,null,394,676,null,{"$f":"IF(P395=\"\",ROW()/100000000,COUNTIF(過去ログ!$BQ$3:$CT$9999,基礎データ!P395)+ROW()/10000)","v":3.9500000000000003E-6},"",null,394,607,null,{"$f":"IF(V395=\"\",ROW()/100000000,COUNTIF(過去ログ!$N$3:$N$9999,基礎データ!V395)+ROW()/10000)","v":3.9500000000000003E-6},"",394,607,null,{"$f":"IF(AA395=\"\",ROW()/100000000,COUNTIF(過去ログ!$N$3:$Y$9999,基礎データ!AA395)+ROW()/10000)","v":3.9500000000000003E-6},""]
[null,null,null,null,null,null,null,null,null,null,null,null,null,395,675,null,{"$f":"IF(P396=\"\",ROW()/100000000,COUNTIF(過去ログ!$BQ$3:$CT$9999,基礎データ!P396)+ROW()/10000)","v":3.9600000000000002E-6},"",null,395,606,null,{"$f":"IF(V396=\"\",ROW()/100000000,COUNTIF(過去ログ!$N$3:$N$9999,基礎データ!V396)+ROW()/10000)","v":3.9600000000000002E-6},"",395,606,null,{"$f":"IF(AA396=\"\",ROW()/100000000,COUNTIF(過去ログ!$N$3:$Y$9999,基礎データ!AA396)+ROW()/10000)","v":3.9600000000000002E-6},""]
[null,null,null,null,null,null,null,null,null,null,null,null,null,396,674,null,{"$f":"IF(P397=\"\",ROW()/100000000,COUNTIF(過去ログ!$BQ$3:$CT$9999,基礎データ!P397)+ROW()/10000)","v":3.9700000000000001E-6},"",null,396,605,null,{"$f":"IF(V397=\"\",ROW()/100000000,COUNTIF(過去ログ!$N$3:$N$9999,基礎データ!V397)+ROW()/10000)","v":3.9700000000000001E-6},"",396,605,null,{"$f":"IF(AA397=\"\",ROW()/100000000,COUNTIF(過去ログ!$N$3:$Y$9999,基礎データ!AA397)+ROW()/10000)","v":3.9700000000000001E-6},""]
[null,null,null,null,null,null,null,null,null,null,null,null,null,397,673,null,{"$f":"IF(P398=\"\",ROW()/100000000,COUNTIF(過去ログ!$BQ$3:$CT$9999,基礎データ!P398)+ROW()/10000)","v":3.98E-6},"",null,397,604,null,{"$f":"IF(V398=\"\",ROW()/100000000,COUNTIF(過去ログ!$N$3:$N$9999,基礎データ!V398)+ROW()/10000)","v":3.98E-6},"",397,604,null,{"$f":"IF(AA398=\"\",ROW()/100000000,COUNTIF(過去ログ!$N$3:$Y$9999,基礎データ!AA398)+ROW()/10000)","v":3.98E-6},""]
[null,null,null,null,null,null,null,null,null,null,null,null,null,398,672,null,{"$f":"IF(P399=\"\",ROW()/100000000,COUNTIF(過去ログ!$BQ$3:$CT$9999,基礎データ!P399)+ROW()/10000)","v":3.9899999999999999E-6},"",null,398,603,null,{"$f":"IF(V399=\"\",ROW()/100000000,COUNTIF(過去ログ!$N$3:$N$9999,基礎データ!V399)+ROW()/10000)","v":3.9899999999999999E-6},{"$f":"IF(VLOOKUP(T399,$U$2:$V$1002,2,FALSE)=0,\"\",VLOOKUP(T399,$U$2:$V$1002,2,FALSE))","v":""},398,603,null,{"$f":"IF(AA399=\"\",ROW()/100000000,COUNTIF(過去ログ!$N$3:$Y$9999,基礎データ!AA399)+ROW()/10000)","v":3.9899999999999999E-6},""]
[null,null,null,null,null,null,null,null,null,null,null,null,null,399,671,null,{"$f":"IF(P400=\"\",ROW()/100000000,COUNTIF(過去ログ!$BQ$3:$CT$9999,基礎データ!P400)+ROW()/10000)","v":3.9999999999999998E-6},"",null,399,602,null,{"$f":"IF(V400=\"\",ROW()/100000000,COUNTIF(過去ログ!$N$3:$N$9999,基礎データ!V400)+ROW()/10000)","v":3.9999999999999998E-6},"",399,602,null,{"$f":"IF(AA400=\"\",ROW()/100000000,COUNTIF(過去ログ!$N$3:$Y$9999,基礎データ!AA400)+ROW()/10000)","v":3.9999999999999998E-6},""]
[null,null,null,null,null,null,null,null,null,null,null,null,null,400,670,null,{"$f":"IF(P401=\"\",ROW()/100000000,COUNTIF(過去ログ!$BQ$3:$CT$9999,基礎データ!P401)+ROW()/10000)","v":4.0099999999999997E-6},"",null,400,601,null,{"$f":"IF(V401=\"\",ROW()/100000000,COUNTIF(過去ログ!$N$3:$N$9999,基礎データ!V401)+ROW()/10000)","v":4.0099999999999997E-6},"",400,601,null,{"$f":"IF(AA401=\"\",ROW()/100000000,COUNTIF(過去ログ!$N$3:$Y$9999,基礎データ!AA401)+ROW()/10000)","v":4.0099999999999997E-6},""]
[null,null,null,null,null,null,null,null,null,null,null,null,null,401,669,null,{"$f":"IF(P402=\"\",ROW()/100000000,COUNTIF(過去ログ!$BQ$3:$CT$9999,基礎データ!P402)+ROW()/10000)","v":4.0199999999999996E-6},"",null,401,600,null,{"$f":"IF(V402=\"\",ROW()/100000000,COUNTIF(過去ログ!$N$3:$N$9999,基礎データ!V402)+ROW()/10000)","v":4.0199999999999996E-6},"",401,600,null,{"$f":"IF(AA402=\"\",ROW()/100000000,COUNTIF(過去ログ!$N$3:$Y$9999,基礎データ!AA402)+ROW()/10000)","v":4.0199999999999996E-6},""]
[null,null,null,null,null,null,null,null,null,null,null,null,null,402,668,null,{"$f":"IF(P403=\"\",ROW()/100000000,COUNTIF(過去ログ!$BQ$3:$CT$9999,基礎データ!P403)+ROW()/10000)","v":4.0300000000000004E-6},"",null,402,599,null,{"$f":"IF(V403=\"\",ROW()/100000000,COUNTIF(過去ログ!$N$3:$N$9999,基礎データ!V403)+ROW()/10000)","v":4.0300000000000004E-6},"",402,599,null,{"$f":"IF(AA403=\"\",ROW()/100000000,COUNTIF(過去ログ!$N$3:$Y$9999,基礎データ!AA403)+ROW()/10000)","v":4.0300000000000004E-6},""]
[null,null,null,null,null,null,null,null,null,null,null,null,null,403,667,null,{"$f":"IF(P404=\"\",ROW()/100000000,COUNTIF(過去ログ!$BQ$3:$CT$9999,基礎データ!P404)+ROW()/10000)","v":4.0400000000000003E-6},"",null,403,598,null,{"$f":"IF(V404=\"\",ROW()/100000000,COUNTIF(過去ログ!$N$3:$N$9999,基礎データ!V404)+ROW()/10000)","v":4.0400000000000003E-6},"",403,598,null,{"$f":"IF(AA404=\"\",ROW()/100000000,COUNTIF(過去ログ!$N$3:$Y$9999,基礎データ!AA404)+ROW()/10000)","v":4.0400000000000003E-6},""]
[null,null,null,null,null,null,null,null,null,null,null,null,null,404,666,null,{"$f":"IF(P405=\"\",ROW()/100000000,COUNTIF(過去ログ!$BQ$3:$CT$9999,基礎データ!P405)+ROW()/10000)","v":4.0500000000000002E-6},"",null,404,597,null,{"$f":"IF(V405=\"\",ROW()/100000000,COUNTIF(過去ログ!$N$3:$N$9999,基礎データ!V405)+ROW()/10000)","v":4.0500000000000002E-6},"",404,597,null,{"$f":"IF(AA405=\"\",ROW()/100000000,COUNTIF(過去ログ!$N$3:$Y$9999,基礎データ!AA405)+ROW()/10000)","v":4.0500000000000002E-6},""]
[null,null,null,null,null,null,null,null,null,null,null,null,null,405,665,null,{"$f":"IF(P406=\"\",ROW()/100000000,COUNTIF(過去ログ!$BQ$3:$CT$9999,基礎データ!P406)+ROW()/10000)","v":4.0600000000000001E-6},"",null,405,596,null,{"$f":"IF(V406=\"\",ROW()/100000000,COUNTIF(過去ログ!$N$3:$N$9999,基礎データ!V406)+ROW()/10000)","v":4.0600000000000001E-6},"",405,596,null,{"$f":"IF(AA406=\"\",ROW()/100000000,COUNTIF(過去ログ!$N$3:$Y$9999,基礎データ!AA406)+ROW()/10000)","v":4.0600000000000001E-6},""]
[null,null,null,null,null,null,null,null,null,null,null,null,null,406,664,null,{"$f":"IF(P407=\"\",ROW()/100000000,COUNTIF(過去ログ!$BQ$3:$CT$9999,基礎データ!P407)+ROW()/10000)","v":4.07E-6},"",null,406,595,null,{"$f":"IF(V407=\"\",ROW()/100000000,COUNTIF(過去ログ!$N$3:$N$9999,基礎データ!V407)+ROW()/10000)","v":4.07E-6},"",406,595,null,{"$f":"IF(AA407=\"\",ROW()/100000000,COUNTIF(過去ログ!$N$3:$Y$9999,基礎データ!AA407)+ROW()/10000)","v":4.07E-6},""]
[null,null,null,null,null,null,null,null,null,null,null,null,null,407,663,null,{"$f":"IF(P408=\"\",ROW()/100000000,COUNTIF(過去ログ!$BQ$3:$CT$9999,基礎データ!P408)+ROW()/10000)","v":4.0799999999999999E-6},"",null,407,594,null,{"$f":"IF(V408=\"\",ROW()/100000000,COUNTIF(過去ログ!$N$3:$N$9999,基礎データ!V408)+ROW()/10000)","v":4.0799999999999999E-6},"",407,594,null,{"$f":"IF(AA408=\"\",ROW()/100000000,COUNTIF(過去ログ!$N$3:$Y$9999,基礎データ!AA408)+ROW()/10000)","v":4.0799999999999999E-6},""]
[null,null,null,null,null,null,null,null,null,null,null,null,null,408,662,null,{"$f":"IF(P409=\"\",ROW()/100000000,COUNTIF(過去ログ!$BQ$3:$CT$9999,基礎データ!P409)+ROW()/10000)","v":4.0899999999999998E-6},"",null,408,593,null,{"$f":"IF(V409=\"\",ROW()/100000000,COUNTIF(過去ログ!$N$3:$N$9999,基礎データ!V409)+ROW()/10000)","v":4.0899999999999998E-6},"",408,593,null,{"$f":"IF(AA409=\"\",ROW()/100000000,COUNTIF(過去ログ!$N$3:$Y$9999,基礎データ!AA409)+ROW()/10000)","v":4.0899999999999998E-6},""]
[null,null,null,null,null,null,null,null,null,null,null,null,null,409,661,null,{"$f":"IF(P410=\"\",ROW()/100000000,COUNTIF(過去ログ!$BQ$3:$CT$9999,基礎データ!P410)+ROW()/10000)","v":4.0999999999999997E-6},"",null,409,592,null,{"$f":"IF(V410=\"\",ROW()/100000000,COUNTIF(過去ログ!$N$3:$N$9999,基礎データ!V410)+ROW()/10000)","v":4.0999999999999997E-6},"",409,592,null,{"$f":"IF(AA410=\"\",ROW()/100000000,COUNTIF(過去ログ!$N$3:$Y$9999,基礎データ!AA410)+ROW()/10000)","v":4.0999999999999997E-6},""]
[null,null,null,null,null,null,null,null,null,null,null,null,null,410,660,null,{"$f":"IF(P411=\"\",ROW()/100000000,COUNTIF(過去ログ!$BQ$3:$CT$9999,基礎データ!P411)+ROW()/10000)","v":4.1099999999999996E-6},"",null,410,591,null,{"$f":"IF(V411=\"\",ROW()/100000000,COUNTIF(過去ログ!$N$3:$N$9999,基礎データ!V411)+ROW()/10000)","v":4.1099999999999996E-6},"",410,591,null,{"$f":"IF(AA411=\"\",ROW()/100000000,COUNTIF(過去ログ!$N$3:$Y$9999,基礎データ!AA411)+ROW()/10000)","v":4.1099999999999996E-6},""]
[null,null,null,null,null,null,null,null,null,null,null,null,null,411,659,null,{"$f":"IF(P412=\"\",ROW()/100000000,COUNTIF(過去ログ!$BQ$3:$CT$9999,基礎データ!P412)+ROW()/10000)","v":4.1200000000000004E-6},"",null,411,590,null,{"$f":"IF(V412=\"\",ROW()/100000000,COUNTIF(過去ログ!$N$3:$N$9999,基礎データ!V412)+ROW()/10000)","v":4.1200000000000004E-6},"",411,590,null,{"$f":"IF(AA412=\"\",ROW()/100000000,COUNTIF(過去ログ!$N$3:$Y$9999,基礎データ!AA412)+ROW()/10000)","v":4.1200000000000004E-6},""]
[null,null,null,null,null,null,null,null,null,null,null,null,null,412,658,null,{"$f":"IF(P413=\"\",ROW()/100000000,COUNTIF(過去ログ!$BQ$3:$CT$9999,基礎データ!P413)+ROW()/10000)","v":4.1300000000000003E-6},"",null,412,589,null,{"$f":"IF(V413=\"\",ROW()/100000000,COUNTIF(過去ログ!$N$3:$N$9999,基礎データ!V413)+ROW()/10000)","v":4.1300000000000003E-6},"",412,589,null,{"$f":"IF(AA413=\"\",ROW()/100000000,COUNTIF(過去ログ!$N$3:$Y$9999,基礎データ!AA413)+ROW()/10000)","v":4.1300000000000003E-6},""]
[null,null,null,null,null,null,null,null,null,null,null,null,null,413,657,null,{"$f":"IF(P414=\"\",ROW()/100000000,COUNTIF(過去ログ!$BQ$3:$CT$9999,基礎データ!P414)+ROW()/10000)","v":4.1400000000000002E-6},"",null,413,588,null,{"$f":"IF(V414=\"\",ROW()/100000000,COUNTIF(過去ログ!$N$3:$N$9999,基礎データ!V414)+ROW()/10000)","v":4.1400000000000002E-6},"",413,588,null,{"$f":"IF(AA414=\"\",ROW()/100000000,COUNTIF(過去ログ!$N$3:$Y$9999,基礎データ!AA414)+ROW()/10000)","v":4.1400000000000002E-6},""]
[null,null,null,null,null,null,null,null,null,null,null,null,null,414,656,null,{"$f":"IF(P415=\"\",ROW()/100000000,COUNTIF(過去ログ!$BQ$3:$CT$9999,基礎データ!P415)+ROW()/10000)","v":4.1500000000000001E-6},"",null,414,587,null,{"$f":"IF(V415=\"\",ROW()/100000000,COUNTIF(過去ログ!$N$3:$N$9999,基礎データ!V415)+ROW()/10000)","v":4.1500000000000001E-6},"",414,587,null,{"$f":"IF(AA415=\"\",ROW()/100000000,COUNTIF(過去ログ!$N$3:$Y$9999,基礎データ!AA415)+ROW()/10000)","v":4.1500000000000001E-6},""]
[null,null,null,null,null,null,null,null,null,null,null,null,null,415,{"$f":"RANK(Q416,$Q$2:$Q$1002)","v":655},null,{"$f":"IF(P416=\"\",ROW()/100000000,COUNTIF(過去ログ!$BQ$3:$CT$9999,基礎データ!P416)+ROW()/10000)","v":4.16E-6},"",null,415,586,null,{"$f":"IF(V416=\"\",ROW()/100000000,COUNTIF(過去ログ!$N$3:$N$9999,基礎データ!V416)+ROW()/10000)","v":4.16E-6},"",415,586,null,{"$f":"IF(AA416=\"\",ROW()/100000000,COUNTIF(過去ログ!$N$3:$Y$9999,基礎データ!AA416)+ROW()/10000)","v":4.16E-6},""]
[null,null,null,null,null,null,null,null,null,null,null,null,null,416,654,null,{"$f":"IF(P417=\"\",ROW()/100000000,COUNTIF(過去ログ!$BQ$3:$CT$9999,基礎データ!P417)+ROW()/10000)","v":4.1699999999999999E-6},"",null,416,585,null,{"$f":"IF(V417=\"\",ROW()/100000000,COUNTIF(過去ログ!$N$3:$N$9999,基礎データ!V417)+ROW()/10000)","v":4.1699999999999999E-6},"",416,585,null,{"$f":"IF(AA417=\"\",ROW()/100000000,COUNTIF(過去ログ!$N$3:$Y$9999,基礎データ!AA417)+ROW()/10000)","v":4.1699999999999999E-6},""]
[null,null,null,null,null,null,null,null,null,null,null,null,null,417,653,null,{"$f":"IF(P418=\"\",ROW()/100000000,COUNTIF(過去ログ!$BQ$3:$CT$9999,基礎データ!P418)+ROW()/10000)","v":4.1799999999999998E-6},"",null,417,584,null,{"$f":"IF(V418=\"\",ROW()/100000000,COUNTIF(過去ログ!$N$3:$N$9999,基礎データ!V418)+ROW()/10000)","v":4.1799999999999998E-6},"",417,584,null,{"$f":"IF(AA418=\"\",ROW()/100000000,COUNTIF(過去ログ!$N$3:$Y$9999,基礎データ!AA418)+ROW()/10000)","v":4.1799999999999998E-6},""]
[null,null,null,null,null,null,null,null,null,null,null,null,null,418,652,null,{"$f":"IF(P419=\"\",ROW()/100000000,COUNTIF(過去ログ!$BQ$3:$CT$9999,基礎データ!P419)+ROW()/10000)","v":4.1899999999999997E-6},"",null,418,583,null,{"$f":"IF(V419=\"\",ROW()/100000000,COUNTIF(過去ログ!$N$3:$N$9999,基礎データ!V419)+ROW()/10000)","v":4.1899999999999997E-6},"",418,583,null,{"$f":"IF(AA419=\"\",ROW()/100000000,COUNTIF(過去ログ!$N$3:$Y$9999,基礎データ!AA419)+ROW()/10000)","v":4.1899999999999997E-6},""]
[null,null,null,null,null,null,null,null,null,null,null,null,null,419,651,null,{"$f":"IF(P420=\"\",ROW()/100000000,COUNTIF(過去ログ!$BQ$3:$CT$9999,基礎データ!P420)+ROW()/10000)","v":4.1999999999999996E-6},"",null,419,582,null,{"$f":"IF(V420=\"\",ROW()/100000000,COUNTIF(過去ログ!$N$3:$N$9999,基礎データ!V420)+ROW()/10000)","v":4.1999999999999996E-6},"",419,582,null,{"$f":"IF(AA420=\"\",ROW()/100000000,COUNTIF(過去ログ!$N$3:$Y$9999,基礎データ!AA420)+ROW()/10000)","v":4.1999999999999996E-6},""]
[null,null,null,null,null,null,null,null,null,null,null,null,null,420,650,null,{"$f":"IF(P421=\"\",ROW()/100000000,COUNTIF(過去ログ!$BQ$3:$CT$9999,基礎データ!P421)+ROW()/10000)","v":4.2100000000000003E-6},"",null,420,581,null,{"$f":"IF(V421=\"\",ROW()/100000000,COUNTIF(過去ログ!$N$3:$N$9999,基礎データ!V421)+ROW()/10000)","v":4.2100000000000003E-6},"",420,581,null,{"$f":"IF(AA421=\"\",ROW()/100000000,COUNTIF(過去ログ!$N$3:$Y$9999,基礎データ!AA421)+ROW()/10000)","v":4.2100000000000003E-6},""]
[null,null,null,null,null,null,null,null,null,null,null,null,null,421,649,null,{"$f":"IF(P422=\"\",ROW()/100000000,COUNTIF(過去ログ!$BQ$3:$CT$9999,基礎データ!P422)+ROW()/10000)","v":4.2200000000000003E-6},"",null,421,580,null,{"$f":"IF(V422=\"\",ROW()/100000000,COUNTIF(過去ログ!$N$3:$N$9999,基礎データ!V422)+ROW()/10000)","v":4.2200000000000003E-6},"",421,580,null,{"$f":"IF(AA422=\"\",ROW()/100000000,COUNTIF(過去ログ!$N$3:$Y$9999,基礎データ!AA422)+ROW()/10000)","v":4.2200000000000003E-6},""]
[null,null,null,null,null,null,null,null,null,null,null,null,null,422,648,null,{"$f":"IF(P423=\"\",ROW()/100000000,COUNTIF(過去ログ!$BQ$3:$CT$9999,基礎データ!P423)+ROW()/10000)","v":4.2300000000000002E-6},"",null,422,579,null,{"$f":"IF(V423=\"\",ROW()/100000000,COUNTIF(過去ログ!$N$3:$N$9999,基礎データ!V423)+ROW()/10000)","v":4.2300000000000002E-6},"",422,579,null,{"$f":"IF(AA423=\"\",ROW()/100000000,COUNTIF(過去ログ!$N$3:$Y$9999,基礎データ!AA423)+ROW()/10000)","v":4.2300000000000002E-6},""]
[null,null,null,null,null,null,null,null,null,null,null,null,null,423,647,null,{"$f":"IF(P424=\"\",ROW()/100000000,COUNTIF(過去ログ!$BQ$3:$CT$9999,基礎データ!P424)+ROW()/10000)","v":4.2400000000000001E-6},"",null,423,578,null,{"$f":"IF(V424=\"\",ROW()/100000000,COUNTIF(過去ログ!$N$3:$N$9999,基礎データ!V424)+ROW()/10000)","v":4.2400000000000001E-6},"",423,578,null,{"$f":"IF(AA424=\"\",ROW()/100000000,COUNTIF(過去ログ!$N$3:$Y$9999,基礎データ!AA424)+ROW()/10000)","v":4.2400000000000001E-6},""]
[null,null,null,null,null,null,null,null,null,null,null,null,null,424,646,null,{"$f":"IF(P425=\"\",ROW()/100000000,COUNTIF(過去ログ!$BQ$3:$CT$9999,基礎データ!P425)+ROW()/10000)","v":4.25E-6},"",null,424,577,null,{"$f":"IF(V425=\"\",ROW()/100000000,COUNTIF(過去ログ!$N$3:$N$9999,基礎データ!V425)+ROW()/10000)","v":4.25E-6},"",424,577,null,{"$f":"IF(AA425=\"\",ROW()/100000000,COUNTIF(過去ログ!$N$3:$Y$9999,基礎データ!AA425)+ROW()/10000)","v":4.25E-6},""]
[null,null,null,null,null,null,null,null,null,null,null,null,null,425,645,null,{"$f":"IF(P426=\"\",ROW()/100000000,COUNTIF(過去ログ!$BQ$3:$CT$9999,基礎データ!P426)+ROW()/10000)","v":4.2599999999999999E-6},"",null,425,576,null,{"$f":"IF(V426=\"\",ROW()/100000000,COUNTIF(過去ログ!$N$3:$N$9999,基礎データ!V426)+ROW()/10000)","v":4.2599999999999999E-6},"",425,576,null,{"$f":"IF(AA426=\"\",ROW()/100000000,COUNTIF(過去ログ!$N$3:$Y$9999,基礎データ!AA426)+ROW()/10000)","v":4.2599999999999999E-6},""]
[null,null,null,null,null,null,null,null,null,null,null,null,null,426,644,null,{"$f":"IF(P427=\"\",ROW()/100000000,COUNTIF(過去ログ!$BQ$3:$CT$9999,基礎データ!P427)+ROW()/10000)","v":4.2699999999999998E-6},"",null,426,575,null,{"$f":"IF(V427=\"\",ROW()/100000000,COUNTIF(過去ログ!$N$3:$N$9999,基礎データ!V427)+ROW()/10000)","v":4.2699999999999998E-6},"",426,575,null,{"$f":"IF(AA427=\"\",ROW()/100000000,COUNTIF(過去ログ!$N$3:$Y$9999,基礎データ!AA427)+ROW()/10000)","v":4.2699999999999998E-6},""]
[null,null,null,null,null,null,null,null,null,null,null,null,null,427,643,null,{"$f":"IF(P428=\"\",ROW()/100000000,COUNTIF(過去ログ!$BQ$3:$CT$9999,基礎データ!P428)+ROW()/10000)","v":4.2799999999999997E-6},"",null,427,574,null,{"$f":"IF(V428=\"\",ROW()/100000000,COUNTIF(過去ログ!$N$3:$N$9999,基礎データ!V428)+ROW()/10000)","v":4.2799999999999997E-6},"",427,574,null,{"$f":"IF(AA428=\"\",ROW()/100000000,COUNTIF(過去ログ!$N$3:$Y$9999,基礎データ!AA428)+ROW()/10000)","v":4.2799999999999997E-6},""]
[null,null,null,null,null,null,null,null,null,null,null,null,null,428,642,null,{"$f":"IF(P429=\"\",ROW()/100000000,COUNTIF(過去ログ!$BQ$3:$CT$9999,基礎データ!P429)+ROW()/10000)","v":4.2899999999999996E-6},"",null,428,573,null,{"$f":"IF(V429=\"\",ROW()/100000000,COUNTIF(過去ログ!$N$3:$N$9999,基礎データ!V429)+ROW()/10000)","v":4.2899999999999996E-6},"",428,573,null,{"$f":"IF(AA429=\"\",ROW()/100000000,COUNTIF(過去ログ!$N$3:$Y$9999,基礎データ!AA429)+ROW()/10000)","v":4.2899999999999996E-6},""]
[null,null,null,null,null,null,null,null,null,null,null,null,null,429,641,null,{"$f":"IF(P430=\"\",ROW()/100000000,COUNTIF(過去ログ!$BQ$3:$CT$9999,基礎データ!P430)+ROW()/10000)","v":4.3000000000000003E-6},"",null,429,572,null,{"$f":"IF(V430=\"\",ROW()/100000000,COUNTIF(過去ログ!$N$3:$N$9999,基礎データ!V430)+ROW()/10000)","v":4.3000000000000003E-6},"",429,572,null,{"$f":"IF(AA430=\"\",ROW()/100000000,COUNTIF(過去ログ!$N$3:$Y$9999,基礎データ!AA430)+ROW()/10000)","v":4.3000000000000003E-6},""]
[null,null,null,null,null,null,null,null,null,null,null,null,null,430,640,null,{"$f":"IF(P431=\"\",ROW()/100000000,COUNTIF(過去ログ!$BQ$3:$CT$9999,基礎データ!P431)+ROW()/10000)","v":4.3100000000000002E-6},"",null,430,571,null,{"$f":"IF(V431=\"\",ROW()/100000000,COUNTIF(過去ログ!$N$3:$N$9999,基礎データ!V431)+ROW()/10000)","v":4.3100000000000002E-6},"",430,571,null,{"$f":"IF(AA431=\"\",ROW()/100000000,COUNTIF(過去ログ!$N$3:$Y$9999,基礎データ!AA431)+ROW()/10000)","v":4.3100000000000002E-6},""]
[null,null,null,null,null,null,null,null,null,null,null,null,null,431,639,null,{"$f":"IF(P432=\"\",ROW()/100000000,COUNTIF(過去ログ!$BQ$3:$CT$9999,基礎データ!P432)+ROW()/10000)","v":4.3200000000000001E-6},"",null,431,570,null,{"$f":"IF(V432=\"\",ROW()/100000000,COUNTIF(過去ログ!$N$3:$N$9999,基礎データ!V432)+ROW()/10000)","v":4.3200000000000001E-6},"",431,570,null,{"$f":"IF(AA432=\"\",ROW()/100000000,COUNTIF(過去ログ!$N$3:$Y$9999,基礎データ!AA432)+ROW()/10000)","v":4.3200000000000001E-6},""]
[null,null,null,null,null,null,null,null,null,null,null,null,null,432,638,null,{"$f":"IF(P433=\"\",ROW()/100000000,COUNTIF(過去ログ!$BQ$3:$CT$9999,基礎データ!P433)+ROW()/10000)","v":4.33E-6},"",null,432,569,null,{"$f":"IF(V433=\"\",ROW()/100000000,COUNTIF(過去ログ!$N$3:$N$9999,基礎データ!V433)+ROW()/10000)","v":4.33E-6},"",432,569,null,{"$f":"IF(AA433=\"\",ROW()/100000000,COUNTIF(過去ログ!$N$3:$Y$9999,基礎データ!AA433)+ROW()/10000)","v":4.33E-6},""]
[null,null,null,null,null,null,null,null,null,null,null,null,null,433,637,null,{"$f":"IF(P434=\"\",ROW()/100000000,COUNTIF(過去ログ!$BQ$3:$CT$9999,基礎データ!P434)+ROW()/10000)","v":4.34E-6},"",null,433,568,null,{"$f":"IF(V434=\"\",ROW()/100000000,COUNTIF(過去ログ!$N$3:$N$9999,基礎データ!V434)+ROW()/10000)","v":4.34E-6},"",433,568,null,{"$f":"IF(AA434=\"\",ROW()/100000000,COUNTIF(過去ログ!$N$3:$Y$9999,基礎データ!AA434)+ROW()/10000)","v":4.34E-6},""]
[null,null,null,null,null,null,null,null,null,null,null,null,null,434,636,null,{"$f":"IF(P435=\"\",ROW()/100000000,COUNTIF(過去ログ!$BQ$3:$CT$9999,基礎データ!P435)+ROW()/10000)","v":4.3499999999999999E-6},"",null,434,567,null,{"$f":"IF(V435=\"\",ROW()/100000000,COUNTIF(過去ログ!$N$3:$N$9999,基礎データ!V435)+ROW()/10000)","v":4.3499999999999999E-6},"",434,567,null,{"$f":"IF(AA435=\"\",ROW()/100000000,COUNTIF(過去ログ!$N$3:$Y$9999,基礎データ!AA435)+ROW()/10000)","v":4.3499999999999999E-6},{"$f":"IF(VLOOKUP(Y435,$Z$2:$AA$1002,2,FALSE)=0,\"\",VLOOKUP(Y435,$Z$2:$AA$1002,2,FALSE))","v":""}]
[null,null,null,null,null,null,null,null,null,null,null,null,null,435,635,null,{"$f":"IF(P436=\"\",ROW()/100000000,COUNTIF(過去ログ!$BQ$3:$CT$9999,基礎データ!P436)+ROW()/10000)","v":4.3599999999999998E-6},"",null,435,566,null,{"$f":"IF(V436=\"\",ROW()/100000000,COUNTIF(過去ログ!$N$3:$N$9999,基礎データ!V436)+ROW()/10000)","v":4.3599999999999998E-6},"",435,566,null,{"$f":"IF(AA436=\"\",ROW()/100000000,COUNTIF(過去ログ!$N$3:$Y$9999,基礎データ!AA436)+ROW()/10000)","v":4.3599999999999998E-6},""]
[null,null,null,null,null,null,null,null,null,null,null,null,null,436,634,null,{"$f":"IF(P437=\"\",ROW()/100000000,COUNTIF(過去ログ!$BQ$3:$CT$9999,基礎データ!P437)+ROW()/10000)","v":4.3699999999999997E-6},"",null,436,565,null,{"$f":"IF(V437=\"\",ROW()/100000000,COUNTIF(過去ログ!$N$3:$N$9999,基礎データ!V437)+ROW()/10000)","v":4.3699999999999997E-6},"",436,565,null,{"$f":"IF(AA437=\"\",ROW()/100000000,COUNTIF(過去ログ!$N$3:$Y$9999,基礎データ!AA437)+ROW()/10000)","v":4.3699999999999997E-6},""]
[null,null,null,null,null,null,null,null,null,null,null,null,null,437,633,null,{"$f":"IF(P438=\"\",ROW()/100000000,COUNTIF(過去ログ!$BQ$3:$CT$9999,基礎データ!P438)+ROW()/10000)","v":4.3800000000000004E-6},"",null,437,564,null,{"$f":"IF(V438=\"\",ROW()/100000000,COUNTIF(過去ログ!$N$3:$N$9999,基礎データ!V438)+ROW()/10000)","v":4.3800000000000004E-6},"",437,564,null,{"$f":"IF(AA438=\"\",ROW()/100000000,COUNTIF(過去ログ!$N$3:$Y$9999,基礎データ!AA438)+ROW()/10000)","v":4.3800000000000004E-6},""]
[null,null,null,null,null,null,null,null,null,null,null,null,null,438,632,null,{"$f":"IF(P439=\"\",ROW()/100000000,COUNTIF(過去ログ!$BQ$3:$CT$9999,基礎データ!P439)+ROW()/10000)","v":4.3900000000000003E-6},"",null,438,563,null,{"$f":"IF(V439=\"\",ROW()/100000000,COUNTIF(過去ログ!$N$3:$N$9999,基礎データ!V439)+ROW()/10000)","v":4.3900000000000003E-6},"",438,563,null,{"$f":"IF(AA439=\"\",ROW()/100000000,COUNTIF(過去ログ!$N$3:$Y$9999,基礎データ!AA439)+ROW()/10000)","v":4.3900000000000003E-6},""]
[null,null,null,null,null,null,null,null,null,null,null,null,null,439,631,null,{"$f":"IF(P440=\"\",ROW()/100000000,COUNTIF(過去ログ!$BQ$3:$CT$9999,基礎データ!P440)+ROW()/10000)","v":4.4000000000000002E-6},"",null,439,562,null,{"$f":"IF(V440=\"\",ROW()/100000000,COUNTIF(過去ログ!$N$3:$N$9999,基礎データ!V440)+ROW()/10000)","v":4.4000000000000002E-6},"",439,{"$f":"RANK(AB440,$AB$2:$AB$1002)","v":562},null,{"$f":"IF(AA440=\"\",ROW()/100000000,COUNTIF(過去ログ!$N$3:$Y$9999,基礎データ!AA440)+ROW()/10000)","v":4.4000000000000002E-6},""]
[null,null,null,null,null,null,null,null,null,null,null,null,null,440,630,null,{"$f":"IF(P441=\"\",ROW()/100000000,COUNTIF(過去ログ!$BQ$3:$CT$9999,基礎データ!P441)+ROW()/10000)","v":4.4100000000000001E-6},"",null,440,561,null,{"$f":"IF(V441=\"\",ROW()/100000000,COUNTIF(過去ログ!$N$3:$N$9999,基礎データ!V441)+ROW()/10000)","v":4.4100000000000001E-6},"",440,561,null,{"$f":"IF(AA441=\"\",ROW()/100000000,COUNTIF(過去ログ!$N$3:$Y$9999,基礎データ!AA441)+ROW()/10000)","v":4.4100000000000001E-6},""]
[null,null,null,null,null,null,null,null,null,null,null,null,null,441,629,null,{"$f":"IF(P442=\"\",ROW()/100000000,COUNTIF(過去ログ!$BQ$3:$CT$9999,基礎データ!P442)+ROW()/10000)","v":4.42E-6},"",null,441,560,null,{"$f":"IF(V442=\"\",ROW()/100000000,COUNTIF(過去ログ!$N$3:$N$9999,基礎データ!V442)+ROW()/10000)","v":4.42E-6},"",441,560,null,{"$f":"IF(AA442=\"\",ROW()/100000000,COUNTIF(過去ログ!$N$3:$Y$9999,基礎データ!AA442)+ROW()/10000)","v":4.42E-6},""]
[null,null,null,null,null,null,null,null,null,null,null,null,null,442,628,null,{"$f":"IF(P443=\"\",ROW()/100000000,COUNTIF(過去ログ!$BQ$3:$CT$9999,基礎データ!P443)+ROW()/10000)","v":4.4299999999999999E-6},"",null,442,559,null,{"$f":"IF(V443=\"\",ROW()/100000000,COUNTIF(過去ログ!$N$3:$N$9999,基礎データ!V443)+ROW()/10000)","v":4.4299999999999999E-6},"",442,559,null,{"$f":"IF(AA443=\"\",ROW()/100000000,COUNTIF(過去ログ!$N$3:$Y$9999,基礎データ!AA443)+ROW()/10000)","v":4.4299999999999999E-6},""]
[null,null,null,null,null,null,null,null,null,null,null,null,null,443,627,null,{"$f":"IF(P444=\"\",ROW()/100000000,COUNTIF(過去ログ!$BQ$3:$CT$9999,基礎データ!P444)+ROW()/10000)","v":4.4399999999999998E-6},"",null,443,558,null,{"$f":"IF(V444=\"\",ROW()/100000000,COUNTIF(過去ログ!$N$3:$N$9999,基礎データ!V444)+ROW()/10000)","v":4.4399999999999998E-6},"",443,558,null,{"$f":"IF(AA444=\"\",ROW()/100000000,COUNTIF(過去ログ!$N$3:$Y$9999,基礎データ!AA444)+ROW()/10000)","v":4.4399999999999998E-6},""]
[null,null,null,null,null,null,null,null,null,null,null,null,null,444,626,null,{"$f":"IF(P445=\"\",ROW()/100000000,COUNTIF(過去ログ!$BQ$3:$CT$9999,基礎データ!P445)+ROW()/10000)","v":4.4499999999999997E-6},"",null,444,557,null,{"$f":"IF(V445=\"\",ROW()/100000000,COUNTIF(過去ログ!$N$3:$N$9999,基礎データ!V445)+ROW()/10000)","v":4.4499999999999997E-6},"",444,557,null,{"$f":"IF(AA445=\"\",ROW()/100000000,COUNTIF(過去ログ!$N$3:$Y$9999,基礎データ!AA445)+ROW()/10000)","v":4.4499999999999997E-6},""]
[null,null,null,null,null,null,null,null,null,null,null,null,null,445,625,null,{"$f":"IF(P446=\"\",ROW()/100000000,COUNTIF(過去ログ!$BQ$3:$CT$9999,基礎データ!P446)+ROW()/10000)","v":4.4599999999999996E-6},"",null,445,556,null,{"$f":"IF(V446=\"\",ROW()/100000000,COUNTIF(過去ログ!$N$3:$N$9999,基礎データ!V446)+ROW()/10000)","v":4.4599999999999996E-6},"",445,556,null,{"$f":"IF(AA446=\"\",ROW()/100000000,COUNTIF(過去ログ!$N$3:$Y$9999,基礎データ!AA446)+ROW()/10000)","v":4.4599999999999996E-6},""]
[null,null,null,null,null,null,null,null,null,null,null,null,null,446,624,null,{"$f":"IF(P447=\"\",ROW()/100000000,COUNTIF(過去ログ!$BQ$3:$CT$9999,基礎データ!P447)+ROW()/10000)","v":4.4700000000000004E-6},"",null,446,555,null,{"$f":"IF(V447=\"\",ROW()/100000000,COUNTIF(過去ログ!$N$3:$N$9999,基礎データ!V447)+ROW()/10000)","v":4.4700000000000004E-6},"",446,555,null,{"$f":"IF(AA447=\"\",ROW()/100000000,COUNTIF(過去ログ!$N$3:$Y$9999,基礎データ!AA447)+ROW()/10000)","v":4.4700000000000004E-6},""]
[null,null,null,null,null,null,null,null,null,null,null,null,null,447,623,null,{"$f":"IF(P448=\"\",ROW()/100000000,COUNTIF(過去ログ!$BQ$3:$CT$9999,基礎データ!P448)+ROW()/10000)","v":4.4800000000000003E-6},"",null,447,554,null,{"$f":"IF(V448=\"\",ROW()/100000000,COUNTIF(過去ログ!$N$3:$N$9999,基礎データ!V448)+ROW()/10000)","v":4.4800000000000003E-6},"",447,554,null,{"$f":"IF(AA448=\"\",ROW()/100000000,COUNTIF(過去ログ!$N$3:$Y$9999,基礎データ!AA448)+ROW()/10000)","v":4.4800000000000003E-6},""]
[null,null,null,null,null,null,null,null,null,null,null,null,null,448,622,null,{"$f":"IF(P449=\"\",ROW()/100000000,COUNTIF(過去ログ!$BQ$3:$CT$9999,基礎データ!P449)+ROW()/10000)","v":4.4900000000000002E-6},"",null,448,553,null,{"$f":"IF(V449=\"\",ROW()/100000000,COUNTIF(過去ログ!$N$3:$N$9999,基礎データ!V449)+ROW()/10000)","v":4.4900000000000002E-6},"",448,553,null,{"$f":"IF(AA449=\"\",ROW()/100000000,COUNTIF(過去ログ!$N$3:$Y$9999,基礎データ!AA449)+ROW()/10000)","v":4.4900000000000002E-6},""]
[null,null,null,null,null,null,null,null,null,null,null,null,null,449,621,null,{"$f":"IF(P450=\"\",ROW()/100000000,COUNTIF(過去ログ!$BQ$3:$CT$9999,基礎データ!P450)+ROW()/10000)","v":4.5000000000000001E-6},"",null,449,552,null,{"$f":"IF(V450=\"\",ROW()/100000000,COUNTIF(過去ログ!$N$3:$N$9999,基礎データ!V450)+ROW()/10000)","v":4.5000000000000001E-6},"",449,552,null,{"$f":"IF(AA450=\"\",ROW()/100000000,COUNTIF(過去ログ!$N$3:$Y$9999,基礎データ!AA450)+ROW()/10000)","v":4.5000000000000001E-6},""]
[null,null,null,null,null,null,null,null,null,null,null,null,null,450,620,null,{"$f":"IF(P451=\"\",ROW()/100000000,COUNTIF(過去ログ!$BQ$3:$CT$9999,基礎データ!P451)+ROW()/10000)","v":4.51E-6},"",null,450,551,null,{"$f":"IF(V451=\"\",ROW()/100000000,COUNTIF(過去ログ!$N$3:$N$9999,基礎データ!V451)+ROW()/10000)","v":4.51E-6},"",450,551,null,{"$f":"IF(AA451=\"\",ROW()/100000000,COUNTIF(過去ログ!$N$3:$Y$9999,基礎データ!AA451)+ROW()/10000)","v":4.51E-6},""]
[null,null,null,null,null,null,null,null,null,null,null,null,null,451,619,null,{"$f":"IF(P452=\"\",ROW()/100000000,COUNTIF(過去ログ!$BQ$3:$CT$9999,基礎データ!P452)+ROW()/10000)","v":4.5199999999999999E-6},"",null,451,550,null,{"$f":"IF(V452=\"\",ROW()/100000000,COUNTIF(過去ログ!$N$3:$N$9999,基礎データ!V452)+ROW()/10000)","v":4.5199999999999999E-6},"",451,550,null,{"$f":"IF(AA452=\"\",ROW()/100000000,COUNTIF(過去ログ!$N$3:$Y$9999,基礎データ!AA452)+ROW()/10000)","v":4.5199999999999999E-6},""]
[null,null,null,null,null,null,null,null,null,null,null,null,null,452,618,null,{"$f":"IF(P453=\"\",ROW()/100000000,COUNTIF(過去ログ!$BQ$3:$CT$9999,基礎データ!P453)+ROW()/10000)","v":4.5299999999999998E-6},"",null,452,{"$f":"RANK(W453,$W$2:$W$1002)","v":549},null,{"$f":"IF(V453=\"\",ROW()/100000000,COUNTIF(過去ログ!$N$3:$N$9999,基礎データ!V453)+ROW()/10000)","v":4.5299999999999998E-6},"",452,549,null,{"$f":"IF(AA453=\"\",ROW()/100000000,COUNTIF(過去ログ!$N$3:$Y$9999,基礎データ!AA453)+ROW()/10000)","v":4.5299999999999998E-6},""]
[null,null,null,null,null,null,null,null,null,null,null,null,null,453,617,null,{"$f":"IF(P454=\"\",ROW()/100000000,COUNTIF(過去ログ!$BQ$3:$CT$9999,基礎データ!P454)+ROW()/10000)","v":4.5399999999999997E-6},"",null,453,548,null,{"$f":"IF(V454=\"\",ROW()/100000000,COUNTIF(過去ログ!$N$3:$N$9999,基礎データ!V454)+ROW()/10000)","v":4.5399999999999997E-6},"",453,548,null,{"$f":"IF(AA454=\"\",ROW()/100000000,COUNTIF(過去ログ!$N$3:$Y$9999,基礎データ!AA454)+ROW()/10000)","v":4.5399999999999997E-6},""]
[null,null,null,null,null,null,null,null,null,null,null,null,null,454,616,null,{"$f":"IF(P455=\"\",ROW()/100000000,COUNTIF(過去ログ!$BQ$3:$CT$9999,基礎データ!P455)+ROW()/10000)","v":4.5499999999999996E-6},"",null,454,547,null,{"$f":"IF(V455=\"\",ROW()/100000000,COUNTIF(過去ログ!$N$3:$N$9999,基礎データ!V455)+ROW()/10000)","v":4.5499999999999996E-6},"",454,547,null,{"$f":"IF(AA455=\"\",ROW()/100000000,COUNTIF(過去ログ!$N$3:$Y$9999,基礎データ!AA455)+ROW()/10000)","v":4.5499999999999996E-6},""]
[null,null,null,null,null,null,null,null,null,null,null,null,null,455,615,null,{"$f":"IF(P456=\"\",ROW()/100000000,COUNTIF(過去ログ!$BQ$3:$CT$9999,基礎データ!P456)+ROW()/10000)","v":4.5600000000000004E-6},"",null,455,546,null,{"$f":"IF(V456=\"\",ROW()/100000000,COUNTIF(過去ログ!$N$3:$N$9999,基礎データ!V456)+ROW()/10000)","v":4.5600000000000004E-6},"",455,546,null,{"$f":"IF(AA456=\"\",ROW()/100000000,COUNTIF(過去ログ!$N$3:$Y$9999,基礎データ!AA456)+ROW()/10000)","v":4.5600000000000004E-6},""]
[null,null,null,null,null,null,null,null,null,null,null,null,null,456,614,null,{"$f":"IF(P457=\"\",ROW()/100000000,COUNTIF(過去ログ!$BQ$3:$CT$9999,基礎データ!P457)+ROW()/10000)","v":4.5700000000000003E-6},{"$f":"IF(P457=\"\",\"\",VLOOKUP(N457,$O$2:$P$1002,2,FALSE))","v":""},null,456,545,null,{"$f":"IF(V457=\"\",ROW()/100000000,COUNTIF(過去ログ!$N$3:$N$9999,基礎データ!V457)+ROW()/10000)","v":4.5700000000000003E-6},"",456,545,null,{"$f":"IF(AA457=\"\",ROW()/100000000,COUNTIF(過去ログ!$N$3:$Y$9999,基礎データ!AA457)+ROW()/10000)","v":4.5700000000000003E-6},""]
[null,null,null,null,null,null,null,null,null,null,null,null,null,457,613,null,{"$f":"IF(P458=\"\",ROW()/100000000,COUNTIF(過去ログ!$BQ$3:$CT$9999,基礎データ!P458)+ROW()/10000)","v":4.5800000000000002E-6},"",null,457,544,null,{"$f":"IF(V458=\"\",ROW()/100000000,COUNTIF(過去ログ!$N$3:$N$9999,基礎データ!V458)+ROW()/10000)","v":4.5800000000000002E-6},"",457,544,null,{"$f":"IF(AA458=\"\",ROW()/100000000,COUNTIF(過去ログ!$N$3:$Y$9999,基礎データ!AA458)+ROW()/10000)","v":4.5800000000000002E-6},""]
[null,null,null,null,null,null,null,null,null,null,null,null,null,458,612,null,{"$f":"IF(P459=\"\",ROW()/100000000,COUNTIF(過去ログ!$BQ$3:$CT$9999,基礎データ!P459)+ROW()/10000)","v":4.5900000000000001E-6},"",null,458,543,null,{"$f":"IF(V459=\"\",ROW()/100000000,COUNTIF(過去ログ!$N$3:$N$9999,基礎データ!V459)+ROW()/10000)","v":4.5900000000000001E-6},"",458,543,null,{"$f":"IF(AA459=\"\",ROW()/100000000,COUNTIF(過去ログ!$N$3:$Y$9999,基礎データ!AA459)+ROW()/10000)","v":4.5900000000000001E-6},""]
[null,null,null,null,null,null,null,null,null,null,null,null,null,459,611,null,{"$f":"IF(P460=\"\",ROW()/100000000,COUNTIF(過去ログ!$BQ$3:$CT$9999,基礎データ!P460)+ROW()/10000)","v":4.6E-6},"",null,459,542,null,{"$f":"IF(V460=\"\",ROW()/100000000,COUNTIF(過去ログ!$N$3:$N$9999,基礎データ!V460)+ROW()/10000)","v":4.6E-6},"",459,542,null,{"$f":"IF(AA460=\"\",ROW()/100000000,COUNTIF(過去ログ!$N$3:$Y$9999,基礎データ!AA460)+ROW()/10000)","v":4.6E-6},""]
[null,null,null,null,null,null,null,null,null,null,null,null,null,460,610,null,{"$f":"IF(P461=\"\",ROW()/100000000,COUNTIF(過去ログ!$BQ$3:$CT$9999,基礎データ!P461)+ROW()/10000)","v":4.6099999999999999E-6},"",null,460,541,null,{"$f":"IF(V461=\"\",ROW()/100000000,COUNTIF(過去ログ!$N$3:$N$9999,基礎データ!V461)+ROW()/10000)","v":4.6099999999999999E-6},"",460,541,null,{"$f":"IF(AA461=\"\",ROW()/100000000,COUNTIF(過去ログ!$N$3:$Y$9999,基礎データ!AA461)+ROW()/10000)","v":4.6099999999999999E-6},""]
[null,null,null,null,null,null,null,null,null,null,null,null,null,461,609,null,{"$f":"IF(P462=\"\",ROW()/100000000,COUNTIF(過去ログ!$BQ$3:$CT$9999,基礎データ!P462)+ROW()/10000)","v":4.6199999999999998E-6},"",null,461,540,null,{"$f":"IF(V462=\"\",ROW()/100000000,COUNTIF(過去ログ!$N$3:$N$9999,基礎データ!V462)+ROW()/10000)","v":4.6199999999999998E-6},"",461,540,null,{"$f":"IF(AA462=\"\",ROW()/100000000,COUNTIF(過去ログ!$N$3:$Y$9999,基礎データ!AA462)+ROW()/10000)","v":4.6199999999999998E-6},""]
[null,null,null,null,null,null,null,null,null,null,null,null,null,462,608,null,{"$f":"IF(P463=\"\",ROW()/100000000,COUNTIF(過去ログ!$BQ$3:$CT$9999,基礎データ!P463)+ROW()/10000)","v":4.6299999999999997E-6},"",null,462,539,null,{"$f":"IF(V463=\"\",ROW()/100000000,COUNTIF(過去ログ!$N$3:$N$9999,基礎データ!V463)+ROW()/10000)","v":4.6299999999999997E-6},{"$f":"IF(VLOOKUP(T463,$U$2:$V$1002,2,FALSE)=0,\"\",VLOOKUP(T463,$U$2:$V$1002,2,FALSE))","v":""},462,539,null,{"$f":"IF(AA463=\"\",ROW()/100000000,COUNTIF(過去ログ!$N$3:$Y$9999,基礎データ!AA463)+ROW()/10000)","v":4.6299999999999997E-6},""]
[null,null,null,null,null,null,null,null,null,null,null,null,null,463,607,null,{"$f":"IF(P464=\"\",ROW()/100000000,COUNTIF(過去ログ!$BQ$3:$CT$9999,基礎データ!P464)+ROW()/10000)","v":4.6399999999999996E-6},"",null,463,538,null,{"$f":"IF(V464=\"\",ROW()/100000000,COUNTIF(過去ログ!$N$3:$N$9999,基礎データ!V464)+ROW()/10000)","v":4.6399999999999996E-6},"",463,538,null,{"$f":"IF(AA464=\"\",ROW()/100000000,COUNTIF(過去ログ!$N$3:$Y$9999,基礎データ!AA464)+ROW()/10000)","v":4.6399999999999996E-6},""]
[null,null,null,null,null,null,null,null,null,null,null,null,null,464,606,null,{"$f":"IF(P465=\"\",ROW()/100000000,COUNTIF(過去ログ!$BQ$3:$CT$9999,基礎データ!P465)+ROW()/10000)","v":4.6500000000000004E-6},"",null,464,537,null,{"$f":"IF(V465=\"\",ROW()/100000000,COUNTIF(過去ログ!$N$3:$N$9999,基礎データ!V465)+ROW()/10000)","v":4.6500000000000004E-6},"",464,537,null,{"$f":"IF(AA465=\"\",ROW()/100000000,COUNTIF(過去ログ!$N$3:$Y$9999,基礎データ!AA465)+ROW()/10000)","v":4.6500000000000004E-6},""]
[null,null,null,null,null,null,null,null,null,null,null,null,null,465,605,null,{"$f":"IF(P466=\"\",ROW()/100000000,COUNTIF(過去ログ!$BQ$3:$CT$9999,基礎データ!P466)+ROW()/10000)","v":4.6600000000000003E-6},"",null,465,536,null,{"$f":"IF(V466=\"\",ROW()/100000000,COUNTIF(過去ログ!$N$3:$N$9999,基礎データ!V466)+ROW()/10000)","v":4.6600000000000003E-6},"",465,536,null,{"$f":"IF(AA466=\"\",ROW()/100000000,COUNTIF(過去ログ!$N$3:$Y$9999,基礎データ!AA466)+ROW()/10000)","v":4.6600000000000003E-6},""]
[null,null,null,null,null,null,null,null,null,null,null,null,null,466,604,null,{"$f":"IF(P467=\"\",ROW()/100000000,COUNTIF(過去ログ!$BQ$3:$CT$9999,基礎データ!P467)+ROW()/10000)","v":4.6700000000000002E-6},"",null,466,535,null,{"$f":"IF(V467=\"\",ROW()/100000000,COUNTIF(過去ログ!$N$3:$N$9999,基礎データ!V467)+ROW()/10000)","v":4.6700000000000002E-6},"",466,535,null,{"$f":"IF(AA467=\"\",ROW()/100000000,COUNTIF(過去ログ!$N$3:$Y$9999,基礎データ!AA467)+ROW()/10000)","v":4.6700000000000002E-6},""]
[null,null,null,null,null,null,null,null,null,null,null,null,null,467,603,null,{"$f":"IF(P468=\"\",ROW()/100000000,COUNTIF(過去ログ!$BQ$3:$CT$9999,基礎データ!P468)+ROW()/10000)","v":4.6800000000000001E-6},"",null,467,534,null,{"$f":"IF(V468=\"\",ROW()/100000000,COUNTIF(過去ログ!$N$3:$N$9999,基礎データ!V468)+ROW()/10000)","v":4.6800000000000001E-6},"",467,534,null,{"$f":"IF(AA468=\"\",ROW()/100000000,COUNTIF(過去ログ!$N$3:$Y$9999,基礎データ!AA468)+ROW()/10000)","v":4.6800000000000001E-6},""]
[null,null,null,null,null,null,null,null,null,null,null,null,null,468,602,null,{"$f":"IF(P469=\"\",ROW()/100000000,COUNTIF(過去ログ!$BQ$3:$CT$9999,基礎データ!P469)+ROW()/10000)","v":4.69E-6},"",null,468,533,null,{"$f":"IF(V469=\"\",ROW()/100000000,COUNTIF(過去ログ!$N$3:$N$9999,基礎データ!V469)+ROW()/10000)","v":4.69E-6},"",468,533,null,{"$f":"IF(AA469=\"\",ROW()/100000000,COUNTIF(過去ログ!$N$3:$Y$9999,基礎データ!AA469)+ROW()/10000)","v":4.69E-6},""]
[null,null,null,null,null,null,null,null,null,null,null,null,null,469,601,null,{"$f":"IF(P470=\"\",ROW()/100000000,COUNTIF(過去ログ!$BQ$3:$CT$9999,基礎データ!P470)+ROW()/10000)","v":4.6999999999999999E-6},"",null,469,532,null,{"$f":"IF(V470=\"\",ROW()/100000000,COUNTIF(過去ログ!$N$3:$N$9999,基礎データ!V470)+ROW()/10000)","v":4.6999999999999999E-6},"",469,532,null,{"$f":"IF(AA470=\"\",ROW()/100000000,COUNTIF(過去ログ!$N$3:$Y$9999,基礎データ!AA470)+ROW()/10000)","v":4.6999999999999999E-6},""]
[null,null,null,null,null,null,null,null,null,null,null,null,null,470,600,null,{"$f":"IF(P471=\"\",ROW()/100000000,COUNTIF(過去ログ!$BQ$3:$CT$9999,基礎データ!P471)+ROW()/10000)","v":4.7099999999999998E-6},"",null,470,531,null,{"$f":"IF(V471=\"\",ROW()/100000000,COUNTIF(過去ログ!$N$3:$N$9999,基礎データ!V471)+ROW()/10000)","v":4.7099999999999998E-6},"",470,531,null,{"$f":"IF(AA471=\"\",ROW()/100000000,COUNTIF(過去ログ!$N$3:$Y$9999,基礎データ!AA471)+ROW()/10000)","v":4.7099999999999998E-6},""]
[null,null,null,null,null,null,null,null,null,null,null,null,null,471,599,null,{"$f":"IF(P472=\"\",ROW()/100000000,COUNTIF(過去ログ!$BQ$3:$CT$9999,基礎データ!P472)+ROW()/10000)","v":4.7199999999999997E-6},"",null,471,530,null,{"$f":"IF(V472=\"\",ROW()/100000000,COUNTIF(過去ログ!$N$3:$N$9999,基礎データ!V472)+ROW()/10000)","v":4.7199999999999997E-6},"",471,530,null,{"$f":"IF(AA472=\"\",ROW()/100000000,COUNTIF(過去ログ!$N$3:$Y$9999,基礎データ!AA472)+ROW()/10000)","v":4.7199999999999997E-6},""]
[null,null,null,null,null,null,null,null,null,null,null,null,null,472,598,null,{"$f":"IF(P473=\"\",ROW()/100000000,COUNTIF(過去ログ!$BQ$3:$CT$9999,基礎データ!P473)+ROW()/10000)","v":4.7299999999999996E-6},"",null,472,529,null,{"$f":"IF(V473=\"\",ROW()/100000000,COUNTIF(過去ログ!$N$3:$N$9999,基礎データ!V473)+ROW()/10000)","v":4.7299999999999996E-6},"",472,529,null,{"$f":"IF(AA473=\"\",ROW()/100000000,COUNTIF(過去ログ!$N$3:$Y$9999,基礎データ!AA473)+ROW()/10000)","v":4.7299999999999996E-6},""]
[null,null,null,null,null,null,null,null,null,null,null,null,null,473,597,null,{"$f":"IF(P474=\"\",ROW()/100000000,COUNTIF(過去ログ!$BQ$3:$CT$9999,基礎データ!P474)+ROW()/10000)","v":4.7400000000000004E-6},"",null,473,528,null,{"$f":"IF(V474=\"\",ROW()/100000000,COUNTIF(過去ログ!$N$3:$N$9999,基礎データ!V474)+ROW()/10000)","v":4.7400000000000004E-6},"",473,528,null,{"$f":"IF(AA474=\"\",ROW()/100000000,COUNTIF(過去ログ!$N$3:$Y$9999,基礎データ!AA474)+ROW()/10000)","v":4.7400000000000004E-6},""]
[null,null,null,null,null,null,null,null,null,null,null,null,null,474,596,null,{"$f":"IF(P475=\"\",ROW()/100000000,COUNTIF(過去ログ!$BQ$3:$CT$9999,基礎データ!P475)+ROW()/10000)","v":4.7500000000000003E-6},"",null,474,527,null,{"$f":"IF(V475=\"\",ROW()/100000000,COUNTIF(過去ログ!$N$3:$N$9999,基礎データ!V475)+ROW()/10000)","v":4.7500000000000003E-6},"",474,527,null,{"$f":"IF(AA475=\"\",ROW()/100000000,COUNTIF(過去ログ!$N$3:$Y$9999,基礎データ!AA475)+ROW()/10000)","v":4.7500000000000003E-6},""]
[null,null,null,null,null,null,null,null,null,null,null,null,null,475,595,null,{"$f":"IF(P476=\"\",ROW()/100000000,COUNTIF(過去ログ!$BQ$3:$CT$9999,基礎データ!P476)+ROW()/10000)","v":4.7600000000000002E-6},"",null,475,526,null,{"$f":"IF(V476=\"\",ROW()/100000000,COUNTIF(過去ログ!$N$3:$N$9999,基礎データ!V476)+ROW()/10000)","v":4.7600000000000002E-6},"",475,526,null,{"$f":"IF(AA476=\"\",ROW()/100000000,COUNTIF(過去ログ!$N$3:$Y$9999,基礎データ!AA476)+ROW()/10000)","v":4.7600000000000002E-6},""]
[null,null,null,null,null,null,null,null,null,null,null,null,null,476,594,null,{"$f":"IF(P477=\"\",ROW()/100000000,COUNTIF(過去ログ!$BQ$3:$CT$9999,基礎データ!P477)+ROW()/10000)","v":4.7700000000000001E-6},"",null,476,525,null,{"$f":"IF(V477=\"\",ROW()/100000000,COUNTIF(過去ログ!$N$3:$N$9999,基礎データ!V477)+ROW()/10000)","v":4.7700000000000001E-6},"",476,525,null,{"$f":"IF(AA477=\"\",ROW()/100000000,COUNTIF(過去ログ!$N$3:$Y$9999,基礎データ!AA477)+ROW()/10000)","v":4.7700000000000001E-6},""]
[null,null,null,null,null,null,null,null,null,null,null,null,null,477,593,null,{"$f":"IF(P478=\"\",ROW()/100000000,COUNTIF(過去ログ!$BQ$3:$CT$9999,基礎データ!P478)+ROW()/10000)","v":4.78E-6},"",null,477,524,null,{"$f":"IF(V478=\"\",ROW()/100000000,COUNTIF(過去ログ!$N$3:$N$9999,基礎データ!V478)+ROW()/10000)","v":4.78E-6},"",477,524,null,{"$f":"IF(AA478=\"\",ROW()/100000000,COUNTIF(過去ログ!$N$3:$Y$9999,基礎データ!AA478)+ROW()/10000)","v":4.78E-6},""]
[null,null,null,null,null,null,null,null,null,null,null,null,null,478,592,null,{"$f":"IF(P479=\"\",ROW()/100000000,COUNTIF(過去ログ!$BQ$3:$CT$9999,基礎データ!P479)+ROW()/10000)","v":4.7899999999999999E-6},"",null,478,523,null,{"$f":"IF(V479=\"\",ROW()/100000000,COUNTIF(過去ログ!$N$3:$N$9999,基礎データ!V479)+ROW()/10000)","v":4.7899999999999999E-6},"",478,523,null,{"$f":"IF(AA479=\"\",ROW()/100000000,COUNTIF(過去ログ!$N$3:$Y$9999,基礎データ!AA479)+ROW()/10000)","v":4.7899999999999999E-6},""]
[null,null,null,null,null,null,null,null,null,null,null,null,null,479,{"$f":"RANK(Q480,$Q$2:$Q$1002)","v":591},null,{"$f":"IF(P480=\"\",ROW()/100000000,COUNTIF(過去ログ!$BQ$3:$CT$9999,基礎データ!P480)+ROW()/10000)","v":4.7999999999999998E-6},"",null,479,522,null,{"$f":"IF(V480=\"\",ROW()/100000000,COUNTIF(過去ログ!$N$3:$N$9999,基礎データ!V480)+ROW()/10000)","v":4.7999999999999998E-6},"",479,522,null,{"$f":"IF(AA480=\"\",ROW()/100000000,COUNTIF(過去ログ!$N$3:$Y$9999,基礎データ!AA480)+ROW()/10000)","v":4.7999999999999998E-6},""]
[null,null,null,null,null,null,null,null,null,null,null,null,null,480,590,null,{"$f":"IF(P481=\"\",ROW()/100000000,COUNTIF(過去ログ!$BQ$3:$CT$9999,基礎データ!P481)+ROW()/10000)","v":4.8099999999999997E-6},"",null,480,521,null,{"$f":"IF(V481=\"\",ROW()/100000000,COUNTIF(過去ログ!$N$3:$N$9999,基礎データ!V481)+ROW()/10000)","v":4.8099999999999997E-6},"",480,521,null,{"$f":"IF(AA481=\"\",ROW()/100000000,COUNTIF(過去ログ!$N$3:$Y$9999,基礎データ!AA481)+ROW()/10000)","v":4.8099999999999997E-6},""]
[null,null,null,null,null,null,null,null,null,null,null,null,null,481,589,null,{"$f":"IF(P482=\"\",ROW()/100000000,COUNTIF(過去ログ!$BQ$3:$CT$9999,基礎データ!P482)+ROW()/10000)","v":4.8199999999999996E-6},"",null,481,520,null,{"$f":"IF(V482=\"\",ROW()/100000000,COUNTIF(過去ログ!$N$3:$N$9999,基礎データ!V482)+ROW()/10000)","v":4.8199999999999996E-6},"",481,520,null,{"$f":"IF(AA482=\"\",ROW()/100000000,COUNTIF(過去ログ!$N$3:$Y$9999,基礎データ!AA482)+ROW()/10000)","v":4.8199999999999996E-6},""]
[null,null,null,null,null,null,null,null,null,null,null,null,null,482,588,null,{"$f":"IF(P483=\"\",ROW()/100000000,COUNTIF(過去ログ!$BQ$3:$CT$9999,基礎データ!P483)+ROW()/10000)","v":4.8300000000000003E-6},"",null,482,519,null,{"$f":"IF(V483=\"\",ROW()/100000000,COUNTIF(過去ログ!$N$3:$N$9999,基礎データ!V483)+ROW()/10000)","v":4.8300000000000003E-6},"",482,519,null,{"$f":"IF(AA483=\"\",ROW()/100000000,COUNTIF(過去ログ!$N$3:$Y$9999,基礎データ!AA483)+ROW()/10000)","v":4.8300000000000003E-6},""]
[null,null,null,null,null,null,null,null,null,null,null,null,null,483,587,null,{"$f":"IF(P484=\"\",ROW()/100000000,COUNTIF(過去ログ!$BQ$3:$CT$9999,基礎データ!P484)+ROW()/10000)","v":4.8400000000000002E-6},"",null,483,518,null,{"$f":"IF(V484=\"\",ROW()/100000000,COUNTIF(過去ログ!$N$3:$N$9999,基礎データ!V484)+ROW()/10000)","v":4.8400000000000002E-6},"",483,518,null,{"$f":"IF(AA484=\"\",ROW()/100000000,COUNTIF(過去ログ!$N$3:$Y$9999,基礎データ!AA484)+ROW()/10000)","v":4.8400000000000002E-6},""]
[null,null,null,null,null,null,null,null,null,null,null,null,null,484,586,null,{"$f":"IF(P485=\"\",ROW()/100000000,COUNTIF(過去ログ!$BQ$3:$CT$9999,基礎データ!P485)+ROW()/10000)","v":4.8500000000000002E-6},"",null,484,517,null,{"$f":"IF(V485=\"\",ROW()/100000000,COUNTIF(過去ログ!$N$3:$N$9999,基礎データ!V485)+ROW()/10000)","v":4.8500000000000002E-6},"",484,517,null,{"$f":"IF(AA485=\"\",ROW()/100000000,COUNTIF(過去ログ!$N$3:$Y$9999,基礎データ!AA485)+ROW()/10000)","v":4.8500000000000002E-6},""]
[null,null,null,null,null,null,null,null,null,null,null,null,null,485,585,null,{"$f":"IF(P486=\"\",ROW()/100000000,COUNTIF(過去ログ!$BQ$3:$CT$9999,基礎データ!P486)+ROW()/10000)","v":4.8600000000000001E-6},{"$f":"IF(P486=\"\",\"\",VLOOKUP(N486,$O$2:$P$1002,2,FALSE))","v":""},null,485,516,null,{"$f":"IF(V486=\"\",ROW()/100000000,COUNTIF(過去ログ!$N$3:$N$9999,基礎データ!V486)+ROW()/10000)","v":4.8600000000000001E-6},"",485,516,null,{"$f":"IF(AA486=\"\",ROW()/100000000,COUNTIF(過去ログ!$N$3:$Y$9999,基礎データ!AA486)+ROW()/10000)","v":4.8600000000000001E-6},""]
[null,null,null,null,null,null,null,null,null,null,null,null,null,486,584,null,{"$f":"IF(P487=\"\",ROW()/100000000,COUNTIF(過去ログ!$BQ$3:$CT$9999,基礎データ!P487)+ROW()/10000)","v":4.87E-6},"",null,486,515,null,{"$f":"IF(V487=\"\",ROW()/100000000,COUNTIF(過去ログ!$N$3:$N$9999,基礎データ!V487)+ROW()/10000)","v":4.87E-6},"",486,515,null,{"$f":"IF(AA487=\"\",ROW()/100000000,COUNTIF(過去ログ!$N$3:$Y$9999,基礎データ!AA487)+ROW()/10000)","v":4.87E-6},""]
[null,null,null,null,null,null,null,null,null,null,null,null,null,487,583,null,{"$f":"IF(P488=\"\",ROW()/100000000,COUNTIF(過去ログ!$BQ$3:$CT$9999,基礎データ!P488)+ROW()/10000)","v":4.8799999999999999E-6},"",null,487,514,null,{"$f":"IF(V488=\"\",ROW()/100000000,COUNTIF(過去ログ!$N$3:$N$9999,基礎データ!V488)+ROW()/10000)","v":4.8799999999999999E-6},"",487,514,null,{"$f":"IF(AA488=\"\",ROW()/100000000,COUNTIF(過去ログ!$N$3:$Y$9999,基礎データ!AA488)+ROW()/10000)","v":4.8799999999999999E-6},""]
[null,null,null,null,null,null,null,null,null,null,null,null,null,488,582,null,{"$f":"IF(P489=\"\",ROW()/100000000,COUNTIF(過去ログ!$BQ$3:$CT$9999,基礎データ!P489)+ROW()/10000)","v":4.8899999999999998E-6},"",null,488,513,null,{"$f":"IF(V489=\"\",ROW()/100000000,COUNTIF(過去ログ!$N$3:$N$9999,基礎データ!V489)+ROW()/10000)","v":4.8899999999999998E-6},"",488,513,null,{"$f":"IF(AA489=\"\",ROW()/100000000,COUNTIF(過去ログ!$N$3:$Y$9999,基礎データ!AA489)+ROW()/10000)","v":4.8899999999999998E-6},""]
[null,null,null,null,null,null,null,null,null,null,null,null,null,489,581,null,{"$f":"IF(P490=\"\",ROW()/100000000,COUNTIF(過去ログ!$BQ$3:$CT$9999,基礎データ!P490)+ROW()/10000)","v":4.8999999999999997E-6},"",null,489,512,null,{"$f":"IF(V490=\"\",ROW()/100000000,COUNTIF(過去ログ!$N$3:$N$9999,基礎データ!V490)+ROW()/10000)","v":4.8999999999999997E-6},"",489,512,null,{"$f":"IF(AA490=\"\",ROW()/100000000,COUNTIF(過去ログ!$N$3:$Y$9999,基礎データ!AA490)+ROW()/10000)","v":4.8999999999999997E-6},""]
[null,null,null,null,null,null,null,null,null,null,null,null,null,490,580,null,{"$f":"IF(P491=\"\",ROW()/100000000,COUNTIF(過去ログ!$BQ$3:$CT$9999,基礎データ!P491)+ROW()/10000)","v":4.9100000000000004E-6},"",null,490,511,null,{"$f":"IF(V491=\"\",ROW()/100000000,COUNTIF(過去ログ!$N$3:$N$9999,基礎データ!V491)+ROW()/10000)","v":4.9100000000000004E-6},"",490,511,null,{"$f":"IF(AA491=\"\",ROW()/100000000,COUNTIF(過去ログ!$N$3:$Y$9999,基礎データ!AA491)+ROW()/10000)","v":4.9100000000000004E-6},""]
[null,null,null,null,null,null,null,null,null,null,null,null,null,491,579,null,{"$f":"IF(P492=\"\",ROW()/100000000,COUNTIF(過去ログ!$BQ$3:$CT$9999,基礎データ!P492)+ROW()/10000)","v":4.9200000000000003E-6},"",null,491,510,null,{"$f":"IF(V492=\"\",ROW()/100000000,COUNTIF(過去ログ!$N$3:$N$9999,基礎データ!V492)+ROW()/10000)","v":4.9200000000000003E-6},"",491,510,null,{"$f":"IF(AA492=\"\",ROW()/100000000,COUNTIF(過去ログ!$N$3:$Y$9999,基礎データ!AA492)+ROW()/10000)","v":4.9200000000000003E-6},""]
[null,null,null,null,null,null,null,null,null,null,null,null,null,492,578,null,{"$f":"IF(P493=\"\",ROW()/100000000,COUNTIF(過去ログ!$BQ$3:$CT$9999,基礎データ!P493)+ROW()/10000)","v":4.9300000000000002E-6},"",null,492,509,null,{"$f":"IF(V493=\"\",ROW()/100000000,COUNTIF(過去ログ!$N$3:$N$9999,基礎データ!V493)+ROW()/10000)","v":4.9300000000000002E-6},"",492,509,null,{"$f":"IF(AA493=\"\",ROW()/100000000,COUNTIF(過去ログ!$N$3:$Y$9999,基礎データ!AA493)+ROW()/10000)","v":4.9300000000000002E-6},""]
[null,null,null,null,null,null,null,null,null,null,null,null,null,493,577,null,{"$f":"IF(P494=\"\",ROW()/100000000,COUNTIF(過去ログ!$BQ$3:$CT$9999,基礎データ!P494)+ROW()/10000)","v":4.9400000000000001E-6},"",null,493,508,null,{"$f":"IF(V494=\"\",ROW()/100000000,COUNTIF(過去ログ!$N$3:$N$9999,基礎データ!V494)+ROW()/10000)","v":4.9400000000000001E-6},"",493,508,null,{"$f":"IF(AA494=\"\",ROW()/100000000,COUNTIF(過去ログ!$N$3:$Y$9999,基礎データ!AA494)+ROW()/10000)","v":4.9400000000000001E-6},""]
[null,null,null,null,null,null,null,null,null,null,null,null,null,494,576,null,{"$f":"IF(P495=\"\",ROW()/100000000,COUNTIF(過去ログ!$BQ$3:$CT$9999,基礎データ!P495)+ROW()/10000)","v":4.95E-6},"",null,494,507,null,{"$f":"IF(V495=\"\",ROW()/100000000,COUNTIF(過去ログ!$N$3:$N$9999,基礎データ!V495)+ROW()/10000)","v":4.95E-6},"",494,507,null,{"$f":"IF(AA495=\"\",ROW()/100000000,COUNTIF(過去ログ!$N$3:$Y$9999,基礎データ!AA495)+ROW()/10000)","v":4.95E-6},""]
[null,null,null,null,null,null,null,null,null,null,null,null,null,495,575,null,{"$f":"IF(P496=\"\",ROW()/100000000,COUNTIF(過去ログ!$BQ$3:$CT$9999,基礎データ!P496)+ROW()/10000)","v":4.9599999999999999E-6},"",null,495,506,null,{"$f":"IF(V496=\"\",ROW()/100000000,COUNTIF(過去ログ!$N$3:$N$9999,基礎データ!V496)+ROW()/10000)","v":4.9599999999999999E-6},"",495,506,null,{"$f":"IF(AA496=\"\",ROW()/100000000,COUNTIF(過去ログ!$N$3:$Y$9999,基礎データ!AA496)+ROW()/10000)","v":4.9599999999999999E-6},""]
[null,null,null,null,null,null,null,null,null,null,null,null,null,496,574,null,{"$f":"IF(P497=\"\",ROW()/100000000,COUNTIF(過去ログ!$BQ$3:$CT$9999,基礎データ!P497)+ROW()/10000)","v":4.9699999999999998E-6},"",null,496,505,null,{"$f":"IF(V497=\"\",ROW()/100000000,COUNTIF(過去ログ!$N$3:$N$9999,基礎データ!V497)+ROW()/10000)","v":4.9699999999999998E-6},"",496,505,null,{"$f":"IF(AA497=\"\",ROW()/100000000,COUNTIF(過去ログ!$N$3:$Y$9999,基礎データ!AA497)+ROW()/10000)","v":4.9699999999999998E-6},""]
[null,null,null,null,null,null,null,null,null,null,null,null,null,497,573,null,{"$f":"IF(P498=\"\",ROW()/100000000,COUNTIF(過去ログ!$BQ$3:$CT$9999,基礎データ!P498)+ROW()/10000)","v":4.9799999999999998E-6},"",null,497,504,null,{"$f":"IF(V498=\"\",ROW()/100000000,COUNTIF(過去ログ!$N$3:$N$9999,基礎データ!V498)+ROW()/10000)","v":4.9799999999999998E-6},"",497,504,null,{"$f":"IF(AA498=\"\",ROW()/100000000,COUNTIF(過去ログ!$N$3:$Y$9999,基礎データ!AA498)+ROW()/10000)","v":4.9799999999999998E-6},""]
[null,null,null,null,null,null,null,null,null,null,null,null,null,498,572,null,{"$f":"IF(P499=\"\",ROW()/100000000,COUNTIF(過去ログ!$BQ$3:$CT$9999,基礎データ!P499)+ROW()/10000)","v":4.9899999999999997E-6},"",null,498,503,null,{"$f":"IF(V499=\"\",ROW()/100000000,COUNTIF(過去ログ!$N$3:$N$9999,基礎データ!V499)+ROW()/10000)","v":4.9899999999999997E-6},"",498,503,null,{"$f":"IF(AA499=\"\",ROW()/100000000,COUNTIF(過去ログ!$N$3:$Y$9999,基礎データ!AA499)+ROW()/10000)","v":4.9899999999999997E-6},{"$f":"IF(VLOOKUP(Y499,$Z$2:$AA$1002,2,FALSE)=0,\"\",VLOOKUP(Y499,$Z$2:$AA$1002,2,FALSE))","v":""}]
[null,null,null,null,null,null,null,null,null,null,null,null,null,499,571,null,{"$f":"IF(P500=\"\",ROW()/100000000,COUNTIF(過去ログ!$BQ$3:$CT$9999,基礎データ!P500)+ROW()/10000)","v":5.0000000000000004E-6},"",null,499,502,null,{"$f":"IF(V500=\"\",ROW()/100000000,COUNTIF(過去ログ!$N$3:$N$9999,基礎データ!V500)+ROW()/10000)","v":5.0000000000000004E-6},"",499,502,null,{"$f":"IF(AA500=\"\",ROW()/100000000,COUNTIF(過去ログ!$N$3:$Y$9999,基礎データ!AA500)+ROW()/10000)","v":5.0000000000000004E-6},""]
[null,null,null,null,null,null,null,null,null,null,null,null,null,500,570,null,{"$f":"IF(P501=\"\",ROW()/100000000,COUNTIF(過去ログ!$BQ$3:$CT$9999,基礎データ!P501)+ROW()/10000)","v":5.0100000000000003E-6},"",null,500,501,null,{"$f":"IF(V501=\"\",ROW()/100000000,COUNTIF(過去ログ!$N$3:$N$9999,基礎データ!V501)+ROW()/10000)","v":5.0100000000000003E-6},"",500,501,null,{"$f":"IF(AA501=\"\",ROW()/100000000,COUNTIF(過去ログ!$N$3:$Y$9999,基礎データ!AA501)+ROW()/10000)","v":5.0100000000000003E-6},""]
[null,null,null,null,null,null,null,null,null,null,null,null,null,501,569,null,{"$f":"IF(P502=\"\",ROW()/100000000,COUNTIF(過去ログ!$BQ$3:$CT$9999,基礎データ!P502)+ROW()/10000)","v":5.0200000000000002E-6},"",null,501,500,null,{"$f":"IF(V502=\"\",ROW()/100000000,COUNTIF(過去ログ!$N$3:$N$9999,基礎データ!V502)+ROW()/10000)","v":5.0200000000000002E-6},"",501,500,null,{"$f":"IF(AA502=\"\",ROW()/100000000,COUNTIF(過去ログ!$N$3:$Y$9999,基礎データ!AA502)+ROW()/10000)","v":5.0200000000000002E-6},""]
[null,null,null,null,null,null,null,null,null,null,null,null,null,502,568,null,{"$f":"IF(P503=\"\",ROW()/100000000,COUNTIF(過去ログ!$BQ$3:$CT$9999,基礎データ!P503)+ROW()/10000)","v":5.0300000000000001E-6},"",null,502,499,null,{"$f":"IF(V503=\"\",ROW()/100000000,COUNTIF(過去ログ!$N$3:$N$9999,基礎データ!V503)+ROW()/10000)","v":5.0300000000000001E-6},"",502,499,null,{"$f":"IF(AA503=\"\",ROW()/100000000,COUNTIF(過去ログ!$N$3:$Y$9999,基礎データ!AA503)+ROW()/10000)","v":5.0300000000000001E-6},""]
[null,null,null,null,null,null,null,null,null,null,null,null,null,503,567,null,{"$f":"IF(P504=\"\",ROW()/100000000,COUNTIF(過去ログ!$BQ$3:$CT$9999,基礎データ!P504)+ROW()/10000)","v":5.04E-6},"",null,503,498,null,{"$f":"IF(V504=\"\",ROW()/100000000,COUNTIF(過去ログ!$N$3:$N$9999,基礎データ!V504)+ROW()/10000)","v":5.04E-6},"",503,{"$f":"RANK(AB504,$AB$2:$AB$1002)","v":498},null,{"$f":"IF(AA504=\"\",ROW()/100000000,COUNTIF(過去ログ!$N$3:$Y$9999,基礎データ!AA504)+ROW()/10000)","v":5.04E-6},""]
[null,null,null,null,null,null,null,null,null,null,null,null,null,504,566,null,{"$f":"IF(P505=\"\",ROW()/100000000,COUNTIF(過去ログ!$BQ$3:$CT$9999,基礎データ!P505)+ROW()/10000)","v":5.0499999999999999E-6},"",null,504,497,null,{"$f":"IF(V505=\"\",ROW()/100000000,COUNTIF(過去ログ!$N$3:$N$9999,基礎データ!V505)+ROW()/10000)","v":5.0499999999999999E-6},"",504,497,null,{"$f":"IF(AA505=\"\",ROW()/100000000,COUNTIF(過去ログ!$N$3:$Y$9999,基礎データ!AA505)+ROW()/10000)","v":5.0499999999999999E-6},""]
[null,null,null,null,null,null,null,null,null,null,null,null,null,505,565,null,{"$f":"IF(P506=\"\",ROW()/100000000,COUNTIF(過去ログ!$BQ$3:$CT$9999,基礎データ!P506)+ROW()/10000)","v":5.0599999999999998E-6},"",null,505,496,null,{"$f":"IF(V506=\"\",ROW()/100000000,COUNTIF(過去ログ!$N$3:$N$9999,基礎データ!V506)+ROW()/10000)","v":5.0599999999999998E-6},"",505,496,null,{"$f":"IF(AA506=\"\",ROW()/100000000,COUNTIF(過去ログ!$N$3:$Y$9999,基礎データ!AA506)+ROW()/10000)","v":5.0599999999999998E-6},""]
[null,null,null,null,null,null,null,null,null,null,null,null,null,506,564,null,{"$f":"IF(P507=\"\",ROW()/100000000,COUNTIF(過去ログ!$BQ$3:$CT$9999,基礎データ!P507)+ROW()/10000)","v":5.0699999999999997E-6},"",null,506,495,null,{"$f":"IF(V507=\"\",ROW()/100000000,COUNTIF(過去ログ!$N$3:$N$9999,基礎データ!V507)+ROW()/10000)","v":5.0699999999999997E-6},"",506,495,null,{"$f":"IF(AA507=\"\",ROW()/100000000,COUNTIF(過去ログ!$N$3:$Y$9999,基礎データ!AA507)+ROW()/10000)","v":5.0699999999999997E-6},""]
[null,null,null,null,null,null,null,null,null,null,null,null,null,507,563,null,{"$f":"IF(P508=\"\",ROW()/100000000,COUNTIF(過去ログ!$BQ$3:$CT$9999,基礎データ!P508)+ROW()/10000)","v":5.0799999999999996E-6},"",null,507,494,null,{"$f":"IF(V508=\"\",ROW()/100000000,COUNTIF(過去ログ!$N$3:$N$9999,基礎データ!V508)+ROW()/10000)","v":5.0799999999999996E-6},"",507,494,null,{"$f":"IF(AA508=\"\",ROW()/100000000,COUNTIF(過去ログ!$N$3:$Y$9999,基礎データ!AA508)+ROW()/10000)","v":5.0799999999999996E-6},""]
[null,null,null,null,null,null,null,null,null,null,null,null,null,508,562,null,{"$f":"IF(P509=\"\",ROW()/100000000,COUNTIF(過去ログ!$BQ$3:$CT$9999,基礎データ!P509)+ROW()/10000)","v":5.0900000000000004E-6},"",null,508,493,null,{"$f":"IF(V509=\"\",ROW()/100000000,COUNTIF(過去ログ!$N$3:$N$9999,基礎データ!V509)+ROW()/10000)","v":5.0900000000000004E-6},"",508,493,null,{"$f":"IF(AA509=\"\",ROW()/100000000,COUNTIF(過去ログ!$N$3:$Y$9999,基礎データ!AA509)+ROW()/10000)","v":5.0900000000000004E-6},""]
[null,null,null,null,null,null,null,null,null,null,null,null,null,509,561,null,{"$f":"IF(P510=\"\",ROW()/100000000,COUNTIF(過去ログ!$BQ$3:$CT$9999,基礎データ!P510)+ROW()/10000)","v":5.1000000000000003E-6},"",null,509,492,null,{"$f":"IF(V510=\"\",ROW()/100000000,COUNTIF(過去ログ!$N$3:$N$9999,基礎データ!V510)+ROW()/10000)","v":5.1000000000000003E-6},"",509,492,null,{"$f":"IF(AA510=\"\",ROW()/100000000,COUNTIF(過去ログ!$N$3:$Y$9999,基礎データ!AA510)+ROW()/10000)","v":5.1000000000000003E-6},""]
[null,null,null,null,null,null,null,null,null,null,null,null,null,510,560,null,{"$f":"IF(P511=\"\",ROW()/100000000,COUNTIF(過去ログ!$BQ$3:$CT$9999,基礎データ!P511)+ROW()/10000)","v":5.1100000000000002E-6},"",null,510,491,null,{"$f":"IF(V511=\"\",ROW()/100000000,COUNTIF(過去ログ!$N$3:$N$9999,基礎データ!V511)+ROW()/10000)","v":5.1100000000000002E-6},"",510,491,null,{"$f":"IF(AA511=\"\",ROW()/100000000,COUNTIF(過去ログ!$N$3:$Y$9999,基礎データ!AA511)+ROW()/10000)","v":5.1100000000000002E-6},""]
[null,null,null,null,null,null,null,null,null,null,null,null,null,511,559,null,{"$f":"IF(P512=\"\",ROW()/100000000,COUNTIF(過去ログ!$BQ$3:$CT$9999,基礎データ!P512)+ROW()/10000)","v":5.1200000000000001E-6},"",null,511,490,null,{"$f":"IF(V512=\"\",ROW()/100000000,COUNTIF(過去ログ!$N$3:$N$9999,基礎データ!V512)+ROW()/10000)","v":5.1200000000000001E-6},"",511,490,null,{"$f":"IF(AA512=\"\",ROW()/100000000,COUNTIF(過去ログ!$N$3:$Y$9999,基礎データ!AA512)+ROW()/10000)","v":5.1200000000000001E-6},""]
[null,null,null,null,null,null,null,null,null,null,null,null,null,512,558,null,{"$f":"IF(P513=\"\",ROW()/100000000,COUNTIF(過去ログ!$BQ$3:$CT$9999,基礎データ!P513)+ROW()/10000)","v":5.13E-6},"",null,512,489,null,{"$f":"IF(V513=\"\",ROW()/100000000,COUNTIF(過去ログ!$N$3:$N$9999,基礎データ!V513)+ROW()/10000)","v":5.13E-6},"",512,489,null,{"$f":"IF(AA513=\"\",ROW()/100000000,COUNTIF(過去ログ!$N$3:$Y$9999,基礎データ!AA513)+ROW()/10000)","v":5.13E-6},""]
[null,null,null,null,null,null,null,null,null,null,null,null,null,513,557,null,{"$f":"IF(P514=\"\",ROW()/100000000,COUNTIF(過去ログ!$BQ$3:$CT$9999,基礎データ!P514)+ROW()/10000)","v":5.1399999999999999E-6},"",null,513,488,null,{"$f":"IF(V514=\"\",ROW()/100000000,COUNTIF(過去ログ!$N$3:$N$9999,基礎データ!V514)+ROW()/10000)","v":5.1399999999999999E-6},"",513,488,null,{"$f":"IF(AA514=\"\",ROW()/100000000,COUNTIF(過去ログ!$N$3:$Y$9999,基礎データ!AA514)+ROW()/10000)","v":5.1399999999999999E-6},""]
[null,null,null,null,null,null,null,null,null,null,null,null,null,514,556,null,{"$f":"IF(P515=\"\",ROW()/100000000,COUNTIF(過去ログ!$BQ$3:$CT$9999,基礎データ!P515)+ROW()/10000)","v":5.1499999999999998E-6},"",null,514,487,null,{"$f":"IF(V515=\"\",ROW()/100000000,COUNTIF(過去ログ!$N$3:$N$9999,基礎データ!V515)+ROW()/10000)","v":5.1499999999999998E-6},"",514,487,null,{"$f":"IF(AA515=\"\",ROW()/100000000,COUNTIF(過去ログ!$N$3:$Y$9999,基礎データ!AA515)+ROW()/10000)","v":5.1499999999999998E-6},""]
[null,null,null,null,null,null,null,null,null,null,null,null,null,515,555,null,{"$f":"IF(P516=\"\",ROW()/100000000,COUNTIF(過去ログ!$BQ$3:$CT$9999,基礎データ!P516)+ROW()/10000)","v":5.1599999999999997E-6},"",null,515,486,null,{"$f":"IF(V516=\"\",ROW()/100000000,COUNTIF(過去ログ!$N$3:$N$9999,基礎データ!V516)+ROW()/10000)","v":5.1599999999999997E-6},"",515,486,null,{"$f":"IF(AA516=\"\",ROW()/100000000,COUNTIF(過去ログ!$N$3:$Y$9999,基礎データ!AA516)+ROW()/10000)","v":5.1599999999999997E-6},""]
[null,null,null,null,null,null,null,null,null,null,null,null,null,516,554,null,{"$f":"IF(P517=\"\",ROW()/100000000,COUNTIF(過去ログ!$BQ$3:$CT$9999,基礎データ!P517)+ROW()/10000)","v":5.1699999999999996E-6},"",null,516,{"$f":"RANK(W517,$W$2:$W$1002)","v":485},null,{"$f":"IF(V517=\"\",ROW()/100000000,COUNTIF(過去ログ!$N$3:$N$9999,基礎データ!V517)+ROW()/10000)","v":5.1699999999999996E-6},"",516,485,null,{"$f":"IF(AA517=\"\",ROW()/100000000,COUNTIF(過去ログ!$N$3:$Y$9999,基礎データ!AA517)+ROW()/10000)","v":5.1699999999999996E-6},""]
[null,null,null,null,null,null,null,null,null,null,null,null,null,517,553,null,{"$f":"IF(P518=\"\",ROW()/100000000,COUNTIF(過去ログ!$BQ$3:$CT$9999,基礎データ!P518)+ROW()/10000)","v":5.1800000000000004E-6},"",null,517,484,null,{"$f":"IF(V518=\"\",ROW()/100000000,COUNTIF(過去ログ!$N$3:$N$9999,基礎データ!V518)+ROW()/10000)","v":5.1800000000000004E-6},"",517,484,null,{"$f":"IF(AA518=\"\",ROW()/100000000,COUNTIF(過去ログ!$N$3:$Y$9999,基礎データ!AA518)+ROW()/10000)","v":5.1800000000000004E-6},""]
[null,null,null,null,null,null,null,null,null,null,null,null,null,518,552,null,{"$f":"IF(P519=\"\",ROW()/100000000,COUNTIF(過去ログ!$BQ$3:$CT$9999,基礎データ!P519)+ROW()/10000)","v":5.1900000000000003E-6},"",null,518,483,null,{"$f":"IF(V519=\"\",ROW()/100000000,COUNTIF(過去ログ!$N$3:$N$9999,基礎データ!V519)+ROW()/10000)","v":5.1900000000000003E-6},"",518,483,null,{"$f":"IF(AA519=\"\",ROW()/100000000,COUNTIF(過去ログ!$N$3:$Y$9999,基礎データ!AA519)+ROW()/10000)","v":5.1900000000000003E-6},""]
[null,null,null,null,null,null,null,null,null,null,null,null,null,519,551,null,{"$f":"IF(P520=\"\",ROW()/100000000,COUNTIF(過去ログ!$BQ$3:$CT$9999,基礎データ!P520)+ROW()/10000)","v":5.2000000000000002E-6},"",null,519,482,null,{"$f":"IF(V520=\"\",ROW()/100000000,COUNTIF(過去ログ!$N$3:$N$9999,基礎データ!V520)+ROW()/10000)","v":5.2000000000000002E-6},"",519,482,null,{"$f":"IF(AA520=\"\",ROW()/100000000,COUNTIF(過去ログ!$N$3:$Y$9999,基礎データ!AA520)+ROW()/10000)","v":5.2000000000000002E-6},""]
[null,null,null,null,null,null,null,null,null,null,null,null,null,520,550,null,{"$f":"IF(P521=\"\",ROW()/100000000,COUNTIF(過去ログ!$BQ$3:$CT$9999,基礎データ!P521)+ROW()/10000)","v":5.2100000000000001E-6},"",null,520,481,null,{"$f":"IF(V521=\"\",ROW()/100000000,COUNTIF(過去ログ!$N$3:$N$9999,基礎データ!V521)+ROW()/10000)","v":5.2100000000000001E-6},"",520,481,null,{"$f":"IF(AA521=\"\",ROW()/100000000,COUNTIF(過去ログ!$N$3:$Y$9999,基礎データ!AA521)+ROW()/10000)","v":5.2100000000000001E-6},""]
[null,null,null,null,null,null,null,null,null,null,null,null,null,521,549,null,{"$f":"IF(P522=\"\",ROW()/100000000,COUNTIF(過去ログ!$BQ$3:$CT$9999,基礎データ!P522)+ROW()/10000)","v":5.22E-6},"",null,521,480,null,{"$f":"IF(V522=\"\",ROW()/100000000,COUNTIF(過去ログ!$N$3:$N$9999,基礎データ!V522)+ROW()/10000)","v":5.22E-6},"",521,480,null,{"$f":"IF(AA522=\"\",ROW()/100000000,COUNTIF(過去ログ!$N$3:$Y$9999,基礎データ!AA522)+ROW()/10000)","v":5.22E-6},""]
[null,null,null,null,null,null,null,null,null,null,null,null,null,522,548,null,{"$f":"IF(P523=\"\",ROW()/100000000,COUNTIF(過去ログ!$BQ$3:$CT$9999,基礎データ!P523)+ROW()/10000)","v":5.2299999999999999E-6},"",null,522,479,null,{"$f":"IF(V523=\"\",ROW()/100000000,COUNTIF(過去ログ!$N$3:$N$9999,基礎データ!V523)+ROW()/10000)","v":5.2299999999999999E-6},"",522,479,null,{"$f":"IF(AA523=\"\",ROW()/100000000,COUNTIF(過去ログ!$N$3:$Y$9999,基礎データ!AA523)+ROW()/10000)","v":5.2299999999999999E-6},""]
[null,null,null,null,null,null,null,null,null,null,null,null,null,523,547,null,{"$f":"IF(P524=\"\",ROW()/100000000,COUNTIF(過去ログ!$BQ$3:$CT$9999,基礎データ!P524)+ROW()/10000)","v":5.2399999999999998E-6},"",null,523,478,null,{"$f":"IF(V524=\"\",ROW()/100000000,COUNTIF(過去ログ!$N$3:$N$9999,基礎データ!V524)+ROW()/10000)","v":5.2399999999999998E-6},"",523,478,null,{"$f":"IF(AA524=\"\",ROW()/100000000,COUNTIF(過去ログ!$N$3:$Y$9999,基礎データ!AA524)+ROW()/10000)","v":5.2399999999999998E-6},""]
[null,null,null,null,null,null,null,null,null,null,null,null,null,524,546,null,{"$f":"IF(P525=\"\",ROW()/100000000,COUNTIF(過去ログ!$BQ$3:$CT$9999,基礎データ!P525)+ROW()/10000)","v":5.2499999999999997E-6},"",null,524,477,null,{"$f":"IF(V525=\"\",ROW()/100000000,COUNTIF(過去ログ!$N$3:$N$9999,基礎データ!V525)+ROW()/10000)","v":5.2499999999999997E-6},"",524,477,null,{"$f":"IF(AA525=\"\",ROW()/100000000,COUNTIF(過去ログ!$N$3:$Y$9999,基礎データ!AA525)+ROW()/10000)","v":5.2499999999999997E-6},""]
[null,null,null,null,null,null,null,null,null,null,null,null,null,525,545,null,{"$f":"IF(P526=\"\",ROW()/100000000,COUNTIF(過去ログ!$BQ$3:$CT$9999,基礎データ!P526)+ROW()/10000)","v":5.2599999999999996E-6},"",null,525,476,null,{"$f":"IF(V526=\"\",ROW()/100000000,COUNTIF(過去ログ!$N$3:$N$9999,基礎データ!V526)+ROW()/10000)","v":5.2599999999999996E-6},"",525,476,null,{"$f":"IF(AA526=\"\",ROW()/100000000,COUNTIF(過去ログ!$N$3:$Y$9999,基礎データ!AA526)+ROW()/10000)","v":5.2599999999999996E-6},""]
[null,null,null,null,null,null,null,null,null,null,null,null,null,526,544,null,{"$f":"IF(P527=\"\",ROW()/100000000,COUNTIF(過去ログ!$BQ$3:$CT$9999,基礎データ!P527)+ROW()/10000)","v":5.2700000000000004E-6},"",null,526,475,null,{"$f":"IF(V527=\"\",ROW()/100000000,COUNTIF(過去ログ!$N$3:$N$9999,基礎データ!V527)+ROW()/10000)","v":5.2700000000000004E-6},{"$f":"IF(VLOOKUP(T527,$U$2:$V$1002,2,FALSE)=0,\"\",VLOOKUP(T527,$U$2:$V$1002,2,FALSE))","v":""},526,475,null,{"$f":"IF(AA527=\"\",ROW()/100000000,COUNTIF(過去ログ!$N$3:$Y$9999,基礎データ!AA527)+ROW()/10000)","v":5.2700000000000004E-6},""]
[null,null,null,null,null,null,null,null,null,null,null,null,null,527,543,null,{"$f":"IF(P528=\"\",ROW()/100000000,COUNTIF(過去ログ!$BQ$3:$CT$9999,基礎データ!P528)+ROW()/10000)","v":5.2800000000000003E-6},"",null,527,474,null,{"$f":"IF(V528=\"\",ROW()/100000000,COUNTIF(過去ログ!$N$3:$N$9999,基礎データ!V528)+ROW()/10000)","v":5.2800000000000003E-6},"",527,474,null,{"$f":"IF(AA528=\"\",ROW()/100000000,COUNTIF(過去ログ!$N$3:$Y$9999,基礎データ!AA528)+ROW()/10000)","v":5.2800000000000003E-6},""]
[null,null,null,null,null,null,null,null,null,null,null,null,null,528,542,null,{"$f":"IF(P529=\"\",ROW()/100000000,COUNTIF(過去ログ!$BQ$3:$CT$9999,基礎データ!P529)+ROW()/10000)","v":5.2900000000000002E-6},"",null,528,473,null,{"$f":"IF(V529=\"\",ROW()/100000000,COUNTIF(過去ログ!$N$3:$N$9999,基礎データ!V529)+ROW()/10000)","v":5.2900000000000002E-6},"",528,473,null,{"$f":"IF(AA529=\"\",ROW()/100000000,COUNTIF(過去ログ!$N$3:$Y$9999,基礎データ!AA529)+ROW()/10000)","v":5.2900000000000002E-6},""]
[null,null,null,null,null,null,null,null,null,null,null,null,null,529,541,null,{"$f":"IF(P530=\"\",ROW()/100000000,COUNTIF(過去ログ!$BQ$3:$CT$9999,基礎データ!P530)+ROW()/10000)","v":5.3000000000000001E-6},"",null,529,472,null,{"$f":"IF(V530=\"\",ROW()/100000000,COUNTIF(過去ログ!$N$3:$N$9999,基礎データ!V530)+ROW()/10000)","v":5.3000000000000001E-6},"",529,472,null,{"$f":"IF(AA530=\"\",ROW()/100000000,COUNTIF(過去ログ!$N$3:$Y$9999,基礎データ!AA530)+ROW()/10000)","v":5.3000000000000001E-6},""]
[null,null,null,null,null,null,null,null,null,null,null,null,null,530,540,null,{"$f":"IF(P531=\"\",ROW()/100000000,COUNTIF(過去ログ!$BQ$3:$CT$9999,基礎データ!P531)+ROW()/10000)","v":5.31E-6},"",null,530,471,null,{"$f":"IF(V531=\"\",ROW()/100000000,COUNTIF(過去ログ!$N$3:$N$9999,基礎データ!V531)+ROW()/10000)","v":5.31E-6},"",530,471,null,{"$f":"IF(AA531=\"\",ROW()/100000000,COUNTIF(過去ログ!$N$3:$Y$9999,基礎データ!AA531)+ROW()/10000)","v":5.31E-6},""]
[null,null,null,null,null,null,null,null,null,null,null,null,null,531,539,null,{"$f":"IF(P532=\"\",ROW()/100000000,COUNTIF(過去ログ!$BQ$3:$CT$9999,基礎データ!P532)+ROW()/10000)","v":5.3199999999999999E-6},"",null,531,470,null,{"$f":"IF(V532=\"\",ROW()/100000000,COUNTIF(過去ログ!$N$3:$N$9999,基礎データ!V532)+ROW()/10000)","v":5.3199999999999999E-6},"",531,470,null,{"$f":"IF(AA532=\"\",ROW()/100000000,COUNTIF(過去ログ!$N$3:$Y$9999,基礎データ!AA532)+ROW()/10000)","v":5.3199999999999999E-6},""]
[null,null,null,null,null,null,null,null,null,null,null,null,null,532,538,null,{"$f":"IF(P533=\"\",ROW()/100000000,COUNTIF(過去ログ!$BQ$3:$CT$9999,基礎データ!P533)+ROW()/10000)","v":5.3299999999999998E-6},"",null,532,469,null,{"$f":"IF(V533=\"\",ROW()/100000000,COUNTIF(過去ログ!$N$3:$N$9999,基礎データ!V533)+ROW()/10000)","v":5.3299999999999998E-6},"",532,469,null,{"$f":"IF(AA533=\"\",ROW()/100000000,COUNTIF(過去ログ!$N$3:$Y$9999,基礎データ!AA533)+ROW()/10000)","v":5.3299999999999998E-6},""]
[null,null,null,null,null,null,null,null,null,null,null,null,null,533,537,null,{"$f":"IF(P534=\"\",ROW()/100000000,COUNTIF(過去ログ!$BQ$3:$CT$9999,基礎データ!P534)+ROW()/10000)","v":5.3399999999999997E-6},"",null,533,468,null,{"$f":"IF(V534=\"\",ROW()/100000000,COUNTIF(過去ログ!$N$3:$N$9999,基礎データ!V534)+ROW()/10000)","v":5.3399999999999997E-6},"",533,468,null,{"$f":"IF(AA534=\"\",ROW()/100000000,COUNTIF(過去ログ!$N$3:$Y$9999,基礎データ!AA534)+ROW()/10000)","v":5.3399999999999997E-6},""]
[null,null,null,null,null,null,null,null,null,null,null,null,null,534,536,null,{"$f":"IF(P535=\"\",ROW()/100000000,COUNTIF(過去ログ!$BQ$3:$CT$9999,基礎データ!P535)+ROW()/10000)","v":5.3499999999999996E-6},"",null,534,467,null,{"$f":"IF(V535=\"\",ROW()/100000000,COUNTIF(過去ログ!$N$3:$N$9999,基礎データ!V535)+ROW()/10000)","v":5.3499999999999996E-6},"",534,467,null,{"$f":"IF(AA535=\"\",ROW()/100000000,COUNTIF(過去ログ!$N$3:$Y$9999,基礎データ!AA535)+ROW()/10000)","v":5.3499999999999996E-6},""]
[null,null,null,null,null,null,null,null,null,null,null,null,null,535,535,null,{"$f":"IF(P536=\"\",ROW()/100000000,COUNTIF(過去ログ!$BQ$3:$CT$9999,基礎データ!P536)+ROW()/10000)","v":5.3600000000000004E-6},"",null,535,466,null,{"$f":"IF(V536=\"\",ROW()/100000000,COUNTIF(過去ログ!$N$3:$N$9999,基礎データ!V536)+ROW()/10000)","v":5.3600000000000004E-6},"",535,466,null,{"$f":"IF(AA536=\"\",ROW()/100000000,COUNTIF(過去ログ!$N$3:$Y$9999,基礎データ!AA536)+ROW()/10000)","v":5.3600000000000004E-6},""]
[null,null,null,null,null,null,null,null,null,null,null,null,null,536,534,null,{"$f":"IF(P537=\"\",ROW()/100000000,COUNTIF(過去ログ!$BQ$3:$CT$9999,基礎データ!P537)+ROW()/10000)","v":5.3700000000000003E-6},"",null,536,465,null,{"$f":"IF(V537=\"\",ROW()/100000000,COUNTIF(過去ログ!$N$3:$N$9999,基礎データ!V537)+ROW()/10000)","v":5.3700000000000003E-6},"",536,465,null,{"$f":"IF(AA537=\"\",ROW()/100000000,COUNTIF(過去ログ!$N$3:$Y$9999,基礎データ!AA537)+ROW()/10000)","v":5.3700000000000003E-6},""]
[null,null,null,null,null,null,null,null,null,null,null,null,null,537,533,null,{"$f":"IF(P538=\"\",ROW()/100000000,COUNTIF(過去ログ!$BQ$3:$CT$9999,基礎データ!P538)+ROW()/10000)","v":5.3800000000000002E-6},"",null,537,464,null,{"$f":"IF(V538=\"\",ROW()/100000000,COUNTIF(過去ログ!$N$3:$N$9999,基礎データ!V538)+ROW()/10000)","v":5.3800000000000002E-6},"",537,464,null,{"$f":"IF(AA538=\"\",ROW()/100000000,COUNTIF(過去ログ!$N$3:$Y$9999,基礎データ!AA538)+ROW()/10000)","v":5.3800000000000002E-6},""]
[null,null,null,null,null,null,null,null,null,null,null,null,null,538,532,null,{"$f":"IF(P539=\"\",ROW()/100000000,COUNTIF(過去ログ!$BQ$3:$CT$9999,基礎データ!P539)+ROW()/10000)","v":5.3900000000000001E-6},"",null,538,463,null,{"$f":"IF(V539=\"\",ROW()/100000000,COUNTIF(過去ログ!$N$3:$N$9999,基礎データ!V539)+ROW()/10000)","v":5.3900000000000001E-6},"",538,463,null,{"$f":"IF(AA539=\"\",ROW()/100000000,COUNTIF(過去ログ!$N$3:$Y$9999,基礎データ!AA539)+ROW()/10000)","v":5.3900000000000001E-6},""]
[null,null,null,null,null,null,null,null,null,null,null,null,null,539,531,null,{"$f":"IF(P540=\"\",ROW()/100000000,COUNTIF(過去ログ!$BQ$3:$CT$9999,基礎データ!P540)+ROW()/10000)","v":5.4E-6},"",null,539,462,null,{"$f":"IF(V540=\"\",ROW()/100000000,COUNTIF(過去ログ!$N$3:$N$9999,基礎データ!V540)+ROW()/10000)","v":5.4E-6},"",539,462,null,{"$f":"IF(AA540=\"\",ROW()/100000000,COUNTIF(過去ログ!$N$3:$Y$9999,基礎データ!AA540)+ROW()/10000)","v":5.4E-6},""]
[null,null,null,null,null,null,null,null,null,null,null,null,null,540,530,null,{"$f":"IF(P541=\"\",ROW()/100000000,COUNTIF(過去ログ!$BQ$3:$CT$9999,基礎データ!P541)+ROW()/10000)","v":5.4099999999999999E-6},"",null,540,461,null,{"$f":"IF(V541=\"\",ROW()/100000000,COUNTIF(過去ログ!$N$3:$N$9999,基礎データ!V541)+ROW()/10000)","v":5.4099999999999999E-6},"",540,461,null,{"$f":"IF(AA541=\"\",ROW()/100000000,COUNTIF(過去ログ!$N$3:$Y$9999,基礎データ!AA541)+ROW()/10000)","v":5.4099999999999999E-6},""]
[null,null,null,null,null,null,null,null,null,null,null,null,null,541,529,null,{"$f":"IF(P542=\"\",ROW()/100000000,COUNTIF(過去ログ!$BQ$3:$CT$9999,基礎データ!P542)+ROW()/10000)","v":5.4199999999999998E-6},"",null,541,460,null,{"$f":"IF(V542=\"\",ROW()/100000000,COUNTIF(過去ログ!$N$3:$N$9999,基礎データ!V542)+ROW()/10000)","v":5.4199999999999998E-6},"",541,460,null,{"$f":"IF(AA542=\"\",ROW()/100000000,COUNTIF(過去ログ!$N$3:$Y$9999,基礎データ!AA542)+ROW()/10000)","v":5.4199999999999998E-6},""]
[null,null,null,null,null,null,null,null,null,null,null,null,null,542,528,null,{"$f":"IF(P543=\"\",ROW()/100000000,COUNTIF(過去ログ!$BQ$3:$CT$9999,基礎データ!P543)+ROW()/10000)","v":5.4299999999999997E-6},"",null,542,459,null,{"$f":"IF(V543=\"\",ROW()/100000000,COUNTIF(過去ログ!$N$3:$N$9999,基礎データ!V543)+ROW()/10000)","v":5.4299999999999997E-6},"",542,459,null,{"$f":"IF(AA543=\"\",ROW()/100000000,COUNTIF(過去ログ!$N$3:$Y$9999,基礎データ!AA543)+ROW()/10000)","v":5.4299999999999997E-6},""]
[null,null,null,null,null,null,null,null,null,null,null,null,null,543,{"$f":"RANK(Q544,$Q$2:$Q$1002)","v":527},null,{"$f":"IF(P544=\"\",ROW()/100000000,COUNTIF(過去ログ!$BQ$3:$CT$9999,基礎データ!P544)+ROW()/10000)","v":5.4399999999999996E-6},"",null,543,458,null,{"$f":"IF(V544=\"\",ROW()/100000000,COUNTIF(過去ログ!$N$3:$N$9999,基礎データ!V544)+ROW()/10000)","v":5.4399999999999996E-6},"",543,458,null,{"$f":"IF(AA544=\"\",ROW()/100000000,COUNTIF(過去ログ!$N$3:$Y$9999,基礎データ!AA544)+ROW()/10000)","v":5.4399999999999996E-6},""]
[null,null,null,null,null,null,null,null,null,null,null,null,null,544,526,null,{"$f":"IF(P545=\"\",ROW()/100000000,COUNTIF(過去ログ!$BQ$3:$CT$9999,基礎データ!P545)+ROW()/10000)","v":5.4500000000000003E-6},"",null,544,457,null,{"$f":"IF(V545=\"\",ROW()/100000000,COUNTIF(過去ログ!$N$3:$N$9999,基礎データ!V545)+ROW()/10000)","v":5.4500000000000003E-6},"",544,457,null,{"$f":"IF(AA545=\"\",ROW()/100000000,COUNTIF(過去ログ!$N$3:$Y$9999,基礎データ!AA545)+ROW()/10000)","v":5.4500000000000003E-6},""]
[null,null,null,null,null,null,null,null,null,null,null,null,null,545,525,null,{"$f":"IF(P546=\"\",ROW()/100000000,COUNTIF(過去ログ!$BQ$3:$CT$9999,基礎データ!P546)+ROW()/10000)","v":5.4600000000000002E-6},"",null,545,456,null,{"$f":"IF(V546=\"\",ROW()/100000000,COUNTIF(過去ログ!$N$3:$N$9999,基礎データ!V546)+ROW()/10000)","v":5.4600000000000002E-6},"",545,456,null,{"$f":"IF(AA546=\"\",ROW()/100000000,COUNTIF(過去ログ!$N$3:$Y$9999,基礎データ!AA546)+ROW()/10000)","v":5.4600000000000002E-6},""]
[null,null,null,null,null,null,null,null,null,null,null,null,null,546,524,null,{"$f":"IF(P547=\"\",ROW()/100000000,COUNTIF(過去ログ!$BQ$3:$CT$9999,基礎データ!P547)+ROW()/10000)","v":5.4700000000000001E-6},"",null,546,455,null,{"$f":"IF(V547=\"\",ROW()/100000000,COUNTIF(過去ログ!$N$3:$N$9999,基礎データ!V547)+ROW()/10000)","v":5.4700000000000001E-6},"",546,455,null,{"$f":"IF(AA547=\"\",ROW()/100000000,COUNTIF(過去ログ!$N$3:$Y$9999,基礎データ!AA547)+ROW()/10000)","v":5.4700000000000001E-6},""]
[null,null,null,null,null,null,null,null,null,null,null,null,null,547,523,null,{"$f":"IF(P548=\"\",ROW()/100000000,COUNTIF(過去ログ!$BQ$3:$CT$9999,基礎データ!P548)+ROW()/10000)","v":5.48E-6},"",null,547,454,null,{"$f":"IF(V548=\"\",ROW()/100000000,COUNTIF(過去ログ!$N$3:$N$9999,基礎データ!V548)+ROW()/10000)","v":5.48E-6},"",547,454,null,{"$f":"IF(AA548=\"\",ROW()/100000000,COUNTIF(過去ログ!$N$3:$Y$9999,基礎データ!AA548)+ROW()/10000)","v":5.48E-6},""]
[null,null,null,null,null,null,null,null,null,null,null,null,null,548,522,null,{"$f":"IF(P549=\"\",ROW()/100000000,COUNTIF(過去ログ!$BQ$3:$CT$9999,基礎データ!P549)+ROW()/10000)","v":5.49E-6},"",null,548,453,null,{"$f":"IF(V549=\"\",ROW()/100000000,COUNTIF(過去ログ!$N$3:$N$9999,基礎データ!V549)+ROW()/10000)","v":5.49E-6},"",548,453,null,{"$f":"IF(AA549=\"\",ROW()/100000000,COUNTIF(過去ログ!$N$3:$Y$9999,基礎データ!AA549)+ROW()/10000)","v":5.49E-6},""]
[null,null,null,null,null,null,null,null,null,null,null,null,null,549,521,null,{"$f":"IF(P550=\"\",ROW()/100000000,COUNTIF(過去ログ!$BQ$3:$CT$9999,基礎データ!P550)+ROW()/10000)","v":5.4999999999999999E-6},{"$f":"IF(P550=\"\",\"\",VLOOKUP(N550,$O$2:$P$1002,2,FALSE))","v":""},null,549,452,null,{"$f":"IF(V550=\"\",ROW()/100000000,COUNTIF(過去ログ!$N$3:$N$9999,基礎データ!V550)+ROW()/10000)","v":5.4999999999999999E-6},"",549,452,null,{"$f":"IF(AA550=\"\",ROW()/100000000,COUNTIF(過去ログ!$N$3:$Y$9999,基礎データ!AA550)+ROW()/10000)","v":5.4999999999999999E-6},""]
[null,null,null,null,null,null,null,null,null,null,null,null,null,550,520,null,{"$f":"IF(P551=\"\",ROW()/100000000,COUNTIF(過去ログ!$BQ$3:$CT$9999,基礎データ!P551)+ROW()/10000)","v":5.5099999999999998E-6},"",null,550,451,null,{"$f":"IF(V551=\"\",ROW()/100000000,COUNTIF(過去ログ!$N$3:$N$9999,基礎データ!V551)+ROW()/10000)","v":5.5099999999999998E-6},"",550,451,null,{"$f":"IF(AA551=\"\",ROW()/100000000,COUNTIF(過去ログ!$N$3:$Y$9999,基礎データ!AA551)+ROW()/10000)","v":5.5099999999999998E-6},""]
[null,null,null,null,null,null,null,null,null,null,null,null,null,551,519,null,{"$f":"IF(P552=\"\",ROW()/100000000,COUNTIF(過去ログ!$BQ$3:$CT$9999,基礎データ!P552)+ROW()/10000)","v":5.5199999999999997E-6},"",null,551,450,null,{"$f":"IF(V552=\"\",ROW()/100000000,COUNTIF(過去ログ!$N$3:$N$9999,基礎データ!V552)+ROW()/10000)","v":5.5199999999999997E-6},"",551,450,null,{"$f":"IF(AA552=\"\",ROW()/100000000,COUNTIF(過去ログ!$N$3:$Y$9999,基礎データ!AA552)+ROW()/10000)","v":5.5199999999999997E-6},""]
[null,null,null,null,null,null,null,null,null,null,null,null,null,552,518,null,{"$f":"IF(P553=\"\",ROW()/100000000,COUNTIF(過去ログ!$BQ$3:$CT$9999,基礎データ!P553)+ROW()/10000)","v":5.5300000000000004E-6},"",null,552,449,null,{"$f":"IF(V553=\"\",ROW()/100000000,COUNTIF(過去ログ!$N$3:$N$9999,基礎データ!V553)+ROW()/10000)","v":5.5300000000000004E-6},"",552,449,null,{"$f":"IF(AA553=\"\",ROW()/100000000,COUNTIF(過去ログ!$N$3:$Y$9999,基礎データ!AA553)+ROW()/10000)","v":5.5300000000000004E-6},""]
[null,null,null,null,null,null,null,null,null,null,null,null,null,553,517,null,{"$f":"IF(P554=\"\",ROW()/100000000,COUNTIF(過去ログ!$BQ$3:$CT$9999,基礎データ!P554)+ROW()/10000)","v":5.5400000000000003E-6},"",null,553,448,null,{"$f":"IF(V554=\"\",ROW()/100000000,COUNTIF(過去ログ!$N$3:$N$9999,基礎データ!V554)+ROW()/10000)","v":5.5400000000000003E-6},"",553,448,null,{"$f":"IF(AA554=\"\",ROW()/100000000,COUNTIF(過去ログ!$N$3:$Y$9999,基礎データ!AA554)+ROW()/10000)","v":5.5400000000000003E-6},""]
[null,null,null,null,null,null,null,null,null,null,null,null,null,554,516,null,{"$f":"IF(P555=\"\",ROW()/100000000,COUNTIF(過去ログ!$BQ$3:$CT$9999,基礎データ!P555)+ROW()/10000)","v":5.5500000000000002E-6},"",null,554,447,null,{"$f":"IF(V555=\"\",ROW()/100000000,COUNTIF(過去ログ!$N$3:$N$9999,基礎データ!V555)+ROW()/10000)","v":5.5500000000000002E-6},"",554,447,null,{"$f":"IF(AA555=\"\",ROW()/100000000,COUNTIF(過去ログ!$N$3:$Y$9999,基礎データ!AA555)+ROW()/10000)","v":5.5500000000000002E-6},""]
[null,null,null,null,null,null,null,null,null,null,null,null,null,555,515,null,{"$f":"IF(P556=\"\",ROW()/100000000,COUNTIF(過去ログ!$BQ$3:$CT$9999,基礎データ!P556)+ROW()/10000)","v":5.5600000000000001E-6},"",null,555,446,null,{"$f":"IF(V556=\"\",ROW()/100000000,COUNTIF(過去ログ!$N$3:$N$9999,基礎データ!V556)+ROW()/10000)","v":5.5600000000000001E-6},"",555,446,null,{"$f":"IF(AA556=\"\",ROW()/100000000,COUNTIF(過去ログ!$N$3:$Y$9999,基礎データ!AA556)+ROW()/10000)","v":5.5600000000000001E-6},""]
[null,null,null,null,null,null,null,null,null,null,null,null,null,556,514,null,{"$f":"IF(P557=\"\",ROW()/100000000,COUNTIF(過去ログ!$BQ$3:$CT$9999,基礎データ!P557)+ROW()/10000)","v":5.57E-6},"",null,556,445,null,{"$f":"IF(V557=\"\",ROW()/100000000,COUNTIF(過去ログ!$N$3:$N$9999,基礎データ!V557)+ROW()/10000)","v":5.57E-6},"",556,445,null,{"$f":"IF(AA557=\"\",ROW()/100000000,COUNTIF(過去ログ!$N$3:$Y$9999,基礎データ!AA557)+ROW()/10000)","v":5.57E-6},""]
[null,null,null,null,null,null,null,null,null,null,null,null,null,557,513,null,{"$f":"IF(P558=\"\",ROW()/100000000,COUNTIF(過去ログ!$BQ$3:$CT$9999,基礎データ!P558)+ROW()/10000)","v":5.5799999999999999E-6},"",null,557,444,null,{"$f":"IF(V558=\"\",ROW()/100000000,COUNTIF(過去ログ!$N$3:$N$9999,基礎データ!V558)+ROW()/10000)","v":5.5799999999999999E-6},"",557,444,null,{"$f":"IF(AA558=\"\",ROW()/100000000,COUNTIF(過去ログ!$N$3:$Y$9999,基礎データ!AA558)+ROW()/10000)","v":5.5799999999999999E-6},""]
[null,null,null,null,null,null,null,null,null,null,null,null,null,558,512,null,{"$f":"IF(P559=\"\",ROW()/100000000,COUNTIF(過去ログ!$BQ$3:$CT$9999,基礎データ!P559)+ROW()/10000)","v":5.5899999999999998E-6},"",null,558,443,null,{"$f":"IF(V559=\"\",ROW()/100000000,COUNTIF(過去ログ!$N$3:$N$9999,基礎データ!V559)+ROW()/10000)","v":5.5899999999999998E-6},"",558,443,null,{"$f":"IF(AA559=\"\",ROW()/100000000,COUNTIF(過去ログ!$N$3:$Y$9999,基礎データ!AA559)+ROW()/10000)","v":5.5899999999999998E-6},""]
[null,null,null,null,null,null,null,null,null,null,null,null,null,559,511,null,{"$f":"IF(P560=\"\",ROW()/100000000,COUNTIF(過去ログ!$BQ$3:$CT$9999,基礎データ!P560)+ROW()/10000)","v":5.5999999999999997E-6},"",null,559,442,null,{"$f":"IF(V560=\"\",ROW()/100000000,COUNTIF(過去ログ!$N$3:$N$9999,基礎データ!V560)+ROW()/10000)","v":5.5999999999999997E-6},"",559,442,null,{"$f":"IF(AA560=\"\",ROW()/100000000,COUNTIF(過去ログ!$N$3:$Y$9999,基礎データ!AA560)+ROW()/10000)","v":5.5999999999999997E-6},""]
[null,null,null,null,null,null,null,null,null,null,null,null,null,560,510,null,{"$f":"IF(P561=\"\",ROW()/100000000,COUNTIF(過去ログ!$BQ$3:$CT$9999,基礎データ!P561)+ROW()/10000)","v":5.6099999999999997E-6},"",null,560,441,null,{"$f":"IF(V561=\"\",ROW()/100000000,COUNTIF(過去ログ!$N$3:$N$9999,基礎データ!V561)+ROW()/10000)","v":5.6099999999999997E-6},"",560,441,null,{"$f":"IF(AA561=\"\",ROW()/100000000,COUNTIF(過去ログ!$N$3:$Y$9999,基礎データ!AA561)+ROW()/10000)","v":5.6099999999999997E-6},""]
[null,null,null,null,null,null,null,null,null,null,null,null,null,561,509,null,{"$f":"IF(P562=\"\",ROW()/100000000,COUNTIF(過去ログ!$BQ$3:$CT$9999,基礎データ!P562)+ROW()/10000)","v":5.6200000000000004E-6},"",null,561,440,null,{"$f":"IF(V562=\"\",ROW()/100000000,COUNTIF(過去ログ!$N$3:$N$9999,基礎データ!V562)+ROW()/10000)","v":5.6200000000000004E-6},"",561,440,null,{"$f":"IF(AA562=\"\",ROW()/100000000,COUNTIF(過去ログ!$N$3:$Y$9999,基礎データ!AA562)+ROW()/10000)","v":5.6200000000000004E-6},""]
[null,null,null,null,null,null,null,null,null,null,null,null,null,562,508,null,{"$f":"IF(P563=\"\",ROW()/100000000,COUNTIF(過去ログ!$BQ$3:$CT$9999,基礎データ!P563)+ROW()/10000)","v":5.6300000000000003E-6},"",null,562,439,null,{"$f":"IF(V563=\"\",ROW()/100000000,COUNTIF(過去ログ!$N$3:$N$9999,基礎データ!V563)+ROW()/10000)","v":5.6300000000000003E-6},"",562,439,null,{"$f":"IF(AA563=\"\",ROW()/100000000,COUNTIF(過去ログ!$N$3:$Y$9999,基礎データ!AA563)+ROW()/10000)","v":5.6300000000000003E-6},{"$f":"IF(VLOOKUP(Y563,$Z$2:$AA$1002,2,FALSE)=0,\"\",VLOOKUP(Y563,$Z$2:$AA$1002,2,FALSE))","v":""}]
[null,null,null,null,null,null,null,null,null,null,null,null,null,563,507,null,{"$f":"IF(P564=\"\",ROW()/100000000,COUNTIF(過去ログ!$BQ$3:$CT$9999,基礎データ!P564)+ROW()/10000)","v":5.6400000000000002E-6},"",null,563,438,null,{"$f":"IF(V564=\"\",ROW()/100000000,COUNTIF(過去ログ!$N$3:$N$9999,基礎データ!V564)+ROW()/10000)","v":5.6400000000000002E-6},"",563,438,null,{"$f":"IF(AA564=\"\",ROW()/100000000,COUNTIF(過去ログ!$N$3:$Y$9999,基礎データ!AA564)+ROW()/10000)","v":5.6400000000000002E-6},""]
[null,null,null,null,null,null,null,null,null,null,null,null,null,564,506,null,{"$f":"IF(P565=\"\",ROW()/100000000,COUNTIF(過去ログ!$BQ$3:$CT$9999,基礎データ!P565)+ROW()/10000)","v":5.6500000000000001E-6},"",null,564,437,null,{"$f":"IF(V565=\"\",ROW()/100000000,COUNTIF(過去ログ!$N$3:$N$9999,基礎データ!V565)+ROW()/10000)","v":5.6500000000000001E-6},"",564,437,null,{"$f":"IF(AA565=\"\",ROW()/100000000,COUNTIF(過去ログ!$N$3:$Y$9999,基礎データ!AA565)+ROW()/10000)","v":5.6500000000000001E-6},""]
[null,null,null,null,null,null,null,null,null,null,null,null,null,565,505,null,{"$f":"IF(P566=\"\",ROW()/100000000,COUNTIF(過去ログ!$BQ$3:$CT$9999,基礎データ!P566)+ROW()/10000)","v":5.66E-6},"",null,565,436,null,{"$f":"IF(V566=\"\",ROW()/100000000,COUNTIF(過去ログ!$N$3:$N$9999,基礎データ!V566)+ROW()/10000)","v":5.66E-6},"",565,436,null,{"$f":"IF(AA566=\"\",ROW()/100000000,COUNTIF(過去ログ!$N$3:$Y$9999,基礎データ!AA566)+ROW()/10000)","v":5.66E-6},""]
[null,null,null,null,null,null,null,null,null,null,null,null,null,566,504,null,{"$f":"IF(P567=\"\",ROW()/100000000,COUNTIF(過去ログ!$BQ$3:$CT$9999,基礎データ!P567)+ROW()/10000)","v":5.6699999999999999E-6},"",null,566,435,null,{"$f":"IF(V567=\"\",ROW()/100000000,COUNTIF(過去ログ!$N$3:$N$9999,基礎データ!V567)+ROW()/10000)","v":5.6699999999999999E-6},"",566,435,null,{"$f":"IF(AA567=\"\",ROW()/100000000,COUNTIF(過去ログ!$N$3:$Y$9999,基礎データ!AA567)+ROW()/10000)","v":5.6699999999999999E-6},""]
[null,null,null,null,null,null,null,null,null,null,null,null,null,567,503,null,{"$f":"IF(P568=\"\",ROW()/100000000,COUNTIF(過去ログ!$BQ$3:$CT$9999,基礎データ!P568)+ROW()/10000)","v":5.6799999999999998E-6},"",null,567,434,null,{"$f":"IF(V568=\"\",ROW()/100000000,COUNTIF(過去ログ!$N$3:$N$9999,基礎データ!V568)+ROW()/10000)","v":5.6799999999999998E-6},"",567,{"$f":"RANK(AB568,$AB$2:$AB$1002)","v":434},null,{"$f":"IF(AA568=\"\",ROW()/100000000,COUNTIF(過去ログ!$N$3:$Y$9999,基礎データ!AA568)+ROW()/10000)","v":5.6799999999999998E-6},""]
[null,null,null,null,null,null,null,null,null,null,null,null,null,568,502,null,{"$f":"IF(P569=\"\",ROW()/100000000,COUNTIF(過去ログ!$BQ$3:$CT$9999,基礎データ!P569)+ROW()/10000)","v":5.6899999999999997E-6},"",null,568,433,null,{"$f":"IF(V569=\"\",ROW()/100000000,COUNTIF(過去ログ!$N$3:$N$9999,基礎データ!V569)+ROW()/10000)","v":5.6899999999999997E-6},"",568,433,null,{"$f":"IF(AA569=\"\",ROW()/100000000,COUNTIF(過去ログ!$N$3:$Y$9999,基礎データ!AA569)+ROW()/10000)","v":5.6899999999999997E-6},""]
[null,null,null,null,null,null,null,null,null,null,null,null,null,569,501,null,{"$f":"IF(P570=\"\",ROW()/100000000,COUNTIF(過去ログ!$BQ$3:$CT$9999,基礎データ!P570)+ROW()/10000)","v":5.6999999999999996E-6},"",null,569,432,null,{"$f":"IF(V570=\"\",ROW()/100000000,COUNTIF(過去ログ!$N$3:$N$9999,基礎データ!V570)+ROW()/10000)","v":5.6999999999999996E-6},"",569,432,null,{"$f":"IF(AA570=\"\",ROW()/100000000,COUNTIF(過去ログ!$N$3:$Y$9999,基礎データ!AA570)+ROW()/10000)","v":5.6999999999999996E-6},""]
[null,null,null,null,null,null,null,null,null,null,null,null,null,570,500,null,{"$f":"IF(P571=\"\",ROW()/100000000,COUNTIF(過去ログ!$BQ$3:$CT$9999,基礎データ!P571)+ROW()/10000)","v":5.7100000000000004E-6},"",null,570,431,null,{"$f":"IF(V571=\"\",ROW()/100000000,COUNTIF(過去ログ!$N$3:$N$9999,基礎データ!V571)+ROW()/10000)","v":5.7100000000000004E-6},"",570,431,null,{"$f":"IF(AA571=\"\",ROW()/100000000,COUNTIF(過去ログ!$N$3:$Y$9999,基礎データ!AA571)+ROW()/10000)","v":5.7100000000000004E-6},""]
[null,null,null,null,null,null,null,null,null,null,null,null,null,571,499,null,{"$f":"IF(P572=\"\",ROW()/100000000,COUNTIF(過去ログ!$BQ$3:$CT$9999,基礎データ!P572)+ROW()/10000)","v":5.7200000000000003E-6},"",null,571,430,null,{"$f":"IF(V572=\"\",ROW()/100000000,COUNTIF(過去ログ!$N$3:$N$9999,基礎データ!V572)+ROW()/10000)","v":5.7200000000000003E-6},"",571,430,null,{"$f":"IF(AA572=\"\",ROW()/100000000,COUNTIF(過去ログ!$N$3:$Y$9999,基礎データ!AA572)+ROW()/10000)","v":5.7200000000000003E-6},""]
[null,null,null,null,null,null,null,null,null,null,null,null,null,572,498,null,{"$f":"IF(P573=\"\",ROW()/100000000,COUNTIF(過去ログ!$BQ$3:$CT$9999,基礎データ!P573)+ROW()/10000)","v":5.7300000000000002E-6},"",null,572,429,null,{"$f":"IF(V573=\"\",ROW()/100000000,COUNTIF(過去ログ!$N$3:$N$9999,基礎データ!V573)+ROW()/10000)","v":5.7300000000000002E-6},"",572,429,null,{"$f":"IF(AA573=\"\",ROW()/100000000,COUNTIF(過去ログ!$N$3:$Y$9999,基礎データ!AA573)+ROW()/10000)","v":5.7300000000000002E-6},""]
[null,null,null,null,null,null,null,null,null,null,null,null,null,573,497,null,{"$f":"IF(P574=\"\",ROW()/100000000,COUNTIF(過去ログ!$BQ$3:$CT$9999,基礎データ!P574)+ROW()/10000)","v":5.7400000000000001E-6},"",null,573,428,null,{"$f":"IF(V574=\"\",ROW()/100000000,COUNTIF(過去ログ!$N$3:$N$9999,基礎データ!V574)+ROW()/10000)","v":5.7400000000000001E-6},"",573,428,null,{"$f":"IF(AA574=\"\",ROW()/100000000,COUNTIF(過去ログ!$N$3:$Y$9999,基礎データ!AA574)+ROW()/10000)","v":5.7400000000000001E-6},""]
[null,null,null,null,null,null,null,null,null,null,null,null,null,574,496,null,{"$f":"IF(P575=\"\",ROW()/100000000,COUNTIF(過去ログ!$BQ$3:$CT$9999,基礎データ!P575)+ROW()/10000)","v":5.75E-6},"",null,574,427,null,{"$f":"IF(V575=\"\",ROW()/100000000,COUNTIF(過去ログ!$N$3:$N$9999,基礎データ!V575)+ROW()/10000)","v":5.75E-6},"",574,427,null,{"$f":"IF(AA575=\"\",ROW()/100000000,COUNTIF(過去ログ!$N$3:$Y$9999,基礎データ!AA575)+ROW()/10000)","v":5.75E-6},""]
[null,null,null,null,null,null,null,null,null,null,null,null,null,575,495,null,{"$f":"IF(P576=\"\",ROW()/100000000,COUNTIF(過去ログ!$BQ$3:$CT$9999,基礎データ!P576)+ROW()/10000)","v":5.7599999999999999E-6},"",null,575,426,null,{"$f":"IF(V576=\"\",ROW()/100000000,COUNTIF(過去ログ!$N$3:$N$9999,基礎データ!V576)+ROW()/10000)","v":5.7599999999999999E-6},"",575,426,null,{"$f":"IF(AA576=\"\",ROW()/100000000,COUNTIF(過去ログ!$N$3:$Y$9999,基礎データ!AA576)+ROW()/10000)","v":5.7599999999999999E-6},""]
[null,null,null,null,null,null,null,null,null,null,null,null,null,576,494,null,{"$f":"IF(P577=\"\",ROW()/100000000,COUNTIF(過去ログ!$BQ$3:$CT$9999,基礎データ!P577)+ROW()/10000)","v":5.7699999999999998E-6},"",null,576,425,null,{"$f":"IF(V577=\"\",ROW()/100000000,COUNTIF(過去ログ!$N$3:$N$9999,基礎データ!V577)+ROW()/10000)","v":5.7699999999999998E-6},"",576,425,null,{"$f":"IF(AA577=\"\",ROW()/100000000,COUNTIF(過去ログ!$N$3:$Y$9999,基礎データ!AA577)+ROW()/10000)","v":5.7699999999999998E-6},""]
[null,null,null,null,null,null,null,null,null,null,null,null,null,577,493,null,{"$f":"IF(P578=\"\",ROW()/100000000,COUNTIF(過去ログ!$BQ$3:$CT$9999,基礎データ!P578)+ROW()/10000)","v":5.7799999999999997E-6},"",null,577,424,null,{"$f":"IF(V578=\"\",ROW()/100000000,COUNTIF(過去ログ!$N$3:$N$9999,基礎データ!V578)+ROW()/10000)","v":5.7799999999999997E-6},"",577,424,null,{"$f":"IF(AA578=\"\",ROW()/100000000,COUNTIF(過去ログ!$N$3:$Y$9999,基礎データ!AA578)+ROW()/10000)","v":5.7799999999999997E-6},""]
[null,null,null,null,null,null,null,null,null,null,null,null,null,578,492,null,{"$f":"IF(P579=\"\",ROW()/100000000,COUNTIF(過去ログ!$BQ$3:$CT$9999,基礎データ!P579)+ROW()/10000)","v":5.7899999999999996E-6},"",null,578,423,null,{"$f":"IF(V579=\"\",ROW()/100000000,COUNTIF(過去ログ!$N$3:$N$9999,基礎データ!V579)+ROW()/10000)","v":5.7899999999999996E-6},"",578,423,null,{"$f":"IF(AA579=\"\",ROW()/100000000,COUNTIF(過去ログ!$N$3:$Y$9999,基礎データ!AA579)+ROW()/10000)","v":5.7899999999999996E-6},""]
[null,null,null,null,null,null,null,null,null,null,null,null,null,579,491,null,{"$f":"IF(P580=\"\",ROW()/100000000,COUNTIF(過去ログ!$BQ$3:$CT$9999,基礎データ!P580)+ROW()/10000)","v":5.8000000000000004E-6},"",null,579,422,null,{"$f":"IF(V580=\"\",ROW()/100000000,COUNTIF(過去ログ!$N$3:$N$9999,基礎データ!V580)+ROW()/10000)","v":5.8000000000000004E-6},"",579,422,null,{"$f":"IF(AA580=\"\",ROW()/100000000,COUNTIF(過去ログ!$N$3:$Y$9999,基礎データ!AA580)+ROW()/10000)","v":5.8000000000000004E-6},""]
[null,null,null,null,null,null,null,null,null,null,null,null,null,580,490,null,{"$f":"IF(P581=\"\",ROW()/100000000,COUNTIF(過去ログ!$BQ$3:$CT$9999,基礎データ!P581)+ROW()/10000)","v":5.8100000000000003E-6},"",null,580,{"$f":"RANK(W581,$W$2:$W$1002)","v":421},null,{"$f":"IF(V581=\"\",ROW()/100000000,COUNTIF(過去ログ!$N$3:$N$9999,基礎データ!V581)+ROW()/10000)","v":5.8100000000000003E-6},"",580,421,null,{"$f":"IF(AA581=\"\",ROW()/100000000,COUNTIF(過去ログ!$N$3:$Y$9999,基礎データ!AA581)+ROW()/10000)","v":5.8100000000000003E-6},""]
[null,null,null,null,null,null,null,null,null,null,null,null,null,581,489,null,{"$f":"IF(P582=\"\",ROW()/100000000,COUNTIF(過去ログ!$BQ$3:$CT$9999,基礎データ!P582)+ROW()/10000)","v":5.8200000000000002E-6},"",null,581,420,null,{"$f":"IF(V582=\"\",ROW()/100000000,COUNTIF(過去ログ!$N$3:$N$9999,基礎データ!V582)+ROW()/10000)","v":5.8200000000000002E-6},"",581,420,null,{"$f":"IF(AA582=\"\",ROW()/100000000,COUNTIF(過去ログ!$N$3:$Y$9999,基礎データ!AA582)+ROW()/10000)","v":5.8200000000000002E-6},""]
[null,null,null,null,null,null,null,null,null,null,null,null,null,582,488,null,{"$f":"IF(P583=\"\",ROW()/100000000,COUNTIF(過去ログ!$BQ$3:$CT$9999,基礎データ!P583)+ROW()/10000)","v":5.8300000000000001E-6},"",null,582,419,null,{"$f":"IF(V583=\"\",ROW()/100000000,COUNTIF(過去ログ!$N$3:$N$9999,基礎データ!V583)+ROW()/10000)","v":5.8300000000000001E-6},"",582,419,null,{"$f":"IF(AA583=\"\",ROW()/100000000,COUNTIF(過去ログ!$N$3:$Y$9999,基礎データ!AA583)+ROW()/10000)","v":5.8300000000000001E-6},""]
[null,null,null,null,null,null,null,null,null,null,null,null,null,583,487,null,{"$f":"IF(P584=\"\",ROW()/100000000,COUNTIF(過去ログ!$BQ$3:$CT$9999,基礎データ!P584)+ROW()/10000)","v":5.84E-6},"",null,583,418,null,{"$f":"IF(V584=\"\",ROW()/100000000,COUNTIF(過去ログ!$N$3:$N$9999,基礎データ!V584)+ROW()/10000)","v":5.84E-6},"",583,418,null,{"$f":"IF(AA584=\"\",ROW()/100000000,COUNTIF(過去ログ!$N$3:$Y$9999,基礎データ!AA584)+ROW()/10000)","v":5.84E-6},""]
[null,null,null,null,null,null,null,null,null,null,null,null,null,584,486,null,{"$f":"IF(P585=\"\",ROW()/100000000,COUNTIF(過去ログ!$BQ$3:$CT$9999,基礎データ!P585)+ROW()/10000)","v":5.8499999999999999E-6},"",null,584,417,null,{"$f":"IF(V585=\"\",ROW()/100000000,COUNTIF(過去ログ!$N$3:$N$9999,基礎データ!V585)+ROW()/10000)","v":5.8499999999999999E-6},"",584,417,null,{"$f":"IF(AA585=\"\",ROW()/100000000,COUNTIF(過去ログ!$N$3:$Y$9999,基礎データ!AA585)+ROW()/10000)","v":5.8499999999999999E-6},""]
[null,null,null,null,null,null,null,null,null,null,null,null,null,585,485,null,{"$f":"IF(P586=\"\",ROW()/100000000,COUNTIF(過去ログ!$BQ$3:$CT$9999,基礎データ!P586)+ROW()/10000)","v":5.8599999999999998E-6},"",null,585,416,null,{"$f":"IF(V586=\"\",ROW()/100000000,COUNTIF(過去ログ!$N$3:$N$9999,基礎データ!V586)+ROW()/10000)","v":5.8599999999999998E-6},"",585,416,null,{"$f":"IF(AA586=\"\",ROW()/100000000,COUNTIF(過去ログ!$N$3:$Y$9999,基礎データ!AA586)+ROW()/10000)","v":5.8599999999999998E-6},""]
[null,null,null,null,null,null,null,null,null,null,null,null,null,586,484,null,{"$f":"IF(P587=\"\",ROW()/100000000,COUNTIF(過去ログ!$BQ$3:$CT$9999,基礎データ!P587)+ROW()/10000)","v":5.8699999999999997E-6},"",null,586,415,null,{"$f":"IF(V587=\"\",ROW()/100000000,COUNTIF(過去ログ!$N$3:$N$9999,基礎データ!V587)+ROW()/10000)","v":5.8699999999999997E-6},"",586,415,null,{"$f":"IF(AA587=\"\",ROW()/100000000,COUNTIF(過去ログ!$N$3:$Y$9999,基礎データ!AA587)+ROW()/10000)","v":5.8699999999999997E-6},""]
[null,null,null,null,null,null,null,null,null,null,null,null,null,587,483,null,{"$f":"IF(P588=\"\",ROW()/100000000,COUNTIF(過去ログ!$BQ$3:$CT$9999,基礎データ!P588)+ROW()/10000)","v":5.8799999999999996E-6},"",null,587,414,null,{"$f":"IF(V588=\"\",ROW()/100000000,COUNTIF(過去ログ!$N$3:$N$9999,基礎データ!V588)+ROW()/10000)","v":5.8799999999999996E-6},"",587,414,null,{"$f":"IF(AA588=\"\",ROW()/100000000,COUNTIF(過去ログ!$N$3:$Y$9999,基礎データ!AA588)+ROW()/10000)","v":5.8799999999999996E-6},""]
[null,null,null,null,null,null,null,null,null,null,null,null,null,588,482,null,{"$f":"IF(P589=\"\",ROW()/100000000,COUNTIF(過去ログ!$BQ$3:$CT$9999,基礎データ!P589)+ROW()/10000)","v":5.8900000000000004E-6},"",null,588,413,null,{"$f":"IF(V589=\"\",ROW()/100000000,COUNTIF(過去ログ!$N$3:$N$9999,基礎データ!V589)+ROW()/10000)","v":5.8900000000000004E-6},"",588,413,null,{"$f":"IF(AA589=\"\",ROW()/100000000,COUNTIF(過去ログ!$N$3:$Y$9999,基礎データ!AA589)+ROW()/10000)","v":5.8900000000000004E-6},""]
[null,null,null,null,null,null,null,null,null,null,null,null,null,589,481,null,{"$f":"IF(P590=\"\",ROW()/100000000,COUNTIF(過去ログ!$BQ$3:$CT$9999,基礎データ!P590)+ROW()/10000)","v":5.9000000000000003E-6},"",null,589,412,null,{"$f":"IF(V590=\"\",ROW()/100000000,COUNTIF(過去ログ!$N$3:$N$9999,基礎データ!V590)+ROW()/10000)","v":5.9000000000000003E-6},"",589,412,null,{"$f":"IF(AA590=\"\",ROW()/100000000,COUNTIF(過去ログ!$N$3:$Y$9999,基礎データ!AA590)+ROW()/10000)","v":5.9000000000000003E-6},""]
[null,null,null,null,null,null,null,null,null,null,null,null,null,590,480,null,{"$f":"IF(P591=\"\",ROW()/100000000,COUNTIF(過去ログ!$BQ$3:$CT$9999,基礎データ!P591)+ROW()/10000)","v":5.9100000000000002E-6},"",null,590,411,null,{"$f":"IF(V591=\"\",ROW()/100000000,COUNTIF(過去ログ!$N$3:$N$9999,基礎データ!V591)+ROW()/10000)","v":5.9100000000000002E-6},{"$f":"IF(VLOOKUP(T591,$U$2:$V$1002,2,FALSE)=0,\"\",VLOOKUP(T591,$U$2:$V$1002,2,FALSE))","v":""},590,411,null,{"$f":"IF(AA591=\"\",ROW()/100000000,COUNTIF(過去ログ!$N$3:$Y$9999,基礎データ!AA591)+ROW()/10000)","v":5.9100000000000002E-6},""]
[null,null,null,null,null,null,null,null,null,null,null,null,null,591,479,null,{"$f":"IF(P592=\"\",ROW()/100000000,COUNTIF(過去ログ!$BQ$3:$CT$9999,基礎データ!P592)+ROW()/10000)","v":5.9200000000000001E-6},"",null,591,410,null,{"$f":"IF(V592=\"\",ROW()/100000000,COUNTIF(過去ログ!$N$3:$N$9999,基礎データ!V592)+ROW()/10000)","v":5.9200000000000001E-6},"",591,410,null,{"$f":"IF(AA592=\"\",ROW()/100000000,COUNTIF(過去ログ!$N$3:$Y$9999,基礎データ!AA592)+ROW()/10000)","v":5.9200000000000001E-6},""]
[null,null,null,null,null,null,null,null,null,null,null,null,null,592,478,null,{"$f":"IF(P593=\"\",ROW()/100000000,COUNTIF(過去ログ!$BQ$3:$CT$9999,基礎データ!P593)+ROW()/10000)","v":5.93E-6},"",null,592,409,null,{"$f":"IF(V593=\"\",ROW()/100000000,COUNTIF(過去ログ!$N$3:$N$9999,基礎データ!V593)+ROW()/10000)","v":5.93E-6},"",592,409,null,{"$f":"IF(AA593=\"\",ROW()/100000000,COUNTIF(過去ログ!$N$3:$Y$9999,基礎データ!AA593)+ROW()/10000)","v":5.93E-6},""]
[null,null,null,null,null,null,null,null,null,null,null,null,null,593,477,null,{"$f":"IF(P594=\"\",ROW()/100000000,COUNTIF(過去ログ!$BQ$3:$CT$9999,基礎データ!P594)+ROW()/10000)","v":5.9399999999999999E-6},"",null,593,408,null,{"$f":"IF(V594=\"\",ROW()/100000000,COUNTIF(過去ログ!$N$3:$N$9999,基礎データ!V594)+ROW()/10000)","v":5.9399999999999999E-6},"",593,408,null,{"$f":"IF(AA594=\"\",ROW()/100000000,COUNTIF(過去ログ!$N$3:$Y$9999,基礎データ!AA594)+ROW()/10000)","v":5.9399999999999999E-6},""]
[null,null,null,null,null,null,null,null,null,null,null,null,null,594,476,null,{"$f":"IF(P595=\"\",ROW()/100000000,COUNTIF(過去ログ!$BQ$3:$CT$9999,基礎データ!P595)+ROW()/10000)","v":5.9499999999999998E-6},"",null,594,407,null,{"$f":"IF(V595=\"\",ROW()/100000000,COUNTIF(過去ログ!$N$3:$N$9999,基礎データ!V595)+ROW()/10000)","v":5.9499999999999998E-6},"",594,407,null,{"$f":"IF(AA595=\"\",ROW()/100000000,COUNTIF(過去ログ!$N$3:$Y$9999,基礎データ!AA595)+ROW()/10000)","v":5.9499999999999998E-6},""]
[null,null,null,null,null,null,null,null,null,null,null,null,null,595,475,null,{"$f":"IF(P596=\"\",ROW()/100000000,COUNTIF(過去ログ!$BQ$3:$CT$9999,基礎データ!P596)+ROW()/10000)","v":5.9599999999999997E-6},"",null,595,406,null,{"$f":"IF(V596=\"\",ROW()/100000000,COUNTIF(過去ログ!$N$3:$N$9999,基礎データ!V596)+ROW()/10000)","v":5.9599999999999997E-6},"",595,406,null,{"$f":"IF(AA596=\"\",ROW()/100000000,COUNTIF(過去ログ!$N$3:$Y$9999,基礎データ!AA596)+ROW()/10000)","v":5.9599999999999997E-6},""]
[null,null,null,null,null,null,null,null,null,null,null,null,null,596,474,null,{"$f":"IF(P597=\"\",ROW()/100000000,COUNTIF(過去ログ!$BQ$3:$CT$9999,基礎データ!P597)+ROW()/10000)","v":5.9699999999999996E-6},"",null,596,405,null,{"$f":"IF(V597=\"\",ROW()/100000000,COUNTIF(過去ログ!$N$3:$N$9999,基礎データ!V597)+ROW()/10000)","v":5.9699999999999996E-6},"",596,405,null,{"$f":"IF(AA597=\"\",ROW()/100000000,COUNTIF(過去ログ!$N$3:$Y$9999,基礎データ!AA597)+ROW()/10000)","v":5.9699999999999996E-6},""]
[null,null,null,null,null,null,null,null,null,null,null,null,null,597,473,null,{"$f":"IF(P598=\"\",ROW()/100000000,COUNTIF(過去ログ!$BQ$3:$CT$9999,基礎データ!P598)+ROW()/10000)","v":5.9800000000000003E-6},"",null,597,404,null,{"$f":"IF(V598=\"\",ROW()/100000000,COUNTIF(過去ログ!$N$3:$N$9999,基礎データ!V598)+ROW()/10000)","v":5.9800000000000003E-6},"",597,404,null,{"$f":"IF(AA598=\"\",ROW()/100000000,COUNTIF(過去ログ!$N$3:$Y$9999,基礎データ!AA598)+ROW()/10000)","v":5.9800000000000003E-6},""]
[null,null,null,null,null,null,null,null,null,null,null,null,null,598,472,null,{"$f":"IF(P599=\"\",ROW()/100000000,COUNTIF(過去ログ!$BQ$3:$CT$9999,基礎データ!P599)+ROW()/10000)","v":5.9900000000000002E-6},"",null,598,403,null,{"$f":"IF(V599=\"\",ROW()/100000000,COUNTIF(過去ログ!$N$3:$N$9999,基礎データ!V599)+ROW()/10000)","v":5.9900000000000002E-6},"",598,403,null,{"$f":"IF(AA599=\"\",ROW()/100000000,COUNTIF(過去ログ!$N$3:$Y$9999,基礎データ!AA599)+ROW()/10000)","v":5.9900000000000002E-6},""]
[null,null,null,null,null,null,null,null,null,null,null,null,null,599,471,null,{"$f":"IF(P600=\"\",ROW()/100000000,COUNTIF(過去ログ!$BQ$3:$CT$9999,基礎データ!P600)+ROW()/10000)","v":6.0000000000000002E-6},"",null,599,402,null,{"$f":"IF(V600=\"\",ROW()/100000000,COUNTIF(過去ログ!$N$3:$N$9999,基礎データ!V600)+ROW()/10000)","v":6.0000000000000002E-6},"",599,402,null,{"$f":"IF(AA600=\"\",ROW()/100000000,COUNTIF(過去ログ!$N$3:$Y$9999,基礎データ!AA600)+ROW()/10000)","v":6.0000000000000002E-6},""]
[null,null,null,null,null,null,null,null,null,null,null,null,null,600,470,null,{"$f":"IF(P601=\"\",ROW()/100000000,COUNTIF(過去ログ!$BQ$3:$CT$9999,基礎データ!P601)+ROW()/10000)","v":6.0100000000000001E-6},"",null,600,401,null,{"$f":"IF(V601=\"\",ROW()/100000000,COUNTIF(過去ログ!$N$3:$N$9999,基礎データ!V601)+ROW()/10000)","v":6.0100000000000001E-6},"",600,401,null,{"$f":"IF(AA601=\"\",ROW()/100000000,COUNTIF(過去ログ!$N$3:$Y$9999,基礎データ!AA601)+ROW()/10000)","v":6.0100000000000001E-6},""]
[null,null,null,null,null,null,null,null,null,null,null,null,null,601,469,null,{"$f":"IF(P602=\"\",ROW()/100000000,COUNTIF(過去ログ!$BQ$3:$CT$9999,基礎データ!P602)+ROW()/10000)","v":6.02E-6},"",null,601,400,null,{"$f":"IF(V602=\"\",ROW()/100000000,COUNTIF(過去ログ!$N$3:$N$9999,基礎データ!V602)+ROW()/10000)","v":6.02E-6},"",601,400,null,{"$f":"IF(AA602=\"\",ROW()/100000000,COUNTIF(過去ログ!$N$3:$Y$9999,基礎データ!AA602)+ROW()/10000)","v":6.02E-6},""]
[null,null,null,null,null,null,null,null,null,null,null,null,null,602,468,null,{"$f":"IF(P603=\"\",ROW()/100000000,COUNTIF(過去ログ!$BQ$3:$CT$9999,基礎データ!P603)+ROW()/10000)","v":6.0299999999999999E-6},"",null,602,399,null,{"$f":"IF(V603=\"\",ROW()/100000000,COUNTIF(過去ログ!$N$3:$N$9999,基礎データ!V603)+ROW()/10000)","v":6.0299999999999999E-6},"",602,399,null,{"$f":"IF(AA603=\"\",ROW()/100000000,COUNTIF(過去ログ!$N$3:$Y$9999,基礎データ!AA603)+ROW()/10000)","v":6.0299999999999999E-6},""]
[null,null,null,null,null,null,null,null,null,null,null,null,null,603,467,null,{"$f":"IF(P604=\"\",ROW()/100000000,COUNTIF(過去ログ!$BQ$3:$CT$9999,基礎データ!P604)+ROW()/10000)","v":6.0399999999999998E-6},"",null,603,398,null,{"$f":"IF(V604=\"\",ROW()/100000000,COUNTIF(過去ログ!$N$3:$N$9999,基礎データ!V604)+ROW()/10000)","v":6.0399999999999998E-6},"",603,398,null,{"$f":"IF(AA604=\"\",ROW()/100000000,COUNTIF(過去ログ!$N$3:$Y$9999,基礎データ!AA604)+ROW()/10000)","v":6.0399999999999998E-6},""]
[null,null,null,null,null,null,null,null,null,null,null,null,null,604,466,null,{"$f":"IF(P605=\"\",ROW()/100000000,COUNTIF(過去ログ!$BQ$3:$CT$9999,基礎データ!P605)+ROW()/10000)","v":6.0499999999999997E-6},"",null,604,397,null,{"$f":"IF(V605=\"\",ROW()/100000000,COUNTIF(過去ログ!$N$3:$N$9999,基礎データ!V605)+ROW()/10000)","v":6.0499999999999997E-6},"",604,397,null,{"$f":"IF(AA605=\"\",ROW()/100000000,COUNTIF(過去ログ!$N$3:$Y$9999,基礎データ!AA605)+ROW()/10000)","v":6.0499999999999997E-6},""]
[null,null,null,null,null,null,null,null,null,null,null,null,null,605,465,null,{"$f":"IF(P606=\"\",ROW()/100000000,COUNTIF(過去ログ!$BQ$3:$CT$9999,基礎データ!P606)+ROW()/10000)","v":6.0599999999999996E-6},"",null,605,396,null,{"$f":"IF(V606=\"\",ROW()/100000000,COUNTIF(過去ログ!$N$3:$N$9999,基礎データ!V606)+ROW()/10000)","v":6.0599999999999996E-6},"",605,396,null,{"$f":"IF(AA606=\"\",ROW()/100000000,COUNTIF(過去ログ!$N$3:$Y$9999,基礎データ!AA606)+ROW()/10000)","v":6.0599999999999996E-6},""]
[null,null,null,null,null,null,null,null,null,null,null,null,null,606,464,null,{"$f":"IF(P607=\"\",ROW()/100000000,COUNTIF(過去ログ!$BQ$3:$CT$9999,基礎データ!P607)+ROW()/10000)","v":6.0700000000000003E-6},"",null,606,395,null,{"$f":"IF(V607=\"\",ROW()/100000000,COUNTIF(過去ログ!$N$3:$N$9999,基礎データ!V607)+ROW()/10000)","v":6.0700000000000003E-6},"",606,395,null,{"$f":"IF(AA607=\"\",ROW()/100000000,COUNTIF(過去ログ!$N$3:$Y$9999,基礎データ!AA607)+ROW()/10000)","v":6.0700000000000003E-6},""]
[null,null,null,null,null,null,null,null,null,null,null,null,null,607,{"$f":"RANK(Q608,$Q$2:$Q$1002)","v":463},null,{"$f":"IF(P608=\"\",ROW()/100000000,COUNTIF(過去ログ!$BQ$3:$CT$9999,基礎データ!P608)+ROW()/10000)","v":6.0800000000000002E-6},"",null,607,394,null,{"$f":"IF(V608=\"\",ROW()/100000000,COUNTIF(過去ログ!$N$3:$N$9999,基礎データ!V608)+ROW()/10000)","v":6.0800000000000002E-6},"",607,394,null,{"$f":"IF(AA608=\"\",ROW()/100000000,COUNTIF(過去ログ!$N$3:$Y$9999,基礎データ!AA608)+ROW()/10000)","v":6.0800000000000002E-6},""]
[null,null,null,null,null,null,null,null,null,null,null,null,null,608,462,null,{"$f":"IF(P609=\"\",ROW()/100000000,COUNTIF(過去ログ!$BQ$3:$CT$9999,基礎データ!P609)+ROW()/10000)","v":6.0900000000000001E-6},"",null,608,393,null,{"$f":"IF(V609=\"\",ROW()/100000000,COUNTIF(過去ログ!$N$3:$N$9999,基礎データ!V609)+ROW()/10000)","v":6.0900000000000001E-6},"",608,393,null,{"$f":"IF(AA609=\"\",ROW()/100000000,COUNTIF(過去ログ!$N$3:$Y$9999,基礎データ!AA609)+ROW()/10000)","v":6.0900000000000001E-6},""]
[null,null,null,null,null,null,null,null,null,null,null,null,null,609,461,null,{"$f":"IF(P610=\"\",ROW()/100000000,COUNTIF(過去ログ!$BQ$3:$CT$9999,基礎データ!P610)+ROW()/10000)","v":6.1E-6},"",null,609,392,null,{"$f":"IF(V610=\"\",ROW()/100000000,COUNTIF(過去ログ!$N$3:$N$9999,基礎データ!V610)+ROW()/10000)","v":6.1E-6},"",609,392,null,{"$f":"IF(AA610=\"\",ROW()/100000000,COUNTIF(過去ログ!$N$3:$Y$9999,基礎データ!AA610)+ROW()/10000)","v":6.1E-6},""]
[null,null,null,null,null,null,null,null,null,null,null,null,null,610,460,null,{"$f":"IF(P611=\"\",ROW()/100000000,COUNTIF(過去ログ!$BQ$3:$CT$9999,基礎データ!P611)+ROW()/10000)","v":6.1099999999999999E-6},"",null,610,391,null,{"$f":"IF(V611=\"\",ROW()/100000000,COUNTIF(過去ログ!$N$3:$N$9999,基礎データ!V611)+ROW()/10000)","v":6.1099999999999999E-6},"",610,391,null,{"$f":"IF(AA611=\"\",ROW()/100000000,COUNTIF(過去ログ!$N$3:$Y$9999,基礎データ!AA611)+ROW()/10000)","v":6.1099999999999999E-6},""]
[null,null,null,null,null,null,null,null,null,null,null,null,null,611,459,null,{"$f":"IF(P612=\"\",ROW()/100000000,COUNTIF(過去ログ!$BQ$3:$CT$9999,基礎データ!P612)+ROW()/10000)","v":6.1199999999999999E-6},"",null,611,390,null,{"$f":"IF(V612=\"\",ROW()/100000000,COUNTIF(過去ログ!$N$3:$N$9999,基礎データ!V612)+ROW()/10000)","v":6.1199999999999999E-6},"",611,390,null,{"$f":"IF(AA612=\"\",ROW()/100000000,COUNTIF(過去ログ!$N$3:$Y$9999,基礎データ!AA612)+ROW()/10000)","v":6.1199999999999999E-6},""]
[null,null,null,null,null,null,null,null,null,null,null,null,null,612,458,null,{"$f":"IF(P613=\"\",ROW()/100000000,COUNTIF(過去ログ!$BQ$3:$CT$9999,基礎データ!P613)+ROW()/10000)","v":6.1299999999999998E-6},"",null,612,389,null,{"$f":"IF(V613=\"\",ROW()/100000000,COUNTIF(過去ログ!$N$3:$N$9999,基礎データ!V613)+ROW()/10000)","v":6.1299999999999998E-6},"",612,389,null,{"$f":"IF(AA613=\"\",ROW()/100000000,COUNTIF(過去ログ!$N$3:$Y$9999,基礎データ!AA613)+ROW()/10000)","v":6.1299999999999998E-6},""]
[null,null,null,null,null,null,null,null,null,null,null,null,null,613,457,null,{"$f":"IF(P614=\"\",ROW()/100000000,COUNTIF(過去ログ!$BQ$3:$CT$9999,基礎データ!P614)+ROW()/10000)","v":6.1399999999999997E-6},{"$f":"IF(P614=\"\",\"\",VLOOKUP(N614,$O$2:$P$1002,2,FALSE))","v":""},null,613,388,null,{"$f":"IF(V614=\"\",ROW()/100000000,COUNTIF(過去ログ!$N$3:$N$9999,基礎データ!V614)+ROW()/10000)","v":6.1399999999999997E-6},"",613,388,null,{"$f":"IF(AA614=\"\",ROW()/100000000,COUNTIF(過去ログ!$N$3:$Y$9999,基礎データ!AA614)+ROW()/10000)","v":6.1399999999999997E-6},""]
[null,null,null,null,null,null,null,null,null,null,null,null,null,614,456,null,{"$f":"IF(P615=\"\",ROW()/100000000,COUNTIF(過去ログ!$BQ$3:$CT$9999,基礎データ!P615)+ROW()/10000)","v":6.1500000000000004E-6},"",null,614,387,null,{"$f":"IF(V615=\"\",ROW()/100000000,COUNTIF(過去ログ!$N$3:$N$9999,基礎データ!V615)+ROW()/10000)","v":6.1500000000000004E-6},"",614,387,null,{"$f":"IF(AA615=\"\",ROW()/100000000,COUNTIF(過去ログ!$N$3:$Y$9999,基礎データ!AA615)+ROW()/10000)","v":6.1500000000000004E-6},""]
[null,null,null,null,null,null,null,null,null,null,null,null,null,615,455,null,{"$f":"IF(P616=\"\",ROW()/100000000,COUNTIF(過去ログ!$BQ$3:$CT$9999,基礎データ!P616)+ROW()/10000)","v":6.1600000000000003E-6},"",null,615,386,null,{"$f":"IF(V616=\"\",ROW()/100000000,COUNTIF(過去ログ!$N$3:$N$9999,基礎データ!V616)+ROW()/10000)","v":6.1600000000000003E-6},"",615,386,null,{"$f":"IF(AA616=\"\",ROW()/100000000,COUNTIF(過去ログ!$N$3:$Y$9999,基礎データ!AA616)+ROW()/10000)","v":6.1600000000000003E-6},""]
[null,null,null,null,null,null,null,null,null,null,null,null,null,616,454,null,{"$f":"IF(P617=\"\",ROW()/100000000,COUNTIF(過去ログ!$BQ$3:$CT$9999,基礎データ!P617)+ROW()/10000)","v":6.1700000000000002E-6},"",null,616,385,null,{"$f":"IF(V617=\"\",ROW()/100000000,COUNTIF(過去ログ!$N$3:$N$9999,基礎データ!V617)+ROW()/10000)","v":6.1700000000000002E-6},"",616,385,null,{"$f":"IF(AA617=\"\",ROW()/100000000,COUNTIF(過去ログ!$N$3:$Y$9999,基礎データ!AA617)+ROW()/10000)","v":6.1700000000000002E-6},""]
[null,null,null,null,null,null,null,null,null,null,null,null,null,617,453,null,{"$f":"IF(P618=\"\",ROW()/100000000,COUNTIF(過去ログ!$BQ$3:$CT$9999,基礎データ!P618)+ROW()/10000)","v":6.1800000000000001E-6},"",null,617,384,null,{"$f":"IF(V618=\"\",ROW()/100000000,COUNTIF(過去ログ!$N$3:$N$9999,基礎データ!V618)+ROW()/10000)","v":6.1800000000000001E-6},"",617,384,null,{"$f":"IF(AA618=\"\",ROW()/100000000,COUNTIF(過去ログ!$N$3:$Y$9999,基礎データ!AA618)+ROW()/10000)","v":6.1800000000000001E-6},""]
[null,null,null,null,null,null,null,null,null,null,null,null,null,618,452,null,{"$f":"IF(P619=\"\",ROW()/100000000,COUNTIF(過去ログ!$BQ$3:$CT$9999,基礎データ!P619)+ROW()/10000)","v":6.19E-6},"",null,618,383,null,{"$f":"IF(V619=\"\",ROW()/100000000,COUNTIF(過去ログ!$N$3:$N$9999,基礎データ!V619)+ROW()/10000)","v":6.19E-6},"",618,383,null,{"$f":"IF(AA619=\"\",ROW()/100000000,COUNTIF(過去ログ!$N$3:$Y$9999,基礎データ!AA619)+ROW()/10000)","v":6.19E-6},""]
[null,null,null,null,null,null,null,null,null,null,null,null,null,619,451,null,{"$f":"IF(P620=\"\",ROW()/100000000,COUNTIF(過去ログ!$BQ$3:$CT$9999,基礎データ!P620)+ROW()/10000)","v":6.1999999999999999E-6},"",null,619,382,null,{"$f":"IF(V620=\"\",ROW()/100000000,COUNTIF(過去ログ!$N$3:$N$9999,基礎データ!V620)+ROW()/10000)","v":6.1999999999999999E-6},"",619,382,null,{"$f":"IF(AA620=\"\",ROW()/100000000,COUNTIF(過去ログ!$N$3:$Y$9999,基礎データ!AA620)+ROW()/10000)","v":6.1999999999999999E-6},""]
[null,null,null,null,null,null,null,null,null,null,null,null,null,620,450,null,{"$f":"IF(P621=\"\",ROW()/100000000,COUNTIF(過去ログ!$BQ$3:$CT$9999,基礎データ!P621)+ROW()/10000)","v":6.2099999999999998E-6},"",null,620,381,null,{"$f":"IF(V621=\"\",ROW()/100000000,COUNTIF(過去ログ!$N$3:$N$9999,基礎データ!V621)+ROW()/10000)","v":6.2099999999999998E-6},"",620,381,null,{"$f":"IF(AA621=\"\",ROW()/100000000,COUNTIF(過去ログ!$N$3:$Y$9999,基礎データ!AA621)+ROW()/10000)","v":6.2099999999999998E-6},""]
[null,null,null,null,null,null,null,null,null,null,null,null,null,621,449,null,{"$f":"IF(P622=\"\",ROW()/100000000,COUNTIF(過去ログ!$BQ$3:$CT$9999,基礎データ!P622)+ROW()/10000)","v":6.2199999999999997E-6},"",null,621,380,null,{"$f":"IF(V622=\"\",ROW()/100000000,COUNTIF(過去ログ!$N$3:$N$9999,基礎データ!V622)+ROW()/10000)","v":6.2199999999999997E-6},"",621,380,null,{"$f":"IF(AA622=\"\",ROW()/100000000,COUNTIF(過去ログ!$N$3:$Y$9999,基礎データ!AA622)+ROW()/10000)","v":6.2199999999999997E-6},""]
[null,null,null,null,null,null,null,null,null,null,null,null,null,622,448,null,{"$f":"IF(P623=\"\",ROW()/100000000,COUNTIF(過去ログ!$BQ$3:$CT$9999,基礎データ!P623)+ROW()/10000)","v":6.2299999999999996E-6},"",null,622,379,null,{"$f":"IF(V623=\"\",ROW()/100000000,COUNTIF(過去ログ!$N$3:$N$9999,基礎データ!V623)+ROW()/10000)","v":6.2299999999999996E-6},"",622,379,null,{"$f":"IF(AA623=\"\",ROW()/100000000,COUNTIF(過去ログ!$N$3:$Y$9999,基礎データ!AA623)+ROW()/10000)","v":6.2299999999999996E-6},""]
[null,null,null,null,null,null,null,null,null,null,null,null,null,623,447,null,{"$f":"IF(P624=\"\",ROW()/100000000,COUNTIF(過去ログ!$BQ$3:$CT$9999,基礎データ!P624)+ROW()/10000)","v":6.2400000000000004E-6},"",null,623,378,null,{"$f":"IF(V624=\"\",ROW()/100000000,COUNTIF(過去ログ!$N$3:$N$9999,基礎データ!V624)+ROW()/10000)","v":6.2400000000000004E-6},"",623,378,null,{"$f":"IF(AA624=\"\",ROW()/100000000,COUNTIF(過去ログ!$N$3:$Y$9999,基礎データ!AA624)+ROW()/10000)","v":6.2400000000000004E-6},""]
[null,null,null,null,null,null,null,null,null,null,null,null,null,624,446,null,{"$f":"IF(P625=\"\",ROW()/100000000,COUNTIF(過去ログ!$BQ$3:$CT$9999,基礎データ!P625)+ROW()/10000)","v":6.2500000000000003E-6},"",null,624,377,null,{"$f":"IF(V625=\"\",ROW()/100000000,COUNTIF(過去ログ!$N$3:$N$9999,基礎データ!V625)+ROW()/10000)","v":6.2500000000000003E-6},"",624,377,null,{"$f":"IF(AA625=\"\",ROW()/100000000,COUNTIF(過去ログ!$N$3:$Y$9999,基礎データ!AA625)+ROW()/10000)","v":6.2500000000000003E-6},""]
[null,null,null,null,null,null,null,null,null,null,null,null,null,625,445,null,{"$f":"IF(P626=\"\",ROW()/100000000,COUNTIF(過去ログ!$BQ$3:$CT$9999,基礎データ!P626)+ROW()/10000)","v":6.2600000000000002E-6},"",null,625,376,null,{"$f":"IF(V626=\"\",ROW()/100000000,COUNTIF(過去ログ!$N$3:$N$9999,基礎データ!V626)+ROW()/10000)","v":6.2600000000000002E-6},"",625,376,null,{"$f":"IF(AA626=\"\",ROW()/100000000,COUNTIF(過去ログ!$N$3:$Y$9999,基礎データ!AA626)+ROW()/10000)","v":6.2600000000000002E-6},""]
[null,null,null,null,null,null,null,null,null,null,null,null,null,626,444,null,{"$f":"IF(P627=\"\",ROW()/100000000,COUNTIF(過去ログ!$BQ$3:$CT$9999,基礎データ!P627)+ROW()/10000)","v":6.2700000000000001E-6},"",null,626,375,null,{"$f":"IF(V627=\"\",ROW()/100000000,COUNTIF(過去ログ!$N$3:$N$9999,基礎データ!V627)+ROW()/10000)","v":6.2700000000000001E-6},"",626,375,null,{"$f":"IF(AA627=\"\",ROW()/100000000,COUNTIF(過去ログ!$N$3:$Y$9999,基礎データ!AA627)+ROW()/10000)","v":6.2700000000000001E-6},{"$f":"IF(VLOOKUP(Y627,$Z$2:$AA$1002,2,FALSE)=0,\"\",VLOOKUP(Y627,$Z$2:$AA$1002,2,FALSE))","v":""}]
[null,null,null,null,null,null,null,null,null,null,null,null,null,627,443,null,{"$f":"IF(P628=\"\",ROW()/100000000,COUNTIF(過去ログ!$BQ$3:$CT$9999,基礎データ!P628)+ROW()/10000)","v":6.28E-6},"",null,627,374,null,{"$f":"IF(V628=\"\",ROW()/100000000,COUNTIF(過去ログ!$N$3:$N$9999,基礎データ!V628)+ROW()/10000)","v":6.28E-6},"",627,374,null,{"$f":"IF(AA628=\"\",ROW()/100000000,COUNTIF(過去ログ!$N$3:$Y$9999,基礎データ!AA628)+ROW()/10000)","v":6.28E-6},""]
[null,null,null,null,null,null,null,null,null,null,null,null,null,628,442,null,{"$f":"IF(P629=\"\",ROW()/100000000,COUNTIF(過去ログ!$BQ$3:$CT$9999,基礎データ!P629)+ROW()/10000)","v":6.2899999999999999E-6},"",null,628,373,null,{"$f":"IF(V629=\"\",ROW()/100000000,COUNTIF(過去ログ!$N$3:$N$9999,基礎データ!V629)+ROW()/10000)","v":6.2899999999999999E-6},"",628,373,null,{"$f":"IF(AA629=\"\",ROW()/100000000,COUNTIF(過去ログ!$N$3:$Y$9999,基礎データ!AA629)+ROW()/10000)","v":6.2899999999999999E-6},""]
[null,null,null,null,null,null,null,null,null,null,null,null,null,629,441,null,{"$f":"IF(P630=\"\",ROW()/100000000,COUNTIF(過去ログ!$BQ$3:$CT$9999,基礎データ!P630)+ROW()/10000)","v":6.2999999999999998E-6},"",null,629,372,null,{"$f":"IF(V630=\"\",ROW()/100000000,COUNTIF(過去ログ!$N$3:$N$9999,基礎データ!V630)+ROW()/10000)","v":6.2999999999999998E-6},"",629,372,null,{"$f":"IF(AA630=\"\",ROW()/100000000,COUNTIF(過去ログ!$N$3:$Y$9999,基礎データ!AA630)+ROW()/10000)","v":6.2999999999999998E-6},""]
[null,null,null,null,null,null,null,null,null,null,null,null,null,630,440,null,{"$f":"IF(P631=\"\",ROW()/100000000,COUNTIF(過去ログ!$BQ$3:$CT$9999,基礎データ!P631)+ROW()/10000)","v":6.3099999999999997E-6},"",null,630,371,null,{"$f":"IF(V631=\"\",ROW()/100000000,COUNTIF(過去ログ!$N$3:$N$9999,基礎データ!V631)+ROW()/10000)","v":6.3099999999999997E-6},"",630,371,null,{"$f":"IF(AA631=\"\",ROW()/100000000,COUNTIF(過去ログ!$N$3:$Y$9999,基礎データ!AA631)+ROW()/10000)","v":6.3099999999999997E-6},""]
[null,null,null,null,null,null,null,null,null,null,null,null,null,631,439,null,{"$f":"IF(P632=\"\",ROW()/100000000,COUNTIF(過去ログ!$BQ$3:$CT$9999,基礎データ!P632)+ROW()/10000)","v":6.3199999999999996E-6},"",null,631,370,null,{"$f":"IF(V632=\"\",ROW()/100000000,COUNTIF(過去ログ!$N$3:$N$9999,基礎データ!V632)+ROW()/10000)","v":6.3199999999999996E-6},"",631,{"$f":"RANK(AB632,$AB$2:$AB$1002)","v":370},null,{"$f":"IF(AA632=\"\",ROW()/100000000,COUNTIF(過去ログ!$N$3:$Y$9999,基礎データ!AA632)+ROW()/10000)","v":6.3199999999999996E-6},""]
[null,null,null,null,null,null,null,null,null,null,null,null,null,632,438,null,{"$f":"IF(P633=\"\",ROW()/100000000,COUNTIF(過去ログ!$BQ$3:$CT$9999,基礎データ!P633)+ROW()/10000)","v":6.3300000000000004E-6},"",null,632,369,null,{"$f":"IF(V633=\"\",ROW()/100000000,COUNTIF(過去ログ!$N$3:$N$9999,基礎データ!V633)+ROW()/10000)","v":6.3300000000000004E-6},"",632,369,null,{"$f":"IF(AA633=\"\",ROW()/100000000,COUNTIF(過去ログ!$N$3:$Y$9999,基礎データ!AA633)+ROW()/10000)","v":6.3300000000000004E-6},""]
[null,null,null,null,null,null,null,null,null,null,null,null,null,633,437,null,{"$f":"IF(P634=\"\",ROW()/100000000,COUNTIF(過去ログ!$BQ$3:$CT$9999,基礎データ!P634)+ROW()/10000)","v":6.3400000000000003E-6},"",null,633,368,null,{"$f":"IF(V634=\"\",ROW()/100000000,COUNTIF(過去ログ!$N$3:$N$9999,基礎データ!V634)+ROW()/10000)","v":6.3400000000000003E-6},"",633,368,null,{"$f":"IF(AA634=\"\",ROW()/100000000,COUNTIF(過去ログ!$N$3:$Y$9999,基礎データ!AA634)+ROW()/10000)","v":6.3400000000000003E-6},""]
[null,null,null,null,null,null,null,null,null,null,null,null,null,634,436,null,{"$f":"IF(P635=\"\",ROW()/100000000,COUNTIF(過去ログ!$BQ$3:$CT$9999,基礎データ!P635)+ROW()/10000)","v":6.3500000000000002E-6},"",null,634,367,null,{"$f":"IF(V635=\"\",ROW()/100000000,COUNTIF(過去ログ!$N$3:$N$9999,基礎データ!V635)+ROW()/10000)","v":6.3500000000000002E-6},"",634,367,null,{"$f":"IF(AA635=\"\",ROW()/100000000,COUNTIF(過去ログ!$N$3:$Y$9999,基礎データ!AA635)+ROW()/10000)","v":6.3500000000000002E-6},""]
[null,null,null,null,null,null,null,null,null,null,null,null,null,635,435,null,{"$f":"IF(P636=\"\",ROW()/100000000,COUNTIF(過去ログ!$BQ$3:$CT$9999,基礎データ!P636)+ROW()/10000)","v":6.3600000000000001E-6},"",null,635,366,null,{"$f":"IF(V636=\"\",ROW()/100000000,COUNTIF(過去ログ!$N$3:$N$9999,基礎データ!V636)+ROW()/10000)","v":6.3600000000000001E-6},"",635,366,null,{"$f":"IF(AA636=\"\",ROW()/100000000,COUNTIF(過去ログ!$N$3:$Y$9999,基礎データ!AA636)+ROW()/10000)","v":6.3600000000000001E-6},""]
[null,null,null,null,null,null,null,null,null,null,null,null,null,636,434,null,{"$f":"IF(P637=\"\",ROW()/100000000,COUNTIF(過去ログ!$BQ$3:$CT$9999,基礎データ!P637)+ROW()/10000)","v":6.37E-6},"",null,636,365,null,{"$f":"IF(V637=\"\",ROW()/100000000,COUNTIF(過去ログ!$N$3:$N$9999,基礎データ!V637)+ROW()/10000)","v":6.37E-6},"",636,365,null,{"$f":"IF(AA637=\"\",ROW()/100000000,COUNTIF(過去ログ!$N$3:$Y$9999,基礎データ!AA637)+ROW()/10000)","v":6.37E-6},""]
[null,null,null,null,null,null,null,null,null,null,null,null,null,637,433,null,{"$f":"IF(P638=\"\",ROW()/100000000,COUNTIF(過去ログ!$BQ$3:$CT$9999,基礎データ!P638)+ROW()/10000)","v":6.3799999999999999E-6},"",null,637,364,null,{"$f":"IF(V638=\"\",ROW()/100000000,COUNTIF(過去ログ!$N$3:$N$9999,基礎データ!V638)+ROW()/10000)","v":6.3799999999999999E-6},"",637,364,null,{"$f":"IF(AA638=\"\",ROW()/100000000,COUNTIF(過去ログ!$N$3:$Y$9999,基礎データ!AA638)+ROW()/10000)","v":6.3799999999999999E-6},""]
[null,null,null,null,null,null,null,null,null,null,null,null,null,638,432,null,{"$f":"IF(P639=\"\",ROW()/100000000,COUNTIF(過去ログ!$BQ$3:$CT$9999,基礎データ!P639)+ROW()/10000)","v":6.3899999999999998E-6},"",null,638,363,null,{"$f":"IF(V639=\"\",ROW()/100000000,COUNTIF(過去ログ!$N$3:$N$9999,基礎データ!V639)+ROW()/10000)","v":6.3899999999999998E-6},"",638,363,null,{"$f":"IF(AA639=\"\",ROW()/100000000,COUNTIF(過去ログ!$N$3:$Y$9999,基礎データ!AA639)+ROW()/10000)","v":6.3899999999999998E-6},""]
[null,null,null,null,null,null,null,null,null,null,null,null,null,639,431,null,{"$f":"IF(P640=\"\",ROW()/100000000,COUNTIF(過去ログ!$BQ$3:$CT$9999,基礎データ!P640)+ROW()/10000)","v":6.3999999999999997E-6},"",null,639,362,null,{"$f":"IF(V640=\"\",ROW()/100000000,COUNTIF(過去ログ!$N$3:$N$9999,基礎データ!V640)+ROW()/10000)","v":6.3999999999999997E-6},"",639,362,null,{"$f":"IF(AA640=\"\",ROW()/100000000,COUNTIF(過去ログ!$N$3:$Y$9999,基礎データ!AA640)+ROW()/10000)","v":6.3999999999999997E-6},""]
[null,null,null,null,null,null,null,null,null,null,null,null,null,640,430,null,{"$f":"IF(P641=\"\",ROW()/100000000,COUNTIF(過去ログ!$BQ$3:$CT$9999,基礎データ!P641)+ROW()/10000)","v":6.4099999999999996E-6},"",null,640,361,null,{"$f":"IF(V641=\"\",ROW()/100000000,COUNTIF(過去ログ!$N$3:$N$9999,基礎データ!V641)+ROW()/10000)","v":6.4099999999999996E-6},"",640,361,null,{"$f":"IF(AA641=\"\",ROW()/100000000,COUNTIF(過去ログ!$N$3:$Y$9999,基礎データ!AA641)+ROW()/10000)","v":6.4099999999999996E-6},""]
[null,null,null,null,null,null,null,null,null,null,null,null,null,641,429,null,{"$f":"IF(P642=\"\",ROW()/100000000,COUNTIF(過去ログ!$BQ$3:$CT$9999,基礎データ!P642)+ROW()/10000)","v":6.4200000000000004E-6},"",null,641,360,null,{"$f":"IF(V642=\"\",ROW()/100000000,COUNTIF(過去ログ!$N$3:$N$9999,基礎データ!V642)+ROW()/10000)","v":6.4200000000000004E-6},"",641,360,null,{"$f":"IF(AA642=\"\",ROW()/100000000,COUNTIF(過去ログ!$N$3:$Y$9999,基礎データ!AA642)+ROW()/10000)","v":6.4200000000000004E-6},""]
[null,null,null,null,null,null,null,null,null,null,null,null,null,642,428,null,{"$f":"IF(P643=\"\",ROW()/100000000,COUNTIF(過去ログ!$BQ$3:$CT$9999,基礎データ!P643)+ROW()/10000)","v":6.4300000000000003E-6},"",null,642,359,null,{"$f":"IF(V643=\"\",ROW()/100000000,COUNTIF(過去ログ!$N$3:$N$9999,基礎データ!V643)+ROW()/10000)","v":6.4300000000000003E-6},"",642,359,null,{"$f":"IF(AA643=\"\",ROW()/100000000,COUNTIF(過去ログ!$N$3:$Y$9999,基礎データ!AA643)+ROW()/10000)","v":6.4300000000000003E-6},""]
[null,null,null,null,null,null,null,null,null,null,null,null,null,643,427,null,{"$f":"IF(P644=\"\",ROW()/100000000,COUNTIF(過去ログ!$BQ$3:$CT$9999,基礎データ!P644)+ROW()/10000)","v":6.4400000000000002E-6},"",null,643,358,null,{"$f":"IF(V644=\"\",ROW()/100000000,COUNTIF(過去ログ!$N$3:$N$9999,基礎データ!V644)+ROW()/10000)","v":6.4400000000000002E-6},"",643,358,null,{"$f":"IF(AA644=\"\",ROW()/100000000,COUNTIF(過去ログ!$N$3:$Y$9999,基礎データ!AA644)+ROW()/10000)","v":6.4400000000000002E-6},""]
[null,null,null,null,null,null,null,null,null,null,null,null,null,644,426,null,{"$f":"IF(P645=\"\",ROW()/100000000,COUNTIF(過去ログ!$BQ$3:$CT$9999,基礎データ!P645)+ROW()/10000)","v":6.4500000000000001E-6},"",null,644,{"$f":"RANK(W645,$W$2:$W$1002)","v":357},null,{"$f":"IF(V645=\"\",ROW()/100000000,COUNTIF(過去ログ!$N$3:$N$9999,基礎データ!V645)+ROW()/10000)","v":6.4500000000000001E-6},"",644,357,null,{"$f":"IF(AA645=\"\",ROW()/100000000,COUNTIF(過去ログ!$N$3:$Y$9999,基礎データ!AA645)+ROW()/10000)","v":6.4500000000000001E-6},""]
[null,null,null,null,null,null,null,null,null,null,null,null,null,645,425,null,{"$f":"IF(P646=\"\",ROW()/100000000,COUNTIF(過去ログ!$BQ$3:$CT$9999,基礎データ!P646)+ROW()/10000)","v":6.46E-6},"",null,645,356,null,{"$f":"IF(V646=\"\",ROW()/100000000,COUNTIF(過去ログ!$N$3:$N$9999,基礎データ!V646)+ROW()/10000)","v":6.46E-6},"",645,356,null,{"$f":"IF(AA646=\"\",ROW()/100000000,COUNTIF(過去ログ!$N$3:$Y$9999,基礎データ!AA646)+ROW()/10000)","v":6.46E-6},""]
[null,null,null,null,null,null,null,null,null,null,null,null,null,646,424,null,{"$f":"IF(P647=\"\",ROW()/100000000,COUNTIF(過去ログ!$BQ$3:$CT$9999,基礎データ!P647)+ROW()/10000)","v":6.4699999999999999E-6},"",null,646,355,null,{"$f":"IF(V647=\"\",ROW()/100000000,COUNTIF(過去ログ!$N$3:$N$9999,基礎データ!V647)+ROW()/10000)","v":6.4699999999999999E-6},"",646,355,null,{"$f":"IF(AA647=\"\",ROW()/100000000,COUNTIF(過去ログ!$N$3:$Y$9999,基礎データ!AA647)+ROW()/10000)","v":6.4699999999999999E-6},""]
[null,null,null,null,null,null,null,null,null,null,null,null,null,647,423,null,{"$f":"IF(P648=\"\",ROW()/100000000,COUNTIF(過去ログ!$BQ$3:$CT$9999,基礎データ!P648)+ROW()/10000)","v":6.4799999999999998E-6},"",null,647,354,null,{"$f":"IF(V648=\"\",ROW()/100000000,COUNTIF(過去ログ!$N$3:$N$9999,基礎データ!V648)+ROW()/10000)","v":6.4799999999999998E-6},"",647,354,null,{"$f":"IF(AA648=\"\",ROW()/100000000,COUNTIF(過去ログ!$N$3:$Y$9999,基礎データ!AA648)+ROW()/10000)","v":6.4799999999999998E-6},""]
[null,null,null,null,null,null,null,null,null,null,null,null,null,648,422,null,{"$f":"IF(P649=\"\",ROW()/100000000,COUNTIF(過去ログ!$BQ$3:$CT$9999,基礎データ!P649)+ROW()/10000)","v":6.4899999999999997E-6},"",null,648,353,null,{"$f":"IF(V649=\"\",ROW()/100000000,COUNTIF(過去ログ!$N$3:$N$9999,基礎データ!V649)+ROW()/10000)","v":6.4899999999999997E-6},"",648,353,null,{"$f":"IF(AA649=\"\",ROW()/100000000,COUNTIF(過去ログ!$N$3:$Y$9999,基礎データ!AA649)+ROW()/10000)","v":6.4899999999999997E-6},""]
[null,null,null,null,null,null,null,null,null,null,null,null,null,649,421,null,{"$f":"IF(P650=\"\",ROW()/100000000,COUNTIF(過去ログ!$BQ$3:$CT$9999,基礎データ!P650)+ROW()/10000)","v":6.4999999999999996E-6},"",null,649,352,null,{"$f":"IF(V650=\"\",ROW()/100000000,COUNTIF(過去ログ!$N$3:$N$9999,基礎データ!V650)+ROW()/10000)","v":6.4999999999999996E-6},"",649,352,null,{"$f":"IF(AA650=\"\",ROW()/100000000,COUNTIF(過去ログ!$N$3:$Y$9999,基礎データ!AA650)+ROW()/10000)","v":6.4999999999999996E-6},""]
[null,null,null,null,null,null,null,null,null,null,null,null,null,650,420,null,{"$f":"IF(P651=\"\",ROW()/100000000,COUNTIF(過去ログ!$BQ$3:$CT$9999,基礎データ!P651)+ROW()/10000)","v":6.5100000000000004E-6},"",null,650,351,null,{"$f":"IF(V651=\"\",ROW()/100000000,COUNTIF(過去ログ!$N$3:$N$9999,基礎データ!V651)+ROW()/10000)","v":6.5100000000000004E-6},"",650,351,null,{"$f":"IF(AA651=\"\",ROW()/100000000,COUNTIF(過去ログ!$N$3:$Y$9999,基礎データ!AA651)+ROW()/10000)","v":6.5100000000000004E-6},""]
[null,null,null,null,null,null,null,null,null,null,null,null,null,651,419,null,{"$f":"IF(P652=\"\",ROW()/100000000,COUNTIF(過去ログ!$BQ$3:$CT$9999,基礎データ!P652)+ROW()/10000)","v":6.5200000000000003E-6},"",null,651,350,null,{"$f":"IF(V652=\"\",ROW()/100000000,COUNTIF(過去ログ!$N$3:$N$9999,基礎データ!V652)+ROW()/10000)","v":6.5200000000000003E-6},"",651,350,null,{"$f":"IF(AA652=\"\",ROW()/100000000,COUNTIF(過去ログ!$N$3:$Y$9999,基礎データ!AA652)+ROW()/10000)","v":6.5200000000000003E-6},""]
[null,null,null,null,null,null,null,null,null,null,null,null,null,652,418,null,{"$f":"IF(P653=\"\",ROW()/100000000,COUNTIF(過去ログ!$BQ$3:$CT$9999,基礎データ!P653)+ROW()/10000)","v":6.5300000000000002E-6},"",null,652,349,null,{"$f":"IF(V653=\"\",ROW()/100000000,COUNTIF(過去ログ!$N$3:$N$9999,基礎データ!V653)+ROW()/10000)","v":6.5300000000000002E-6},"",652,349,null,{"$f":"IF(AA653=\"\",ROW()/100000000,COUNTIF(過去ログ!$N$3:$Y$9999,基礎データ!AA653)+ROW()/10000)","v":6.5300000000000002E-6},""]
[null,null,null,null,null,null,null,null,null,null,null,null,null,653,417,null,{"$f":"IF(P654=\"\",ROW()/100000000,COUNTIF(過去ログ!$BQ$3:$CT$9999,基礎データ!P654)+ROW()/10000)","v":6.5400000000000001E-6},"",null,653,348,null,{"$f":"IF(V654=\"\",ROW()/100000000,COUNTIF(過去ログ!$N$3:$N$9999,基礎データ!V654)+ROW()/10000)","v":6.5400000000000001E-6},"",653,348,null,{"$f":"IF(AA654=\"\",ROW()/100000000,COUNTIF(過去ログ!$N$3:$Y$9999,基礎データ!AA654)+ROW()/10000)","v":6.5400000000000001E-6},""]
[null,null,null,null,null,null,null,null,null,null,null,null,null,654,416,null,{"$f":"IF(P655=\"\",ROW()/100000000,COUNTIF(過去ログ!$BQ$3:$CT$9999,基礎データ!P655)+ROW()/10000)","v":6.55E-6},"",null,654,347,null,{"$f":"IF(V655=\"\",ROW()/100000000,COUNTIF(過去ログ!$N$3:$N$9999,基礎データ!V655)+ROW()/10000)","v":6.55E-6},{"$f":"IF(VLOOKUP(T655,$U$2:$V$1002,2,FALSE)=0,\"\",VLOOKUP(T655,$U$2:$V$1002,2,FALSE))","v":""},654,347,null,{"$f":"IF(AA655=\"\",ROW()/100000000,COUNTIF(過去ログ!$N$3:$Y$9999,基礎データ!AA655)+ROW()/10000)","v":6.55E-6},""]
[null,null,null,null,null,null,null,null,null,null,null,null,null,655,415,null,{"$f":"IF(P656=\"\",ROW()/100000000,COUNTIF(過去ログ!$BQ$3:$CT$9999,基礎データ!P656)+ROW()/10000)","v":6.5599999999999999E-6},"",null,655,346,null,{"$f":"IF(V656=\"\",ROW()/100000000,COUNTIF(過去ログ!$N$3:$N$9999,基礎データ!V656)+ROW()/10000)","v":6.5599999999999999E-6},"",655,346,null,{"$f":"IF(AA656=\"\",ROW()/100000000,COUNTIF(過去ログ!$N$3:$Y$9999,基礎データ!AA656)+ROW()/10000)","v":6.5599999999999999E-6},""]
[null,null,null,null,null,null,null,null,null,null,null,null,null,656,414,null,{"$f":"IF(P657=\"\",ROW()/100000000,COUNTIF(過去ログ!$BQ$3:$CT$9999,基礎データ!P657)+ROW()/10000)","v":6.5699999999999998E-6},"",null,656,345,null,{"$f":"IF(V657=\"\",ROW()/100000000,COUNTIF(過去ログ!$N$3:$N$9999,基礎データ!V657)+ROW()/10000)","v":6.5699999999999998E-6},"",656,345,null,{"$f":"IF(AA657=\"\",ROW()/100000000,COUNTIF(過去ログ!$N$3:$Y$9999,基礎データ!AA657)+ROW()/10000)","v":6.5699999999999998E-6},""]
[null,null,null,null,null,null,null,null,null,null,null,null,null,657,413,null,{"$f":"IF(P658=\"\",ROW()/100000000,COUNTIF(過去ログ!$BQ$3:$CT$9999,基礎データ!P658)+ROW()/10000)","v":6.5799999999999997E-6},"",null,657,344,null,{"$f":"IF(V658=\"\",ROW()/100000000,COUNTIF(過去ログ!$N$3:$N$9999,基礎データ!V658)+ROW()/10000)","v":6.5799999999999997E-6},"",657,344,null,{"$f":"IF(AA658=\"\",ROW()/100000000,COUNTIF(過去ログ!$N$3:$Y$9999,基礎データ!AA658)+ROW()/10000)","v":6.5799999999999997E-6},""]
[null,null,null,null,null,null,null,null,null,null,null,null,null,658,412,null,{"$f":"IF(P659=\"\",ROW()/100000000,COUNTIF(過去ログ!$BQ$3:$CT$9999,基礎データ!P659)+ROW()/10000)","v":6.5899999999999996E-6},"",null,658,343,null,{"$f":"IF(V659=\"\",ROW()/100000000,COUNTIF(過去ログ!$N$3:$N$9999,基礎データ!V659)+ROW()/10000)","v":6.5899999999999996E-6},"",658,343,null,{"$f":"IF(AA659=\"\",ROW()/100000000,COUNTIF(過去ログ!$N$3:$Y$9999,基礎データ!AA659)+ROW()/10000)","v":6.5899999999999996E-6},""]
[null,null,null,null,null,null,null,null,null,null,null,null,null,659,411,null,{"$f":"IF(P660=\"\",ROW()/100000000,COUNTIF(過去ログ!$BQ$3:$CT$9999,基礎データ!P660)+ROW()/10000)","v":6.6000000000000003E-6},"",null,659,342,null,{"$f":"IF(V660=\"\",ROW()/100000000,COUNTIF(過去ログ!$N$3:$N$9999,基礎データ!V660)+ROW()/10000)","v":6.6000000000000003E-6},"",659,342,null,{"$f":"IF(AA660=\"\",ROW()/100000000,COUNTIF(過去ログ!$N$3:$Y$9999,基礎データ!AA660)+ROW()/10000)","v":6.6000000000000003E-6},""]
[null,null,null,null,null,null,null,null,null,null,null,null,null,660,410,null,{"$f":"IF(P661=\"\",ROW()/100000000,COUNTIF(過去ログ!$BQ$3:$CT$9999,基礎データ!P661)+ROW()/10000)","v":6.6100000000000002E-6},"",null,660,341,null,{"$f":"IF(V661=\"\",ROW()/100000000,COUNTIF(過去ログ!$N$3:$N$9999,基礎データ!V661)+ROW()/10000)","v":6.6100000000000002E-6},"",660,341,null,{"$f":"IF(AA661=\"\",ROW()/100000000,COUNTIF(過去ログ!$N$3:$Y$9999,基礎データ!AA661)+ROW()/10000)","v":6.6100000000000002E-6},""]
[null,null,null,null,null,null,null,null,null,null,null,null,null,661,409,null,{"$f":"IF(P662=\"\",ROW()/100000000,COUNTIF(過去ログ!$BQ$3:$CT$9999,基礎データ!P662)+ROW()/10000)","v":6.6200000000000001E-6},"",null,661,340,null,{"$f":"IF(V662=\"\",ROW()/100000000,COUNTIF(過去ログ!$N$3:$N$9999,基礎データ!V662)+ROW()/10000)","v":6.6200000000000001E-6},"",661,340,null,{"$f":"IF(AA662=\"\",ROW()/100000000,COUNTIF(過去ログ!$N$3:$Y$9999,基礎データ!AA662)+ROW()/10000)","v":6.6200000000000001E-6},""]
[null,null,null,null,null,null,null,null,null,null,null,null,null,662,408,null,{"$f":"IF(P663=\"\",ROW()/100000000,COUNTIF(過去ログ!$BQ$3:$CT$9999,基礎データ!P663)+ROW()/10000)","v":6.63E-6},"",null,662,339,null,{"$f":"IF(V663=\"\",ROW()/100000000,COUNTIF(過去ログ!$N$3:$N$9999,基礎データ!V663)+ROW()/10000)","v":6.63E-6},"",662,339,null,{"$f":"IF(AA663=\"\",ROW()/100000000,COUNTIF(過去ログ!$N$3:$Y$9999,基礎データ!AA663)+ROW()/10000)","v":6.63E-6},""]
[null,null,null,null,null,null,null,null,null,null,null,null,null,663,407,null,{"$f":"IF(P664=\"\",ROW()/100000000,COUNTIF(過去ログ!$BQ$3:$CT$9999,基礎データ!P664)+ROW()/10000)","v":6.64E-6},"",null,663,338,null,{"$f":"IF(V664=\"\",ROW()/100000000,COUNTIF(過去ログ!$N$3:$N$9999,基礎データ!V664)+ROW()/10000)","v":6.64E-6},"",663,338,null,{"$f":"IF(AA664=\"\",ROW()/100000000,COUNTIF(過去ログ!$N$3:$Y$9999,基礎データ!AA664)+ROW()/10000)","v":6.64E-6},""]
[null,null,null,null,null,null,null,null,null,null,null,null,null,664,406,null,{"$f":"IF(P665=\"\",ROW()/100000000,COUNTIF(過去ログ!$BQ$3:$CT$9999,基礎データ!P665)+ROW()/10000)","v":6.6499999999999999E-6},"",null,664,337,null,{"$f":"IF(V665=\"\",ROW()/100000000,COUNTIF(過去ログ!$N$3:$N$9999,基礎データ!V665)+ROW()/10000)","v":6.6499999999999999E-6},"",664,337,null,{"$f":"IF(AA665=\"\",ROW()/100000000,COUNTIF(過去ログ!$N$3:$Y$9999,基礎データ!AA665)+ROW()/10000)","v":6.6499999999999999E-6},""]
[null,null,null,null,null,null,null,null,null,null,null,null,null,665,405,null,{"$f":"IF(P666=\"\",ROW()/100000000,COUNTIF(過去ログ!$BQ$3:$CT$9999,基礎データ!P666)+ROW()/10000)","v":6.6599999999999998E-6},"",null,665,336,null,{"$f":"IF(V666=\"\",ROW()/100000000,COUNTIF(過去ログ!$N$3:$N$9999,基礎データ!V666)+ROW()/10000)","v":6.6599999999999998E-6},"",665,336,null,{"$f":"IF(AA666=\"\",ROW()/100000000,COUNTIF(過去ログ!$N$3:$Y$9999,基礎データ!AA666)+ROW()/10000)","v":6.6599999999999998E-6},""]
[null,null,null,null,null,null,null,null,null,null,null,null,null,666,404,null,{"$f":"IF(P667=\"\",ROW()/100000000,COUNTIF(過去ログ!$BQ$3:$CT$9999,基礎データ!P667)+ROW()/10000)","v":6.6699999999999997E-6},"",null,666,335,null,{"$f":"IF(V667=\"\",ROW()/100000000,COUNTIF(過去ログ!$N$3:$N$9999,基礎データ!V667)+ROW()/10000)","v":6.6699999999999997E-6},"",666,335,null,{"$f":"IF(AA667=\"\",ROW()/100000000,COUNTIF(過去ログ!$N$3:$Y$9999,基礎データ!AA667)+ROW()/10000)","v":6.6699999999999997E-6},""]
[null,null,null,null,null,null,null,null,null,null,null,null,null,667,403,null,{"$f":"IF(P668=\"\",ROW()/100000000,COUNTIF(過去ログ!$BQ$3:$CT$9999,基礎データ!P668)+ROW()/10000)","v":6.6800000000000004E-6},"",null,667,334,null,{"$f":"IF(V668=\"\",ROW()/100000000,COUNTIF(過去ログ!$N$3:$N$9999,基礎データ!V668)+ROW()/10000)","v":6.6800000000000004E-6},"",667,334,null,{"$f":"IF(AA668=\"\",ROW()/100000000,COUNTIF(過去ログ!$N$3:$Y$9999,基礎データ!AA668)+ROW()/10000)","v":6.6800000000000004E-6},""]
[null,null,null,null,null,null,null,null,null,null,null,null,null,668,402,null,{"$f":"IF(P669=\"\",ROW()/100000000,COUNTIF(過去ログ!$BQ$3:$CT$9999,基礎データ!P669)+ROW()/10000)","v":6.6900000000000003E-6},"",null,668,333,null,{"$f":"IF(V669=\"\",ROW()/100000000,COUNTIF(過去ログ!$N$3:$N$9999,基礎データ!V669)+ROW()/10000)","v":6.6900000000000003E-6},"",668,333,null,{"$f":"IF(AA669=\"\",ROW()/100000000,COUNTIF(過去ログ!$N$3:$Y$9999,基礎データ!AA669)+ROW()/10000)","v":6.6900000000000003E-6},""]
[null,null,null,null,null,null,null,null,null,null,null,null,null,669,401,null,{"$f":"IF(P670=\"\",ROW()/100000000,COUNTIF(過去ログ!$BQ$3:$CT$9999,基礎データ!P670)+ROW()/10000)","v":6.7000000000000002E-6},"",null,669,332,null,{"$f":"IF(V670=\"\",ROW()/100000000,COUNTIF(過去ログ!$N$3:$N$9999,基礎データ!V670)+ROW()/10000)","v":6.7000000000000002E-6},"",669,332,null,{"$f":"IF(AA670=\"\",ROW()/100000000,COUNTIF(過去ログ!$N$3:$Y$9999,基礎データ!AA670)+ROW()/10000)","v":6.7000000000000002E-6},""]
[null,null,null,null,null,null,null,null,null,null,null,null,null,670,400,null,{"$f":"IF(P671=\"\",ROW()/100000000,COUNTIF(過去ログ!$BQ$3:$CT$9999,基礎データ!P671)+ROW()/10000)","v":6.7100000000000001E-6},"",null,670,331,null,{"$f":"IF(V671=\"\",ROW()/100000000,COUNTIF(過去ログ!$N$3:$N$9999,基礎データ!V671)+ROW()/10000)","v":6.7100000000000001E-6},"",670,331,null,{"$f":"IF(AA671=\"\",ROW()/100000000,COUNTIF(過去ログ!$N$3:$Y$9999,基礎データ!AA671)+ROW()/10000)","v":6.7100000000000001E-6},""]
[null,null,null,null,null,null,null,null,null,null,null,null,null,671,{"$f":"RANK(Q672,$Q$2:$Q$1002)","v":399},null,{"$f":"IF(P672=\"\",ROW()/100000000,COUNTIF(過去ログ!$BQ$3:$CT$9999,基礎データ!P672)+ROW()/10000)","v":6.72E-6},"",null,671,330,null,{"$f":"IF(V672=\"\",ROW()/100000000,COUNTIF(過去ログ!$N$3:$N$9999,基礎データ!V672)+ROW()/10000)","v":6.72E-6},"",671,330,null,{"$f":"IF(AA672=\"\",ROW()/100000000,COUNTIF(過去ログ!$N$3:$Y$9999,基礎データ!AA672)+ROW()/10000)","v":6.72E-6},""]
[null,null,null,null,null,null,null,null,null,null,null,null,null,672,398,null,{"$f":"IF(P673=\"\",ROW()/100000000,COUNTIF(過去ログ!$BQ$3:$CT$9999,基礎データ!P673)+ROW()/10000)","v":6.7299999999999999E-6},"",null,672,329,null,{"$f":"IF(V673=\"\",ROW()/100000000,COUNTIF(過去ログ!$N$3:$N$9999,基礎データ!V673)+ROW()/10000)","v":6.7299999999999999E-6},"",672,329,null,{"$f":"IF(AA673=\"\",ROW()/100000000,COUNTIF(過去ログ!$N$3:$Y$9999,基礎データ!AA673)+ROW()/10000)","v":6.7299999999999999E-6},""]
[null,null,null,null,null,null,null,null,null,null,null,null,null,673,397,null,{"$f":"IF(P674=\"\",ROW()/100000000,COUNTIF(過去ログ!$BQ$3:$CT$9999,基礎データ!P674)+ROW()/10000)","v":6.7399999999999998E-6},"",null,673,328,null,{"$f":"IF(V674=\"\",ROW()/100000000,COUNTIF(過去ログ!$N$3:$N$9999,基礎データ!V674)+ROW()/10000)","v":6.7399999999999998E-6},"",673,328,null,{"$f":"IF(AA674=\"\",ROW()/100000000,COUNTIF(過去ログ!$N$3:$Y$9999,基礎データ!AA674)+ROW()/10000)","v":6.7399999999999998E-6},""]
[null,null,null,null,null,null,null,null,null,null,null,null,null,674,396,null,{"$f":"IF(P675=\"\",ROW()/100000000,COUNTIF(過去ログ!$BQ$3:$CT$9999,基礎データ!P675)+ROW()/10000)","v":6.7499999999999997E-6},"",null,674,327,null,{"$f":"IF(V675=\"\",ROW()/100000000,COUNTIF(過去ログ!$N$3:$N$9999,基礎データ!V675)+ROW()/10000)","v":6.7499999999999997E-6},"",674,327,null,{"$f":"IF(AA675=\"\",ROW()/100000000,COUNTIF(過去ログ!$N$3:$Y$9999,基礎データ!AA675)+ROW()/10000)","v":6.7499999999999997E-6},""]
[null,null,null,null,null,null,null,null,null,null,null,null,null,675,395,null,{"$f":"IF(P676=\"\",ROW()/100000000,COUNTIF(過去ログ!$BQ$3:$CT$9999,基礎データ!P676)+ROW()/10000)","v":6.7599999999999997E-6},"",null,675,326,null,{"$f":"IF(V676=\"\",ROW()/100000000,COUNTIF(過去ログ!$N$3:$N$9999,基礎データ!V676)+ROW()/10000)","v":6.7599999999999997E-6},"",675,326,null,{"$f":"IF(AA676=\"\",ROW()/100000000,COUNTIF(過去ログ!$N$3:$Y$9999,基礎データ!AA676)+ROW()/10000)","v":6.7599999999999997E-6},""]
[null,null,null,null,null,null,null,null,null,null,null,null,null,676,394,null,{"$f":"IF(P677=\"\",ROW()/100000000,COUNTIF(過去ログ!$BQ$3:$CT$9999,基礎データ!P677)+ROW()/10000)","v":6.7700000000000004E-6},"",null,676,325,null,{"$f":"IF(V677=\"\",ROW()/100000000,COUNTIF(過去ログ!$N$3:$N$9999,基礎データ!V677)+ROW()/10000)","v":6.7700000000000004E-6},"",676,325,null,{"$f":"IF(AA677=\"\",ROW()/100000000,COUNTIF(過去ログ!$N$3:$Y$9999,基礎データ!AA677)+ROW()/10000)","v":6.7700000000000004E-6},""]
[null,null,null,null,null,null,null,null,null,null,null,null,null,677,393,null,{"$f":"IF(P678=\"\",ROW()/100000000,COUNTIF(過去ログ!$BQ$3:$CT$9999,基礎データ!P678)+ROW()/10000)","v":6.7800000000000003E-6},{"$f":"IF(P678=\"\",\"\",VLOOKUP(N678,$O$2:$P$1002,2,FALSE))","v":""},null,677,324,null,{"$f":"IF(V678=\"\",ROW()/100000000,COUNTIF(過去ログ!$N$3:$N$9999,基礎データ!V678)+ROW()/10000)","v":6.7800000000000003E-6},"",677,324,null,{"$f":"IF(AA678=\"\",ROW()/100000000,COUNTIF(過去ログ!$N$3:$Y$9999,基礎データ!AA678)+ROW()/10000)","v":6.7800000000000003E-6},""]
[null,null,null,null,null,null,null,null,null,null,null,null,null,678,392,null,{"$f":"IF(P679=\"\",ROW()/100000000,COUNTIF(過去ログ!$BQ$3:$CT$9999,基礎データ!P679)+ROW()/10000)","v":6.7900000000000002E-6},"",null,678,323,null,{"$f":"IF(V679=\"\",ROW()/100000000,COUNTIF(過去ログ!$N$3:$N$9999,基礎データ!V679)+ROW()/10000)","v":6.7900000000000002E-6},"",678,323,null,{"$f":"IF(AA679=\"\",ROW()/100000000,COUNTIF(過去ログ!$N$3:$Y$9999,基礎データ!AA679)+ROW()/10000)","v":6.7900000000000002E-6},""]
[null,null,null,null,null,null,null,null,null,null,null,null,null,679,391,null,{"$f":"IF(P680=\"\",ROW()/100000000,COUNTIF(過去ログ!$BQ$3:$CT$9999,基礎データ!P680)+ROW()/10000)","v":6.8000000000000001E-6},"",null,679,322,null,{"$f":"IF(V680=\"\",ROW()/100000000,COUNTIF(過去ログ!$N$3:$N$9999,基礎データ!V680)+ROW()/10000)","v":6.8000000000000001E-6},"",679,322,null,{"$f":"IF(AA680=\"\",ROW()/100000000,COUNTIF(過去ログ!$N$3:$Y$9999,基礎データ!AA680)+ROW()/10000)","v":6.8000000000000001E-6},""]
[null,null,null,null,null,null,null,null,null,null,null,null,null,680,390,null,{"$f":"IF(P681=\"\",ROW()/100000000,COUNTIF(過去ログ!$BQ$3:$CT$9999,基礎データ!P681)+ROW()/10000)","v":6.81E-6},"",null,680,321,null,{"$f":"IF(V681=\"\",ROW()/100000000,COUNTIF(過去ログ!$N$3:$N$9999,基礎データ!V681)+ROW()/10000)","v":6.81E-6},"",680,321,null,{"$f":"IF(AA681=\"\",ROW()/100000000,COUNTIF(過去ログ!$N$3:$Y$9999,基礎データ!AA681)+ROW()/10000)","v":6.81E-6},""]
[null,null,null,null,null,null,null,null,null,null,null,null,null,681,389,null,{"$f":"IF(P682=\"\",ROW()/100000000,COUNTIF(過去ログ!$BQ$3:$CT$9999,基礎データ!P682)+ROW()/10000)","v":6.8199999999999999E-6},"",null,681,320,null,{"$f":"IF(V682=\"\",ROW()/100000000,COUNTIF(過去ログ!$N$3:$N$9999,基礎データ!V682)+ROW()/10000)","v":6.8199999999999999E-6},"",681,320,null,{"$f":"IF(AA682=\"\",ROW()/100000000,COUNTIF(過去ログ!$N$3:$Y$9999,基礎データ!AA682)+ROW()/10000)","v":6.8199999999999999E-6},""]
[null,null,null,null,null,null,null,null,null,null,null,null,null,682,388,null,{"$f":"IF(P683=\"\",ROW()/100000000,COUNTIF(過去ログ!$BQ$3:$CT$9999,基礎データ!P683)+ROW()/10000)","v":6.8299999999999998E-6},"",null,682,319,null,{"$f":"IF(V683=\"\",ROW()/100000000,COUNTIF(過去ログ!$N$3:$N$9999,基礎データ!V683)+ROW()/10000)","v":6.8299999999999998E-6},"",682,319,null,{"$f":"IF(AA683=\"\",ROW()/100000000,COUNTIF(過去ログ!$N$3:$Y$9999,基礎データ!AA683)+ROW()/10000)","v":6.8299999999999998E-6},""]
[null,null,null,null,null,null,null,null,null,null,null,null,null,683,387,null,{"$f":"IF(P684=\"\",ROW()/100000000,COUNTIF(過去ログ!$BQ$3:$CT$9999,基礎データ!P684)+ROW()/10000)","v":6.8399999999999997E-6},"",null,683,318,null,{"$f":"IF(V684=\"\",ROW()/100000000,COUNTIF(過去ログ!$N$3:$N$9999,基礎データ!V684)+ROW()/10000)","v":6.8399999999999997E-6},"",683,318,null,{"$f":"IF(AA684=\"\",ROW()/100000000,COUNTIF(過去ログ!$N$3:$Y$9999,基礎データ!AA684)+ROW()/10000)","v":6.8399999999999997E-6},""]
[null,null,null,null,null,null,null,null,null,null,null,null,null,684,386,null,{"$f":"IF(P685=\"\",ROW()/100000000,COUNTIF(過去ログ!$BQ$3:$CT$9999,基礎データ!P685)+ROW()/10000)","v":6.8499999999999996E-6},"",null,684,317,null,{"$f":"IF(V685=\"\",ROW()/100000000,COUNTIF(過去ログ!$N$3:$N$9999,基礎データ!V685)+ROW()/10000)","v":6.8499999999999996E-6},"",684,317,null,{"$f":"IF(AA685=\"\",ROW()/100000000,COUNTIF(過去ログ!$N$3:$Y$9999,基礎データ!AA685)+ROW()/10000)","v":6.8499999999999996E-6},""]
[null,null,null,null,null,null,null,null,null,null,null,null,null,685,385,null,{"$f":"IF(P686=\"\",ROW()/100000000,COUNTIF(過去ログ!$BQ$3:$CT$9999,基礎データ!P686)+ROW()/10000)","v":6.8600000000000004E-6},"",null,685,316,null,{"$f":"IF(V686=\"\",ROW()/100000000,COUNTIF(過去ログ!$N$3:$N$9999,基礎データ!V686)+ROW()/10000)","v":6.8600000000000004E-6},"",685,316,null,{"$f":"IF(AA686=\"\",ROW()/100000000,COUNTIF(過去ログ!$N$3:$Y$9999,基礎データ!AA686)+ROW()/10000)","v":6.8600000000000004E-6},""]
[null,null,null,null,null,null,null,null,null,null,null,null,null,686,384,null,{"$f":"IF(P687=\"\",ROW()/100000000,COUNTIF(過去ログ!$BQ$3:$CT$9999,基礎データ!P687)+ROW()/10000)","v":6.8700000000000003E-6},"",null,686,315,null,{"$f":"IF(V687=\"\",ROW()/100000000,COUNTIF(過去ログ!$N$3:$N$9999,基礎データ!V687)+ROW()/10000)","v":6.8700000000000003E-6},"",686,315,null,{"$f":"IF(AA687=\"\",ROW()/100000000,COUNTIF(過去ログ!$N$3:$Y$9999,基礎データ!AA687)+ROW()/10000)","v":6.8700000000000003E-6},""]
[null,null,null,null,null,null,null,null,null,null,null,null,null,687,383,null,{"$f":"IF(P688=\"\",ROW()/100000000,COUNTIF(過去ログ!$BQ$3:$CT$9999,基礎データ!P688)+ROW()/10000)","v":6.8800000000000002E-6},"",null,687,314,null,{"$f":"IF(V688=\"\",ROW()/100000000,COUNTIF(過去ログ!$N$3:$N$9999,基礎データ!V688)+ROW()/10000)","v":6.8800000000000002E-6},"",687,314,null,{"$f":"IF(AA688=\"\",ROW()/100000000,COUNTIF(過去ログ!$N$3:$Y$9999,基礎データ!AA688)+ROW()/10000)","v":6.8800000000000002E-6},""]
[null,null,null,null,null,null,null,null,null,null,null,null,null,688,382,null,{"$f":"IF(P689=\"\",ROW()/100000000,COUNTIF(過去ログ!$BQ$3:$CT$9999,基礎データ!P689)+ROW()/10000)","v":6.8900000000000001E-6},"",null,688,313,null,{"$f":"IF(V689=\"\",ROW()/100000000,COUNTIF(過去ログ!$N$3:$N$9999,基礎データ!V689)+ROW()/10000)","v":6.8900000000000001E-6},"",688,313,null,{"$f":"IF(AA689=\"\",ROW()/100000000,COUNTIF(過去ログ!$N$3:$Y$9999,基礎データ!AA689)+ROW()/10000)","v":6.8900000000000001E-6},""]
[null,null,null,null,null,null,null,null,null,null,null,null,null,689,381,null,{"$f":"IF(P690=\"\",ROW()/100000000,COUNTIF(過去ログ!$BQ$3:$CT$9999,基礎データ!P690)+ROW()/10000)","v":6.9E-6},"",null,689,312,null,{"$f":"IF(V690=\"\",ROW()/100000000,COUNTIF(過去ログ!$N$3:$N$9999,基礎データ!V690)+ROW()/10000)","v":6.9E-6},"",689,312,null,{"$f":"IF(AA690=\"\",ROW()/100000000,COUNTIF(過去ログ!$N$3:$Y$9999,基礎データ!AA690)+ROW()/10000)","v":6.9E-6},""]
[null,null,null,null,null,null,null,null,null,null,null,null,null,690,380,null,{"$f":"IF(P691=\"\",ROW()/100000000,COUNTIF(過去ログ!$BQ$3:$CT$9999,基礎データ!P691)+ROW()/10000)","v":6.9099999999999999E-6},"",null,690,311,null,{"$f":"IF(V691=\"\",ROW()/100000000,COUNTIF(過去ログ!$N$3:$N$9999,基礎データ!V691)+ROW()/10000)","v":6.9099999999999999E-6},"",690,311,null,{"$f":"IF(AA691=\"\",ROW()/100000000,COUNTIF(過去ログ!$N$3:$Y$9999,基礎データ!AA691)+ROW()/10000)","v":6.9099999999999999E-6},{"$f":"IF(VLOOKUP(Y691,$Z$2:$AA$1002,2,FALSE)=0,\"\",VLOOKUP(Y691,$Z$2:$AA$1002,2,FALSE))","v":""}]
[null,null,null,null,null,null,null,null,null,null,null,null,null,691,379,null,{"$f":"IF(P692=\"\",ROW()/100000000,COUNTIF(過去ログ!$BQ$3:$CT$9999,基礎データ!P692)+ROW()/10000)","v":6.9199999999999998E-6},"",null,691,310,null,{"$f":"IF(V692=\"\",ROW()/100000000,COUNTIF(過去ログ!$N$3:$N$9999,基礎データ!V692)+ROW()/10000)","v":6.9199999999999998E-6},"",691,310,null,{"$f":"IF(AA692=\"\",ROW()/100000000,COUNTIF(過去ログ!$N$3:$Y$9999,基礎データ!AA692)+ROW()/10000)","v":6.9199999999999998E-6},""]
[null,null,null,null,null,null,null,null,null,null,null,null,null,692,378,null,{"$f":"IF(P693=\"\",ROW()/100000000,COUNTIF(過去ログ!$BQ$3:$CT$9999,基礎データ!P693)+ROW()/10000)","v":6.9299999999999997E-6},"",null,692,309,null,{"$f":"IF(V693=\"\",ROW()/100000000,COUNTIF(過去ログ!$N$3:$N$9999,基礎データ!V693)+ROW()/10000)","v":6.9299999999999997E-6},"",692,309,null,{"$f":"IF(AA693=\"\",ROW()/100000000,COUNTIF(過去ログ!$N$3:$Y$9999,基礎データ!AA693)+ROW()/10000)","v":6.9299999999999997E-6},""]
[null,null,null,null,null,null,null,null,null,null,null,null,null,693,377,null,{"$f":"IF(P694=\"\",ROW()/100000000,COUNTIF(過去ログ!$BQ$3:$CT$9999,基礎データ!P694)+ROW()/10000)","v":6.9399999999999996E-6},"",null,693,308,null,{"$f":"IF(V694=\"\",ROW()/100000000,COUNTIF(過去ログ!$N$3:$N$9999,基礎データ!V694)+ROW()/10000)","v":6.9399999999999996E-6},"",693,308,null,{"$f":"IF(AA694=\"\",ROW()/100000000,COUNTIF(過去ログ!$N$3:$Y$9999,基礎データ!AA694)+ROW()/10000)","v":6.9399999999999996E-6},""]
[null,null,null,null,null,null,null,null,null,null,null,null,null,694,376,null,{"$f":"IF(P695=\"\",ROW()/100000000,COUNTIF(過去ログ!$BQ$3:$CT$9999,基礎データ!P695)+ROW()/10000)","v":6.9500000000000004E-6},"",null,694,307,null,{"$f":"IF(V695=\"\",ROW()/100000000,COUNTIF(過去ログ!$N$3:$N$9999,基礎データ!V695)+ROW()/10000)","v":6.9500000000000004E-6},"",694,307,null,{"$f":"IF(AA695=\"\",ROW()/100000000,COUNTIF(過去ログ!$N$3:$Y$9999,基礎データ!AA695)+ROW()/10000)","v":6.9500000000000004E-6},""]
[null,null,null,null,null,null,null,null,null,null,null,null,null,695,375,null,{"$f":"IF(P696=\"\",ROW()/100000000,COUNTIF(過去ログ!$BQ$3:$CT$9999,基礎データ!P696)+ROW()/10000)","v":6.9600000000000003E-6},"",null,695,306,null,{"$f":"IF(V696=\"\",ROW()/100000000,COUNTIF(過去ログ!$N$3:$N$9999,基礎データ!V696)+ROW()/10000)","v":6.9600000000000003E-6},"",695,{"$f":"RANK(AB696,$AB$2:$AB$1002)","v":306},null,{"$f":"IF(AA696=\"\",ROW()/100000000,COUNTIF(過去ログ!$N$3:$Y$9999,基礎データ!AA696)+ROW()/10000)","v":6.9600000000000003E-6},""]
[null,null,null,null,null,null,null,null,null,null,null,null,null,696,374,null,{"$f":"IF(P697=\"\",ROW()/100000000,COUNTIF(過去ログ!$BQ$3:$CT$9999,基礎データ!P697)+ROW()/10000)","v":6.9700000000000002E-6},"",null,696,305,null,{"$f":"IF(V697=\"\",ROW()/100000000,COUNTIF(過去ログ!$N$3:$N$9999,基礎データ!V697)+ROW()/10000)","v":6.9700000000000002E-6},"",696,305,null,{"$f":"IF(AA697=\"\",ROW()/100000000,COUNTIF(過去ログ!$N$3:$Y$9999,基礎データ!AA697)+ROW()/10000)","v":6.9700000000000002E-6},""]
[null,null,null,null,null,null,null,null,null,null,null,null,null,697,373,null,{"$f":"IF(P698=\"\",ROW()/100000000,COUNTIF(過去ログ!$BQ$3:$CT$9999,基礎データ!P698)+ROW()/10000)","v":6.9800000000000001E-6},"",null,697,304,null,{"$f":"IF(V698=\"\",ROW()/100000000,COUNTIF(過去ログ!$N$3:$N$9999,基礎データ!V698)+ROW()/10000)","v":6.9800000000000001E-6},"",697,304,null,{"$f":"IF(AA698=\"\",ROW()/100000000,COUNTIF(過去ログ!$N$3:$Y$9999,基礎データ!AA698)+ROW()/10000)","v":6.9800000000000001E-6},""]
[null,null,null,null,null,null,null,null,null,null,null,null,null,698,372,null,{"$f":"IF(P699=\"\",ROW()/100000000,COUNTIF(過去ログ!$BQ$3:$CT$9999,基礎データ!P699)+ROW()/10000)","v":6.99E-6},"",null,698,303,null,{"$f":"IF(V699=\"\",ROW()/100000000,COUNTIF(過去ログ!$N$3:$N$9999,基礎データ!V699)+ROW()/10000)","v":6.99E-6},"",698,303,null,{"$f":"IF(AA699=\"\",ROW()/100000000,COUNTIF(過去ログ!$N$3:$Y$9999,基礎データ!AA699)+ROW()/10000)","v":6.99E-6},""]
[null,null,null,null,null,null,null,null,null,null,null,null,null,699,371,null,{"$f":"IF(P700=\"\",ROW()/100000000,COUNTIF(過去ログ!$BQ$3:$CT$9999,基礎データ!P700)+ROW()/10000)","v":6.9999999999999999E-6},"",null,699,302,null,{"$f":"IF(V700=\"\",ROW()/100000000,COUNTIF(過去ログ!$N$3:$N$9999,基礎データ!V700)+ROW()/10000)","v":6.9999999999999999E-6},"",699,302,null,{"$f":"IF(AA700=\"\",ROW()/100000000,COUNTIF(過去ログ!$N$3:$Y$9999,基礎データ!AA700)+ROW()/10000)","v":6.9999999999999999E-6},""]
[null,null,null,null,null,null,null,null,null,null,null,null,null,700,370,null,{"$f":"IF(P701=\"\",ROW()/100000000,COUNTIF(過去ログ!$BQ$3:$CT$9999,基礎データ!P701)+ROW()/10000)","v":7.0099999999999998E-6},"",null,700,301,null,{"$f":"IF(V701=\"\",ROW()/100000000,COUNTIF(過去ログ!$N$3:$N$9999,基礎データ!V701)+ROW()/10000)","v":7.0099999999999998E-6},"",700,301,null,{"$f":"IF(AA701=\"\",ROW()/100000000,COUNTIF(過去ログ!$N$3:$Y$9999,基礎データ!AA701)+ROW()/10000)","v":7.0099999999999998E-6},""]
[null,null,null,null,null,null,null,null,null,null,null,null,null,701,369,null,{"$f":"IF(P702=\"\",ROW()/100000000,COUNTIF(過去ログ!$BQ$3:$CT$9999,基礎データ!P702)+ROW()/10000)","v":7.0199999999999997E-6},"",null,701,300,null,{"$f":"IF(V702=\"\",ROW()/100000000,COUNTIF(過去ログ!$N$3:$N$9999,基礎データ!V702)+ROW()/10000)","v":7.0199999999999997E-6},"",701,300,null,{"$f":"IF(AA702=\"\",ROW()/100000000,COUNTIF(過去ログ!$N$3:$Y$9999,基礎データ!AA702)+ROW()/10000)","v":7.0199999999999997E-6},""]
[null,null,null,null,null,null,null,null,null,null,null,null,null,702,368,null,{"$f":"IF(P703=\"\",ROW()/100000000,COUNTIF(過去ログ!$BQ$3:$CT$9999,基礎データ!P703)+ROW()/10000)","v":7.0299999999999996E-6},"",null,702,299,null,{"$f":"IF(V703=\"\",ROW()/100000000,COUNTIF(過去ログ!$N$3:$N$9999,基礎データ!V703)+ROW()/10000)","v":7.0299999999999996E-6},"",702,299,null,{"$f":"IF(AA703=\"\",ROW()/100000000,COUNTIF(過去ログ!$N$3:$Y$9999,基礎データ!AA703)+ROW()/10000)","v":7.0299999999999996E-6},""]
[null,null,null,null,null,null,null,null,null,null,null,null,null,703,367,null,{"$f":"IF(P704=\"\",ROW()/100000000,COUNTIF(過去ログ!$BQ$3:$CT$9999,基礎データ!P704)+ROW()/10000)","v":7.0400000000000004E-6},"",null,703,298,null,{"$f":"IF(V704=\"\",ROW()/100000000,COUNTIF(過去ログ!$N$3:$N$9999,基礎データ!V704)+ROW()/10000)","v":7.0400000000000004E-6},"",703,298,null,{"$f":"IF(AA704=\"\",ROW()/100000000,COUNTIF(過去ログ!$N$3:$Y$9999,基礎データ!AA704)+ROW()/10000)","v":7.0400000000000004E-6},""]
[null,null,null,null,null,null,null,null,null,null,null,null,null,704,366,null,{"$f":"IF(P705=\"\",ROW()/100000000,COUNTIF(過去ログ!$BQ$3:$CT$9999,基礎データ!P705)+ROW()/10000)","v":7.0500000000000003E-6},"",null,704,297,null,{"$f":"IF(V705=\"\",ROW()/100000000,COUNTIF(過去ログ!$N$3:$N$9999,基礎データ!V705)+ROW()/10000)","v":7.0500000000000003E-6},"",704,297,null,{"$f":"IF(AA705=\"\",ROW()/100000000,COUNTIF(過去ログ!$N$3:$Y$9999,基礎データ!AA705)+ROW()/10000)","v":7.0500000000000003E-6},""]
[null,null,null,null,null,null,null,null,null,null,null,null,null,705,365,null,{"$f":"IF(P706=\"\",ROW()/100000000,COUNTIF(過去ログ!$BQ$3:$CT$9999,基礎データ!P706)+ROW()/10000)","v":7.0600000000000002E-6},"",null,705,296,null,{"$f":"IF(V706=\"\",ROW()/100000000,COUNTIF(過去ログ!$N$3:$N$9999,基礎データ!V706)+ROW()/10000)","v":7.0600000000000002E-6},"",705,296,null,{"$f":"IF(AA706=\"\",ROW()/100000000,COUNTIF(過去ログ!$N$3:$Y$9999,基礎データ!AA706)+ROW()/10000)","v":7.0600000000000002E-6},""]
[null,null,null,null,null,null,null,null,null,null,null,null,null,706,364,null,{"$f":"IF(P707=\"\",ROW()/100000000,COUNTIF(過去ログ!$BQ$3:$CT$9999,基礎データ!P707)+ROW()/10000)","v":7.0700000000000001E-6},"",null,706,295,null,{"$f":"IF(V707=\"\",ROW()/100000000,COUNTIF(過去ログ!$N$3:$N$9999,基礎データ!V707)+ROW()/10000)","v":7.0700000000000001E-6},"",706,295,null,{"$f":"IF(AA707=\"\",ROW()/100000000,COUNTIF(過去ログ!$N$3:$Y$9999,基礎データ!AA707)+ROW()/10000)","v":7.0700000000000001E-6},""]
[null,null,null,null,null,null,null,null,null,null,null,null,null,707,363,null,{"$f":"IF(P708=\"\",ROW()/100000000,COUNTIF(過去ログ!$BQ$3:$CT$9999,基礎データ!P708)+ROW()/10000)","v":7.08E-6},"",null,707,294,null,{"$f":"IF(V708=\"\",ROW()/100000000,COUNTIF(過去ログ!$N$3:$N$9999,基礎データ!V708)+ROW()/10000)","v":7.08E-6},"",707,294,null,{"$f":"IF(AA708=\"\",ROW()/100000000,COUNTIF(過去ログ!$N$3:$Y$9999,基礎データ!AA708)+ROW()/10000)","v":7.08E-6},""]
[null,null,null,null,null,null,null,null,null,null,null,null,null,708,362,null,{"$f":"IF(P709=\"\",ROW()/100000000,COUNTIF(過去ログ!$BQ$3:$CT$9999,基礎データ!P709)+ROW()/10000)","v":7.0899999999999999E-6},"",null,708,{"$f":"RANK(W709,$W$2:$W$1002)","v":293},null,{"$f":"IF(V709=\"\",ROW()/100000000,COUNTIF(過去ログ!$N$3:$N$9999,基礎データ!V709)+ROW()/10000)","v":7.0899999999999999E-6},"",708,293,null,{"$f":"IF(AA709=\"\",ROW()/100000000,COUNTIF(過去ログ!$N$3:$Y$9999,基礎データ!AA709)+ROW()/10000)","v":7.0899999999999999E-6},""]
[null,null,null,null,null,null,null,null,null,null,null,null,null,709,361,null,{"$f":"IF(P710=\"\",ROW()/100000000,COUNTIF(過去ログ!$BQ$3:$CT$9999,基礎データ!P710)+ROW()/10000)","v":7.0999999999999998E-6},"",null,709,292,null,{"$f":"IF(V710=\"\",ROW()/100000000,COUNTIF(過去ログ!$N$3:$N$9999,基礎データ!V710)+ROW()/10000)","v":7.0999999999999998E-6},"",709,292,null,{"$f":"IF(AA710=\"\",ROW()/100000000,COUNTIF(過去ログ!$N$3:$Y$9999,基礎データ!AA710)+ROW()/10000)","v":7.0999999999999998E-6},""]
[null,null,null,null,null,null,null,null,null,null,null,null,null,710,360,null,{"$f":"IF(P711=\"\",ROW()/100000000,COUNTIF(過去ログ!$BQ$3:$CT$9999,基礎データ!P711)+ROW()/10000)","v":7.1099999999999997E-6},"",null,710,291,null,{"$f":"IF(V711=\"\",ROW()/100000000,COUNTIF(過去ログ!$N$3:$N$9999,基礎データ!V711)+ROW()/10000)","v":7.1099999999999997E-6},"",710,291,null,{"$f":"IF(AA711=\"\",ROW()/100000000,COUNTIF(過去ログ!$N$3:$Y$9999,基礎データ!AA711)+ROW()/10000)","v":7.1099999999999997E-6},""]
[null,null,null,null,null,null,null,null,null,null,null,null,null,711,359,null,{"$f":"IF(P712=\"\",ROW()/100000000,COUNTIF(過去ログ!$BQ$3:$CT$9999,基礎データ!P712)+ROW()/10000)","v":7.1199999999999996E-6},"",null,711,290,null,{"$f":"IF(V712=\"\",ROW()/100000000,COUNTIF(過去ログ!$N$3:$N$9999,基礎データ!V712)+ROW()/10000)","v":7.1199999999999996E-6},"",711,290,null,{"$f":"IF(AA712=\"\",ROW()/100000000,COUNTIF(過去ログ!$N$3:$Y$9999,基礎データ!AA712)+ROW()/10000)","v":7.1199999999999996E-6},""]
[null,null,null,null,null,null,null,null,null,null,null,null,null,712,358,null,{"$f":"IF(P713=\"\",ROW()/100000000,COUNTIF(過去ログ!$BQ$3:$CT$9999,基礎データ!P713)+ROW()/10000)","v":7.1300000000000003E-6},"",null,712,289,null,{"$f":"IF(V713=\"\",ROW()/100000000,COUNTIF(過去ログ!$N$3:$N$9999,基礎データ!V713)+ROW()/10000)","v":7.1300000000000003E-6},"",712,289,null,{"$f":"IF(AA713=\"\",ROW()/100000000,COUNTIF(過去ログ!$N$3:$Y$9999,基礎データ!AA713)+ROW()/10000)","v":7.1300000000000003E-6},""]
[null,null,null,null,null,null,null,null,null,null,null,null,null,713,357,null,{"$f":"IF(P714=\"\",ROW()/100000000,COUNTIF(過去ログ!$BQ$3:$CT$9999,基礎データ!P714)+ROW()/10000)","v":7.1400000000000002E-6},"",null,713,288,null,{"$f":"IF(V714=\"\",ROW()/100000000,COUNTIF(過去ログ!$N$3:$N$9999,基礎データ!V714)+ROW()/10000)","v":7.1400000000000002E-6},"",713,288,null,{"$f":"IF(AA714=\"\",ROW()/100000000,COUNTIF(過去ログ!$N$3:$Y$9999,基礎データ!AA714)+ROW()/10000)","v":7.1400000000000002E-6},""]
[null,null,null,null,null,null,null,null,null,null,null,null,null,714,356,null,{"$f":"IF(P715=\"\",ROW()/100000000,COUNTIF(過去ログ!$BQ$3:$CT$9999,基礎データ!P715)+ROW()/10000)","v":7.1500000000000002E-6},"",null,714,287,null,{"$f":"IF(V715=\"\",ROW()/100000000,COUNTIF(過去ログ!$N$3:$N$9999,基礎データ!V715)+ROW()/10000)","v":7.1500000000000002E-6},"",714,287,null,{"$f":"IF(AA715=\"\",ROW()/100000000,COUNTIF(過去ログ!$N$3:$Y$9999,基礎データ!AA715)+ROW()/10000)","v":7.1500000000000002E-6},""]
[null,null,null,null,null,null,null,null,null,null,null,null,null,715,355,null,{"$f":"IF(P716=\"\",ROW()/100000000,COUNTIF(過去ログ!$BQ$3:$CT$9999,基礎データ!P716)+ROW()/10000)","v":7.1600000000000001E-6},"",null,715,286,null,{"$f":"IF(V716=\"\",ROW()/100000000,COUNTIF(過去ログ!$N$3:$N$9999,基礎データ!V716)+ROW()/10000)","v":7.1600000000000001E-6},"",715,286,null,{"$f":"IF(AA716=\"\",ROW()/100000000,COUNTIF(過去ログ!$N$3:$Y$9999,基礎データ!AA716)+ROW()/10000)","v":7.1600000000000001E-6},""]
[null,null,null,null,null,null,null,null,null,null,null,null,null,716,354,null,{"$f":"IF(P717=\"\",ROW()/100000000,COUNTIF(過去ログ!$BQ$3:$CT$9999,基礎データ!P717)+ROW()/10000)","v":7.17E-6},"",null,716,285,null,{"$f":"IF(V717=\"\",ROW()/100000000,COUNTIF(過去ログ!$N$3:$N$9999,基礎データ!V717)+ROW()/10000)","v":7.17E-6},"",716,285,null,{"$f":"IF(AA717=\"\",ROW()/100000000,COUNTIF(過去ログ!$N$3:$Y$9999,基礎データ!AA717)+ROW()/10000)","v":7.17E-6},""]
[null,null,null,null,null,null,null,null,null,null,null,null,null,717,353,null,{"$f":"IF(P718=\"\",ROW()/100000000,COUNTIF(過去ログ!$BQ$3:$CT$9999,基礎データ!P718)+ROW()/10000)","v":7.1799999999999999E-6},"",null,717,284,null,{"$f":"IF(V718=\"\",ROW()/100000000,COUNTIF(過去ログ!$N$3:$N$9999,基礎データ!V718)+ROW()/10000)","v":7.1799999999999999E-6},"",717,284,null,{"$f":"IF(AA718=\"\",ROW()/100000000,COUNTIF(過去ログ!$N$3:$Y$9999,基礎データ!AA718)+ROW()/10000)","v":7.1799999999999999E-6},""]
[null,null,null,null,null,null,null,null,null,null,null,null,null,718,352,null,{"$f":"IF(P719=\"\",ROW()/100000000,COUNTIF(過去ログ!$BQ$3:$CT$9999,基礎データ!P719)+ROW()/10000)","v":7.1899999999999998E-6},"",null,718,283,null,{"$f":"IF(V719=\"\",ROW()/100000000,COUNTIF(過去ログ!$N$3:$N$9999,基礎データ!V719)+ROW()/10000)","v":7.1899999999999998E-6},{"$f":"IF(VLOOKUP(T719,$U$2:$V$1002,2,FALSE)=0,\"\",VLOOKUP(T719,$U$2:$V$1002,2,FALSE))","v":""},718,283,null,{"$f":"IF(AA719=\"\",ROW()/100000000,COUNTIF(過去ログ!$N$3:$Y$9999,基礎データ!AA719)+ROW()/10000)","v":7.1899999999999998E-6},""]
[null,null,null,null,null,null,null,null,null,null,null,null,null,719,351,null,{"$f":"IF(P720=\"\",ROW()/100000000,COUNTIF(過去ログ!$BQ$3:$CT$9999,基礎データ!P720)+ROW()/10000)","v":7.1999999999999997E-6},"",null,719,282,null,{"$f":"IF(V720=\"\",ROW()/100000000,COUNTIF(過去ログ!$N$3:$N$9999,基礎データ!V720)+ROW()/10000)","v":7.1999999999999997E-6},"",719,282,null,{"$f":"IF(AA720=\"\",ROW()/100000000,COUNTIF(過去ログ!$N$3:$Y$9999,基礎データ!AA720)+ROW()/10000)","v":7.1999999999999997E-6},""]
[null,null,null,null,null,null,null,null,null,null,null,null,null,720,350,null,{"$f":"IF(P721=\"\",ROW()/100000000,COUNTIF(過去ログ!$BQ$3:$CT$9999,基礎データ!P721)+ROW()/10000)","v":7.2099999999999996E-6},"",null,720,281,null,{"$f":"IF(V721=\"\",ROW()/100000000,COUNTIF(過去ログ!$N$3:$N$9999,基礎データ!V721)+ROW()/10000)","v":7.2099999999999996E-6},"",720,281,null,{"$f":"IF(AA721=\"\",ROW()/100000000,COUNTIF(過去ログ!$N$3:$Y$9999,基礎データ!AA721)+ROW()/10000)","v":7.2099999999999996E-6},""]
[null,null,null,null,null,null,null,null,null,null,null,null,null,721,349,null,{"$f":"IF(P722=\"\",ROW()/100000000,COUNTIF(過去ログ!$BQ$3:$CT$9999,基礎データ!P722)+ROW()/10000)","v":7.2200000000000003E-6},"",null,721,280,null,{"$f":"IF(V722=\"\",ROW()/100000000,COUNTIF(過去ログ!$N$3:$N$9999,基礎データ!V722)+ROW()/10000)","v":7.2200000000000003E-6},"",721,280,null,{"$f":"IF(AA722=\"\",ROW()/100000000,COUNTIF(過去ログ!$N$3:$Y$9999,基礎データ!AA722)+ROW()/10000)","v":7.2200000000000003E-6},""]
[null,null,null,null,null,null,null,null,null,null,null,null,null,722,348,null,{"$f":"IF(P723=\"\",ROW()/100000000,COUNTIF(過去ログ!$BQ$3:$CT$9999,基礎データ!P723)+ROW()/10000)","v":7.2300000000000002E-6},"",null,722,279,null,{"$f":"IF(V723=\"\",ROW()/100000000,COUNTIF(過去ログ!$N$3:$N$9999,基礎データ!V723)+ROW()/10000)","v":7.2300000000000002E-6},"",722,279,null,{"$f":"IF(AA723=\"\",ROW()/100000000,COUNTIF(過去ログ!$N$3:$Y$9999,基礎データ!AA723)+ROW()/10000)","v":7.2300000000000002E-6},""]
[null,null,null,null,null,null,null,null,null,null,null,null,null,723,347,null,{"$f":"IF(P724=\"\",ROW()/100000000,COUNTIF(過去ログ!$BQ$3:$CT$9999,基礎データ!P724)+ROW()/10000)","v":7.2400000000000001E-6},"",null,723,278,null,{"$f":"IF(V724=\"\",ROW()/100000000,COUNTIF(過去ログ!$N$3:$N$9999,基礎データ!V724)+ROW()/10000)","v":7.2400000000000001E-6},"",723,278,null,{"$f":"IF(AA724=\"\",ROW()/100000000,COUNTIF(過去ログ!$N$3:$Y$9999,基礎データ!AA724)+ROW()/10000)","v":7.2400000000000001E-6},""]
[null,null,null,null,null,null,null,null,null,null,null,null,null,724,346,null,{"$f":"IF(P725=\"\",ROW()/100000000,COUNTIF(過去ログ!$BQ$3:$CT$9999,基礎データ!P725)+ROW()/10000)","v":7.25E-6},"",null,724,277,null,{"$f":"IF(V725=\"\",ROW()/100000000,COUNTIF(過去ログ!$N$3:$N$9999,基礎データ!V725)+ROW()/10000)","v":7.25E-6},"",724,277,null,{"$f":"IF(AA725=\"\",ROW()/100000000,COUNTIF(過去ログ!$N$3:$Y$9999,基礎データ!AA725)+ROW()/10000)","v":7.25E-6},""]
[null,null,null,null,null,null,null,null,null,null,null,null,null,725,345,null,{"$f":"IF(P726=\"\",ROW()/100000000,COUNTIF(過去ログ!$BQ$3:$CT$9999,基礎データ!P726)+ROW()/10000)","v":7.2599999999999999E-6},"",null,725,276,null,{"$f":"IF(V726=\"\",ROW()/100000000,COUNTIF(過去ログ!$N$3:$N$9999,基礎データ!V726)+ROW()/10000)","v":7.2599999999999999E-6},"",725,276,null,{"$f":"IF(AA726=\"\",ROW()/100000000,COUNTIF(過去ログ!$N$3:$Y$9999,基礎データ!AA726)+ROW()/10000)","v":7.2599999999999999E-6},""]
[null,null,null,null,null,null,null,null,null,null,null,null,null,726,344,null,{"$f":"IF(P727=\"\",ROW()/100000000,COUNTIF(過去ログ!$BQ$3:$CT$9999,基礎データ!P727)+ROW()/10000)","v":7.2699999999999999E-6},"",null,726,275,null,{"$f":"IF(V727=\"\",ROW()/100000000,COUNTIF(過去ログ!$N$3:$N$9999,基礎データ!V727)+ROW()/10000)","v":7.2699999999999999E-6},"",726,275,null,{"$f":"IF(AA727=\"\",ROW()/100000000,COUNTIF(過去ログ!$N$3:$Y$9999,基礎データ!AA727)+ROW()/10000)","v":7.2699999999999999E-6},""]
[null,null,null,null,null,null,null,null,null,null,null,null,null,727,343,null,{"$f":"IF(P728=\"\",ROW()/100000000,COUNTIF(過去ログ!$BQ$3:$CT$9999,基礎データ!P728)+ROW()/10000)","v":7.2799999999999998E-6},"",null,727,274,null,{"$f":"IF(V728=\"\",ROW()/100000000,COUNTIF(過去ログ!$N$3:$N$9999,基礎データ!V728)+ROW()/10000)","v":7.2799999999999998E-6},"",727,274,null,{"$f":"IF(AA728=\"\",ROW()/100000000,COUNTIF(過去ログ!$N$3:$Y$9999,基礎データ!AA728)+ROW()/10000)","v":7.2799999999999998E-6},""]
[null,null,null,null,null,null,null,null,null,null,null,null,null,728,342,null,{"$f":"IF(P729=\"\",ROW()/100000000,COUNTIF(過去ログ!$BQ$3:$CT$9999,基礎データ!P729)+ROW()/10000)","v":7.2899999999999997E-6},"",null,728,273,null,{"$f":"IF(V729=\"\",ROW()/100000000,COUNTIF(過去ログ!$N$3:$N$9999,基礎データ!V729)+ROW()/10000)","v":7.2899999999999997E-6},"",728,273,null,{"$f":"IF(AA729=\"\",ROW()/100000000,COUNTIF(過去ログ!$N$3:$Y$9999,基礎データ!AA729)+ROW()/10000)","v":7.2899999999999997E-6},""]
[null,null,null,null,null,null,null,null,null,null,null,null,null,729,341,null,{"$f":"IF(P730=\"\",ROW()/100000000,COUNTIF(過去ログ!$BQ$3:$CT$9999,基礎データ!P730)+ROW()/10000)","v":7.3000000000000004E-6},"",null,729,272,null,{"$f":"IF(V730=\"\",ROW()/100000000,COUNTIF(過去ログ!$N$3:$N$9999,基礎データ!V730)+ROW()/10000)","v":7.3000000000000004E-6},"",729,272,null,{"$f":"IF(AA730=\"\",ROW()/100000000,COUNTIF(過去ログ!$N$3:$Y$9999,基礎データ!AA730)+ROW()/10000)","v":7.3000000000000004E-6},""]
[null,null,null,null,null,null,null,null,null,null,null,null,null,730,340,null,{"$f":"IF(P731=\"\",ROW()/100000000,COUNTIF(過去ログ!$BQ$3:$CT$9999,基礎データ!P731)+ROW()/10000)","v":7.3100000000000003E-6},"",null,730,271,null,{"$f":"IF(V731=\"\",ROW()/100000000,COUNTIF(過去ログ!$N$3:$N$9999,基礎データ!V731)+ROW()/10000)","v":7.3100000000000003E-6},"",730,271,null,{"$f":"IF(AA731=\"\",ROW()/100000000,COUNTIF(過去ログ!$N$3:$Y$9999,基礎データ!AA731)+ROW()/10000)","v":7.3100000000000003E-6},""]
[null,null,null,null,null,null,null,null,null,null,null,null,null,731,339,null,{"$f":"IF(P732=\"\",ROW()/100000000,COUNTIF(過去ログ!$BQ$3:$CT$9999,基礎データ!P732)+ROW()/10000)","v":7.3200000000000002E-6},"",null,731,270,null,{"$f":"IF(V732=\"\",ROW()/100000000,COUNTIF(過去ログ!$N$3:$N$9999,基礎データ!V732)+ROW()/10000)","v":7.3200000000000002E-6},"",731,270,null,{"$f":"IF(AA732=\"\",ROW()/100000000,COUNTIF(過去ログ!$N$3:$Y$9999,基礎データ!AA732)+ROW()/10000)","v":7.3200000000000002E-6},""]
[null,null,null,null,null,null,null,null,null,null,null,null,null,732,338,null,{"$f":"IF(P733=\"\",ROW()/100000000,COUNTIF(過去ログ!$BQ$3:$CT$9999,基礎データ!P733)+ROW()/10000)","v":7.3300000000000001E-6},"",null,732,269,null,{"$f":"IF(V733=\"\",ROW()/100000000,COUNTIF(過去ログ!$N$3:$N$9999,基礎データ!V733)+ROW()/10000)","v":7.3300000000000001E-6},"",732,269,null,{"$f":"IF(AA733=\"\",ROW()/100000000,COUNTIF(過去ログ!$N$3:$Y$9999,基礎データ!AA733)+ROW()/10000)","v":7.3300000000000001E-6},""]
[null,null,null,null,null,null,null,null,null,null,null,null,null,733,337,null,{"$f":"IF(P734=\"\",ROW()/100000000,COUNTIF(過去ログ!$BQ$3:$CT$9999,基礎データ!P734)+ROW()/10000)","v":7.34E-6},"",null,733,268,null,{"$f":"IF(V734=\"\",ROW()/100000000,COUNTIF(過去ログ!$N$3:$N$9999,基礎データ!V734)+ROW()/10000)","v":7.34E-6},"",733,268,null,{"$f":"IF(AA734=\"\",ROW()/100000000,COUNTIF(過去ログ!$N$3:$Y$9999,基礎データ!AA734)+ROW()/10000)","v":7.34E-6},""]
[null,null,null,null,null,null,null,null,null,null,null,null,null,734,336,null,{"$f":"IF(P735=\"\",ROW()/100000000,COUNTIF(過去ログ!$BQ$3:$CT$9999,基礎データ!P735)+ROW()/10000)","v":7.3499999999999999E-6},"",null,734,267,null,{"$f":"IF(V735=\"\",ROW()/100000000,COUNTIF(過去ログ!$N$3:$N$9999,基礎データ!V735)+ROW()/10000)","v":7.3499999999999999E-6},"",734,267,null,{"$f":"IF(AA735=\"\",ROW()/100000000,COUNTIF(過去ログ!$N$3:$Y$9999,基礎データ!AA735)+ROW()/10000)","v":7.3499999999999999E-6},""]
[null,null,null,null,null,null,null,null,null,null,null,null,null,735,{"$f":"RANK(Q736,$Q$2:$Q$1002)","v":335},null,{"$f":"IF(P736=\"\",ROW()/100000000,COUNTIF(過去ログ!$BQ$3:$CT$9999,基礎データ!P736)+ROW()/10000)","v":7.3599999999999998E-6},"",null,735,266,null,{"$f":"IF(V736=\"\",ROW()/100000000,COUNTIF(過去ログ!$N$3:$N$9999,基礎データ!V736)+ROW()/10000)","v":7.3599999999999998E-6},"",735,266,null,{"$f":"IF(AA736=\"\",ROW()/100000000,COUNTIF(過去ログ!$N$3:$Y$9999,基礎データ!AA736)+ROW()/10000)","v":7.3599999999999998E-6},""]
[null,null,null,null,null,null,null,null,null,null,null,null,null,736,334,null,{"$f":"IF(P737=\"\",ROW()/100000000,COUNTIF(過去ログ!$BQ$3:$CT$9999,基礎データ!P737)+ROW()/10000)","v":7.3699999999999997E-6},"",null,736,265,null,{"$f":"IF(V737=\"\",ROW()/100000000,COUNTIF(過去ログ!$N$3:$N$9999,基礎データ!V737)+ROW()/10000)","v":7.3699999999999997E-6},"",736,265,null,{"$f":"IF(AA737=\"\",ROW()/100000000,COUNTIF(過去ログ!$N$3:$Y$9999,基礎データ!AA737)+ROW()/10000)","v":7.3699999999999997E-6},""]
[null,null,null,null,null,null,null,null,null,null,null,null,null,737,333,null,{"$f":"IF(P738=\"\",ROW()/100000000,COUNTIF(過去ログ!$BQ$3:$CT$9999,基礎データ!P738)+ROW()/10000)","v":7.3799999999999996E-6},"",null,737,264,null,{"$f":"IF(V738=\"\",ROW()/100000000,COUNTIF(過去ログ!$N$3:$N$9999,基礎データ!V738)+ROW()/10000)","v":7.3799999999999996E-6},"",737,264,null,{"$f":"IF(AA738=\"\",ROW()/100000000,COUNTIF(過去ログ!$N$3:$Y$9999,基礎データ!AA738)+ROW()/10000)","v":7.3799999999999996E-6},""]
[null,null,null,null,null,null,null,null,null,null,null,null,null,738,332,null,{"$f":"IF(P739=\"\",ROW()/100000000,COUNTIF(過去ログ!$BQ$3:$CT$9999,基礎データ!P739)+ROW()/10000)","v":7.3900000000000004E-6},"",null,738,263,null,{"$f":"IF(V739=\"\",ROW()/100000000,COUNTIF(過去ログ!$N$3:$N$9999,基礎データ!V739)+ROW()/10000)","v":7.3900000000000004E-6},"",738,263,null,{"$f":"IF(AA739=\"\",ROW()/100000000,COUNTIF(過去ログ!$N$3:$Y$9999,基礎データ!AA739)+ROW()/10000)","v":7.3900000000000004E-6},""]
[null,null,null,null,null,null,null,null,null,null,null,null,null,739,331,null,{"$f":"IF(P740=\"\",ROW()/100000000,COUNTIF(過去ログ!$BQ$3:$CT$9999,基礎データ!P740)+ROW()/10000)","v":7.4000000000000003E-6},"",null,739,262,null,{"$f":"IF(V740=\"\",ROW()/100000000,COUNTIF(過去ログ!$N$3:$N$9999,基礎データ!V740)+ROW()/10000)","v":7.4000000000000003E-6},"",739,262,null,{"$f":"IF(AA740=\"\",ROW()/100000000,COUNTIF(過去ログ!$N$3:$Y$9999,基礎データ!AA740)+ROW()/10000)","v":7.4000000000000003E-6},""]
[null,null,null,null,null,null,null,null,null,null,null,null,null,740,330,null,{"$f":"IF(P741=\"\",ROW()/100000000,COUNTIF(過去ログ!$BQ$3:$CT$9999,基礎データ!P741)+ROW()/10000)","v":7.4100000000000002E-6},"",null,740,261,null,{"$f":"IF(V741=\"\",ROW()/100000000,COUNTIF(過去ログ!$N$3:$N$9999,基礎データ!V741)+ROW()/10000)","v":7.4100000000000002E-6},"",740,261,null,{"$f":"IF(AA741=\"\",ROW()/100000000,COUNTIF(過去ログ!$N$3:$Y$9999,基礎データ!AA741)+ROW()/10000)","v":7.4100000000000002E-6},""]
[null,null,null,null,null,null,null,null,null,null,null,null,null,741,329,null,{"$f":"IF(P742=\"\",ROW()/100000000,COUNTIF(過去ログ!$BQ$3:$CT$9999,基礎データ!P742)+ROW()/10000)","v":7.4200000000000001E-6},{"$f":"IF(P742=\"\",\"\",VLOOKUP(N742,$O$2:$P$1002,2,FALSE))","v":""},null,741,260,null,{"$f":"IF(V742=\"\",ROW()/100000000,COUNTIF(過去ログ!$N$3:$N$9999,基礎データ!V742)+ROW()/10000)","v":7.4200000000000001E-6},"",741,260,null,{"$f":"IF(AA742=\"\",ROW()/100000000,COUNTIF(過去ログ!$N$3:$Y$9999,基礎データ!AA742)+ROW()/10000)","v":7.4200000000000001E-6},""]
[null,null,null,null,null,null,null,null,null,null,null,null,null,742,328,null,{"$f":"IF(P743=\"\",ROW()/100000000,COUNTIF(過去ログ!$BQ$3:$CT$9999,基礎データ!P743)+ROW()/10000)","v":7.43E-6},"",null,742,259,null,{"$f":"IF(V743=\"\",ROW()/100000000,COUNTIF(過去ログ!$N$3:$N$9999,基礎データ!V743)+ROW()/10000)","v":7.43E-6},"",742,259,null,{"$f":"IF(AA743=\"\",ROW()/100000000,COUNTIF(過去ログ!$N$3:$Y$9999,基礎データ!AA743)+ROW()/10000)","v":7.43E-6},""]
[null,null,null,null,null,null,null,null,null,null,null,null,null,743,327,null,{"$f":"IF(P744=\"\",ROW()/100000000,COUNTIF(過去ログ!$BQ$3:$CT$9999,基礎データ!P744)+ROW()/10000)","v":7.4399999999999999E-6},"",null,743,258,null,{"$f":"IF(V744=\"\",ROW()/100000000,COUNTIF(過去ログ!$N$3:$N$9999,基礎データ!V744)+ROW()/10000)","v":7.4399999999999999E-6},"",743,258,null,{"$f":"IF(AA744=\"\",ROW()/100000000,COUNTIF(過去ログ!$N$3:$Y$9999,基礎データ!AA744)+ROW()/10000)","v":7.4399999999999999E-6},""]
[null,null,null,null,null,null,null,null,null,null,null,null,null,744,326,null,{"$f":"IF(P745=\"\",ROW()/100000000,COUNTIF(過去ログ!$BQ$3:$CT$9999,基礎データ!P745)+ROW()/10000)","v":7.4499999999999998E-6},"",null,744,257,null,{"$f":"IF(V745=\"\",ROW()/100000000,COUNTIF(過去ログ!$N$3:$N$9999,基礎データ!V745)+ROW()/10000)","v":7.4499999999999998E-6},"",744,257,null,{"$f":"IF(AA745=\"\",ROW()/100000000,COUNTIF(過去ログ!$N$3:$Y$9999,基礎データ!AA745)+ROW()/10000)","v":7.4499999999999998E-6},""]
[null,null,null,null,null,null,null,null,null,null,null,null,null,745,325,null,{"$f":"IF(P746=\"\",ROW()/100000000,COUNTIF(過去ログ!$BQ$3:$CT$9999,基礎データ!P746)+ROW()/10000)","v":7.4599999999999997E-6},"",null,745,256,null,{"$f":"IF(V746=\"\",ROW()/100000000,COUNTIF(過去ログ!$N$3:$N$9999,基礎データ!V746)+ROW()/10000)","v":7.4599999999999997E-6},"",745,256,null,{"$f":"IF(AA746=\"\",ROW()/100000000,COUNTIF(過去ログ!$N$3:$Y$9999,基礎データ!AA746)+ROW()/10000)","v":7.4599999999999997E-6},""]
[null,null,null,null,null,null,null,null,null,null,null,null,null,746,324,null,{"$f":"IF(P747=\"\",ROW()/100000000,COUNTIF(過去ログ!$BQ$3:$CT$9999,基礎データ!P747)+ROW()/10000)","v":7.4699999999999996E-6},"",null,746,255,null,{"$f":"IF(V747=\"\",ROW()/100000000,COUNTIF(過去ログ!$N$3:$N$9999,基礎データ!V747)+ROW()/10000)","v":7.4699999999999996E-6},"",746,255,null,{"$f":"IF(AA747=\"\",ROW()/100000000,COUNTIF(過去ログ!$N$3:$Y$9999,基礎データ!AA747)+ROW()/10000)","v":7.4699999999999996E-6},""]
[null,null,null,null,null,null,null,null,null,null,null,null,null,747,323,null,{"$f":"IF(P748=\"\",ROW()/100000000,COUNTIF(過去ログ!$BQ$3:$CT$9999,基礎データ!P748)+ROW()/10000)","v":7.4800000000000004E-6},"",null,747,254,null,{"$f":"IF(V748=\"\",ROW()/100000000,COUNTIF(過去ログ!$N$3:$N$9999,基礎データ!V748)+ROW()/10000)","v":7.4800000000000004E-6},"",747,254,null,{"$f":"IF(AA748=\"\",ROW()/100000000,COUNTIF(過去ログ!$N$3:$Y$9999,基礎データ!AA748)+ROW()/10000)","v":7.4800000000000004E-6},""]
[null,null,null,null,null,null,null,null,null,null,null,null,null,748,322,null,{"$f":"IF(P749=\"\",ROW()/100000000,COUNTIF(過去ログ!$BQ$3:$CT$9999,基礎データ!P749)+ROW()/10000)","v":7.4900000000000003E-6},"",null,748,253,null,{"$f":"IF(V749=\"\",ROW()/100000000,COUNTIF(過去ログ!$N$3:$N$9999,基礎データ!V749)+ROW()/10000)","v":7.4900000000000003E-6},"",748,253,null,{"$f":"IF(AA749=\"\",ROW()/100000000,COUNTIF(過去ログ!$N$3:$Y$9999,基礎データ!AA749)+ROW()/10000)","v":7.4900000000000003E-6},""]
[null,null,null,null,null,null,null,null,null,null,null,null,null,749,321,null,{"$f":"IF(P750=\"\",ROW()/100000000,COUNTIF(過去ログ!$BQ$3:$CT$9999,基礎データ!P750)+ROW()/10000)","v":7.5000000000000002E-6},"",null,749,252,null,{"$f":"IF(V750=\"\",ROW()/100000000,COUNTIF(過去ログ!$N$3:$N$9999,基礎データ!V750)+ROW()/10000)","v":7.5000000000000002E-6},"",749,252,null,{"$f":"IF(AA750=\"\",ROW()/100000000,COUNTIF(過去ログ!$N$3:$Y$9999,基礎データ!AA750)+ROW()/10000)","v":7.5000000000000002E-6},""]
[null,null,null,null,null,null,null,null,null,null,null,null,null,750,320,null,{"$f":"IF(P751=\"\",ROW()/100000000,COUNTIF(過去ログ!$BQ$3:$CT$9999,基礎データ!P751)+ROW()/10000)","v":7.5100000000000001E-6},"",null,750,251,null,{"$f":"IF(V751=\"\",ROW()/100000000,COUNTIF(過去ログ!$N$3:$N$9999,基礎データ!V751)+ROW()/10000)","v":7.5100000000000001E-6},"",750,251,null,{"$f":"IF(AA751=\"\",ROW()/100000000,COUNTIF(過去ログ!$N$3:$Y$9999,基礎データ!AA751)+ROW()/10000)","v":7.5100000000000001E-6},""]
[null,null,null,null,null,null,null,null,null,null,null,null,null,751,319,null,{"$f":"IF(P752=\"\",ROW()/100000000,COUNTIF(過去ログ!$BQ$3:$CT$9999,基礎データ!P752)+ROW()/10000)","v":7.52E-6},"",null,751,250,null,{"$f":"IF(V752=\"\",ROW()/100000000,COUNTIF(過去ログ!$N$3:$N$9999,基礎データ!V752)+ROW()/10000)","v":7.52E-6},"",751,250,null,{"$f":"IF(AA752=\"\",ROW()/100000000,COUNTIF(過去ログ!$N$3:$Y$9999,基礎データ!AA752)+ROW()/10000)","v":7.52E-6},""]
[null,null,null,null,null,null,null,null,null,null,null,null,null,752,318,null,{"$f":"IF(P753=\"\",ROW()/100000000,COUNTIF(過去ログ!$BQ$3:$CT$9999,基礎データ!P753)+ROW()/10000)","v":7.5299999999999999E-6},"",null,752,249,null,{"$f":"IF(V753=\"\",ROW()/100000000,COUNTIF(過去ログ!$N$3:$N$9999,基礎データ!V753)+ROW()/10000)","v":7.5299999999999999E-6},"",752,249,null,{"$f":"IF(AA753=\"\",ROW()/100000000,COUNTIF(過去ログ!$N$3:$Y$9999,基礎データ!AA753)+ROW()/10000)","v":7.5299999999999999E-6},""]
[null,null,null,null,null,null,null,null,null,null,null,null,null,753,317,null,{"$f":"IF(P754=\"\",ROW()/100000000,COUNTIF(過去ログ!$BQ$3:$CT$9999,基礎データ!P754)+ROW()/10000)","v":7.5399999999999998E-6},"",null,753,248,null,{"$f":"IF(V754=\"\",ROW()/100000000,COUNTIF(過去ログ!$N$3:$N$9999,基礎データ!V754)+ROW()/10000)","v":7.5399999999999998E-6},"",753,248,null,{"$f":"IF(AA754=\"\",ROW()/100000000,COUNTIF(過去ログ!$N$3:$Y$9999,基礎データ!AA754)+ROW()/10000)","v":7.5399999999999998E-6},""]
[null,null,null,null,null,null,null,null,null,null,null,null,null,754,316,null,{"$f":"IF(P755=\"\",ROW()/100000000,COUNTIF(過去ログ!$BQ$3:$CT$9999,基礎データ!P755)+ROW()/10000)","v":7.5499999999999997E-6},"",null,754,247,null,{"$f":"IF(V755=\"\",ROW()/100000000,COUNTIF(過去ログ!$N$3:$N$9999,基礎データ!V755)+ROW()/10000)","v":7.5499999999999997E-6},"",754,247,null,{"$f":"IF(AA755=\"\",ROW()/100000000,COUNTIF(過去ログ!$N$3:$Y$9999,基礎データ!AA755)+ROW()/10000)","v":7.5499999999999997E-6},{"$f":"IF(VLOOKUP(Y755,$Z$2:$AA$1002,2,FALSE)=0,\"\",VLOOKUP(Y755,$Z$2:$AA$1002,2,FALSE))","v":""}]
[null,null,null,null,null,null,null,null,null,null,null,null,null,755,315,null,{"$f":"IF(P756=\"\",ROW()/100000000,COUNTIF(過去ログ!$BQ$3:$CT$9999,基礎データ!P756)+ROW()/10000)","v":7.5599999999999996E-6},"",null,755,246,null,{"$f":"IF(V756=\"\",ROW()/100000000,COUNTIF(過去ログ!$N$3:$N$9999,基礎データ!V756)+ROW()/10000)","v":7.5599999999999996E-6},"",755,246,null,{"$f":"IF(AA756=\"\",ROW()/100000000,COUNTIF(過去ログ!$N$3:$Y$9999,基礎データ!AA756)+ROW()/10000)","v":7.5599999999999996E-6},""]
[null,null,null,null,null,null,null,null,null,null,null,null,null,756,314,null,{"$f":"IF(P757=\"\",ROW()/100000000,COUNTIF(過去ログ!$BQ$3:$CT$9999,基礎データ!P757)+ROW()/10000)","v":7.5700000000000004E-6},"",null,756,245,null,{"$f":"IF(V757=\"\",ROW()/100000000,COUNTIF(過去ログ!$N$3:$N$9999,基礎データ!V757)+ROW()/10000)","v":7.5700000000000004E-6},"",756,245,null,{"$f":"IF(AA757=\"\",ROW()/100000000,COUNTIF(過去ログ!$N$3:$Y$9999,基礎データ!AA757)+ROW()/10000)","v":7.5700000000000004E-6},""]
[null,null,null,null,null,null,null,null,null,null,null,null,null,757,313,null,{"$f":"IF(P758=\"\",ROW()/100000000,COUNTIF(過去ログ!$BQ$3:$CT$9999,基礎データ!P758)+ROW()/10000)","v":7.5800000000000003E-6},"",null,757,244,null,{"$f":"IF(V758=\"\",ROW()/100000000,COUNTIF(過去ログ!$N$3:$N$9999,基礎データ!V758)+ROW()/10000)","v":7.5800000000000003E-6},"",757,244,null,{"$f":"IF(AA758=\"\",ROW()/100000000,COUNTIF(過去ログ!$N$3:$Y$9999,基礎データ!AA758)+ROW()/10000)","v":7.5800000000000003E-6},""]
[null,null,null,null,null,null,null,null,null,null,null,null,null,758,312,null,{"$f":"IF(P759=\"\",ROW()/100000000,COUNTIF(過去ログ!$BQ$3:$CT$9999,基礎データ!P759)+ROW()/10000)","v":7.5900000000000002E-6},"",null,758,243,null,{"$f":"IF(V759=\"\",ROW()/100000000,COUNTIF(過去ログ!$N$3:$N$9999,基礎データ!V759)+ROW()/10000)","v":7.5900000000000002E-6},"",758,243,null,{"$f":"IF(AA759=\"\",ROW()/100000000,COUNTIF(過去ログ!$N$3:$Y$9999,基礎データ!AA759)+ROW()/10000)","v":7.5900000000000002E-6},""]
[null,null,null,null,null,null,null,null,null,null,null,null,null,759,311,null,{"$f":"IF(P760=\"\",ROW()/100000000,COUNTIF(過去ログ!$BQ$3:$CT$9999,基礎データ!P760)+ROW()/10000)","v":7.6000000000000001E-6},"",null,759,242,null,{"$f":"IF(V760=\"\",ROW()/100000000,COUNTIF(過去ログ!$N$3:$N$9999,基礎データ!V760)+ROW()/10000)","v":7.6000000000000001E-6},"",759,{"$f":"RANK(AB760,$AB$2:$AB$1002)","v":242},null,{"$f":"IF(AA760=\"\",ROW()/100000000,COUNTIF(過去ログ!$N$3:$Y$9999,基礎データ!AA760)+ROW()/10000)","v":7.6000000000000001E-6},""]
[null,null,null,null,null,null,null,null,null,null,null,null,null,760,310,null,{"$f":"IF(P761=\"\",ROW()/100000000,COUNTIF(過去ログ!$BQ$3:$CT$9999,基礎データ!P761)+ROW()/10000)","v":7.61E-6},"",null,760,241,null,{"$f":"IF(V761=\"\",ROW()/100000000,COUNTIF(過去ログ!$N$3:$N$9999,基礎データ!V761)+ROW()/10000)","v":7.61E-6},"",760,241,null,{"$f":"IF(AA761=\"\",ROW()/100000000,COUNTIF(過去ログ!$N$3:$Y$9999,基礎データ!AA761)+ROW()/10000)","v":7.61E-6},""]
[null,null,null,null,null,null,null,null,null,null,null,null,null,761,309,null,{"$f":"IF(P762=\"\",ROW()/100000000,COUNTIF(過去ログ!$BQ$3:$CT$9999,基礎データ!P762)+ROW()/10000)","v":7.6199999999999999E-6},"",null,761,240,null,{"$f":"IF(V762=\"\",ROW()/100000000,COUNTIF(過去ログ!$N$3:$N$9999,基礎データ!V762)+ROW()/10000)","v":7.6199999999999999E-6},"",761,240,null,{"$f":"IF(AA762=\"\",ROW()/100000000,COUNTIF(過去ログ!$N$3:$Y$9999,基礎データ!AA762)+ROW()/10000)","v":7.6199999999999999E-6},""]
[null,null,null,null,null,null,null,null,null,null,null,null,null,762,308,null,{"$f":"IF(P763=\"\",ROW()/100000000,COUNTIF(過去ログ!$BQ$3:$CT$9999,基礎データ!P763)+ROW()/10000)","v":7.6299999999999998E-6},"",null,762,239,null,{"$f":"IF(V763=\"\",ROW()/100000000,COUNTIF(過去ログ!$N$3:$N$9999,基礎データ!V763)+ROW()/10000)","v":7.6299999999999998E-6},"",762,239,null,{"$f":"IF(AA763=\"\",ROW()/100000000,COUNTIF(過去ログ!$N$3:$Y$9999,基礎データ!AA763)+ROW()/10000)","v":7.6299999999999998E-6},""]
[null,null,null,null,null,null,null,null,null,null,null,null,null,763,307,null,{"$f":"IF(P764=\"\",ROW()/100000000,COUNTIF(過去ログ!$BQ$3:$CT$9999,基礎データ!P764)+ROW()/10000)","v":7.6399999999999997E-6},"",null,763,238,null,{"$f":"IF(V764=\"\",ROW()/100000000,COUNTIF(過去ログ!$N$3:$N$9999,基礎データ!V764)+ROW()/10000)","v":7.6399999999999997E-6},"",763,238,null,{"$f":"IF(AA764=\"\",ROW()/100000000,COUNTIF(過去ログ!$N$3:$Y$9999,基礎データ!AA764)+ROW()/10000)","v":7.6399999999999997E-6},""]
[null,null,null,null,null,null,null,null,null,null,null,null,null,764,306,null,{"$f":"IF(P765=\"\",ROW()/100000000,COUNTIF(過去ログ!$BQ$3:$CT$9999,基礎データ!P765)+ROW()/10000)","v":7.6499999999999996E-6},"",null,764,237,null,{"$f":"IF(V765=\"\",ROW()/100000000,COUNTIF(過去ログ!$N$3:$N$9999,基礎データ!V765)+ROW()/10000)","v":7.6499999999999996E-6},"",764,237,null,{"$f":"IF(AA765=\"\",ROW()/100000000,COUNTIF(過去ログ!$N$3:$Y$9999,基礎データ!AA765)+ROW()/10000)","v":7.6499999999999996E-6},""]
[null,null,null,null,null,null,null,null,null,null,null,null,null,765,305,null,{"$f":"IF(P766=\"\",ROW()/100000000,COUNTIF(過去ログ!$BQ$3:$CT$9999,基礎データ!P766)+ROW()/10000)","v":7.6599999999999995E-6},"",null,765,236,null,{"$f":"IF(V766=\"\",ROW()/100000000,COUNTIF(過去ログ!$N$3:$N$9999,基礎データ!V766)+ROW()/10000)","v":7.6599999999999995E-6},"",765,236,null,{"$f":"IF(AA766=\"\",ROW()/100000000,COUNTIF(過去ログ!$N$3:$Y$9999,基礎データ!AA766)+ROW()/10000)","v":7.6599999999999995E-6},""]
[null,null,null,null,null,null,null,null,null,null,null,null,null,766,304,null,{"$f":"IF(P767=\"\",ROW()/100000000,COUNTIF(過去ログ!$BQ$3:$CT$9999,基礎データ!P767)+ROW()/10000)","v":7.6699999999999994E-6},"",null,766,235,null,{"$f":"IF(V767=\"\",ROW()/100000000,COUNTIF(過去ログ!$N$3:$N$9999,基礎データ!V767)+ROW()/10000)","v":7.6699999999999994E-6},"",766,235,null,{"$f":"IF(AA767=\"\",ROW()/100000000,COUNTIF(過去ログ!$N$3:$Y$9999,基礎データ!AA767)+ROW()/10000)","v":7.6699999999999994E-6},""]
[null,null,null,null,null,null,null,null,null,null,null,null,null,767,303,null,{"$f":"IF(P768=\"\",ROW()/100000000,COUNTIF(過去ログ!$BQ$3:$CT$9999,基礎データ!P768)+ROW()/10000)","v":7.6799999999999993E-6},"",null,767,234,null,{"$f":"IF(V768=\"\",ROW()/100000000,COUNTIF(過去ログ!$N$3:$N$9999,基礎データ!V768)+ROW()/10000)","v":7.6799999999999993E-6},"",767,234,null,{"$f":"IF(AA768=\"\",ROW()/100000000,COUNTIF(過去ログ!$N$3:$Y$9999,基礎データ!AA768)+ROW()/10000)","v":7.6799999999999993E-6},""]
[null,null,null,null,null,null,null,null,null,null,null,null,null,768,302,null,{"$f":"IF(P769=\"\",ROW()/100000000,COUNTIF(過去ログ!$BQ$3:$CT$9999,基礎データ!P769)+ROW()/10000)","v":7.6899999999999992E-6},"",null,768,233,null,{"$f":"IF(V769=\"\",ROW()/100000000,COUNTIF(過去ログ!$N$3:$N$9999,基礎データ!V769)+ROW()/10000)","v":7.6899999999999992E-6},"",768,233,null,{"$f":"IF(AA769=\"\",ROW()/100000000,COUNTIF(過去ログ!$N$3:$Y$9999,基礎データ!AA769)+ROW()/10000)","v":7.6899999999999992E-6},""]
[null,null,null,null,null,null,null,null,null,null,null,null,null,769,301,null,{"$f":"IF(P770=\"\",ROW()/100000000,COUNTIF(過去ログ!$BQ$3:$CT$9999,基礎データ!P770)+ROW()/10000)","v":7.7000000000000008E-6},"",null,769,232,null,{"$f":"IF(V770=\"\",ROW()/100000000,COUNTIF(過去ログ!$N$3:$N$9999,基礎データ!V770)+ROW()/10000)","v":7.7000000000000008E-6},"",769,232,null,{"$f":"IF(AA770=\"\",ROW()/100000000,COUNTIF(過去ログ!$N$3:$Y$9999,基礎データ!AA770)+ROW()/10000)","v":7.7000000000000008E-6},""]
[null,null,null,null,null,null,null,null,null,null,null,null,null,770,300,null,{"$f":"IF(P771=\"\",ROW()/100000000,COUNTIF(過去ログ!$BQ$3:$CT$9999,基礎データ!P771)+ROW()/10000)","v":7.7100000000000007E-6},"",null,770,231,null,{"$f":"IF(V771=\"\",ROW()/100000000,COUNTIF(過去ログ!$N$3:$N$9999,基礎データ!V771)+ROW()/10000)","v":7.7100000000000007E-6},"",770,231,null,{"$f":"IF(AA771=\"\",ROW()/100000000,COUNTIF(過去ログ!$N$3:$Y$9999,基礎データ!AA771)+ROW()/10000)","v":7.7100000000000007E-6},""]
[null,null,null,null,null,null,null,null,null,null,null,null,null,771,299,null,{"$f":"IF(P772=\"\",ROW()/100000000,COUNTIF(過去ログ!$BQ$3:$CT$9999,基礎データ!P772)+ROW()/10000)","v":7.7200000000000006E-6},"",null,771,230,null,{"$f":"IF(V772=\"\",ROW()/100000000,COUNTIF(過去ログ!$N$3:$N$9999,基礎データ!V772)+ROW()/10000)","v":7.7200000000000006E-6},"",771,230,null,{"$f":"IF(AA772=\"\",ROW()/100000000,COUNTIF(過去ログ!$N$3:$Y$9999,基礎データ!AA772)+ROW()/10000)","v":7.7200000000000006E-6},""]
[null,null,null,null,null,null,null,null,null,null,null,null,null,772,298,null,{"$f":"IF(P773=\"\",ROW()/100000000,COUNTIF(過去ログ!$BQ$3:$CT$9999,基礎データ!P773)+ROW()/10000)","v":7.7300000000000005E-6},"",null,772,{"$f":"RANK(W773,$W$2:$W$1002)","v":229},null,{"$f":"IF(V773=\"\",ROW()/100000000,COUNTIF(過去ログ!$N$3:$N$9999,基礎データ!V773)+ROW()/10000)","v":7.7300000000000005E-6},"",772,229,null,{"$f":"IF(AA773=\"\",ROW()/100000000,COUNTIF(過去ログ!$N$3:$Y$9999,基礎データ!AA773)+ROW()/10000)","v":7.7300000000000005E-6},""]
[null,null,null,null,null,null,null,null,null,null,null,null,null,773,297,null,{"$f":"IF(P774=\"\",ROW()/100000000,COUNTIF(過去ログ!$BQ$3:$CT$9999,基礎データ!P774)+ROW()/10000)","v":7.7400000000000004E-6},"",null,773,228,null,{"$f":"IF(V774=\"\",ROW()/100000000,COUNTIF(過去ログ!$N$3:$N$9999,基礎データ!V774)+ROW()/10000)","v":7.7400000000000004E-6},"",773,228,null,{"$f":"IF(AA774=\"\",ROW()/100000000,COUNTIF(過去ログ!$N$3:$Y$9999,基礎データ!AA774)+ROW()/10000)","v":7.7400000000000004E-6},""]
[null,null,null,null,null,null,null,null,null,null,null,null,null,774,296,null,{"$f":"IF(P775=\"\",ROW()/100000000,COUNTIF(過去ログ!$BQ$3:$CT$9999,基礎データ!P775)+ROW()/10000)","v":7.7500000000000003E-6},"",null,774,227,null,{"$f":"IF(V775=\"\",ROW()/100000000,COUNTIF(過去ログ!$N$3:$N$9999,基礎データ!V775)+ROW()/10000)","v":7.7500000000000003E-6},"",774,227,null,{"$f":"IF(AA775=\"\",ROW()/100000000,COUNTIF(過去ログ!$N$3:$Y$9999,基礎データ!AA775)+ROW()/10000)","v":7.7500000000000003E-6},""]
[null,null,null,null,null,null,null,null,null,null,null,null,null,775,295,null,{"$f":"IF(P776=\"\",ROW()/100000000,COUNTIF(過去ログ!$BQ$3:$CT$9999,基礎データ!P776)+ROW()/10000)","v":7.7600000000000002E-6},"",null,775,226,null,{"$f":"IF(V776=\"\",ROW()/100000000,COUNTIF(過去ログ!$N$3:$N$9999,基礎データ!V776)+ROW()/10000)","v":7.7600000000000002E-6},"",775,226,null,{"$f":"IF(AA776=\"\",ROW()/100000000,COUNTIF(過去ログ!$N$3:$Y$9999,基礎データ!AA776)+ROW()/10000)","v":7.7600000000000002E-6},""]
[null,null,null,null,null,null,null,null,null,null,null,null,null,776,294,null,{"$f":"IF(P777=\"\",ROW()/100000000,COUNTIF(過去ログ!$BQ$3:$CT$9999,基礎データ!P777)+ROW()/10000)","v":7.7700000000000001E-6},"",null,776,225,null,{"$f":"IF(V777=\"\",ROW()/100000000,COUNTIF(過去ログ!$N$3:$N$9999,基礎データ!V777)+ROW()/10000)","v":7.7700000000000001E-6},"",776,225,null,{"$f":"IF(AA777=\"\",ROW()/100000000,COUNTIF(過去ログ!$N$3:$Y$9999,基礎データ!AA777)+ROW()/10000)","v":7.7700000000000001E-6},""]
[null,null,null,null,null,null,null,null,null,null,null,null,null,777,293,null,{"$f":"IF(P778=\"\",ROW()/100000000,COUNTIF(過去ログ!$BQ$3:$CT$9999,基礎データ!P778)+ROW()/10000)","v":7.7800000000000001E-6},"",null,777,224,null,{"$f":"IF(V778=\"\",ROW()/100000000,COUNTIF(過去ログ!$N$3:$N$9999,基礎データ!V778)+ROW()/10000)","v":7.7800000000000001E-6},"",777,224,null,{"$f":"IF(AA778=\"\",ROW()/100000000,COUNTIF(過去ログ!$N$3:$Y$9999,基礎データ!AA778)+ROW()/10000)","v":7.7800000000000001E-6},""]
[null,null,null,null,null,null,null,null,null,null,null,null,null,778,292,null,{"$f":"IF(P779=\"\",ROW()/100000000,COUNTIF(過去ログ!$BQ$3:$CT$9999,基礎データ!P779)+ROW()/10000)","v":7.79E-6},"",null,778,223,null,{"$f":"IF(V779=\"\",ROW()/100000000,COUNTIF(過去ログ!$N$3:$N$9999,基礎データ!V779)+ROW()/10000)","v":7.79E-6},"",778,223,null,{"$f":"IF(AA779=\"\",ROW()/100000000,COUNTIF(過去ログ!$N$3:$Y$9999,基礎データ!AA779)+ROW()/10000)","v":7.79E-6},""]
[null,null,null,null,null,null,null,null,null,null,null,null,null,779,291,null,{"$f":"IF(P780=\"\",ROW()/100000000,COUNTIF(過去ログ!$BQ$3:$CT$9999,基礎データ!P780)+ROW()/10000)","v":7.7999999999999999E-6},"",null,779,222,null,{"$f":"IF(V780=\"\",ROW()/100000000,COUNTIF(過去ログ!$N$3:$N$9999,基礎データ!V780)+ROW()/10000)","v":7.7999999999999999E-6},"",779,222,null,{"$f":"IF(AA780=\"\",ROW()/100000000,COUNTIF(過去ログ!$N$3:$Y$9999,基礎データ!AA780)+ROW()/10000)","v":7.7999999999999999E-6},""]
[null,null,null,null,null,null,null,null,null,null,null,null,null,780,290,null,{"$f":"IF(P781=\"\",ROW()/100000000,COUNTIF(過去ログ!$BQ$3:$CT$9999,基礎データ!P781)+ROW()/10000)","v":7.8099999999999998E-6},"",null,780,221,null,{"$f":"IF(V781=\"\",ROW()/100000000,COUNTIF(過去ログ!$N$3:$N$9999,基礎データ!V781)+ROW()/10000)","v":7.8099999999999998E-6},"",780,221,null,{"$f":"IF(AA781=\"\",ROW()/100000000,COUNTIF(過去ログ!$N$3:$Y$9999,基礎データ!AA781)+ROW()/10000)","v":7.8099999999999998E-6},""]
[null,null,null,null,null,null,null,null,null,null,null,null,null,781,289,null,{"$f":"IF(P782=\"\",ROW()/100000000,COUNTIF(過去ログ!$BQ$3:$CT$9999,基礎データ!P782)+ROW()/10000)","v":7.8199999999999997E-6},"",null,781,220,null,{"$f":"IF(V782=\"\",ROW()/100000000,COUNTIF(過去ログ!$N$3:$N$9999,基礎データ!V782)+ROW()/10000)","v":7.8199999999999997E-6},"",781,220,null,{"$f":"IF(AA782=\"\",ROW()/100000000,COUNTIF(過去ログ!$N$3:$Y$9999,基礎データ!AA782)+ROW()/10000)","v":7.8199999999999997E-6},""]
[null,null,null,null,null,null,null,null,null,null,null,null,null,782,288,null,{"$f":"IF(P783=\"\",ROW()/100000000,COUNTIF(過去ログ!$BQ$3:$CT$9999,基礎データ!P783)+ROW()/10000)","v":7.8299999999999996E-6},"",null,782,219,null,{"$f":"IF(V783=\"\",ROW()/100000000,COUNTIF(過去ログ!$N$3:$N$9999,基礎データ!V783)+ROW()/10000)","v":7.8299999999999996E-6},{"$f":"IF(VLOOKUP(T783,$U$2:$V$1002,2,FALSE)=0,\"\",VLOOKUP(T783,$U$2:$V$1002,2,FALSE))","v":""},782,219,null,{"$f":"IF(AA783=\"\",ROW()/100000000,COUNTIF(過去ログ!$N$3:$Y$9999,基礎データ!AA783)+ROW()/10000)","v":7.8299999999999996E-6},""]
[null,null,null,null,null,null,null,null,null,null,null,null,null,783,287,null,{"$f":"IF(P784=\"\",ROW()/100000000,COUNTIF(過去ログ!$BQ$3:$CT$9999,基礎データ!P784)+ROW()/10000)","v":7.8399999999999995E-6},"",null,783,218,null,{"$f":"IF(V784=\"\",ROW()/100000000,COUNTIF(過去ログ!$N$3:$N$9999,基礎データ!V784)+ROW()/10000)","v":7.8399999999999995E-6},"",783,218,null,{"$f":"IF(AA784=\"\",ROW()/100000000,COUNTIF(過去ログ!$N$3:$Y$9999,基礎データ!AA784)+ROW()/10000)","v":7.8399999999999995E-6},""]
[null,null,null,null,null,null,null,null,null,null,null,null,null,784,286,null,{"$f":"IF(P785=\"\",ROW()/100000000,COUNTIF(過去ログ!$BQ$3:$CT$9999,基礎データ!P785)+ROW()/10000)","v":7.8499999999999994E-6},"",null,784,217,null,{"$f":"IF(V785=\"\",ROW()/100000000,COUNTIF(過去ログ!$N$3:$N$9999,基礎データ!V785)+ROW()/10000)","v":7.8499999999999994E-6},"",784,217,null,{"$f":"IF(AA785=\"\",ROW()/100000000,COUNTIF(過去ログ!$N$3:$Y$9999,基礎データ!AA785)+ROW()/10000)","v":7.8499999999999994E-6},""]
[null,null,null,null,null,null,null,null,null,null,null,null,null,785,285,null,{"$f":"IF(P786=\"\",ROW()/100000000,COUNTIF(過去ログ!$BQ$3:$CT$9999,基礎データ!P786)+ROW()/10000)","v":7.8599999999999993E-6},"",null,785,216,null,{"$f":"IF(V786=\"\",ROW()/100000000,COUNTIF(過去ログ!$N$3:$N$9999,基礎データ!V786)+ROW()/10000)","v":7.8599999999999993E-6},"",785,216,null,{"$f":"IF(AA786=\"\",ROW()/100000000,COUNTIF(過去ログ!$N$3:$Y$9999,基礎データ!AA786)+ROW()/10000)","v":7.8599999999999993E-6},""]
[null,null,null,null,null,null,null,null,null,null,null,null,null,786,284,null,{"$f":"IF(P787=\"\",ROW()/100000000,COUNTIF(過去ログ!$BQ$3:$CT$9999,基礎データ!P787)+ROW()/10000)","v":7.8699999999999992E-6},"",null,786,215,null,{"$f":"IF(V787=\"\",ROW()/100000000,COUNTIF(過去ログ!$N$3:$N$9999,基礎データ!V787)+ROW()/10000)","v":7.8699999999999992E-6},"",786,215,null,{"$f":"IF(AA787=\"\",ROW()/100000000,COUNTIF(過去ログ!$N$3:$Y$9999,基礎データ!AA787)+ROW()/10000)","v":7.8699999999999992E-6},""]
[null,null,null,null,null,null,null,null,null,null,null,null,null,787,283,null,{"$f":"IF(P788=\"\",ROW()/100000000,COUNTIF(過去ログ!$BQ$3:$CT$9999,基礎データ!P788)+ROW()/10000)","v":7.8800000000000008E-6},"",null,787,214,null,{"$f":"IF(V788=\"\",ROW()/100000000,COUNTIF(過去ログ!$N$3:$N$9999,基礎データ!V788)+ROW()/10000)","v":7.8800000000000008E-6},"",787,214,null,{"$f":"IF(AA788=\"\",ROW()/100000000,COUNTIF(過去ログ!$N$3:$Y$9999,基礎データ!AA788)+ROW()/10000)","v":7.8800000000000008E-6},""]
[null,null,null,null,null,null,null,null,null,null,null,null,null,788,282,null,{"$f":"IF(P789=\"\",ROW()/100000000,COUNTIF(過去ログ!$BQ$3:$CT$9999,基礎データ!P789)+ROW()/10000)","v":7.8900000000000007E-6},"",null,788,213,null,{"$f":"IF(V789=\"\",ROW()/100000000,COUNTIF(過去ログ!$N$3:$N$9999,基礎データ!V789)+ROW()/10000)","v":7.8900000000000007E-6},"",788,213,null,{"$f":"IF(AA789=\"\",ROW()/100000000,COUNTIF(過去ログ!$N$3:$Y$9999,基礎データ!AA789)+ROW()/10000)","v":7.8900000000000007E-6},""]
[null,null,null,null,null,null,null,null,null,null,null,null,null,789,281,null,{"$f":"IF(P790=\"\",ROW()/100000000,COUNTIF(過去ログ!$BQ$3:$CT$9999,基礎データ!P790)+ROW()/10000)","v":7.9000000000000006E-6},"",null,789,212,null,{"$f":"IF(V790=\"\",ROW()/100000000,COUNTIF(過去ログ!$N$3:$N$9999,基礎データ!V790)+ROW()/10000)","v":7.9000000000000006E-6},"",789,212,null,{"$f":"IF(AA790=\"\",ROW()/100000000,COUNTIF(過去ログ!$N$3:$Y$9999,基礎データ!AA790)+ROW()/10000)","v":7.9000000000000006E-6},""]
[null,null,null,null,null,null,null,null,null,null,null,null,null,790,280,null,{"$f":"IF(P791=\"\",ROW()/100000000,COUNTIF(過去ログ!$BQ$3:$CT$9999,基礎データ!P791)+ROW()/10000)","v":7.9100000000000005E-6},"",null,790,211,null,{"$f":"IF(V791=\"\",ROW()/100000000,COUNTIF(過去ログ!$N$3:$N$9999,基礎データ!V791)+ROW()/10000)","v":7.9100000000000005E-6},"",790,211,null,{"$f":"IF(AA791=\"\",ROW()/100000000,COUNTIF(過去ログ!$N$3:$Y$9999,基礎データ!AA791)+ROW()/10000)","v":7.9100000000000005E-6},""]
[null,null,null,null,null,null,null,null,null,null,null,null,null,791,279,null,{"$f":"IF(P792=\"\",ROW()/100000000,COUNTIF(過去ログ!$BQ$3:$CT$9999,基礎データ!P792)+ROW()/10000)","v":7.9200000000000004E-6},"",null,791,210,null,{"$f":"IF(V792=\"\",ROW()/100000000,COUNTIF(過去ログ!$N$3:$N$9999,基礎データ!V792)+ROW()/10000)","v":7.9200000000000004E-6},"",791,210,null,{"$f":"IF(AA792=\"\",ROW()/100000000,COUNTIF(過去ログ!$N$3:$Y$9999,基礎データ!AA792)+ROW()/10000)","v":7.9200000000000004E-6},""]
[null,null,null,null,null,null,null,null,null,null,null,null,null,792,278,null,{"$f":"IF(P793=\"\",ROW()/100000000,COUNTIF(過去ログ!$BQ$3:$CT$9999,基礎データ!P793)+ROW()/10000)","v":7.9300000000000003E-6},"",null,792,209,null,{"$f":"IF(V793=\"\",ROW()/100000000,COUNTIF(過去ログ!$N$3:$N$9999,基礎データ!V793)+ROW()/10000)","v":7.9300000000000003E-6},"",792,209,null,{"$f":"IF(AA793=\"\",ROW()/100000000,COUNTIF(過去ログ!$N$3:$Y$9999,基礎データ!AA793)+ROW()/10000)","v":7.9300000000000003E-6},""]
[null,null,null,null,null,null,null,null,null,null,null,null,null,793,277,null,{"$f":"IF(P794=\"\",ROW()/100000000,COUNTIF(過去ログ!$BQ$3:$CT$9999,基礎データ!P794)+ROW()/10000)","v":7.9400000000000002E-6},"",null,793,208,null,{"$f":"IF(V794=\"\",ROW()/100000000,COUNTIF(過去ログ!$N$3:$N$9999,基礎データ!V794)+ROW()/10000)","v":7.9400000000000002E-6},"",793,208,null,{"$f":"IF(AA794=\"\",ROW()/100000000,COUNTIF(過去ログ!$N$3:$Y$9999,基礎データ!AA794)+ROW()/10000)","v":7.9400000000000002E-6},""]
[null,null,null,null,null,null,null,null,null,null,null,null,null,794,276,null,{"$f":"IF(P795=\"\",ROW()/100000000,COUNTIF(過去ログ!$BQ$3:$CT$9999,基礎データ!P795)+ROW()/10000)","v":7.9500000000000001E-6},"",null,794,207,null,{"$f":"IF(V795=\"\",ROW()/100000000,COUNTIF(過去ログ!$N$3:$N$9999,基礎データ!V795)+ROW()/10000)","v":7.9500000000000001E-6},"",794,207,null,{"$f":"IF(AA795=\"\",ROW()/100000000,COUNTIF(過去ログ!$N$3:$Y$9999,基礎データ!AA795)+ROW()/10000)","v":7.9500000000000001E-6},""]
[null,null,null,null,null,null,null,null,null,null,null,null,null,795,275,null,{"$f":"IF(P796=\"\",ROW()/100000000,COUNTIF(過去ログ!$BQ$3:$CT$9999,基礎データ!P796)+ROW()/10000)","v":7.96E-6},"",null,795,206,null,{"$f":"IF(V796=\"\",ROW()/100000000,COUNTIF(過去ログ!$N$3:$N$9999,基礎データ!V796)+ROW()/10000)","v":7.96E-6},"",795,206,null,{"$f":"IF(AA796=\"\",ROW()/100000000,COUNTIF(過去ログ!$N$3:$Y$9999,基礎データ!AA796)+ROW()/10000)","v":7.96E-6},""]
[null,null,null,null,null,null,null,null,null,null,null,null,null,796,274,null,{"$f":"IF(P797=\"\",ROW()/100000000,COUNTIF(過去ログ!$BQ$3:$CT$9999,基礎データ!P797)+ROW()/10000)","v":7.9699999999999999E-6},"",null,796,205,null,{"$f":"IF(V797=\"\",ROW()/100000000,COUNTIF(過去ログ!$N$3:$N$9999,基礎データ!V797)+ROW()/10000)","v":7.9699999999999999E-6},"",796,205,null,{"$f":"IF(AA797=\"\",ROW()/100000000,COUNTIF(過去ログ!$N$3:$Y$9999,基礎データ!AA797)+ROW()/10000)","v":7.9699999999999999E-6},""]
[null,null,null,null,null,null,null,null,null,null,null,null,null,797,273,null,{"$f":"IF(P798=\"\",ROW()/100000000,COUNTIF(過去ログ!$BQ$3:$CT$9999,基礎データ!P798)+ROW()/10000)","v":7.9799999999999998E-6},"",null,797,204,null,{"$f":"IF(V798=\"\",ROW()/100000000,COUNTIF(過去ログ!$N$3:$N$9999,基礎データ!V798)+ROW()/10000)","v":7.9799999999999998E-6},"",797,204,null,{"$f":"IF(AA798=\"\",ROW()/100000000,COUNTIF(過去ログ!$N$3:$Y$9999,基礎データ!AA798)+ROW()/10000)","v":7.9799999999999998E-6},""]
[null,null,null,null,null,null,null,null,null,null,null,null,null,798,272,null,{"$f":"IF(P799=\"\",ROW()/100000000,COUNTIF(過去ログ!$BQ$3:$CT$9999,基礎データ!P799)+ROW()/10000)","v":7.9899999999999997E-6},"",null,798,203,null,{"$f":"IF(V799=\"\",ROW()/100000000,COUNTIF(過去ログ!$N$3:$N$9999,基礎データ!V799)+ROW()/10000)","v":7.9899999999999997E-6},"",798,203,null,{"$f":"IF(AA799=\"\",ROW()/100000000,COUNTIF(過去ログ!$N$3:$Y$9999,基礎データ!AA799)+ROW()/10000)","v":7.9899999999999997E-6},""]
[null,null,null,null,null,null,null,null,null,null,null,null,null,799,{"$f":"RANK(Q800,$Q$2:$Q$1002)","v":271},null,{"$f":"IF(P800=\"\",ROW()/100000000,COUNTIF(過去ログ!$BQ$3:$CT$9999,基礎データ!P800)+ROW()/10000)","v":7.9999999999999996E-6},"",null,799,202,null,{"$f":"IF(V800=\"\",ROW()/100000000,COUNTIF(過去ログ!$N$3:$N$9999,基礎データ!V800)+ROW()/10000)","v":7.9999999999999996E-6},"",799,202,null,{"$f":"IF(AA800=\"\",ROW()/100000000,COUNTIF(過去ログ!$N$3:$Y$9999,基礎データ!AA800)+ROW()/10000)","v":7.9999999999999996E-6},""]
[null,null,null,null,null,null,null,null,null,null,null,null,null,800,270,null,{"$f":"IF(P801=\"\",ROW()/100000000,COUNTIF(過去ログ!$BQ$3:$CT$9999,基礎データ!P801)+ROW()/10000)","v":8.0099999999999995E-6},"",null,800,201,null,{"$f":"IF(V801=\"\",ROW()/100000000,COUNTIF(過去ログ!$N$3:$N$9999,基礎データ!V801)+ROW()/10000)","v":8.0099999999999995E-6},"",800,201,null,{"$f":"IF(AA801=\"\",ROW()/100000000,COUNTIF(過去ログ!$N$3:$Y$9999,基礎データ!AA801)+ROW()/10000)","v":8.0099999999999995E-6},""]
[null,null,null,null,null,null,null,null,null,null,null,null,null,801,269,null,{"$f":"IF(P802=\"\",ROW()/100000000,COUNTIF(過去ログ!$BQ$3:$CT$9999,基礎データ!P802)+ROW()/10000)","v":8.0199999999999994E-6},"",null,801,200,null,{"$f":"IF(V802=\"\",ROW()/100000000,COUNTIF(過去ログ!$N$3:$N$9999,基礎データ!V802)+ROW()/10000)","v":8.0199999999999994E-6},"",801,200,null,{"$f":"IF(AA802=\"\",ROW()/100000000,COUNTIF(過去ログ!$N$3:$Y$9999,基礎データ!AA802)+ROW()/10000)","v":8.0199999999999994E-6},""]
[null,null,null,null,null,null,null,null,null,null,null,null,null,802,268,null,{"$f":"IF(P803=\"\",ROW()/100000000,COUNTIF(過去ログ!$BQ$3:$CT$9999,基礎データ!P803)+ROW()/10000)","v":8.0299999999999994E-6},"",null,802,199,null,{"$f":"IF(V803=\"\",ROW()/100000000,COUNTIF(過去ログ!$N$3:$N$9999,基礎データ!V803)+ROW()/10000)","v":8.0299999999999994E-6},"",802,199,null,{"$f":"IF(AA803=\"\",ROW()/100000000,COUNTIF(過去ログ!$N$3:$Y$9999,基礎データ!AA803)+ROW()/10000)","v":8.0299999999999994E-6},""]
[null,null,null,null,null,null,null,null,null,null,null,null,null,803,267,null,{"$f":"IF(P804=\"\",ROW()/100000000,COUNTIF(過去ログ!$BQ$3:$CT$9999,基礎データ!P804)+ROW()/10000)","v":8.0399999999999993E-6},"",null,803,198,null,{"$f":"IF(V804=\"\",ROW()/100000000,COUNTIF(過去ログ!$N$3:$N$9999,基礎データ!V804)+ROW()/10000)","v":8.0399999999999993E-6},"",803,198,null,{"$f":"IF(AA804=\"\",ROW()/100000000,COUNTIF(過去ログ!$N$3:$Y$9999,基礎データ!AA804)+ROW()/10000)","v":8.0399999999999993E-6},""]
[null,null,null,null,null,null,null,null,null,null,null,null,null,804,266,null,{"$f":"IF(P805=\"\",ROW()/100000000,COUNTIF(過去ログ!$BQ$3:$CT$9999,基礎データ!P805)+ROW()/10000)","v":8.0499999999999992E-6},"",null,804,197,null,{"$f":"IF(V805=\"\",ROW()/100000000,COUNTIF(過去ログ!$N$3:$N$9999,基礎データ!V805)+ROW()/10000)","v":8.0499999999999992E-6},"",804,197,null,{"$f":"IF(AA805=\"\",ROW()/100000000,COUNTIF(過去ログ!$N$3:$Y$9999,基礎データ!AA805)+ROW()/10000)","v":8.0499999999999992E-6},""]
[null,null,null,null,null,null,null,null,null,null,null,null,null,805,265,null,{"$f":"IF(P806=\"\",ROW()/100000000,COUNTIF(過去ログ!$BQ$3:$CT$9999,基礎データ!P806)+ROW()/10000)","v":8.0600000000000008E-6},{"$f":"IF(P806=\"\",\"\",VLOOKUP(N806,$O$2:$P$1002,2,FALSE))","v":""},null,805,196,null,{"$f":"IF(V806=\"\",ROW()/100000000,COUNTIF(過去ログ!$N$3:$N$9999,基礎データ!V806)+ROW()/10000)","v":8.0600000000000008E-6},"",805,196,null,{"$f":"IF(AA806=\"\",ROW()/100000000,COUNTIF(過去ログ!$N$3:$Y$9999,基礎データ!AA806)+ROW()/10000)","v":8.0600000000000008E-6},""]
[null,null,null,null,null,null,null,null,null,null,null,null,null,806,264,null,{"$f":"IF(P807=\"\",ROW()/100000000,COUNTIF(過去ログ!$BQ$3:$CT$9999,基礎データ!P807)+ROW()/10000)","v":8.0700000000000007E-6},"",null,806,195,null,{"$f":"IF(V807=\"\",ROW()/100000000,COUNTIF(過去ログ!$N$3:$N$9999,基礎データ!V807)+ROW()/10000)","v":8.0700000000000007E-6},"",806,195,null,{"$f":"IF(AA807=\"\",ROW()/100000000,COUNTIF(過去ログ!$N$3:$Y$9999,基礎データ!AA807)+ROW()/10000)","v":8.0700000000000007E-6},""]
[null,null,null,null,null,null,null,null,null,null,null,null,null,807,263,null,{"$f":"IF(P808=\"\",ROW()/100000000,COUNTIF(過去ログ!$BQ$3:$CT$9999,基礎データ!P808)+ROW()/10000)","v":8.0800000000000006E-6},"",null,807,194,null,{"$f":"IF(V808=\"\",ROW()/100000000,COUNTIF(過去ログ!$N$3:$N$9999,基礎データ!V808)+ROW()/10000)","v":8.0800000000000006E-6},"",807,194,null,{"$f":"IF(AA808=\"\",ROW()/100000000,COUNTIF(過去ログ!$N$3:$Y$9999,基礎データ!AA808)+ROW()/10000)","v":8.0800000000000006E-6},""]
[null,null,null,null,null,null,null,null,null,null,null,null,null,808,262,null,{"$f":"IF(P809=\"\",ROW()/100000000,COUNTIF(過去ログ!$BQ$3:$CT$9999,基礎データ!P809)+ROW()/10000)","v":8.0900000000000005E-6},"",null,808,193,null,{"$f":"IF(V809=\"\",ROW()/100000000,COUNTIF(過去ログ!$N$3:$N$9999,基礎データ!V809)+ROW()/10000)","v":8.0900000000000005E-6},"",808,193,null,{"$f":"IF(AA809=\"\",ROW()/100000000,COUNTIF(過去ログ!$N$3:$Y$9999,基礎データ!AA809)+ROW()/10000)","v":8.0900000000000005E-6},""]
[null,null,null,null,null,null,null,null,null,null,null,null,null,809,261,null,{"$f":"IF(P810=\"\",ROW()/100000000,COUNTIF(過去ログ!$BQ$3:$CT$9999,基礎データ!P810)+ROW()/10000)","v":8.1000000000000004E-6},"",null,809,192,null,{"$f":"IF(V810=\"\",ROW()/100000000,COUNTIF(過去ログ!$N$3:$N$9999,基礎データ!V810)+ROW()/10000)","v":8.1000000000000004E-6},"",809,192,null,{"$f":"IF(AA810=\"\",ROW()/100000000,COUNTIF(過去ログ!$N$3:$Y$9999,基礎データ!AA810)+ROW()/10000)","v":8.1000000000000004E-6},""]
[null,null,null,null,null,null,null,null,null,null,null,null,null,810,260,null,{"$f":"IF(P811=\"\",ROW()/100000000,COUNTIF(過去ログ!$BQ$3:$CT$9999,基礎データ!P811)+ROW()/10000)","v":8.1100000000000003E-6},"",null,810,191,null,{"$f":"IF(V811=\"\",ROW()/100000000,COUNTIF(過去ログ!$N$3:$N$9999,基礎データ!V811)+ROW()/10000)","v":8.1100000000000003E-6},"",810,191,null,{"$f":"IF(AA811=\"\",ROW()/100000000,COUNTIF(過去ログ!$N$3:$Y$9999,基礎データ!AA811)+ROW()/10000)","v":8.1100000000000003E-6},""]
[null,null,null,null,null,null,null,null,null,null,null,null,null,811,259,null,{"$f":"IF(P812=\"\",ROW()/100000000,COUNTIF(過去ログ!$BQ$3:$CT$9999,基礎データ!P812)+ROW()/10000)","v":8.1200000000000002E-6},"",null,811,190,null,{"$f":"IF(V812=\"\",ROW()/100000000,COUNTIF(過去ログ!$N$3:$N$9999,基礎データ!V812)+ROW()/10000)","v":8.1200000000000002E-6},"",811,190,null,{"$f":"IF(AA812=\"\",ROW()/100000000,COUNTIF(過去ログ!$N$3:$Y$9999,基礎データ!AA812)+ROW()/10000)","v":8.1200000000000002E-6},""]
[null,null,null,null,null,null,null,null,null,null,null,null,null,812,258,null,{"$f":"IF(P813=\"\",ROW()/100000000,COUNTIF(過去ログ!$BQ$3:$CT$9999,基礎データ!P813)+ROW()/10000)","v":8.1300000000000001E-6},"",null,812,189,null,{"$f":"IF(V813=\"\",ROW()/100000000,COUNTIF(過去ログ!$N$3:$N$9999,基礎データ!V813)+ROW()/10000)","v":8.1300000000000001E-6},"",812,189,null,{"$f":"IF(AA813=\"\",ROW()/100000000,COUNTIF(過去ログ!$N$3:$Y$9999,基礎データ!AA813)+ROW()/10000)","v":8.1300000000000001E-6},""]
[null,null,null,null,null,null,null,null,null,null,null,null,null,813,257,null,{"$f":"IF(P814=\"\",ROW()/100000000,COUNTIF(過去ログ!$BQ$3:$CT$9999,基礎データ!P814)+ROW()/10000)","v":8.14E-6},"",null,813,188,null,{"$f":"IF(V814=\"\",ROW()/100000000,COUNTIF(過去ログ!$N$3:$N$9999,基礎データ!V814)+ROW()/10000)","v":8.14E-6},"",813,188,null,{"$f":"IF(AA814=\"\",ROW()/100000000,COUNTIF(過去ログ!$N$3:$Y$9999,基礎データ!AA814)+ROW()/10000)","v":8.14E-6},""]
[null,null,null,null,null,null,null,null,null,null,null,null,null,814,256,null,{"$f":"IF(P815=\"\",ROW()/100000000,COUNTIF(過去ログ!$BQ$3:$CT$9999,基礎データ!P815)+ROW()/10000)","v":8.1499999999999999E-6},"",null,814,187,null,{"$f":"IF(V815=\"\",ROW()/100000000,COUNTIF(過去ログ!$N$3:$N$9999,基礎データ!V815)+ROW()/10000)","v":8.1499999999999999E-6},"",814,187,null,{"$f":"IF(AA815=\"\",ROW()/100000000,COUNTIF(過去ログ!$N$3:$Y$9999,基礎データ!AA815)+ROW()/10000)","v":8.1499999999999999E-6},""]
[null,null,null,null,null,null,null,null,null,null,null,null,null,815,255,null,{"$f":"IF(P816=\"\",ROW()/100000000,COUNTIF(過去ログ!$BQ$3:$CT$9999,基礎データ!P816)+ROW()/10000)","v":8.1599999999999998E-6},"",null,815,186,null,{"$f":"IF(V816=\"\",ROW()/100000000,COUNTIF(過去ログ!$N$3:$N$9999,基礎データ!V816)+ROW()/10000)","v":8.1599999999999998E-6},"",815,186,null,{"$f":"IF(AA816=\"\",ROW()/100000000,COUNTIF(過去ログ!$N$3:$Y$9999,基礎データ!AA816)+ROW()/10000)","v":8.1599999999999998E-6},""]
[null,null,null,null,null,null,null,null,null,null,null,null,null,816,254,null,{"$f":"IF(P817=\"\",ROW()/100000000,COUNTIF(過去ログ!$BQ$3:$CT$9999,基礎データ!P817)+ROW()/10000)","v":8.1699999999999997E-6},"",null,816,185,null,{"$f":"IF(V817=\"\",ROW()/100000000,COUNTIF(過去ログ!$N$3:$N$9999,基礎データ!V817)+ROW()/10000)","v":8.1699999999999997E-6},"",816,185,null,{"$f":"IF(AA817=\"\",ROW()/100000000,COUNTIF(過去ログ!$N$3:$Y$9999,基礎データ!AA817)+ROW()/10000)","v":8.1699999999999997E-6},""]
[null,null,null,null,null,null,null,null,null,null,null,null,null,817,253,null,{"$f":"IF(P818=\"\",ROW()/100000000,COUNTIF(過去ログ!$BQ$3:$CT$9999,基礎データ!P818)+ROW()/10000)","v":8.1799999999999996E-6},"",null,817,184,null,{"$f":"IF(V818=\"\",ROW()/100000000,COUNTIF(過去ログ!$N$3:$N$9999,基礎データ!V818)+ROW()/10000)","v":8.1799999999999996E-6},"",817,184,null,{"$f":"IF(AA818=\"\",ROW()/100000000,COUNTIF(過去ログ!$N$3:$Y$9999,基礎データ!AA818)+ROW()/10000)","v":8.1799999999999996E-6},""]
[null,null,null,null,null,null,null,null,null,null,null,null,null,818,252,null,{"$f":"IF(P819=\"\",ROW()/100000000,COUNTIF(過去ログ!$BQ$3:$CT$9999,基礎データ!P819)+ROW()/10000)","v":8.1899999999999995E-6},"",null,818,183,null,{"$f":"IF(V819=\"\",ROW()/100000000,COUNTIF(過去ログ!$N$3:$N$9999,基礎データ!V819)+ROW()/10000)","v":8.1899999999999995E-6},"",818,183,null,{"$f":"IF(AA819=\"\",ROW()/100000000,COUNTIF(過去ログ!$N$3:$Y$9999,基礎データ!AA819)+ROW()/10000)","v":8.1899999999999995E-6},{"$f":"IF(VLOOKUP(Y819,$Z$2:$AA$1002,2,FALSE)=0,\"\",VLOOKUP(Y819,$Z$2:$AA$1002,2,FALSE))","v":""}]
[null,null,null,null,null,null,null,null,null,null,null,null,null,819,251,null,{"$f":"IF(P820=\"\",ROW()/100000000,COUNTIF(過去ログ!$BQ$3:$CT$9999,基礎データ!P820)+ROW()/10000)","v":8.1999999999999994E-6},"",null,819,182,null,{"$f":"IF(V820=\"\",ROW()/100000000,COUNTIF(過去ログ!$N$3:$N$9999,基礎データ!V820)+ROW()/10000)","v":8.1999999999999994E-6},"",819,182,null,{"$f":"IF(AA820=\"\",ROW()/100000000,COUNTIF(過去ログ!$N$3:$Y$9999,基礎データ!AA820)+ROW()/10000)","v":8.1999999999999994E-6},""]
[null,null,null,null,null,null,null,null,null,null,null,null,null,820,250,null,{"$f":"IF(P821=\"\",ROW()/100000000,COUNTIF(過去ログ!$BQ$3:$CT$9999,基礎データ!P821)+ROW()/10000)","v":8.2099999999999993E-6},"",null,820,181,null,{"$f":"IF(V821=\"\",ROW()/100000000,COUNTIF(過去ログ!$N$3:$N$9999,基礎データ!V821)+ROW()/10000)","v":8.2099999999999993E-6},"",820,181,null,{"$f":"IF(AA821=\"\",ROW()/100000000,COUNTIF(過去ログ!$N$3:$Y$9999,基礎データ!AA821)+ROW()/10000)","v":8.2099999999999993E-6},""]
[null,null,null,null,null,null,null,null,null,null,null,null,null,821,249,null,{"$f":"IF(P822=\"\",ROW()/100000000,COUNTIF(過去ログ!$BQ$3:$CT$9999,基礎データ!P822)+ROW()/10000)","v":8.2199999999999992E-6},"",null,821,180,null,{"$f":"IF(V822=\"\",ROW()/100000000,COUNTIF(過去ログ!$N$3:$N$9999,基礎データ!V822)+ROW()/10000)","v":8.2199999999999992E-6},"",821,180,null,{"$f":"IF(AA822=\"\",ROW()/100000000,COUNTIF(過去ログ!$N$3:$Y$9999,基礎データ!AA822)+ROW()/10000)","v":8.2199999999999992E-6},""]
[null,null,null,null,null,null,null,null,null,null,null,null,null,822,248,null,{"$f":"IF(P823=\"\",ROW()/100000000,COUNTIF(過去ログ!$BQ$3:$CT$9999,基礎データ!P823)+ROW()/10000)","v":8.2300000000000008E-6},"",null,822,179,null,{"$f":"IF(V823=\"\",ROW()/100000000,COUNTIF(過去ログ!$N$3:$N$9999,基礎データ!V823)+ROW()/10000)","v":8.2300000000000008E-6},"",822,179,null,{"$f":"IF(AA823=\"\",ROW()/100000000,COUNTIF(過去ログ!$N$3:$Y$9999,基礎データ!AA823)+ROW()/10000)","v":8.2300000000000008E-6},""]
[null,null,null,null,null,null,null,null,null,null,null,null,null,823,247,null,{"$f":"IF(P824=\"\",ROW()/100000000,COUNTIF(過去ログ!$BQ$3:$CT$9999,基礎データ!P824)+ROW()/10000)","v":8.2400000000000007E-6},"",null,823,178,null,{"$f":"IF(V824=\"\",ROW()/100000000,COUNTIF(過去ログ!$N$3:$N$9999,基礎データ!V824)+ROW()/10000)","v":8.2400000000000007E-6},"",823,{"$f":"RANK(AB824,$AB$2:$AB$1002)","v":178},null,{"$f":"IF(AA824=\"\",ROW()/100000000,COUNTIF(過去ログ!$N$3:$Y$9999,基礎データ!AA824)+ROW()/10000)","v":8.2400000000000007E-6},""]
[null,null,null,null,null,null,null,null,null,null,null,null,null,824,246,null,{"$f":"IF(P825=\"\",ROW()/100000000,COUNTIF(過去ログ!$BQ$3:$CT$9999,基礎データ!P825)+ROW()/10000)","v":8.2500000000000006E-6},"",null,824,177,null,{"$f":"IF(V825=\"\",ROW()/100000000,COUNTIF(過去ログ!$N$3:$N$9999,基礎データ!V825)+ROW()/10000)","v":8.2500000000000006E-6},"",824,177,null,{"$f":"IF(AA825=\"\",ROW()/100000000,COUNTIF(過去ログ!$N$3:$Y$9999,基礎データ!AA825)+ROW()/10000)","v":8.2500000000000006E-6},""]
[null,null,null,null,null,null,null,null,null,null,null,null,null,825,245,null,{"$f":"IF(P826=\"\",ROW()/100000000,COUNTIF(過去ログ!$BQ$3:$CT$9999,基礎データ!P826)+ROW()/10000)","v":8.2600000000000005E-6},"",null,825,176,null,{"$f":"IF(V826=\"\",ROW()/100000000,COUNTIF(過去ログ!$N$3:$N$9999,基礎データ!V826)+ROW()/10000)","v":8.2600000000000005E-6},"",825,176,null,{"$f":"IF(AA826=\"\",ROW()/100000000,COUNTIF(過去ログ!$N$3:$Y$9999,基礎データ!AA826)+ROW()/10000)","v":8.2600000000000005E-6},""]
[null,null,null,null,null,null,null,null,null,null,null,null,null,826,244,null,{"$f":"IF(P827=\"\",ROW()/100000000,COUNTIF(過去ログ!$BQ$3:$CT$9999,基礎データ!P827)+ROW()/10000)","v":8.2700000000000004E-6},"",null,826,175,null,{"$f":"IF(V827=\"\",ROW()/100000000,COUNTIF(過去ログ!$N$3:$N$9999,基礎データ!V827)+ROW()/10000)","v":8.2700000000000004E-6},"",826,175,null,{"$f":"IF(AA827=\"\",ROW()/100000000,COUNTIF(過去ログ!$N$3:$Y$9999,基礎データ!AA827)+ROW()/10000)","v":8.2700000000000004E-6},""]
[null,null,null,null,null,null,null,null,null,null,null,null,null,827,243,null,{"$f":"IF(P828=\"\",ROW()/100000000,COUNTIF(過去ログ!$BQ$3:$CT$9999,基礎データ!P828)+ROW()/10000)","v":8.2800000000000003E-6},"",null,827,174,null,{"$f":"IF(V828=\"\",ROW()/100000000,COUNTIF(過去ログ!$N$3:$N$9999,基礎データ!V828)+ROW()/10000)","v":8.2800000000000003E-6},"",827,174,null,{"$f":"IF(AA828=\"\",ROW()/100000000,COUNTIF(過去ログ!$N$3:$Y$9999,基礎データ!AA828)+ROW()/10000)","v":8.2800000000000003E-6},""]
[null,null,null,null,null,null,null,null,null,null,null,null,null,828,242,null,{"$f":"IF(P829=\"\",ROW()/100000000,COUNTIF(過去ログ!$BQ$3:$CT$9999,基礎データ!P829)+ROW()/10000)","v":8.2900000000000002E-6},"",null,828,173,null,{"$f":"IF(V829=\"\",ROW()/100000000,COUNTIF(過去ログ!$N$3:$N$9999,基礎データ!V829)+ROW()/10000)","v":8.2900000000000002E-6},"",828,173,null,{"$f":"IF(AA829=\"\",ROW()/100000000,COUNTIF(過去ログ!$N$3:$Y$9999,基礎データ!AA829)+ROW()/10000)","v":8.2900000000000002E-6},""]
[null,null,null,null,null,null,null,null,null,null,null,null,null,829,241,null,{"$f":"IF(P830=\"\",ROW()/100000000,COUNTIF(過去ログ!$BQ$3:$CT$9999,基礎データ!P830)+ROW()/10000)","v":8.3000000000000002E-6},"",null,829,172,null,{"$f":"IF(V830=\"\",ROW()/100000000,COUNTIF(過去ログ!$N$3:$N$9999,基礎データ!V830)+ROW()/10000)","v":8.3000000000000002E-6},"",829,172,null,{"$f":"IF(AA830=\"\",ROW()/100000000,COUNTIF(過去ログ!$N$3:$Y$9999,基礎データ!AA830)+ROW()/10000)","v":8.3000000000000002E-6},""]
[null,null,null,null,null,null,null,null,null,null,null,null,null,830,240,null,{"$f":"IF(P831=\"\",ROW()/100000000,COUNTIF(過去ログ!$BQ$3:$CT$9999,基礎データ!P831)+ROW()/10000)","v":8.3100000000000001E-6},"",null,830,171,null,{"$f":"IF(V831=\"\",ROW()/100000000,COUNTIF(過去ログ!$N$3:$N$9999,基礎データ!V831)+ROW()/10000)","v":8.3100000000000001E-6},"",830,171,null,{"$f":"IF(AA831=\"\",ROW()/100000000,COUNTIF(過去ログ!$N$3:$Y$9999,基礎データ!AA831)+ROW()/10000)","v":8.3100000000000001E-6},""]
[null,null,null,null,null,null,null,null,null,null,null,null,null,831,239,null,{"$f":"IF(P832=\"\",ROW()/100000000,COUNTIF(過去ログ!$BQ$3:$CT$9999,基礎データ!P832)+ROW()/10000)","v":8.32E-6},"",null,831,170,null,{"$f":"IF(V832=\"\",ROW()/100000000,COUNTIF(過去ログ!$N$3:$N$9999,基礎データ!V832)+ROW()/10000)","v":8.32E-6},"",831,170,null,{"$f":"IF(AA832=\"\",ROW()/100000000,COUNTIF(過去ログ!$N$3:$Y$9999,基礎データ!AA832)+ROW()/10000)","v":8.32E-6},""]
[null,null,null,null,null,null,null,null,null,null,null,null,null,832,238,null,{"$f":"IF(P833=\"\",ROW()/100000000,COUNTIF(過去ログ!$BQ$3:$CT$9999,基礎データ!P833)+ROW()/10000)","v":8.3299999999999999E-6},"",null,832,169,null,{"$f":"IF(V833=\"\",ROW()/100000000,COUNTIF(過去ログ!$N$3:$N$9999,基礎データ!V833)+ROW()/10000)","v":8.3299999999999999E-6},"",832,169,null,{"$f":"IF(AA833=\"\",ROW()/100000000,COUNTIF(過去ログ!$N$3:$Y$9999,基礎データ!AA833)+ROW()/10000)","v":8.3299999999999999E-6},""]
[null,null,null,null,null,null,null,null,null,null,null,null,null,833,237,null,{"$f":"IF(P834=\"\",ROW()/100000000,COUNTIF(過去ログ!$BQ$3:$CT$9999,基礎データ!P834)+ROW()/10000)","v":8.3399999999999998E-6},"",null,833,168,null,{"$f":"IF(V834=\"\",ROW()/100000000,COUNTIF(過去ログ!$N$3:$N$9999,基礎データ!V834)+ROW()/10000)","v":8.3399999999999998E-6},"",833,168,null,{"$f":"IF(AA834=\"\",ROW()/100000000,COUNTIF(過去ログ!$N$3:$Y$9999,基礎データ!AA834)+ROW()/10000)","v":8.3399999999999998E-6},""]
[null,null,null,null,null,null,null,null,null,null,null,null,null,834,236,null,{"$f":"IF(P835=\"\",ROW()/100000000,COUNTIF(過去ログ!$BQ$3:$CT$9999,基礎データ!P835)+ROW()/10000)","v":8.3499999999999997E-6},"",null,834,167,null,{"$f":"IF(V835=\"\",ROW()/100000000,COUNTIF(過去ログ!$N$3:$N$9999,基礎データ!V835)+ROW()/10000)","v":8.3499999999999997E-6},"",834,167,null,{"$f":"IF(AA835=\"\",ROW()/100000000,COUNTIF(過去ログ!$N$3:$Y$9999,基礎データ!AA835)+ROW()/10000)","v":8.3499999999999997E-6},""]
[null,null,null,null,null,null,null,null,null,null,null,null,null,835,235,null,{"$f":"IF(P836=\"\",ROW()/100000000,COUNTIF(過去ログ!$BQ$3:$CT$9999,基礎データ!P836)+ROW()/10000)","v":8.3599999999999996E-6},"",null,835,166,null,{"$f":"IF(V836=\"\",ROW()/100000000,COUNTIF(過去ログ!$N$3:$N$9999,基礎データ!V836)+ROW()/10000)","v":8.3599999999999996E-6},"",835,166,null,{"$f":"IF(AA836=\"\",ROW()/100000000,COUNTIF(過去ログ!$N$3:$Y$9999,基礎データ!AA836)+ROW()/10000)","v":8.3599999999999996E-6},""]
[null,null,null,null,null,null,null,null,null,null,null,null,null,836,234,null,{"$f":"IF(P837=\"\",ROW()/100000000,COUNTIF(過去ログ!$BQ$3:$CT$9999,基礎データ!P837)+ROW()/10000)","v":8.3699999999999995E-6},"",null,836,{"$f":"RANK(W837,$W$2:$W$1002)","v":165},null,{"$f":"IF(V837=\"\",ROW()/100000000,COUNTIF(過去ログ!$N$3:$N$9999,基礎データ!V837)+ROW()/10000)","v":8.3699999999999995E-6},"",836,165,null,{"$f":"IF(AA837=\"\",ROW()/100000000,COUNTIF(過去ログ!$N$3:$Y$9999,基礎データ!AA837)+ROW()/10000)","v":8.3699999999999995E-6},""]
[null,null,null,null,null,null,null,null,null,null,null,null,null,837,233,null,{"$f":"IF(P838=\"\",ROW()/100000000,COUNTIF(過去ログ!$BQ$3:$CT$9999,基礎データ!P838)+ROW()/10000)","v":8.3799999999999994E-6},"",null,837,164,null,{"$f":"IF(V838=\"\",ROW()/100000000,COUNTIF(過去ログ!$N$3:$N$9999,基礎データ!V838)+ROW()/10000)","v":8.3799999999999994E-6},"",837,164,null,{"$f":"IF(AA838=\"\",ROW()/100000000,COUNTIF(過去ログ!$N$3:$Y$9999,基礎データ!AA838)+ROW()/10000)","v":8.3799999999999994E-6},""]
[null,null,null,null,null,null,null,null,null,null,null,null,null,838,232,null,{"$f":"IF(P839=\"\",ROW()/100000000,COUNTIF(過去ログ!$BQ$3:$CT$9999,基礎データ!P839)+ROW()/10000)","v":8.3899999999999993E-6},"",null,838,163,null,{"$f":"IF(V839=\"\",ROW()/100000000,COUNTIF(過去ログ!$N$3:$N$9999,基礎データ!V839)+ROW()/10000)","v":8.3899999999999993E-6},"",838,163,null,{"$f":"IF(AA839=\"\",ROW()/100000000,COUNTIF(過去ログ!$N$3:$Y$9999,基礎データ!AA839)+ROW()/10000)","v":8.3899999999999993E-6},""]
[null,null,null,null,null,null,null,null,null,null,null,null,null,839,231,null,{"$f":"IF(P840=\"\",ROW()/100000000,COUNTIF(過去ログ!$BQ$3:$CT$9999,基礎データ!P840)+ROW()/10000)","v":8.3999999999999992E-6},"",null,839,162,null,{"$f":"IF(V840=\"\",ROW()/100000000,COUNTIF(過去ログ!$N$3:$N$9999,基礎データ!V840)+ROW()/10000)","v":8.3999999999999992E-6},"",839,162,null,{"$f":"IF(AA840=\"\",ROW()/100000000,COUNTIF(過去ログ!$N$3:$Y$9999,基礎データ!AA840)+ROW()/10000)","v":8.3999999999999992E-6},""]
[null,null,null,null,null,null,null,null,null,null,null,null,null,840,230,null,{"$f":"IF(P841=\"\",ROW()/100000000,COUNTIF(過去ログ!$BQ$3:$CT$9999,基礎データ!P841)+ROW()/10000)","v":8.4100000000000008E-6},"",null,840,161,null,{"$f":"IF(V841=\"\",ROW()/100000000,COUNTIF(過去ログ!$N$3:$N$9999,基礎データ!V841)+ROW()/10000)","v":8.4100000000000008E-6},"",840,161,null,{"$f":"IF(AA841=\"\",ROW()/100000000,COUNTIF(過去ログ!$N$3:$Y$9999,基礎データ!AA841)+ROW()/10000)","v":8.4100000000000008E-6},""]
[null,null,null,null,null,null,null,null,null,null,null,null,null,841,229,null,{"$f":"IF(P842=\"\",ROW()/100000000,COUNTIF(過去ログ!$BQ$3:$CT$9999,基礎データ!P842)+ROW()/10000)","v":8.4200000000000007E-6},"",null,841,160,null,{"$f":"IF(V842=\"\",ROW()/100000000,COUNTIF(過去ログ!$N$3:$N$9999,基礎データ!V842)+ROW()/10000)","v":8.4200000000000007E-6},"",841,160,null,{"$f":"IF(AA842=\"\",ROW()/100000000,COUNTIF(過去ログ!$N$3:$Y$9999,基礎データ!AA842)+ROW()/10000)","v":8.4200000000000007E-6},""]
[null,null,null,null,null,null,null,null,null,null,null,null,null,842,228,null,{"$f":"IF(P843=\"\",ROW()/100000000,COUNTIF(過去ログ!$BQ$3:$CT$9999,基礎データ!P843)+ROW()/10000)","v":8.4300000000000006E-6},"",null,842,159,null,{"$f":"IF(V843=\"\",ROW()/100000000,COUNTIF(過去ログ!$N$3:$N$9999,基礎データ!V843)+ROW()/10000)","v":8.4300000000000006E-6},"",842,159,null,{"$f":"IF(AA843=\"\",ROW()/100000000,COUNTIF(過去ログ!$N$3:$Y$9999,基礎データ!AA843)+ROW()/10000)","v":8.4300000000000006E-6},""]
[null,null,null,null,null,null,null,null,null,null,null,null,null,843,227,null,{"$f":"IF(P844=\"\",ROW()/100000000,COUNTIF(過去ログ!$BQ$3:$CT$9999,基礎データ!P844)+ROW()/10000)","v":8.4400000000000005E-6},"",null,843,158,null,{"$f":"IF(V844=\"\",ROW()/100000000,COUNTIF(過去ログ!$N$3:$N$9999,基礎データ!V844)+ROW()/10000)","v":8.4400000000000005E-6},"",843,158,null,{"$f":"IF(AA844=\"\",ROW()/100000000,COUNTIF(過去ログ!$N$3:$Y$9999,基礎データ!AA844)+ROW()/10000)","v":8.4400000000000005E-6},""]
[null,null,null,null,null,null,null,null,null,null,null,null,null,844,226,null,{"$f":"IF(P845=\"\",ROW()/100000000,COUNTIF(過去ログ!$BQ$3:$CT$9999,基礎データ!P845)+ROW()/10000)","v":8.4500000000000004E-6},"",null,844,157,null,{"$f":"IF(V845=\"\",ROW()/100000000,COUNTIF(過去ログ!$N$3:$N$9999,基礎データ!V845)+ROW()/10000)","v":8.4500000000000004E-6},"",844,157,null,{"$f":"IF(AA845=\"\",ROW()/100000000,COUNTIF(過去ログ!$N$3:$Y$9999,基礎データ!AA845)+ROW()/10000)","v":8.4500000000000004E-6},""]
[null,null,null,null,null,null,null,null,null,null,null,null,null,845,225,null,{"$f":"IF(P846=\"\",ROW()/100000000,COUNTIF(過去ログ!$BQ$3:$CT$9999,基礎データ!P846)+ROW()/10000)","v":8.4600000000000003E-6},"",null,845,156,null,{"$f":"IF(V846=\"\",ROW()/100000000,COUNTIF(過去ログ!$N$3:$N$9999,基礎データ!V846)+ROW()/10000)","v":8.4600000000000003E-6},"",845,156,null,{"$f":"IF(AA846=\"\",ROW()/100000000,COUNTIF(過去ログ!$N$3:$Y$9999,基礎データ!AA846)+ROW()/10000)","v":8.4600000000000003E-6},""]
[null,null,null,null,null,null,null,null,null,null,null,null,null,846,224,null,{"$f":"IF(P847=\"\",ROW()/100000000,COUNTIF(過去ログ!$BQ$3:$CT$9999,基礎データ!P847)+ROW()/10000)","v":8.4700000000000002E-6},"",null,846,155,null,{"$f":"IF(V847=\"\",ROW()/100000000,COUNTIF(過去ログ!$N$3:$N$9999,基礎データ!V847)+ROW()/10000)","v":8.4700000000000002E-6},{"$f":"IF(VLOOKUP(T847,$U$2:$V$1002,2,FALSE)=0,\"\",VLOOKUP(T847,$U$2:$V$1002,2,FALSE))","v":""},846,155,null,{"$f":"IF(AA847=\"\",ROW()/100000000,COUNTIF(過去ログ!$N$3:$Y$9999,基礎データ!AA847)+ROW()/10000)","v":8.4700000000000002E-6},""]
[null,null,null,null,null,null,null,null,null,null,null,null,null,847,223,null,{"$f":"IF(P848=\"\",ROW()/100000000,COUNTIF(過去ログ!$BQ$3:$CT$9999,基礎データ!P848)+ROW()/10000)","v":8.4800000000000001E-6},"",null,847,154,null,{"$f":"IF(V848=\"\",ROW()/100000000,COUNTIF(過去ログ!$N$3:$N$9999,基礎データ!V848)+ROW()/10000)","v":8.4800000000000001E-6},"",847,154,null,{"$f":"IF(AA848=\"\",ROW()/100000000,COUNTIF(過去ログ!$N$3:$Y$9999,基礎データ!AA848)+ROW()/10000)","v":8.4800000000000001E-6},""]
[null,null,null,null,null,null,null,null,null,null,null,null,null,848,222,null,{"$f":"IF(P849=\"\",ROW()/100000000,COUNTIF(過去ログ!$BQ$3:$CT$9999,基礎データ!P849)+ROW()/10000)","v":8.49E-6},"",null,848,153,null,{"$f":"IF(V849=\"\",ROW()/100000000,COUNTIF(過去ログ!$N$3:$N$9999,基礎データ!V849)+ROW()/10000)","v":8.49E-6},"",848,153,null,{"$f":"IF(AA849=\"\",ROW()/100000000,COUNTIF(過去ログ!$N$3:$Y$9999,基礎データ!AA849)+ROW()/10000)","v":8.49E-6},""]
[null,null,null,null,null,null,null,null,null,null,null,null,null,849,221,null,{"$f":"IF(P850=\"\",ROW()/100000000,COUNTIF(過去ログ!$BQ$3:$CT$9999,基礎データ!P850)+ROW()/10000)","v":8.4999999999999999E-6},"",null,849,152,null,{"$f":"IF(V850=\"\",ROW()/100000000,COUNTIF(過去ログ!$N$3:$N$9999,基礎データ!V850)+ROW()/10000)","v":8.4999999999999999E-6},"",849,152,null,{"$f":"IF(AA850=\"\",ROW()/100000000,COUNTIF(過去ログ!$N$3:$Y$9999,基礎データ!AA850)+ROW()/10000)","v":8.4999999999999999E-6},""]
[null,null,null,null,null,null,null,null,null,null,null,null,null,850,220,null,{"$f":"IF(P851=\"\",ROW()/100000000,COUNTIF(過去ログ!$BQ$3:$CT$9999,基礎データ!P851)+ROW()/10000)","v":8.5099999999999998E-6},"",null,850,151,null,{"$f":"IF(V851=\"\",ROW()/100000000,COUNTIF(過去ログ!$N$3:$N$9999,基礎データ!V851)+ROW()/10000)","v":8.5099999999999998E-6},"",850,151,null,{"$f":"IF(AA851=\"\",ROW()/100000000,COUNTIF(過去ログ!$N$3:$Y$9999,基礎データ!AA851)+ROW()/10000)","v":8.5099999999999998E-6},""]
[null,null,null,null,null,null,null,null,null,null,null,null,null,851,219,null,{"$f":"IF(P852=\"\",ROW()/100000000,COUNTIF(過去ログ!$BQ$3:$CT$9999,基礎データ!P852)+ROW()/10000)","v":8.5199999999999997E-6},"",null,851,150,null,{"$f":"IF(V852=\"\",ROW()/100000000,COUNTIF(過去ログ!$N$3:$N$9999,基礎データ!V852)+ROW()/10000)","v":8.5199999999999997E-6},"",851,150,null,{"$f":"IF(AA852=\"\",ROW()/100000000,COUNTIF(過去ログ!$N$3:$Y$9999,基礎データ!AA852)+ROW()/10000)","v":8.5199999999999997E-6},""]
[null,null,null,null,null,null,null,null,null,null,null,null,null,852,218,null,{"$f":"IF(P853=\"\",ROW()/100000000,COUNTIF(過去ログ!$BQ$3:$CT$9999,基礎データ!P853)+ROW()/10000)","v":8.5299999999999996E-6},"",null,852,149,null,{"$f":"IF(V853=\"\",ROW()/100000000,COUNTIF(過去ログ!$N$3:$N$9999,基礎データ!V853)+ROW()/10000)","v":8.5299999999999996E-6},"",852,149,null,{"$f":"IF(AA853=\"\",ROW()/100000000,COUNTIF(過去ログ!$N$3:$Y$9999,基礎データ!AA853)+ROW()/10000)","v":8.5299999999999996E-6},""]
[null,null,null,null,null,null,null,null,null,null,null,null,null,853,217,null,{"$f":"IF(P854=\"\",ROW()/100000000,COUNTIF(過去ログ!$BQ$3:$CT$9999,基礎データ!P854)+ROW()/10000)","v":8.5399999999999996E-6},"",null,853,148,null,{"$f":"IF(V854=\"\",ROW()/100000000,COUNTIF(過去ログ!$N$3:$N$9999,基礎データ!V854)+ROW()/10000)","v":8.5399999999999996E-6},"",853,148,null,{"$f":"IF(AA854=\"\",ROW()/100000000,COUNTIF(過去ログ!$N$3:$Y$9999,基礎データ!AA854)+ROW()/10000)","v":8.5399999999999996E-6},""]
[null,null,null,null,null,null,null,null,null,null,null,null,null,854,216,null,{"$f":"IF(P855=\"\",ROW()/100000000,COUNTIF(過去ログ!$BQ$3:$CT$9999,基礎データ!P855)+ROW()/10000)","v":8.5499999999999995E-6},"",null,854,147,null,{"$f":"IF(V855=\"\",ROW()/100000000,COUNTIF(過去ログ!$N$3:$N$9999,基礎データ!V855)+ROW()/10000)","v":8.5499999999999995E-6},"",854,147,null,{"$f":"IF(AA855=\"\",ROW()/100000000,COUNTIF(過去ログ!$N$3:$Y$9999,基礎データ!AA855)+ROW()/10000)","v":8.5499999999999995E-6},""]
[null,null,null,null,null,null,null,null,null,null,null,null,null,855,215,null,{"$f":"IF(P856=\"\",ROW()/100000000,COUNTIF(過去ログ!$BQ$3:$CT$9999,基礎データ!P856)+ROW()/10000)","v":8.5599999999999994E-6},"",null,855,146,null,{"$f":"IF(V856=\"\",ROW()/100000000,COUNTIF(過去ログ!$N$3:$N$9999,基礎データ!V856)+ROW()/10000)","v":8.5599999999999994E-6},"",855,146,null,{"$f":"IF(AA856=\"\",ROW()/100000000,COUNTIF(過去ログ!$N$3:$Y$9999,基礎データ!AA856)+ROW()/10000)","v":8.5599999999999994E-6},""]
[null,null,null,null,null,null,null,null,null,null,null,null,null,856,214,null,{"$f":"IF(P857=\"\",ROW()/100000000,COUNTIF(過去ログ!$BQ$3:$CT$9999,基礎データ!P857)+ROW()/10000)","v":8.5699999999999993E-6},"",null,856,145,null,{"$f":"IF(V857=\"\",ROW()/100000000,COUNTIF(過去ログ!$N$3:$N$9999,基礎データ!V857)+ROW()/10000)","v":8.5699999999999993E-6},"",856,145,null,{"$f":"IF(AA857=\"\",ROW()/100000000,COUNTIF(過去ログ!$N$3:$Y$9999,基礎データ!AA857)+ROW()/10000)","v":8.5699999999999993E-6},""]
[null,null,null,null,null,null,null,null,null,null,null,null,null,857,213,null,{"$f":"IF(P858=\"\",ROW()/100000000,COUNTIF(過去ログ!$BQ$3:$CT$9999,基礎データ!P858)+ROW()/10000)","v":8.5799999999999992E-6},"",null,857,144,null,{"$f":"IF(V858=\"\",ROW()/100000000,COUNTIF(過去ログ!$N$3:$N$9999,基礎データ!V858)+ROW()/10000)","v":8.5799999999999992E-6},"",857,144,null,{"$f":"IF(AA858=\"\",ROW()/100000000,COUNTIF(過去ログ!$N$3:$Y$9999,基礎データ!AA858)+ROW()/10000)","v":8.5799999999999992E-6},""]
[null,null,null,null,null,null,null,null,null,null,null,null,null,858,212,null,{"$f":"IF(P859=\"\",ROW()/100000000,COUNTIF(過去ログ!$BQ$3:$CT$9999,基礎データ!P859)+ROW()/10000)","v":8.5900000000000008E-6},"",null,858,143,null,{"$f":"IF(V859=\"\",ROW()/100000000,COUNTIF(過去ログ!$N$3:$N$9999,基礎データ!V859)+ROW()/10000)","v":8.5900000000000008E-6},"",858,143,null,{"$f":"IF(AA859=\"\",ROW()/100000000,COUNTIF(過去ログ!$N$3:$Y$9999,基礎データ!AA859)+ROW()/10000)","v":8.5900000000000008E-6},""]
[null,null,null,null,null,null,null,null,null,null,null,null,null,859,211,null,{"$f":"IF(P860=\"\",ROW()/100000000,COUNTIF(過去ログ!$BQ$3:$CT$9999,基礎データ!P860)+ROW()/10000)","v":8.6000000000000007E-6},"",null,859,142,null,{"$f":"IF(V860=\"\",ROW()/100000000,COUNTIF(過去ログ!$N$3:$N$9999,基礎データ!V860)+ROW()/10000)","v":8.6000000000000007E-6},"",859,142,null,{"$f":"IF(AA860=\"\",ROW()/100000000,COUNTIF(過去ログ!$N$3:$Y$9999,基礎データ!AA860)+ROW()/10000)","v":8.6000000000000007E-6},""]
[null,null,null,null,null,null,null,null,null,null,null,null,null,860,210,null,{"$f":"IF(P861=\"\",ROW()/100000000,COUNTIF(過去ログ!$BQ$3:$CT$9999,基礎データ!P861)+ROW()/10000)","v":8.6100000000000006E-6},"",null,860,141,null,{"$f":"IF(V861=\"\",ROW()/100000000,COUNTIF(過去ログ!$N$3:$N$9999,基礎データ!V861)+ROW()/10000)","v":8.6100000000000006E-6},"",860,141,null,{"$f":"IF(AA861=\"\",ROW()/100000000,COUNTIF(過去ログ!$N$3:$Y$9999,基礎データ!AA861)+ROW()/10000)","v":8.6100000000000006E-6},""]
[null,null,null,null,null,null,null,null,null,null,null,null,null,861,209,null,{"$f":"IF(P862=\"\",ROW()/100000000,COUNTIF(過去ログ!$BQ$3:$CT$9999,基礎データ!P862)+ROW()/10000)","v":8.6200000000000005E-6},"",null,861,140,null,{"$f":"IF(V862=\"\",ROW()/100000000,COUNTIF(過去ログ!$N$3:$N$9999,基礎データ!V862)+ROW()/10000)","v":8.6200000000000005E-6},"",861,140,null,{"$f":"IF(AA862=\"\",ROW()/100000000,COUNTIF(過去ログ!$N$3:$Y$9999,基礎データ!AA862)+ROW()/10000)","v":8.6200000000000005E-6},""]
[null,null,null,null,null,null,null,null,null,null,null,null,null,862,208,null,{"$f":"IF(P863=\"\",ROW()/100000000,COUNTIF(過去ログ!$BQ$3:$CT$9999,基礎データ!P863)+ROW()/10000)","v":8.6300000000000004E-6},"",null,862,139,null,{"$f":"IF(V863=\"\",ROW()/100000000,COUNTIF(過去ログ!$N$3:$N$9999,基礎データ!V863)+ROW()/10000)","v":8.6300000000000004E-6},"",862,139,null,{"$f":"IF(AA863=\"\",ROW()/100000000,COUNTIF(過去ログ!$N$3:$Y$9999,基礎データ!AA863)+ROW()/10000)","v":8.6300000000000004E-6},""]
[null,null,null,null,null,null,null,null,null,null,null,null,null,863,{"$f":"RANK(Q864,$Q$2:$Q$1002)","v":207},null,{"$f":"IF(P864=\"\",ROW()/100000000,COUNTIF(過去ログ!$BQ$3:$CT$9999,基礎データ!P864)+ROW()/10000)","v":8.6400000000000003E-6},"",null,863,138,null,{"$f":"IF(V864=\"\",ROW()/100000000,COUNTIF(過去ログ!$N$3:$N$9999,基礎データ!V864)+ROW()/10000)","v":8.6400000000000003E-6},"",863,138,null,{"$f":"IF(AA864=\"\",ROW()/100000000,COUNTIF(過去ログ!$N$3:$Y$9999,基礎データ!AA864)+ROW()/10000)","v":8.6400000000000003E-6},""]
[null,null,null,null,null,null,null,null,null,null,null,null,null,864,206,null,{"$f":"IF(P865=\"\",ROW()/100000000,COUNTIF(過去ログ!$BQ$3:$CT$9999,基礎データ!P865)+ROW()/10000)","v":8.6500000000000002E-6},"",null,864,137,null,{"$f":"IF(V865=\"\",ROW()/100000000,COUNTIF(過去ログ!$N$3:$N$9999,基礎データ!V865)+ROW()/10000)","v":8.6500000000000002E-6},"",864,137,null,{"$f":"IF(AA865=\"\",ROW()/100000000,COUNTIF(過去ログ!$N$3:$Y$9999,基礎データ!AA865)+ROW()/10000)","v":8.6500000000000002E-6},""]
[null,null,null,null,null,null,null,null,null,null,null,null,null,865,205,null,{"$f":"IF(P866=\"\",ROW()/100000000,COUNTIF(過去ログ!$BQ$3:$CT$9999,基礎データ!P866)+ROW()/10000)","v":8.6600000000000001E-6},"",null,865,136,null,{"$f":"IF(V866=\"\",ROW()/100000000,COUNTIF(過去ログ!$N$3:$N$9999,基礎データ!V866)+ROW()/10000)","v":8.6600000000000001E-6},"",865,136,null,{"$f":"IF(AA866=\"\",ROW()/100000000,COUNTIF(過去ログ!$N$3:$Y$9999,基礎データ!AA866)+ROW()/10000)","v":8.6600000000000001E-6},""]
[null,null,null,null,null,null,null,null,null,null,null,null,null,866,204,null,{"$f":"IF(P867=\"\",ROW()/100000000,COUNTIF(過去ログ!$BQ$3:$CT$9999,基礎データ!P867)+ROW()/10000)","v":8.67E-6},"",null,866,135,null,{"$f":"IF(V867=\"\",ROW()/100000000,COUNTIF(過去ログ!$N$3:$N$9999,基礎データ!V867)+ROW()/10000)","v":8.67E-6},"",866,135,null,{"$f":"IF(AA867=\"\",ROW()/100000000,COUNTIF(過去ログ!$N$3:$Y$9999,基礎データ!AA867)+ROW()/10000)","v":8.67E-6},""]
[null,null,null,null,null,null,null,null,null,null,null,null,null,867,203,null,{"$f":"IF(P868=\"\",ROW()/100000000,COUNTIF(過去ログ!$BQ$3:$CT$9999,基礎データ!P868)+ROW()/10000)","v":8.6799999999999999E-6},"",null,867,134,null,{"$f":"IF(V868=\"\",ROW()/100000000,COUNTIF(過去ログ!$N$3:$N$9999,基礎データ!V868)+ROW()/10000)","v":8.6799999999999999E-6},"",867,134,null,{"$f":"IF(AA868=\"\",ROW()/100000000,COUNTIF(過去ログ!$N$3:$Y$9999,基礎データ!AA868)+ROW()/10000)","v":8.6799999999999999E-6},""]
[null,null,null,null,null,null,null,null,null,null,null,null,null,868,202,null,{"$f":"IF(P869=\"\",ROW()/100000000,COUNTIF(過去ログ!$BQ$3:$CT$9999,基礎データ!P869)+ROW()/10000)","v":8.6899999999999998E-6},"",null,868,133,null,{"$f":"IF(V869=\"\",ROW()/100000000,COUNTIF(過去ログ!$N$3:$N$9999,基礎データ!V869)+ROW()/10000)","v":8.6899999999999998E-6},"",868,133,null,{"$f":"IF(AA869=\"\",ROW()/100000000,COUNTIF(過去ログ!$N$3:$Y$9999,基礎データ!AA869)+ROW()/10000)","v":8.6899999999999998E-6},""]
[null,null,null,null,null,null,null,null,null,null,null,null,null,869,201,null,{"$f":"IF(P870=\"\",ROW()/100000000,COUNTIF(過去ログ!$BQ$3:$CT$9999,基礎データ!P870)+ROW()/10000)","v":8.6999999999999997E-6},{"$f":"IF(P870=\"\",\"\",VLOOKUP(N870,$O$2:$P$1002,2,FALSE))","v":""},null,869,132,null,{"$f":"IF(V870=\"\",ROW()/100000000,COUNTIF(過去ログ!$N$3:$N$9999,基礎データ!V870)+ROW()/10000)","v":8.6999999999999997E-6},"",869,132,null,{"$f":"IF(AA870=\"\",ROW()/100000000,COUNTIF(過去ログ!$N$3:$Y$9999,基礎データ!AA870)+ROW()/10000)","v":8.6999999999999997E-6},""]
[null,null,null,null,null,null,null,null,null,null,null,null,null,870,200,null,{"$f":"IF(P871=\"\",ROW()/100000000,COUNTIF(過去ログ!$BQ$3:$CT$9999,基礎データ!P871)+ROW()/10000)","v":8.7099999999999996E-6},"",null,870,131,null,{"$f":"IF(V871=\"\",ROW()/100000000,COUNTIF(過去ログ!$N$3:$N$9999,基礎データ!V871)+ROW()/10000)","v":8.7099999999999996E-6},"",870,131,null,{"$f":"IF(AA871=\"\",ROW()/100000000,COUNTIF(過去ログ!$N$3:$Y$9999,基礎データ!AA871)+ROW()/10000)","v":8.7099999999999996E-6},""]
[null,null,null,null,null,null,null,null,null,null,null,null,null,871,199,null,{"$f":"IF(P872=\"\",ROW()/100000000,COUNTIF(過去ログ!$BQ$3:$CT$9999,基礎データ!P872)+ROW()/10000)","v":8.7199999999999995E-6},"",null,871,130,null,{"$f":"IF(V872=\"\",ROW()/100000000,COUNTIF(過去ログ!$N$3:$N$9999,基礎データ!V872)+ROW()/10000)","v":8.7199999999999995E-6},"",871,130,null,{"$f":"IF(AA872=\"\",ROW()/100000000,COUNTIF(過去ログ!$N$3:$Y$9999,基礎データ!AA872)+ROW()/10000)","v":8.7199999999999995E-6},""]
[null,null,null,null,null,null,null,null,null,null,null,null,null,872,198,null,{"$f":"IF(P873=\"\",ROW()/100000000,COUNTIF(過去ログ!$BQ$3:$CT$9999,基礎データ!P873)+ROW()/10000)","v":8.7299999999999994E-6},"",null,872,129,null,{"$f":"IF(V873=\"\",ROW()/100000000,COUNTIF(過去ログ!$N$3:$N$9999,基礎データ!V873)+ROW()/10000)","v":8.7299999999999994E-6},"",872,129,null,{"$f":"IF(AA873=\"\",ROW()/100000000,COUNTIF(過去ログ!$N$3:$Y$9999,基礎データ!AA873)+ROW()/10000)","v":8.7299999999999994E-6},""]
[null,null,null,null,null,null,null,null,null,null,null,null,null,873,197,null,{"$f":"IF(P874=\"\",ROW()/100000000,COUNTIF(過去ログ!$BQ$3:$CT$9999,基礎データ!P874)+ROW()/10000)","v":8.7399999999999993E-6},"",null,873,128,null,{"$f":"IF(V874=\"\",ROW()/100000000,COUNTIF(過去ログ!$N$3:$N$9999,基礎データ!V874)+ROW()/10000)","v":8.7399999999999993E-6},"",873,128,null,{"$f":"IF(AA874=\"\",ROW()/100000000,COUNTIF(過去ログ!$N$3:$Y$9999,基礎データ!AA874)+ROW()/10000)","v":8.7399999999999993E-6},""]
[null,null,null,null,null,null,null,null,null,null,null,null,null,874,196,null,{"$f":"IF(P875=\"\",ROW()/100000000,COUNTIF(過去ログ!$BQ$3:$CT$9999,基礎データ!P875)+ROW()/10000)","v":8.7499999999999992E-6},"",null,874,127,null,{"$f":"IF(V875=\"\",ROW()/100000000,COUNTIF(過去ログ!$N$3:$N$9999,基礎データ!V875)+ROW()/10000)","v":8.7499999999999992E-6},"",874,127,null,{"$f":"IF(AA875=\"\",ROW()/100000000,COUNTIF(過去ログ!$N$3:$Y$9999,基礎データ!AA875)+ROW()/10000)","v":8.7499999999999992E-6},""]
[null,null,null,null,null,null,null,null,null,null,null,null,null,875,195,null,{"$f":"IF(P876=\"\",ROW()/100000000,COUNTIF(過去ログ!$BQ$3:$CT$9999,基礎データ!P876)+ROW()/10000)","v":8.7600000000000008E-6},"",null,875,126,null,{"$f":"IF(V876=\"\",ROW()/100000000,COUNTIF(過去ログ!$N$3:$N$9999,基礎データ!V876)+ROW()/10000)","v":8.7600000000000008E-6},"",875,126,null,{"$f":"IF(AA876=\"\",ROW()/100000000,COUNTIF(過去ログ!$N$3:$Y$9999,基礎データ!AA876)+ROW()/10000)","v":8.7600000000000008E-6},""]
[null,null,null,null,null,null,null,null,null,null,null,null,null,876,194,null,{"$f":"IF(P877=\"\",ROW()/100000000,COUNTIF(過去ログ!$BQ$3:$CT$9999,基礎データ!P877)+ROW()/10000)","v":8.7700000000000007E-6},"",null,876,125,null,{"$f":"IF(V877=\"\",ROW()/100000000,COUNTIF(過去ログ!$N$3:$N$9999,基礎データ!V877)+ROW()/10000)","v":8.7700000000000007E-6},"",876,125,null,{"$f":"IF(AA877=\"\",ROW()/100000000,COUNTIF(過去ログ!$N$3:$Y$9999,基礎データ!AA877)+ROW()/10000)","v":8.7700000000000007E-6},""]
[null,null,null,null,null,null,null,null,null,null,null,null,null,877,193,null,{"$f":"IF(P878=\"\",ROW()/100000000,COUNTIF(過去ログ!$BQ$3:$CT$9999,基礎データ!P878)+ROW()/10000)","v":8.7800000000000006E-6},"",null,877,124,null,{"$f":"IF(V878=\"\",ROW()/100000000,COUNTIF(過去ログ!$N$3:$N$9999,基礎データ!V878)+ROW()/10000)","v":8.7800000000000006E-6},"",877,124,null,{"$f":"IF(AA878=\"\",ROW()/100000000,COUNTIF(過去ログ!$N$3:$Y$9999,基礎データ!AA878)+ROW()/10000)","v":8.7800000000000006E-6},""]
[null,null,null,null,null,null,null,null,null,null,null,null,null,878,192,null,{"$f":"IF(P879=\"\",ROW()/100000000,COUNTIF(過去ログ!$BQ$3:$CT$9999,基礎データ!P879)+ROW()/10000)","v":8.7900000000000005E-6},"",null,878,123,null,{"$f":"IF(V879=\"\",ROW()/100000000,COUNTIF(過去ログ!$N$3:$N$9999,基礎データ!V879)+ROW()/10000)","v":8.7900000000000005E-6},"",878,123,null,{"$f":"IF(AA879=\"\",ROW()/100000000,COUNTIF(過去ログ!$N$3:$Y$9999,基礎データ!AA879)+ROW()/10000)","v":8.7900000000000005E-6},""]
[null,null,null,null,null,null,null,null,null,null,null,null,null,879,191,null,{"$f":"IF(P880=\"\",ROW()/100000000,COUNTIF(過去ログ!$BQ$3:$CT$9999,基礎データ!P880)+ROW()/10000)","v":8.8000000000000004E-6},"",null,879,122,null,{"$f":"IF(V880=\"\",ROW()/100000000,COUNTIF(過去ログ!$N$3:$N$9999,基礎データ!V880)+ROW()/10000)","v":8.8000000000000004E-6},"",879,122,null,{"$f":"IF(AA880=\"\",ROW()/100000000,COUNTIF(過去ログ!$N$3:$Y$9999,基礎データ!AA880)+ROW()/10000)","v":8.8000000000000004E-6},""]
[null,null,null,null,null,null,null,null,null,null,null,null,null,880,190,null,{"$f":"IF(P881=\"\",ROW()/100000000,COUNTIF(過去ログ!$BQ$3:$CT$9999,基礎データ!P881)+ROW()/10000)","v":8.8100000000000004E-6},"",null,880,121,null,{"$f":"IF(V881=\"\",ROW()/100000000,COUNTIF(過去ログ!$N$3:$N$9999,基礎データ!V881)+ROW()/10000)","v":8.8100000000000004E-6},"",880,121,null,{"$f":"IF(AA881=\"\",ROW()/100000000,COUNTIF(過去ログ!$N$3:$Y$9999,基礎データ!AA881)+ROW()/10000)","v":8.8100000000000004E-6},""]
[null,null,null,null,null,null,null,null,null,null,null,null,null,881,189,null,{"$f":"IF(P882=\"\",ROW()/100000000,COUNTIF(過去ログ!$BQ$3:$CT$9999,基礎データ!P882)+ROW()/10000)","v":8.8200000000000003E-6},"",null,881,120,null,{"$f":"IF(V882=\"\",ROW()/100000000,COUNTIF(過去ログ!$N$3:$N$9999,基礎データ!V882)+ROW()/10000)","v":8.8200000000000003E-6},"",881,120,null,{"$f":"IF(AA882=\"\",ROW()/100000000,COUNTIF(過去ログ!$N$3:$Y$9999,基礎データ!AA882)+ROW()/10000)","v":8.8200000000000003E-6},""]
[null,null,null,null,null,null,null,null,null,null,null,null,null,882,188,null,{"$f":"IF(P883=\"\",ROW()/100000000,COUNTIF(過去ログ!$BQ$3:$CT$9999,基礎データ!P883)+ROW()/10000)","v":8.8300000000000002E-6},"",null,882,119,null,{"$f":"IF(V883=\"\",ROW()/100000000,COUNTIF(過去ログ!$N$3:$N$9999,基礎データ!V883)+ROW()/10000)","v":8.8300000000000002E-6},"",882,119,null,{"$f":"IF(AA883=\"\",ROW()/100000000,COUNTIF(過去ログ!$N$3:$Y$9999,基礎データ!AA883)+ROW()/10000)","v":8.8300000000000002E-6},{"$f":"IF(VLOOKUP(Y883,$Z$2:$AA$1002,2,FALSE)=0,\"\",VLOOKUP(Y883,$Z$2:$AA$1002,2,FALSE))","v":""}]
[null,null,null,null,null,null,null,null,null,null,null,null,null,883,187,null,{"$f":"IF(P884=\"\",ROW()/100000000,COUNTIF(過去ログ!$BQ$3:$CT$9999,基礎データ!P884)+ROW()/10000)","v":8.8400000000000001E-6},"",null,883,118,null,{"$f":"IF(V884=\"\",ROW()/100000000,COUNTIF(過去ログ!$N$3:$N$9999,基礎データ!V884)+ROW()/10000)","v":8.8400000000000001E-6},"",883,118,null,{"$f":"IF(AA884=\"\",ROW()/100000000,COUNTIF(過去ログ!$N$3:$Y$9999,基礎データ!AA884)+ROW()/10000)","v":8.8400000000000001E-6},""]
[null,null,null,null,null,null,null,null,null,null,null,null,null,884,186,null,{"$f":"IF(P885=\"\",ROW()/100000000,COUNTIF(過去ログ!$BQ$3:$CT$9999,基礎データ!P885)+ROW()/10000)","v":8.85E-6},"",null,884,117,null,{"$f":"IF(V885=\"\",ROW()/100000000,COUNTIF(過去ログ!$N$3:$N$9999,基礎データ!V885)+ROW()/10000)","v":8.85E-6},"",884,117,null,{"$f":"IF(AA885=\"\",ROW()/100000000,COUNTIF(過去ログ!$N$3:$Y$9999,基礎データ!AA885)+ROW()/10000)","v":8.85E-6},""]
[null,null,null,null,null,null,null,null,null,null,null,null,null,885,185,null,{"$f":"IF(P886=\"\",ROW()/100000000,COUNTIF(過去ログ!$BQ$3:$CT$9999,基礎データ!P886)+ROW()/10000)","v":8.8599999999999999E-6},"",null,885,116,null,{"$f":"IF(V886=\"\",ROW()/100000000,COUNTIF(過去ログ!$N$3:$N$9999,基礎データ!V886)+ROW()/10000)","v":8.8599999999999999E-6},"",885,116,null,{"$f":"IF(AA886=\"\",ROW()/100000000,COUNTIF(過去ログ!$N$3:$Y$9999,基礎データ!AA886)+ROW()/10000)","v":8.8599999999999999E-6},""]
[null,null,null,null,null,null,null,null,null,null,null,null,null,886,184,null,{"$f":"IF(P887=\"\",ROW()/100000000,COUNTIF(過去ログ!$BQ$3:$CT$9999,基礎データ!P887)+ROW()/10000)","v":8.8699999999999998E-6},"",null,886,115,null,{"$f":"IF(V887=\"\",ROW()/100000000,COUNTIF(過去ログ!$N$3:$N$9999,基礎データ!V887)+ROW()/10000)","v":8.8699999999999998E-6},"",886,115,null,{"$f":"IF(AA887=\"\",ROW()/100000000,COUNTIF(過去ログ!$N$3:$Y$9999,基礎データ!AA887)+ROW()/10000)","v":8.8699999999999998E-6},""]
[null,null,null,null,null,null,null,null,null,null,null,null,null,887,183,null,{"$f":"IF(P888=\"\",ROW()/100000000,COUNTIF(過去ログ!$BQ$3:$CT$9999,基礎データ!P888)+ROW()/10000)","v":8.8799999999999997E-6},"",null,887,114,null,{"$f":"IF(V888=\"\",ROW()/100000000,COUNTIF(過去ログ!$N$3:$N$9999,基礎データ!V888)+ROW()/10000)","v":8.8799999999999997E-6},"",887,{"$f":"RANK(AB888,$AB$2:$AB$1002)","v":114},null,{"$f":"IF(AA888=\"\",ROW()/100000000,COUNTIF(過去ログ!$N$3:$Y$9999,基礎データ!AA888)+ROW()/10000)","v":8.8799999999999997E-6},""]
[null,null,null,null,null,null,null,null,null,null,null,null,null,888,182,null,{"$f":"IF(P889=\"\",ROW()/100000000,COUNTIF(過去ログ!$BQ$3:$CT$9999,基礎データ!P889)+ROW()/10000)","v":8.8899999999999996E-6},"",null,888,113,null,{"$f":"IF(V889=\"\",ROW()/100000000,COUNTIF(過去ログ!$N$3:$N$9999,基礎データ!V889)+ROW()/10000)","v":8.8899999999999996E-6},"",888,113,null,{"$f":"IF(AA889=\"\",ROW()/100000000,COUNTIF(過去ログ!$N$3:$Y$9999,基礎データ!AA889)+ROW()/10000)","v":8.8899999999999996E-6},""]
[null,null,null,null,null,null,null,null,null,null,null,null,null,889,181,null,{"$f":"IF(P890=\"\",ROW()/100000000,COUNTIF(過去ログ!$BQ$3:$CT$9999,基礎データ!P890)+ROW()/10000)","v":8.8999999999999995E-6},"",null,889,112,null,{"$f":"IF(V890=\"\",ROW()/100000000,COUNTIF(過去ログ!$N$3:$N$9999,基礎データ!V890)+ROW()/10000)","v":8.8999999999999995E-6},"",889,112,null,{"$f":"IF(AA890=\"\",ROW()/100000000,COUNTIF(過去ログ!$N$3:$Y$9999,基礎データ!AA890)+ROW()/10000)","v":8.8999999999999995E-6},""]
[null,null,null,null,null,null,null,null,null,null,null,null,null,890,180,null,{"$f":"IF(P891=\"\",ROW()/100000000,COUNTIF(過去ログ!$BQ$3:$CT$9999,基礎データ!P891)+ROW()/10000)","v":8.9099999999999994E-6},"",null,890,111,null,{"$f":"IF(V891=\"\",ROW()/100000000,COUNTIF(過去ログ!$N$3:$N$9999,基礎データ!V891)+ROW()/10000)","v":8.9099999999999994E-6},"",890,111,null,{"$f":"IF(AA891=\"\",ROW()/100000000,COUNTIF(過去ログ!$N$3:$Y$9999,基礎データ!AA891)+ROW()/10000)","v":8.9099999999999994E-6},""]
[null,null,null,null,null,null,null,null,null,null,null,null,null,891,179,null,{"$f":"IF(P892=\"\",ROW()/100000000,COUNTIF(過去ログ!$BQ$3:$CT$9999,基礎データ!P892)+ROW()/10000)","v":8.9199999999999993E-6},"",null,891,110,null,{"$f":"IF(V892=\"\",ROW()/100000000,COUNTIF(過去ログ!$N$3:$N$9999,基礎データ!V892)+ROW()/10000)","v":8.9199999999999993E-6},"",891,110,null,{"$f":"IF(AA892=\"\",ROW()/100000000,COUNTIF(過去ログ!$N$3:$Y$9999,基礎データ!AA892)+ROW()/10000)","v":8.9199999999999993E-6},""]
[null,null,null,null,null,null,null,null,null,null,null,null,null,892,178,null,{"$f":"IF(P893=\"\",ROW()/100000000,COUNTIF(過去ログ!$BQ$3:$CT$9999,基礎データ!P893)+ROW()/10000)","v":8.9299999999999992E-6},"",null,892,109,null,{"$f":"IF(V893=\"\",ROW()/100000000,COUNTIF(過去ログ!$N$3:$N$9999,基礎データ!V893)+ROW()/10000)","v":8.9299999999999992E-6},"",892,109,null,{"$f":"IF(AA893=\"\",ROW()/100000000,COUNTIF(過去ログ!$N$3:$Y$9999,基礎データ!AA893)+ROW()/10000)","v":8.9299999999999992E-6},""]
[null,null,null,null,null,null,null,null,null,null,null,null,null,893,177,null,{"$f":"IF(P894=\"\",ROW()/100000000,COUNTIF(過去ログ!$BQ$3:$CT$9999,基礎データ!P894)+ROW()/10000)","v":8.9400000000000008E-6},"",null,893,108,null,{"$f":"IF(V894=\"\",ROW()/100000000,COUNTIF(過去ログ!$N$3:$N$9999,基礎データ!V894)+ROW()/10000)","v":8.9400000000000008E-6},"",893,108,null,{"$f":"IF(AA894=\"\",ROW()/100000000,COUNTIF(過去ログ!$N$3:$Y$9999,基礎データ!AA894)+ROW()/10000)","v":8.9400000000000008E-6},""]
[null,null,null,null,null,null,null,null,null,null,null,null,null,894,176,null,{"$f":"IF(P895=\"\",ROW()/100000000,COUNTIF(過去ログ!$BQ$3:$CT$9999,基礎データ!P895)+ROW()/10000)","v":8.9500000000000007E-6},"",null,894,107,null,{"$f":"IF(V895=\"\",ROW()/100000000,COUNTIF(過去ログ!$N$3:$N$9999,基礎データ!V895)+ROW()/10000)","v":8.9500000000000007E-6},"",894,107,null,{"$f":"IF(AA895=\"\",ROW()/100000000,COUNTIF(過去ログ!$N$3:$Y$9999,基礎データ!AA895)+ROW()/10000)","v":8.9500000000000007E-6},""]
[null,null,null,null,null,null,null,null,null,null,null,null,null,895,175,null,{"$f":"IF(P896=\"\",ROW()/100000000,COUNTIF(過去ログ!$BQ$3:$CT$9999,基礎データ!P896)+ROW()/10000)","v":8.9600000000000006E-6},"",null,895,106,null,{"$f":"IF(V896=\"\",ROW()/100000000,COUNTIF(過去ログ!$N$3:$N$9999,基礎データ!V896)+ROW()/10000)","v":8.9600000000000006E-6},"",895,106,null,{"$f":"IF(AA896=\"\",ROW()/100000000,COUNTIF(過去ログ!$N$3:$Y$9999,基礎データ!AA896)+ROW()/10000)","v":8.9600000000000006E-6},""]
[null,null,null,null,null,null,null,null,null,null,null,null,null,896,174,null,{"$f":"IF(P897=\"\",ROW()/100000000,COUNTIF(過去ログ!$BQ$3:$CT$9999,基礎データ!P897)+ROW()/10000)","v":8.9700000000000005E-6},"",null,896,105,null,{"$f":"IF(V897=\"\",ROW()/100000000,COUNTIF(過去ログ!$N$3:$N$9999,基礎データ!V897)+ROW()/10000)","v":8.9700000000000005E-6},"",896,105,null,{"$f":"IF(AA897=\"\",ROW()/100000000,COUNTIF(過去ログ!$N$3:$Y$9999,基礎データ!AA897)+ROW()/10000)","v":8.9700000000000005E-6},""]
[null,null,null,null,null,null,null,null,null,null,null,null,null,897,173,null,{"$f":"IF(P898=\"\",ROW()/100000000,COUNTIF(過去ログ!$BQ$3:$CT$9999,基礎データ!P898)+ROW()/10000)","v":8.9800000000000004E-6},"",null,897,104,null,{"$f":"IF(V898=\"\",ROW()/100000000,COUNTIF(過去ログ!$N$3:$N$9999,基礎データ!V898)+ROW()/10000)","v":8.9800000000000004E-6},"",897,104,null,{"$f":"IF(AA898=\"\",ROW()/100000000,COUNTIF(過去ログ!$N$3:$Y$9999,基礎データ!AA898)+ROW()/10000)","v":8.9800000000000004E-6},""]
[null,null,null,null,null,null,null,null,null,null,null,null,null,898,172,null,{"$f":"IF(P899=\"\",ROW()/100000000,COUNTIF(過去ログ!$BQ$3:$CT$9999,基礎データ!P899)+ROW()/10000)","v":8.9900000000000003E-6},"",null,898,103,null,{"$f":"IF(V899=\"\",ROW()/100000000,COUNTIF(過去ログ!$N$3:$N$9999,基礎データ!V899)+ROW()/10000)","v":8.9900000000000003E-6},"",898,103,null,{"$f":"IF(AA899=\"\",ROW()/100000000,COUNTIF(過去ログ!$N$3:$Y$9999,基礎データ!AA899)+ROW()/10000)","v":8.9900000000000003E-6},""]
[null,null,null,null,null,null,null,null,null,null,null,null,null,899,171,null,{"$f":"IF(P900=\"\",ROW()/100000000,COUNTIF(過去ログ!$BQ$3:$CT$9999,基礎データ!P900)+ROW()/10000)","v":9.0000000000000002E-6},"",null,899,102,null,{"$f":"IF(V900=\"\",ROW()/100000000,COUNTIF(過去ログ!$N$3:$N$9999,基礎データ!V900)+ROW()/10000)","v":9.0000000000000002E-6},"",899,102,null,{"$f":"IF(AA900=\"\",ROW()/100000000,COUNTIF(過去ログ!$N$3:$Y$9999,基礎データ!AA900)+ROW()/10000)","v":9.0000000000000002E-6},""]
[null,null,null,null,null,null,null,null,null,null,null,null,null,900,170,null,{"$f":"IF(P901=\"\",ROW()/100000000,COUNTIF(過去ログ!$BQ$3:$CT$9999,基礎データ!P901)+ROW()/10000)","v":9.0100000000000001E-6},"",null,900,{"$f":"RANK(W901,$W$2:$W$1002)","v":101},null,{"$f":"IF(V901=\"\",ROW()/100000000,COUNTIF(過去ログ!$N$3:$N$9999,基礎データ!V901)+ROW()/10000)","v":9.0100000000000001E-6},"",900,101,null,{"$f":"IF(AA901=\"\",ROW()/100000000,COUNTIF(過去ログ!$N$3:$Y$9999,基礎データ!AA901)+ROW()/10000)","v":9.0100000000000001E-6},""]
[null,null,null,null,null,null,null,null,null,null,null,null,null,901,169,null,{"$f":"IF(P902=\"\",ROW()/100000000,COUNTIF(過去ログ!$BQ$3:$CT$9999,基礎データ!P902)+ROW()/10000)","v":9.02E-6},"",null,901,100,null,{"$f":"IF(V902=\"\",ROW()/100000000,COUNTIF(過去ログ!$N$3:$N$9999,基礎データ!V902)+ROW()/10000)","v":9.02E-6},"",901,100,null,{"$f":"IF(AA902=\"\",ROW()/100000000,COUNTIF(過去ログ!$N$3:$Y$9999,基礎データ!AA902)+ROW()/10000)","v":9.02E-6},""]
[null,null,null,null,null,null,null,null,null,null,null,null,null,902,168,null,{"$f":"IF(P903=\"\",ROW()/100000000,COUNTIF(過去ログ!$BQ$3:$CT$9999,基礎データ!P903)+ROW()/10000)","v":9.0299999999999999E-6},"",null,902,99,null,{"$f":"IF(V903=\"\",ROW()/100000000,COUNTIF(過去ログ!$N$3:$N$9999,基礎データ!V903)+ROW()/10000)","v":9.0299999999999999E-6},"",902,99,null,{"$f":"IF(AA903=\"\",ROW()/100000000,COUNTIF(過去ログ!$N$3:$Y$9999,基礎データ!AA903)+ROW()/10000)","v":9.0299999999999999E-6},""]
[null,null,null,null,null,null,null,null,null,null,null,null,null,903,167,null,{"$f":"IF(P904=\"\",ROW()/100000000,COUNTIF(過去ログ!$BQ$3:$CT$9999,基礎データ!P904)+ROW()/10000)","v":9.0399999999999998E-6},"",null,903,98,null,{"$f":"IF(V904=\"\",ROW()/100000000,COUNTIF(過去ログ!$N$3:$N$9999,基礎データ!V904)+ROW()/10000)","v":9.0399999999999998E-6},"",903,98,null,{"$f":"IF(AA904=\"\",ROW()/100000000,COUNTIF(過去ログ!$N$3:$Y$9999,基礎データ!AA904)+ROW()/10000)","v":9.0399999999999998E-6},""]
[null,null,null,null,null,null,null,null,null,null,null,null,null,904,166,null,{"$f":"IF(P905=\"\",ROW()/100000000,COUNTIF(過去ログ!$BQ$3:$CT$9999,基礎データ!P905)+ROW()/10000)","v":9.0499999999999997E-6},"",null,904,97,null,{"$f":"IF(V905=\"\",ROW()/100000000,COUNTIF(過去ログ!$N$3:$N$9999,基礎データ!V905)+ROW()/10000)","v":9.0499999999999997E-6},"",904,97,null,{"$f":"IF(AA905=\"\",ROW()/100000000,COUNTIF(過去ログ!$N$3:$Y$9999,基礎データ!AA905)+ROW()/10000)","v":9.0499999999999997E-6},""]
[null,null,null,null,null,null,null,null,null,null,null,null,null,905,165,null,{"$f":"IF(P906=\"\",ROW()/100000000,COUNTIF(過去ログ!$BQ$3:$CT$9999,基礎データ!P906)+ROW()/10000)","v":9.0599999999999997E-6},"",null,905,96,null,{"$f":"IF(V906=\"\",ROW()/100000000,COUNTIF(過去ログ!$N$3:$N$9999,基礎データ!V906)+ROW()/10000)","v":9.0599999999999997E-6},"",905,96,null,{"$f":"IF(AA906=\"\",ROW()/100000000,COUNTIF(過去ログ!$N$3:$Y$9999,基礎データ!AA906)+ROW()/10000)","v":9.0599999999999997E-6},""]
[null,null,null,null,null,null,null,null,null,null,null,null,null,906,164,null,{"$f":"IF(P907=\"\",ROW()/100000000,COUNTIF(過去ログ!$BQ$3:$CT$9999,基礎データ!P907)+ROW()/10000)","v":9.0699999999999996E-6},"",null,906,95,null,{"$f":"IF(V907=\"\",ROW()/100000000,COUNTIF(過去ログ!$N$3:$N$9999,基礎データ!V907)+ROW()/10000)","v":9.0699999999999996E-6},"",906,95,null,{"$f":"IF(AA907=\"\",ROW()/100000000,COUNTIF(過去ログ!$N$3:$Y$9999,基礎データ!AA907)+ROW()/10000)","v":9.0699999999999996E-6},""]
[null,null,null,null,null,null,null,null,null,null,null,null,null,907,163,null,{"$f":"IF(P908=\"\",ROW()/100000000,COUNTIF(過去ログ!$BQ$3:$CT$9999,基礎データ!P908)+ROW()/10000)","v":9.0799999999999995E-6},"",null,907,94,null,{"$f":"IF(V908=\"\",ROW()/100000000,COUNTIF(過去ログ!$N$3:$N$9999,基礎データ!V908)+ROW()/10000)","v":9.0799999999999995E-6},"",907,94,null,{"$f":"IF(AA908=\"\",ROW()/100000000,COUNTIF(過去ログ!$N$3:$Y$9999,基礎データ!AA908)+ROW()/10000)","v":9.0799999999999995E-6},""]
[null,null,null,null,null,null,null,null,null,null,null,null,null,908,162,null,{"$f":"IF(P909=\"\",ROW()/100000000,COUNTIF(過去ログ!$BQ$3:$CT$9999,基礎データ!P909)+ROW()/10000)","v":9.0899999999999994E-6},"",null,908,93,null,{"$f":"IF(V909=\"\",ROW()/100000000,COUNTIF(過去ログ!$N$3:$N$9999,基礎データ!V909)+ROW()/10000)","v":9.0899999999999994E-6},"",908,93,null,{"$f":"IF(AA909=\"\",ROW()/100000000,COUNTIF(過去ログ!$N$3:$Y$9999,基礎データ!AA909)+ROW()/10000)","v":9.0899999999999994E-6},""]
[null,null,null,null,null,null,null,null,null,null,null,null,null,909,161,null,{"$f":"IF(P910=\"\",ROW()/100000000,COUNTIF(過去ログ!$BQ$3:$CT$9999,基礎データ!P910)+ROW()/10000)","v":9.0999999999999993E-6},"",null,909,92,null,{"$f":"IF(V910=\"\",ROW()/100000000,COUNTIF(過去ログ!$N$3:$N$9999,基礎データ!V910)+ROW()/10000)","v":9.0999999999999993E-6},"",909,92,null,{"$f":"IF(AA910=\"\",ROW()/100000000,COUNTIF(過去ログ!$N$3:$Y$9999,基礎データ!AA910)+ROW()/10000)","v":9.0999999999999993E-6},""]
[null,null,null,null,null,null,null,null,null,null,null,null,null,910,160,null,{"$f":"IF(P911=\"\",ROW()/100000000,COUNTIF(過去ログ!$BQ$3:$CT$9999,基礎データ!P911)+ROW()/10000)","v":9.1099999999999992E-6},"",null,910,91,null,{"$f":"IF(V911=\"\",ROW()/100000000,COUNTIF(過去ログ!$N$3:$N$9999,基礎データ!V911)+ROW()/10000)","v":9.1099999999999992E-6},{"$f":"IF(VLOOKUP(T911,$U$2:$V$1002,2,FALSE)=0,\"\",VLOOKUP(T911,$U$2:$V$1002,2,FALSE))","v":""},910,91,null,{"$f":"IF(AA911=\"\",ROW()/100000000,COUNTIF(過去ログ!$N$3:$Y$9999,基礎データ!AA911)+ROW()/10000)","v":9.1099999999999992E-6},""]
[null,null,null,null,null,null,null,null,null,null,null,null,null,911,159,null,{"$f":"IF(P912=\"\",ROW()/100000000,COUNTIF(過去ログ!$BQ$3:$CT$9999,基礎データ!P912)+ROW()/10000)","v":9.1200000000000008E-6},"",null,911,90,null,{"$f":"IF(V912=\"\",ROW()/100000000,COUNTIF(過去ログ!$N$3:$N$9999,基礎データ!V912)+ROW()/10000)","v":9.1200000000000008E-6},"",911,90,null,{"$f":"IF(AA912=\"\",ROW()/100000000,COUNTIF(過去ログ!$N$3:$Y$9999,基礎データ!AA912)+ROW()/10000)","v":9.1200000000000008E-6},""]
[null,null,null,null,null,null,null,null,null,null,null,null,null,912,158,null,{"$f":"IF(P913=\"\",ROW()/100000000,COUNTIF(過去ログ!$BQ$3:$CT$9999,基礎データ!P913)+ROW()/10000)","v":9.1300000000000007E-6},"",null,912,89,null,{"$f":"IF(V913=\"\",ROW()/100000000,COUNTIF(過去ログ!$N$3:$N$9999,基礎データ!V913)+ROW()/10000)","v":9.1300000000000007E-6},"",912,89,null,{"$f":"IF(AA913=\"\",ROW()/100000000,COUNTIF(過去ログ!$N$3:$Y$9999,基礎データ!AA913)+ROW()/10000)","v":9.1300000000000007E-6},""]
[null,null,null,null,null,null,null,null,null,null,null,null,null,913,157,null,{"$f":"IF(P914=\"\",ROW()/100000000,COUNTIF(過去ログ!$BQ$3:$CT$9999,基礎データ!P914)+ROW()/10000)","v":9.1400000000000006E-6},"",null,913,88,null,{"$f":"IF(V914=\"\",ROW()/100000000,COUNTIF(過去ログ!$N$3:$N$9999,基礎データ!V914)+ROW()/10000)","v":9.1400000000000006E-6},"",913,88,null,{"$f":"IF(AA914=\"\",ROW()/100000000,COUNTIF(過去ログ!$N$3:$Y$9999,基礎データ!AA914)+ROW()/10000)","v":9.1400000000000006E-6},""]
[null,null,null,null,null,null,null,null,null,null,null,null,null,914,156,null,{"$f":"IF(P915=\"\",ROW()/100000000,COUNTIF(過去ログ!$BQ$3:$CT$9999,基礎データ!P915)+ROW()/10000)","v":9.1500000000000005E-6},"",null,914,87,null,{"$f":"IF(V915=\"\",ROW()/100000000,COUNTIF(過去ログ!$N$3:$N$9999,基礎データ!V915)+ROW()/10000)","v":9.1500000000000005E-6},"",914,87,null,{"$f":"IF(AA915=\"\",ROW()/100000000,COUNTIF(過去ログ!$N$3:$Y$9999,基礎データ!AA915)+ROW()/10000)","v":9.1500000000000005E-6},""]
[null,null,null,null,null,null,null,null,null,null,null,null,null,915,155,null,{"$f":"IF(P916=\"\",ROW()/100000000,COUNTIF(過去ログ!$BQ$3:$CT$9999,基礎データ!P916)+ROW()/10000)","v":9.1600000000000004E-6},"",null,915,86,null,{"$f":"IF(V916=\"\",ROW()/100000000,COUNTIF(過去ログ!$N$3:$N$9999,基礎データ!V916)+ROW()/10000)","v":9.1600000000000004E-6},"",915,86,null,{"$f":"IF(AA916=\"\",ROW()/100000000,COUNTIF(過去ログ!$N$3:$Y$9999,基礎データ!AA916)+ROW()/10000)","v":9.1600000000000004E-6},""]
[null,null,null,null,null,null,null,null,null,null,null,null,null,916,154,null,{"$f":"IF(P917=\"\",ROW()/100000000,COUNTIF(過去ログ!$BQ$3:$CT$9999,基礎データ!P917)+ROW()/10000)","v":9.1700000000000003E-6},"",null,916,85,null,{"$f":"IF(V917=\"\",ROW()/100000000,COUNTIF(過去ログ!$N$3:$N$9999,基礎データ!V917)+ROW()/10000)","v":9.1700000000000003E-6},"",916,85,null,{"$f":"IF(AA917=\"\",ROW()/100000000,COUNTIF(過去ログ!$N$3:$Y$9999,基礎データ!AA917)+ROW()/10000)","v":9.1700000000000003E-6},""]
[null,null,null,null,null,null,null,null,null,null,null,null,null,917,153,null,{"$f":"IF(P918=\"\",ROW()/100000000,COUNTIF(過去ログ!$BQ$3:$CT$9999,基礎データ!P918)+ROW()/10000)","v":9.1800000000000002E-6},"",null,917,84,null,{"$f":"IF(V918=\"\",ROW()/100000000,COUNTIF(過去ログ!$N$3:$N$9999,基礎データ!V918)+ROW()/10000)","v":9.1800000000000002E-6},"",917,84,null,{"$f":"IF(AA918=\"\",ROW()/100000000,COUNTIF(過去ログ!$N$3:$Y$9999,基礎データ!AA918)+ROW()/10000)","v":9.1800000000000002E-6},""]
[null,null,null,null,null,null,null,null,null,null,null,null,null,918,152,null,{"$f":"IF(P919=\"\",ROW()/100000000,COUNTIF(過去ログ!$BQ$3:$CT$9999,基礎データ!P919)+ROW()/10000)","v":9.1900000000000001E-6},"",null,918,83,null,{"$f":"IF(V919=\"\",ROW()/100000000,COUNTIF(過去ログ!$N$3:$N$9999,基礎データ!V919)+ROW()/10000)","v":9.1900000000000001E-6},"",918,83,null,{"$f":"IF(AA919=\"\",ROW()/100000000,COUNTIF(過去ログ!$N$3:$Y$9999,基礎データ!AA919)+ROW()/10000)","v":9.1900000000000001E-6},""]
[null,null,null,null,null,null,null,null,null,null,null,null,null,919,151,null,{"$f":"IF(P920=\"\",ROW()/100000000,COUNTIF(過去ログ!$BQ$3:$CT$9999,基礎データ!P920)+ROW()/10000)","v":9.2E-6},"",null,919,82,null,{"$f":"IF(V920=\"\",ROW()/100000000,COUNTIF(過去ログ!$N$3:$N$9999,基礎データ!V920)+ROW()/10000)","v":9.2E-6},"",919,82,null,{"$f":"IF(AA920=\"\",ROW()/100000000,COUNTIF(過去ログ!$N$3:$Y$9999,基礎データ!AA920)+ROW()/10000)","v":9.2E-6},""]
[null,null,null,null,null,null,null,null,null,null,null,null,null,920,150,null,{"$f":"IF(P921=\"\",ROW()/100000000,COUNTIF(過去ログ!$BQ$3:$CT$9999,基礎データ!P921)+ROW()/10000)","v":9.2099999999999999E-6},"",null,920,81,null,{"$f":"IF(V921=\"\",ROW()/100000000,COUNTIF(過去ログ!$N$3:$N$9999,基礎データ!V921)+ROW()/10000)","v":9.2099999999999999E-6},"",920,81,null,{"$f":"IF(AA921=\"\",ROW()/100000000,COUNTIF(過去ログ!$N$3:$Y$9999,基礎データ!AA921)+ROW()/10000)","v":9.2099999999999999E-6},""]
[null,null,null,null,null,null,null,null,null,null,null,null,null,921,149,null,{"$f":"IF(P922=\"\",ROW()/100000000,COUNTIF(過去ログ!$BQ$3:$CT$9999,基礎データ!P922)+ROW()/10000)","v":9.2199999999999998E-6},"",null,921,80,null,{"$f":"IF(V922=\"\",ROW()/100000000,COUNTIF(過去ログ!$N$3:$N$9999,基礎データ!V922)+ROW()/10000)","v":9.2199999999999998E-6},"",921,80,null,{"$f":"IF(AA922=\"\",ROW()/100000000,COUNTIF(過去ログ!$N$3:$Y$9999,基礎データ!AA922)+ROW()/10000)","v":9.2199999999999998E-6},""]
[null,null,null,null,null,null,null,null,null,null,null,null,null,922,148,null,{"$f":"IF(P923=\"\",ROW()/100000000,COUNTIF(過去ログ!$BQ$3:$CT$9999,基礎データ!P923)+ROW()/10000)","v":9.2299999999999997E-6},"",null,922,79,null,{"$f":"IF(V923=\"\",ROW()/100000000,COUNTIF(過去ログ!$N$3:$N$9999,基礎データ!V923)+ROW()/10000)","v":9.2299999999999997E-6},"",922,79,null,{"$f":"IF(AA923=\"\",ROW()/100000000,COUNTIF(過去ログ!$N$3:$Y$9999,基礎データ!AA923)+ROW()/10000)","v":9.2299999999999997E-6},""]
[null,null,null,null,null,null,null,null,null,null,null,null,null,923,147,null,{"$f":"IF(P924=\"\",ROW()/100000000,COUNTIF(過去ログ!$BQ$3:$CT$9999,基礎データ!P924)+ROW()/10000)","v":9.2399999999999996E-6},"",null,923,78,null,{"$f":"IF(V924=\"\",ROW()/100000000,COUNTIF(過去ログ!$N$3:$N$9999,基礎データ!V924)+ROW()/10000)","v":9.2399999999999996E-6},"",923,78,null,{"$f":"IF(AA924=\"\",ROW()/100000000,COUNTIF(過去ログ!$N$3:$Y$9999,基礎データ!AA924)+ROW()/10000)","v":9.2399999999999996E-6},""]
[null,null,null,null,null,null,null,null,null,null,null,null,null,924,146,null,{"$f":"IF(P925=\"\",ROW()/100000000,COUNTIF(過去ログ!$BQ$3:$CT$9999,基礎データ!P925)+ROW()/10000)","v":9.2499999999999995E-6},"",null,924,77,null,{"$f":"IF(V925=\"\",ROW()/100000000,COUNTIF(過去ログ!$N$3:$N$9999,基礎データ!V925)+ROW()/10000)","v":9.2499999999999995E-6},"",924,77,null,{"$f":"IF(AA925=\"\",ROW()/100000000,COUNTIF(過去ログ!$N$3:$Y$9999,基礎データ!AA925)+ROW()/10000)","v":9.2499999999999995E-6},""]
[null,null,null,null,null,null,null,null,null,null,null,null,null,925,145,null,{"$f":"IF(P926=\"\",ROW()/100000000,COUNTIF(過去ログ!$BQ$3:$CT$9999,基礎データ!P926)+ROW()/10000)","v":9.2599999999999994E-6},"",null,925,76,null,{"$f":"IF(V926=\"\",ROW()/100000000,COUNTIF(過去ログ!$N$3:$N$9999,基礎データ!V926)+ROW()/10000)","v":9.2599999999999994E-6},"",925,76,null,{"$f":"IF(AA926=\"\",ROW()/100000000,COUNTIF(過去ログ!$N$3:$Y$9999,基礎データ!AA926)+ROW()/10000)","v":9.2599999999999994E-6},""]
[null,null,null,null,null,null,null,null,null,null,null,null,null,926,144,null,{"$f":"IF(P927=\"\",ROW()/100000000,COUNTIF(過去ログ!$BQ$3:$CT$9999,基礎データ!P927)+ROW()/10000)","v":9.2699999999999993E-6},"",null,926,75,null,{"$f":"IF(V927=\"\",ROW()/100000000,COUNTIF(過去ログ!$N$3:$N$9999,基礎データ!V927)+ROW()/10000)","v":9.2699999999999993E-6},"",926,75,null,{"$f":"IF(AA927=\"\",ROW()/100000000,COUNTIF(過去ログ!$N$3:$Y$9999,基礎データ!AA927)+ROW()/10000)","v":9.2699999999999993E-6},""]
[null,null,null,null,null,null,null,null,null,null,null,null,null,927,{"$f":"RANK(Q928,$Q$2:$Q$1002)","v":143},null,{"$f":"IF(P928=\"\",ROW()/100000000,COUNTIF(過去ログ!$BQ$3:$CT$9999,基礎データ!P928)+ROW()/10000)","v":9.2799999999999992E-6},"",null,927,74,null,{"$f":"IF(V928=\"\",ROW()/100000000,COUNTIF(過去ログ!$N$3:$N$9999,基礎データ!V928)+ROW()/10000)","v":9.2799999999999992E-6},"",927,74,null,{"$f":"IF(AA928=\"\",ROW()/100000000,COUNTIF(過去ログ!$N$3:$Y$9999,基礎データ!AA928)+ROW()/10000)","v":9.2799999999999992E-6},""]
[null,null,null,null,null,null,null,null,null,null,null,null,null,928,142,null,{"$f":"IF(P929=\"\",ROW()/100000000,COUNTIF(過去ログ!$BQ$3:$CT$9999,基礎データ!P929)+ROW()/10000)","v":9.2900000000000008E-6},"",null,928,73,null,{"$f":"IF(V929=\"\",ROW()/100000000,COUNTIF(過去ログ!$N$3:$N$9999,基礎データ!V929)+ROW()/10000)","v":9.2900000000000008E-6},"",928,73,null,{"$f":"IF(AA929=\"\",ROW()/100000000,COUNTIF(過去ログ!$N$3:$Y$9999,基礎データ!AA929)+ROW()/10000)","v":9.2900000000000008E-6},""]
[null,null,null,null,null,null,null,null,null,null,null,null,null,929,141,null,{"$f":"IF(P930=\"\",ROW()/100000000,COUNTIF(過去ログ!$BQ$3:$CT$9999,基礎データ!P930)+ROW()/10000)","v":9.3000000000000007E-6},"",null,929,72,null,{"$f":"IF(V930=\"\",ROW()/100000000,COUNTIF(過去ログ!$N$3:$N$9999,基礎データ!V930)+ROW()/10000)","v":9.3000000000000007E-6},"",929,72,null,{"$f":"IF(AA930=\"\",ROW()/100000000,COUNTIF(過去ログ!$N$3:$Y$9999,基礎データ!AA930)+ROW()/10000)","v":9.3000000000000007E-6},""]
[null,null,null,null,null,null,null,null,null,null,null,null,null,930,140,null,{"$f":"IF(P931=\"\",ROW()/100000000,COUNTIF(過去ログ!$BQ$3:$CT$9999,基礎データ!P931)+ROW()/10000)","v":9.3100000000000006E-6},"",null,930,71,null,{"$f":"IF(V931=\"\",ROW()/100000000,COUNTIF(過去ログ!$N$3:$N$9999,基礎データ!V931)+ROW()/10000)","v":9.3100000000000006E-6},"",930,71,null,{"$f":"IF(AA931=\"\",ROW()/100000000,COUNTIF(過去ログ!$N$3:$Y$9999,基礎データ!AA931)+ROW()/10000)","v":9.3100000000000006E-6},""]
[null,null,null,null,null,null,null,null,null,null,null,null,null,931,139,null,{"$f":"IF(P932=\"\",ROW()/100000000,COUNTIF(過去ログ!$BQ$3:$CT$9999,基礎データ!P932)+ROW()/10000)","v":9.3200000000000006E-6},"",null,931,70,null,{"$f":"IF(V932=\"\",ROW()/100000000,COUNTIF(過去ログ!$N$3:$N$9999,基礎データ!V932)+ROW()/10000)","v":9.3200000000000006E-6},"",931,70,null,{"$f":"IF(AA932=\"\",ROW()/100000000,COUNTIF(過去ログ!$N$3:$Y$9999,基礎データ!AA932)+ROW()/10000)","v":9.3200000000000006E-6},""]
[null,null,null,null,null,null,null,null,null,null,null,null,null,932,138,null,{"$f":"IF(P933=\"\",ROW()/100000000,COUNTIF(過去ログ!$BQ$3:$CT$9999,基礎データ!P933)+ROW()/10000)","v":9.3300000000000005E-6},"",null,932,69,null,{"$f":"IF(V933=\"\",ROW()/100000000,COUNTIF(過去ログ!$N$3:$N$9999,基礎データ!V933)+ROW()/10000)","v":9.3300000000000005E-6},"",932,69,null,{"$f":"IF(AA933=\"\",ROW()/100000000,COUNTIF(過去ログ!$N$3:$Y$9999,基礎データ!AA933)+ROW()/10000)","v":9.3300000000000005E-6},""]
[null,null,null,null,null,null,null,null,null,null,null,null,null,933,137,null,{"$f":"IF(P934=\"\",ROW()/100000000,COUNTIF(過去ログ!$BQ$3:$CT$9999,基礎データ!P934)+ROW()/10000)","v":9.3400000000000004E-6},{"$f":"IF(P934=\"\",\"\",VLOOKUP(N934,$O$2:$P$1002,2,FALSE))","v":""},null,933,68,null,{"$f":"IF(V934=\"\",ROW()/100000000,COUNTIF(過去ログ!$N$3:$N$9999,基礎データ!V934)+ROW()/10000)","v":9.3400000000000004E-6},"",933,68,null,{"$f":"IF(AA934=\"\",ROW()/100000000,COUNTIF(過去ログ!$N$3:$Y$9999,基礎データ!AA934)+ROW()/10000)","v":9.3400000000000004E-6},""]
[null,null,null,null,null,null,null,null,null,null,null,null,null,934,136,null,{"$f":"IF(P935=\"\",ROW()/100000000,COUNTIF(過去ログ!$BQ$3:$CT$9999,基礎データ!P935)+ROW()/10000)","v":9.3500000000000003E-6},"",null,934,67,null,{"$f":"IF(V935=\"\",ROW()/100000000,COUNTIF(過去ログ!$N$3:$N$9999,基礎データ!V935)+ROW()/10000)","v":9.3500000000000003E-6},"",934,67,null,{"$f":"IF(AA935=\"\",ROW()/100000000,COUNTIF(過去ログ!$N$3:$Y$9999,基礎データ!AA935)+ROW()/10000)","v":9.3500000000000003E-6},""]
[null,null,null,null,null,null,null,null,null,null,null,null,null,935,135,null,{"$f":"IF(P936=\"\",ROW()/100000000,COUNTIF(過去ログ!$BQ$3:$CT$9999,基礎データ!P936)+ROW()/10000)","v":9.3600000000000002E-6},"",null,935,66,null,{"$f":"IF(V936=\"\",ROW()/100000000,COUNTIF(過去ログ!$N$3:$N$9999,基礎データ!V936)+ROW()/10000)","v":9.3600000000000002E-6},"",935,66,null,{"$f":"IF(AA936=\"\",ROW()/100000000,COUNTIF(過去ログ!$N$3:$Y$9999,基礎データ!AA936)+ROW()/10000)","v":9.3600000000000002E-6},""]
[null,null,null,null,null,null,null,null,null,null,null,null,null,936,134,null,{"$f":"IF(P937=\"\",ROW()/100000000,COUNTIF(過去ログ!$BQ$3:$CT$9999,基礎データ!P937)+ROW()/10000)","v":9.3700000000000001E-6},"",null,936,65,null,{"$f":"IF(V937=\"\",ROW()/100000000,COUNTIF(過去ログ!$N$3:$N$9999,基礎データ!V937)+ROW()/10000)","v":9.3700000000000001E-6},"",936,65,null,{"$f":"IF(AA937=\"\",ROW()/100000000,COUNTIF(過去ログ!$N$3:$Y$9999,基礎データ!AA937)+ROW()/10000)","v":9.3700000000000001E-6},""]
[null,null,null,null,null,null,null,null,null,null,null,null,null,937,133,null,{"$f":"IF(P938=\"\",ROW()/100000000,COUNTIF(過去ログ!$BQ$3:$CT$9999,基礎データ!P938)+ROW()/10000)","v":9.38E-6},"",null,937,64,null,{"$f":"IF(V938=\"\",ROW()/100000000,COUNTIF(過去ログ!$N$3:$N$9999,基礎データ!V938)+ROW()/10000)","v":9.38E-6},"",937,64,null,{"$f":"IF(AA938=\"\",ROW()/100000000,COUNTIF(過去ログ!$N$3:$Y$9999,基礎データ!AA938)+ROW()/10000)","v":9.38E-6},""]
[null,null,null,null,null,null,null,null,null,null,null,null,null,938,132,null,{"$f":"IF(P939=\"\",ROW()/100000000,COUNTIF(過去ログ!$BQ$3:$CT$9999,基礎データ!P939)+ROW()/10000)","v":9.3899999999999999E-6},"",null,938,63,null,{"$f":"IF(V939=\"\",ROW()/100000000,COUNTIF(過去ログ!$N$3:$N$9999,基礎データ!V939)+ROW()/10000)","v":9.3899999999999999E-6},"",938,63,null,{"$f":"IF(AA939=\"\",ROW()/100000000,COUNTIF(過去ログ!$N$3:$Y$9999,基礎データ!AA939)+ROW()/10000)","v":9.3899999999999999E-6},""]
[null,null,null,null,null,null,null,null,null,null,null,null,null,939,131,null,{"$f":"IF(P940=\"\",ROW()/100000000,COUNTIF(過去ログ!$BQ$3:$CT$9999,基礎データ!P940)+ROW()/10000)","v":9.3999999999999998E-6},"",null,939,62,null,{"$f":"IF(V940=\"\",ROW()/100000000,COUNTIF(過去ログ!$N$3:$N$9999,基礎データ!V940)+ROW()/10000)","v":9.3999999999999998E-6},"",939,62,null,{"$f":"IF(AA940=\"\",ROW()/100000000,COUNTIF(過去ログ!$N$3:$Y$9999,基礎データ!AA940)+ROW()/10000)","v":9.3999999999999998E-6},""]
[null,null,null,null,null,null,null,null,null,null,null,null,null,940,130,null,{"$f":"IF(P941=\"\",ROW()/100000000,COUNTIF(過去ログ!$BQ$3:$CT$9999,基礎データ!P941)+ROW()/10000)","v":9.4099999999999997E-6},"",null,940,61,null,{"$f":"IF(V941=\"\",ROW()/100000000,COUNTIF(過去ログ!$N$3:$N$9999,基礎データ!V941)+ROW()/10000)","v":9.4099999999999997E-6},"",940,61,null,{"$f":"IF(AA941=\"\",ROW()/100000000,COUNTIF(過去ログ!$N$3:$Y$9999,基礎データ!AA941)+ROW()/10000)","v":9.4099999999999997E-6},""]
[null,null,null,null,null,null,null,null,null,null,null,null,null,941,129,null,{"$f":"IF(P942=\"\",ROW()/100000000,COUNTIF(過去ログ!$BQ$3:$CT$9999,基礎データ!P942)+ROW()/10000)","v":9.4199999999999996E-6},"",null,941,60,null,{"$f":"IF(V942=\"\",ROW()/100000000,COUNTIF(過去ログ!$N$3:$N$9999,基礎データ!V942)+ROW()/10000)","v":9.4199999999999996E-6},"",941,60,null,{"$f":"IF(AA942=\"\",ROW()/100000000,COUNTIF(過去ログ!$N$3:$Y$9999,基礎データ!AA942)+ROW()/10000)","v":9.4199999999999996E-6},""]
[null,null,null,null,null,null,null,null,null,null,null,null,null,942,128,null,{"$f":"IF(P943=\"\",ROW()/100000000,COUNTIF(過去ログ!$BQ$3:$CT$9999,基礎データ!P943)+ROW()/10000)","v":9.4299999999999995E-6},"",null,942,59,null,{"$f":"IF(V943=\"\",ROW()/100000000,COUNTIF(過去ログ!$N$3:$N$9999,基礎データ!V943)+ROW()/10000)","v":9.4299999999999995E-6},"",942,59,null,{"$f":"IF(AA943=\"\",ROW()/100000000,COUNTIF(過去ログ!$N$3:$Y$9999,基礎データ!AA943)+ROW()/10000)","v":9.4299999999999995E-6},""]
[null,null,null,null,null,null,null,null,null,null,null,null,null,943,127,null,{"$f":"IF(P944=\"\",ROW()/100000000,COUNTIF(過去ログ!$BQ$3:$CT$9999,基礎データ!P944)+ROW()/10000)","v":9.4399999999999994E-6},"",null,943,58,null,{"$f":"IF(V944=\"\",ROW()/100000000,COUNTIF(過去ログ!$N$3:$N$9999,基礎データ!V944)+ROW()/10000)","v":9.4399999999999994E-6},"",943,58,null,{"$f":"IF(AA944=\"\",ROW()/100000000,COUNTIF(過去ログ!$N$3:$Y$9999,基礎データ!AA944)+ROW()/10000)","v":9.4399999999999994E-6},""]
[null,null,null,null,null,null,null,null,null,null,null,null,null,944,126,null,{"$f":"IF(P945=\"\",ROW()/100000000,COUNTIF(過去ログ!$BQ$3:$CT$9999,基礎データ!P945)+ROW()/10000)","v":9.4499999999999993E-6},"",null,944,57,null,{"$f":"IF(V945=\"\",ROW()/100000000,COUNTIF(過去ログ!$N$3:$N$9999,基礎データ!V945)+ROW()/10000)","v":9.4499999999999993E-6},"",944,57,null,{"$f":"IF(AA945=\"\",ROW()/100000000,COUNTIF(過去ログ!$N$3:$Y$9999,基礎データ!AA945)+ROW()/10000)","v":9.4499999999999993E-6},""]
[null,null,null,null,null,null,null,null,null,null,null,null,null,945,125,null,{"$f":"IF(P946=\"\",ROW()/100000000,COUNTIF(過去ログ!$BQ$3:$CT$9999,基礎データ!P946)+ROW()/10000)","v":9.4599999999999992E-6},"",null,945,56,null,{"$f":"IF(V946=\"\",ROW()/100000000,COUNTIF(過去ログ!$N$3:$N$9999,基礎データ!V946)+ROW()/10000)","v":9.4599999999999992E-6},"",945,56,null,{"$f":"IF(AA946=\"\",ROW()/100000000,COUNTIF(過去ログ!$N$3:$Y$9999,基礎データ!AA946)+ROW()/10000)","v":9.4599999999999992E-6},""]
[null,null,null,null,null,null,null,null,null,null,null,null,null,946,124,null,{"$f":"IF(P947=\"\",ROW()/100000000,COUNTIF(過去ログ!$BQ$3:$CT$9999,基礎データ!P947)+ROW()/10000)","v":9.4700000000000008E-6},"",null,946,55,null,{"$f":"IF(V947=\"\",ROW()/100000000,COUNTIF(過去ログ!$N$3:$N$9999,基礎データ!V947)+ROW()/10000)","v":9.4700000000000008E-6},"",946,55,null,{"$f":"IF(AA947=\"\",ROW()/100000000,COUNTIF(過去ログ!$N$3:$Y$9999,基礎データ!AA947)+ROW()/10000)","v":9.4700000000000008E-6},{"$f":"IF(VLOOKUP(Y947,$Z$2:$AA$1002,2,FALSE)=0,\"\",VLOOKUP(Y947,$Z$2:$AA$1002,2,FALSE))","v":""}]
[null,null,null,null,null,null,null,null,null,null,null,null,null,947,123,null,{"$f":"IF(P948=\"\",ROW()/100000000,COUNTIF(過去ログ!$BQ$3:$CT$9999,基礎データ!P948)+ROW()/10000)","v":9.4800000000000007E-6},"",null,947,54,null,{"$f":"IF(V948=\"\",ROW()/100000000,COUNTIF(過去ログ!$N$3:$N$9999,基礎データ!V948)+ROW()/10000)","v":9.4800000000000007E-6},"",947,54,null,{"$f":"IF(AA948=\"\",ROW()/100000000,COUNTIF(過去ログ!$N$3:$Y$9999,基礎データ!AA948)+ROW()/10000)","v":9.4800000000000007E-6},""]
[null,null,null,null,null,null,null,null,null,null,null,null,null,948,122,null,{"$f":"IF(P949=\"\",ROW()/100000000,COUNTIF(過去ログ!$BQ$3:$CT$9999,基礎データ!P949)+ROW()/10000)","v":9.4900000000000006E-6},"",null,948,53,null,{"$f":"IF(V949=\"\",ROW()/100000000,COUNTIF(過去ログ!$N$3:$N$9999,基礎データ!V949)+ROW()/10000)","v":9.4900000000000006E-6},"",948,53,null,{"$f":"IF(AA949=\"\",ROW()/100000000,COUNTIF(過去ログ!$N$3:$Y$9999,基礎データ!AA949)+ROW()/10000)","v":9.4900000000000006E-6},""]
[null,null,null,null,null,null,null,null,null,null,null,null,null,949,121,null,{"$f":"IF(P950=\"\",ROW()/100000000,COUNTIF(過去ログ!$BQ$3:$CT$9999,基礎データ!P950)+ROW()/10000)","v":9.5000000000000005E-6},"",null,949,52,null,{"$f":"IF(V950=\"\",ROW()/100000000,COUNTIF(過去ログ!$N$3:$N$9999,基礎データ!V950)+ROW()/10000)","v":9.5000000000000005E-6},"",949,52,null,{"$f":"IF(AA950=\"\",ROW()/100000000,COUNTIF(過去ログ!$N$3:$Y$9999,基礎データ!AA950)+ROW()/10000)","v":9.5000000000000005E-6},""]
[null,null,null,null,null,null,null,null,null,null,null,null,null,950,120,null,{"$f":"IF(P951=\"\",ROW()/100000000,COUNTIF(過去ログ!$BQ$3:$CT$9999,基礎データ!P951)+ROW()/10000)","v":9.5100000000000004E-6},"",null,950,51,null,{"$f":"IF(V951=\"\",ROW()/100000000,COUNTIF(過去ログ!$N$3:$N$9999,基礎データ!V951)+ROW()/10000)","v":9.5100000000000004E-6},"",950,51,null,{"$f":"IF(AA951=\"\",ROW()/100000000,COUNTIF(過去ログ!$N$3:$Y$9999,基礎データ!AA951)+ROW()/10000)","v":9.5100000000000004E-6},""]
[null,null,null,null,null,null,null,null,null,null,null,null,null,951,119,null,{"$f":"IF(P952=\"\",ROW()/100000000,COUNTIF(過去ログ!$BQ$3:$CT$9999,基礎データ!P952)+ROW()/10000)","v":9.5200000000000003E-6},"",null,951,50,null,{"$f":"IF(V952=\"\",ROW()/100000000,COUNTIF(過去ログ!$N$3:$N$9999,基礎データ!V952)+ROW()/10000)","v":9.5200000000000003E-6},"",951,{"$f":"RANK(AB952,$AB$2:$AB$1002)","v":50},null,{"$f":"IF(AA952=\"\",ROW()/100000000,COUNTIF(過去ログ!$N$3:$Y$9999,基礎データ!AA952)+ROW()/10000)","v":9.5200000000000003E-6},""]
[null,null,null,null,null,null,null,null,null,null,null,null,null,952,118,null,{"$f":"IF(P953=\"\",ROW()/100000000,COUNTIF(過去ログ!$BQ$3:$CT$9999,基礎データ!P953)+ROW()/10000)","v":9.5300000000000002E-6},"",null,952,49,null,{"$f":"IF(V953=\"\",ROW()/100000000,COUNTIF(過去ログ!$N$3:$N$9999,基礎データ!V953)+ROW()/10000)","v":9.5300000000000002E-6},"",952,49,null,{"$f":"IF(AA953=\"\",ROW()/100000000,COUNTIF(過去ログ!$N$3:$Y$9999,基礎データ!AA953)+ROW()/10000)","v":9.5300000000000002E-6},""]
[null,null,null,null,null,null,null,null,null,null,null,null,null,953,117,null,{"$f":"IF(P954=\"\",ROW()/100000000,COUNTIF(過去ログ!$BQ$3:$CT$9999,基礎データ!P954)+ROW()/10000)","v":9.5400000000000001E-6},"",null,953,48,null,{"$f":"IF(V954=\"\",ROW()/100000000,COUNTIF(過去ログ!$N$3:$N$9999,基礎データ!V954)+ROW()/10000)","v":9.5400000000000001E-6},"",953,48,null,{"$f":"IF(AA954=\"\",ROW()/100000000,COUNTIF(過去ログ!$N$3:$Y$9999,基礎データ!AA954)+ROW()/10000)","v":9.5400000000000001E-6},""]
[null,null,null,null,null,null,null,null,null,null,null,null,null,954,116,null,{"$f":"IF(P955=\"\",ROW()/100000000,COUNTIF(過去ログ!$BQ$3:$CT$9999,基礎データ!P955)+ROW()/10000)","v":9.55E-6},"",null,954,47,null,{"$f":"IF(V955=\"\",ROW()/100000000,COUNTIF(過去ログ!$N$3:$N$9999,基礎データ!V955)+ROW()/10000)","v":9.55E-6},"",954,47,null,{"$f":"IF(AA955=\"\",ROW()/100000000,COUNTIF(過去ログ!$N$3:$Y$9999,基礎データ!AA955)+ROW()/10000)","v":9.55E-6},""]
[null,null,null,null,null,null,null,null,null,null,null,null,null,955,115,null,{"$f":"IF(P956=\"\",ROW()/100000000,COUNTIF(過去ログ!$BQ$3:$CT$9999,基礎データ!P956)+ROW()/10000)","v":9.5599999999999999E-6},"",null,955,46,null,{"$f":"IF(V956=\"\",ROW()/100000000,COUNTIF(過去ログ!$N$3:$N$9999,基礎データ!V956)+ROW()/10000)","v":9.5599999999999999E-6},"",955,46,null,{"$f":"IF(AA956=\"\",ROW()/100000000,COUNTIF(過去ログ!$N$3:$Y$9999,基礎データ!AA956)+ROW()/10000)","v":9.5599999999999999E-6},""]
[null,null,null,null,null,null,null,null,null,null,null,null,null,956,114,null,{"$f":"IF(P957=\"\",ROW()/100000000,COUNTIF(過去ログ!$BQ$3:$CT$9999,基礎データ!P957)+ROW()/10000)","v":9.5699999999999999E-6},"",null,956,45,null,{"$f":"IF(V957=\"\",ROW()/100000000,COUNTIF(過去ログ!$N$3:$N$9999,基礎データ!V957)+ROW()/10000)","v":9.5699999999999999E-6},"",956,45,null,{"$f":"IF(AA957=\"\",ROW()/100000000,COUNTIF(過去ログ!$N$3:$Y$9999,基礎データ!AA957)+ROW()/10000)","v":9.5699999999999999E-6},""]
[null,null,null,null,null,null,null,null,null,null,null,null,null,957,113,null,{"$f":"IF(P958=\"\",ROW()/100000000,COUNTIF(過去ログ!$BQ$3:$CT$9999,基礎データ!P958)+ROW()/10000)","v":9.5799999999999998E-6},"",null,957,44,null,{"$f":"IF(V958=\"\",ROW()/100000000,COUNTIF(過去ログ!$N$3:$N$9999,基礎データ!V958)+ROW()/10000)","v":9.5799999999999998E-6},"",957,44,null,{"$f":"IF(AA958=\"\",ROW()/100000000,COUNTIF(過去ログ!$N$3:$Y$9999,基礎データ!AA958)+ROW()/10000)","v":9.5799999999999998E-6},""]
[null,null,null,null,null,null,null,null,null,null,null,null,null,958,112,null,{"$f":"IF(P959=\"\",ROW()/100000000,COUNTIF(過去ログ!$BQ$3:$CT$9999,基礎データ!P959)+ROW()/10000)","v":9.5899999999999997E-6},"",null,958,43,null,{"$f":"IF(V959=\"\",ROW()/100000000,COUNTIF(過去ログ!$N$3:$N$9999,基礎データ!V959)+ROW()/10000)","v":9.5899999999999997E-6},"",958,43,null,{"$f":"IF(AA959=\"\",ROW()/100000000,COUNTIF(過去ログ!$N$3:$Y$9999,基礎データ!AA959)+ROW()/10000)","v":9.5899999999999997E-6},""]
[null,null,null,null,null,null,null,null,null,null,null,null,null,959,111,null,{"$f":"IF(P960=\"\",ROW()/100000000,COUNTIF(過去ログ!$BQ$3:$CT$9999,基礎データ!P960)+ROW()/10000)","v":9.5999999999999996E-6},"",null,959,42,null,{"$f":"IF(V960=\"\",ROW()/100000000,COUNTIF(過去ログ!$N$3:$N$9999,基礎データ!V960)+ROW()/10000)","v":9.5999999999999996E-6},"",959,42,null,{"$f":"IF(AA960=\"\",ROW()/100000000,COUNTIF(過去ログ!$N$3:$Y$9999,基礎データ!AA960)+ROW()/10000)","v":9.5999999999999996E-6},""]
[null,null,null,null,null,null,null,null,null,null,null,null,null,960,110,null,{"$f":"IF(P961=\"\",ROW()/100000000,COUNTIF(過去ログ!$BQ$3:$CT$9999,基礎データ!P961)+ROW()/10000)","v":9.6099999999999995E-6},"",null,960,41,null,{"$f":"IF(V961=\"\",ROW()/100000000,COUNTIF(過去ログ!$N$3:$N$9999,基礎データ!V961)+ROW()/10000)","v":9.6099999999999995E-6},"",960,41,null,{"$f":"IF(AA961=\"\",ROW()/100000000,COUNTIF(過去ログ!$N$3:$Y$9999,基礎データ!AA961)+ROW()/10000)","v":9.6099999999999995E-6},""]
[null,null,null,null,null,null,null,null,null,null,null,null,null,961,109,null,{"$f":"IF(P962=\"\",ROW()/100000000,COUNTIF(過去ログ!$BQ$3:$CT$9999,基礎データ!P962)+ROW()/10000)","v":9.6199999999999994E-6},"",null,961,40,null,{"$f":"IF(V962=\"\",ROW()/100000000,COUNTIF(過去ログ!$N$3:$N$9999,基礎データ!V962)+ROW()/10000)","v":9.6199999999999994E-6},"",961,40,null,{"$f":"IF(AA962=\"\",ROW()/100000000,COUNTIF(過去ログ!$N$3:$Y$9999,基礎データ!AA962)+ROW()/10000)","v":9.6199999999999994E-6},""]
[null,null,null,null,null,null,null,null,null,null,null,null,null,962,108,null,{"$f":"IF(P963=\"\",ROW()/100000000,COUNTIF(過去ログ!$BQ$3:$CT$9999,基礎データ!P963)+ROW()/10000)","v":9.6299999999999993E-6},"",null,962,39,null,{"$f":"IF(V963=\"\",ROW()/100000000,COUNTIF(過去ログ!$N$3:$N$9999,基礎データ!V963)+ROW()/10000)","v":9.6299999999999993E-6},"",962,39,null,{"$f":"IF(AA963=\"\",ROW()/100000000,COUNTIF(過去ログ!$N$3:$Y$9999,基礎データ!AA963)+ROW()/10000)","v":9.6299999999999993E-6},""]
[null,null,null,null,null,null,null,null,null,null,null,null,null,963,107,null,{"$f":"IF(P964=\"\",ROW()/100000000,COUNTIF(過去ログ!$BQ$3:$CT$9999,基礎データ!P964)+ROW()/10000)","v":9.6399999999999992E-6},"",null,963,38,null,{"$f":"IF(V964=\"\",ROW()/100000000,COUNTIF(過去ログ!$N$3:$N$9999,基礎データ!V964)+ROW()/10000)","v":9.6399999999999992E-6},"",963,38,null,{"$f":"IF(AA964=\"\",ROW()/100000000,COUNTIF(過去ログ!$N$3:$Y$9999,基礎データ!AA964)+ROW()/10000)","v":9.6399999999999992E-6},""]
[null,null,null,null,null,null,null,null,null,null,null,null,null,964,106,null,{"$f":"IF(P965=\"\",ROW()/100000000,COUNTIF(過去ログ!$BQ$3:$CT$9999,基礎データ!P965)+ROW()/10000)","v":9.6500000000000008E-6},"",null,964,{"$f":"RANK(W965,$W$2:$W$1002)","v":37},null,{"$f":"IF(V965=\"\",ROW()/100000000,COUNTIF(過去ログ!$N$3:$N$9999,基礎データ!V965)+ROW()/10000)","v":9.6500000000000008E-6},"",964,37,null,{"$f":"IF(AA965=\"\",ROW()/100000000,COUNTIF(過去ログ!$N$3:$Y$9999,基礎データ!AA965)+ROW()/10000)","v":9.6500000000000008E-6},""]
[null,null,null,null,null,null,null,null,null,null,null,null,null,965,105,null,{"$f":"IF(P966=\"\",ROW()/100000000,COUNTIF(過去ログ!$BQ$3:$CT$9999,基礎データ!P966)+ROW()/10000)","v":9.6600000000000007E-6},"",null,965,36,null,{"$f":"IF(V966=\"\",ROW()/100000000,COUNTIF(過去ログ!$N$3:$N$9999,基礎データ!V966)+ROW()/10000)","v":9.6600000000000007E-6},"",965,36,null,{"$f":"IF(AA966=\"\",ROW()/100000000,COUNTIF(過去ログ!$N$3:$Y$9999,基礎データ!AA966)+ROW()/10000)","v":9.6600000000000007E-6},""]
[null,null,null,null,null,null,null,null,null,null,null,null,null,966,104,null,{"$f":"IF(P967=\"\",ROW()/100000000,COUNTIF(過去ログ!$BQ$3:$CT$9999,基礎データ!P967)+ROW()/10000)","v":9.6700000000000006E-6},"",null,966,35,null,{"$f":"IF(V967=\"\",ROW()/100000000,COUNTIF(過去ログ!$N$3:$N$9999,基礎データ!V967)+ROW()/10000)","v":9.6700000000000006E-6},"",966,35,null,{"$f":"IF(AA967=\"\",ROW()/100000000,COUNTIF(過去ログ!$N$3:$Y$9999,基礎データ!AA967)+ROW()/10000)","v":9.6700000000000006E-6},""]
[null,null,null,null,null,null,null,null,null,null,null,null,null,967,103,null,{"$f":"IF(P968=\"\",ROW()/100000000,COUNTIF(過去ログ!$BQ$3:$CT$9999,基礎データ!P968)+ROW()/10000)","v":9.6800000000000005E-6},"",null,967,34,null,{"$f":"IF(V968=\"\",ROW()/100000000,COUNTIF(過去ログ!$N$3:$N$9999,基礎データ!V968)+ROW()/10000)","v":9.6800000000000005E-6},"",967,34,null,{"$f":"IF(AA968=\"\",ROW()/100000000,COUNTIF(過去ログ!$N$3:$Y$9999,基礎データ!AA968)+ROW()/10000)","v":9.6800000000000005E-6},""]
[null,null,null,null,null,null,null,null,null,null,null,null,null,968,102,null,{"$f":"IF(P969=\"\",ROW()/100000000,COUNTIF(過去ログ!$BQ$3:$CT$9999,基礎データ!P969)+ROW()/10000)","v":9.6900000000000004E-6},"",null,968,33,null,{"$f":"IF(V969=\"\",ROW()/100000000,COUNTIF(過去ログ!$N$3:$N$9999,基礎データ!V969)+ROW()/10000)","v":9.6900000000000004E-6},"",968,33,null,{"$f":"IF(AA969=\"\",ROW()/100000000,COUNTIF(過去ログ!$N$3:$Y$9999,基礎データ!AA969)+ROW()/10000)","v":9.6900000000000004E-6},""]
[null,null,null,null,null,null,null,null,null,null,null,null,null,969,101,null,{"$f":"IF(P970=\"\",ROW()/100000000,COUNTIF(過去ログ!$BQ$3:$CT$9999,基礎データ!P970)+ROW()/10000)","v":9.7000000000000003E-6},"",null,969,32,null,{"$f":"IF(V970=\"\",ROW()/100000000,COUNTIF(過去ログ!$N$3:$N$9999,基礎データ!V970)+ROW()/10000)","v":9.7000000000000003E-6},"",969,32,null,{"$f":"IF(AA970=\"\",ROW()/100000000,COUNTIF(過去ログ!$N$3:$Y$9999,基礎データ!AA970)+ROW()/10000)","v":9.7000000000000003E-6},""]
[null,null,null,null,null,null,null,null,null,null,null,null,null,970,100,null,{"$f":"IF(P971=\"\",ROW()/100000000,COUNTIF(過去ログ!$BQ$3:$CT$9999,基礎データ!P971)+ROW()/10000)","v":9.7100000000000002E-6},"",null,970,31,null,{"$f":"IF(V971=\"\",ROW()/100000000,COUNTIF(過去ログ!$N$3:$N$9999,基礎データ!V971)+ROW()/10000)","v":9.7100000000000002E-6},"",970,31,null,{"$f":"IF(AA971=\"\",ROW()/100000000,COUNTIF(過去ログ!$N$3:$Y$9999,基礎データ!AA971)+ROW()/10000)","v":9.7100000000000002E-6},""]
[null,null,null,null,null,null,null,null,null,null,null,null,null,971,99,null,{"$f":"IF(P972=\"\",ROW()/100000000,COUNTIF(過去ログ!$BQ$3:$CT$9999,基礎データ!P972)+ROW()/10000)","v":9.7200000000000001E-6},"",null,971,30,null,{"$f":"IF(V972=\"\",ROW()/100000000,COUNTIF(過去ログ!$N$3:$N$9999,基礎データ!V972)+ROW()/10000)","v":9.7200000000000001E-6},"",971,30,null,{"$f":"IF(AA972=\"\",ROW()/100000000,COUNTIF(過去ログ!$N$3:$Y$9999,基礎データ!AA972)+ROW()/10000)","v":9.7200000000000001E-6},""]
[null,null,null,null,null,null,null,null,null,null,null,null,null,972,98,null,{"$f":"IF(P973=\"\",ROW()/100000000,COUNTIF(過去ログ!$BQ$3:$CT$9999,基礎データ!P973)+ROW()/10000)","v":9.73E-6},"",null,972,29,null,{"$f":"IF(V973=\"\",ROW()/100000000,COUNTIF(過去ログ!$N$3:$N$9999,基礎データ!V973)+ROW()/10000)","v":9.73E-6},"",972,29,null,{"$f":"IF(AA973=\"\",ROW()/100000000,COUNTIF(過去ログ!$N$3:$Y$9999,基礎データ!AA973)+ROW()/10000)","v":9.73E-6},""]
[null,null,null,null,null,null,null,null,null,null,null,null,null,973,97,null,{"$f":"IF(P974=\"\",ROW()/100000000,COUNTIF(過去ログ!$BQ$3:$CT$9999,基礎データ!P974)+ROW()/10000)","v":9.7399999999999999E-6},"",null,973,28,null,{"$f":"IF(V974=\"\",ROW()/100000000,COUNTIF(過去ログ!$N$3:$N$9999,基礎データ!V974)+ROW()/10000)","v":9.7399999999999999E-6},"",973,28,null,{"$f":"IF(AA974=\"\",ROW()/100000000,COUNTIF(過去ログ!$N$3:$Y$9999,基礎データ!AA974)+ROW()/10000)","v":9.7399999999999999E-6},""]
[null,null,null,null,null,null,null,null,null,null,null,null,null,974,96,null,{"$f":"IF(P975=\"\",ROW()/100000000,COUNTIF(過去ログ!$BQ$3:$CT$9999,基礎データ!P975)+ROW()/10000)","v":9.7499999999999998E-6},"",null,974,27,null,{"$f":"IF(V975=\"\",ROW()/100000000,COUNTIF(過去ログ!$N$3:$N$9999,基礎データ!V975)+ROW()/10000)","v":9.7499999999999998E-6},{"$f":"IF(VLOOKUP(T975,$U$2:$V$1002,2,FALSE)=0,\"\",VLOOKUP(T975,$U$2:$V$1002,2,FALSE))","v":""},974,27,null,{"$f":"IF(AA975=\"\",ROW()/100000000,COUNTIF(過去ログ!$N$3:$Y$9999,基礎データ!AA975)+ROW()/10000)","v":9.7499999999999998E-6},""]
[null,null,null,null,null,null,null,null,null,null,null,null,null,975,95,null,{"$f":"IF(P976=\"\",ROW()/100000000,COUNTIF(過去ログ!$BQ$3:$CT$9999,基礎データ!P976)+ROW()/10000)","v":9.7599999999999997E-6},"",null,975,26,null,{"$f":"IF(V976=\"\",ROW()/100000000,COUNTIF(過去ログ!$N$3:$N$9999,基礎データ!V976)+ROW()/10000)","v":9.7599999999999997E-6},"",975,26,null,{"$f":"IF(AA976=\"\",ROW()/100000000,COUNTIF(過去ログ!$N$3:$Y$9999,基礎データ!AA976)+ROW()/10000)","v":9.7599999999999997E-6},""]
[null,null,null,null,null,null,null,null,null,null,null,null,null,976,94,null,{"$f":"IF(P977=\"\",ROW()/100000000,COUNTIF(過去ログ!$BQ$3:$CT$9999,基礎データ!P977)+ROW()/10000)","v":9.7699999999999996E-6},"",null,976,25,null,{"$f":"IF(V977=\"\",ROW()/100000000,COUNTIF(過去ログ!$N$3:$N$9999,基礎データ!V977)+ROW()/10000)","v":9.7699999999999996E-6},"",976,25,null,{"$f":"IF(AA977=\"\",ROW()/100000000,COUNTIF(過去ログ!$N$3:$Y$9999,基礎データ!AA977)+ROW()/10000)","v":9.7699999999999996E-6},""]
[null,null,null,null,null,null,null,null,null,null,null,null,null,977,93,null,{"$f":"IF(P978=\"\",ROW()/100000000,COUNTIF(過去ログ!$BQ$3:$CT$9999,基礎データ!P978)+ROW()/10000)","v":9.7799999999999995E-6},"",null,977,24,null,{"$f":"IF(V978=\"\",ROW()/100000000,COUNTIF(過去ログ!$N$3:$N$9999,基礎データ!V978)+ROW()/10000)","v":9.7799999999999995E-6},"",977,24,null,{"$f":"IF(AA978=\"\",ROW()/100000000,COUNTIF(過去ログ!$N$3:$Y$9999,基礎データ!AA978)+ROW()/10000)","v":9.7799999999999995E-6},""]
[null,null,null,null,null,null,null,null,null,null,null,null,null,978,92,null,{"$f":"IF(P979=\"\",ROW()/100000000,COUNTIF(過去ログ!$BQ$3:$CT$9999,基礎データ!P979)+ROW()/10000)","v":9.7899999999999994E-6},"",null,978,23,null,{"$f":"IF(V979=\"\",ROW()/100000000,COUNTIF(過去ログ!$N$3:$N$9999,基礎データ!V979)+ROW()/10000)","v":9.7899999999999994E-6},"",978,23,null,{"$f":"IF(AA979=\"\",ROW()/100000000,COUNTIF(過去ログ!$N$3:$Y$9999,基礎データ!AA979)+ROW()/10000)","v":9.7899999999999994E-6},""]
[null,null,null,null,null,null,null,null,null,null,null,null,null,979,91,null,{"$f":"IF(P980=\"\",ROW()/100000000,COUNTIF(過去ログ!$BQ$3:$CT$9999,基礎データ!P980)+ROW()/10000)","v":9.7999999999999993E-6},"",null,979,22,null,{"$f":"IF(V980=\"\",ROW()/100000000,COUNTIF(過去ログ!$N$3:$N$9999,基礎データ!V980)+ROW()/10000)","v":9.7999999999999993E-6},"",979,22,null,{"$f":"IF(AA980=\"\",ROW()/100000000,COUNTIF(過去ログ!$N$3:$Y$9999,基礎データ!AA980)+ROW()/10000)","v":9.7999999999999993E-6},""]
[null,null,null,null,null,null,null,null,null,null,null,null,null,980,90,null,{"$f":"IF(P981=\"\",ROW()/100000000,COUNTIF(過去ログ!$BQ$3:$CT$9999,基礎データ!P981)+ROW()/10000)","v":9.8099999999999992E-6},"",null,980,21,null,{"$f":"IF(V981=\"\",ROW()/100000000,COUNTIF(過去ログ!$N$3:$N$9999,基礎データ!V981)+ROW()/10000)","v":9.8099999999999992E-6},"",980,21,null,{"$f":"IF(AA981=\"\",ROW()/100000000,COUNTIF(過去ログ!$N$3:$Y$9999,基礎データ!AA981)+ROW()/10000)","v":9.8099999999999992E-6},""]
[null,null,null,null,null,null,null,null,null,null,null,null,null,981,89,null,{"$f":"IF(P982=\"\",ROW()/100000000,COUNTIF(過去ログ!$BQ$3:$CT$9999,基礎データ!P982)+ROW()/10000)","v":9.8200000000000008E-6},"",null,981,20,null,{"$f":"IF(V982=\"\",ROW()/100000000,COUNTIF(過去ログ!$N$3:$N$9999,基礎データ!V982)+ROW()/10000)","v":9.8200000000000008E-6},"",981,20,null,{"$f":"IF(AA982=\"\",ROW()/100000000,COUNTIF(過去ログ!$N$3:$Y$9999,基礎データ!AA982)+ROW()/10000)","v":9.8200000000000008E-6},""]
[null,null,null,null,null,null,null,null,null,null,null,null,null,982,88,null,{"$f":"IF(P983=\"\",ROW()/100000000,COUNTIF(過去ログ!$BQ$3:$CT$9999,基礎データ!P983)+ROW()/10000)","v":9.8300000000000008E-6},"",null,982,19,null,{"$f":"IF(V983=\"\",ROW()/100000000,COUNTIF(過去ログ!$N$3:$N$9999,基礎データ!V983)+ROW()/10000)","v":9.8300000000000008E-6},"",982,19,null,{"$f":"IF(AA983=\"\",ROW()/100000000,COUNTIF(過去ログ!$N$3:$Y$9999,基礎データ!AA983)+ROW()/10000)","v":9.8300000000000008E-6},""]
[null,null,null,null,null,null,null,null,null,null,null,null,null,983,87,null,{"$f":"IF(P984=\"\",ROW()/100000000,COUNTIF(過去ログ!$BQ$3:$CT$9999,基礎データ!P984)+ROW()/10000)","v":9.8400000000000007E-6},"",null,983,18,null,{"$f":"IF(V984=\"\",ROW()/100000000,COUNTIF(過去ログ!$N$3:$N$9999,基礎データ!V984)+ROW()/10000)","v":9.8400000000000007E-6},"",983,18,null,{"$f":"IF(AA984=\"\",ROW()/100000000,COUNTIF(過去ログ!$N$3:$Y$9999,基礎データ!AA984)+ROW()/10000)","v":9.8400000000000007E-6},""]
[null,null,null,null,null,null,null,null,null,null,null,null,null,984,86,null,{"$f":"IF(P985=\"\",ROW()/100000000,COUNTIF(過去ログ!$BQ$3:$CT$9999,基礎データ!P985)+ROW()/10000)","v":9.8500000000000006E-6},"",null,984,17,null,{"$f":"IF(V985=\"\",ROW()/100000000,COUNTIF(過去ログ!$N$3:$N$9999,基礎データ!V985)+ROW()/10000)","v":9.8500000000000006E-6},"",984,17,null,{"$f":"IF(AA985=\"\",ROW()/100000000,COUNTIF(過去ログ!$N$3:$Y$9999,基礎データ!AA985)+ROW()/10000)","v":9.8500000000000006E-6},""]
[null,null,null,null,null,null,null,null,null,null,null,null,null,985,85,null,{"$f":"IF(P986=\"\",ROW()/100000000,COUNTIF(過去ログ!$BQ$3:$CT$9999,基礎データ!P986)+ROW()/10000)","v":9.8600000000000005E-6},"",null,985,16,null,{"$f":"IF(V986=\"\",ROW()/100000000,COUNTIF(過去ログ!$N$3:$N$9999,基礎データ!V986)+ROW()/10000)","v":9.8600000000000005E-6},"",985,16,null,{"$f":"IF(AA986=\"\",ROW()/100000000,COUNTIF(過去ログ!$N$3:$Y$9999,基礎データ!AA986)+ROW()/10000)","v":9.8600000000000005E-6},""]
[null,null,null,null,null,null,null,null,null,null,null,null,null,986,84,null,{"$f":"IF(P987=\"\",ROW()/100000000,COUNTIF(過去ログ!$BQ$3:$CT$9999,基礎データ!P987)+ROW()/10000)","v":9.8700000000000004E-6},"",null,986,15,null,{"$f":"IF(V987=\"\",ROW()/100000000,COUNTIF(過去ログ!$N$3:$N$9999,基礎データ!V987)+ROW()/10000)","v":9.8700000000000004E-6},"",986,15,null,{"$f":"IF(AA987=\"\",ROW()/100000000,COUNTIF(過去ログ!$N$3:$Y$9999,基礎データ!AA987)+ROW()/10000)","v":9.8700000000000004E-6},""]
[null,null,null,null,null,null,null,null,null,null,null,null,null,987,83,null,{"$f":"IF(P988=\"\",ROW()/100000000,COUNTIF(過去ログ!$BQ$3:$CT$9999,基礎データ!P988)+ROW()/10000)","v":9.8800000000000003E-6},"",null,987,14,null,{"$f":"IF(V988=\"\",ROW()/100000000,COUNTIF(過去ログ!$N$3:$N$9999,基礎データ!V988)+ROW()/10000)","v":9.8800000000000003E-6},"",987,14,null,{"$f":"IF(AA988=\"\",ROW()/100000000,COUNTIF(過去ログ!$N$3:$Y$9999,基礎データ!AA988)+ROW()/10000)","v":9.8800000000000003E-6},""]
[null,null,null,null,null,null,null,null,null,null,null,null,null,988,82,null,{"$f":"IF(P989=\"\",ROW()/100000000,COUNTIF(過去ログ!$BQ$3:$CT$9999,基礎データ!P989)+ROW()/10000)","v":9.8900000000000002E-6},"",null,988,13,null,{"$f":"IF(V989=\"\",ROW()/100000000,COUNTIF(過去ログ!$N$3:$N$9999,基礎データ!V989)+ROW()/10000)","v":9.8900000000000002E-6},"",988,13,null,{"$f":"IF(AA989=\"\",ROW()/100000000,COUNTIF(過去ログ!$N$3:$Y$9999,基礎データ!AA989)+ROW()/10000)","v":9.8900000000000002E-6},""]
[null,null,null,null,null,null,null,null,null,null,null,null,null,989,81,null,{"$f":"IF(P990=\"\",ROW()/100000000,COUNTIF(過去ログ!$BQ$3:$CT$9999,基礎データ!P990)+ROW()/10000)","v":9.9000000000000001E-6},"",null,989,12,null,{"$f":"IF(V990=\"\",ROW()/100000000,COUNTIF(過去ログ!$N$3:$N$9999,基礎データ!V990)+ROW()/10000)","v":9.9000000000000001E-6},"",989,12,null,{"$f":"IF(AA990=\"\",ROW()/100000000,COUNTIF(過去ログ!$N$3:$Y$9999,基礎データ!AA990)+ROW()/10000)","v":9.9000000000000001E-6},""]
[null,null,null,null,null,null,null,null,null,null,null,null,null,990,80,null,{"$f":"IF(P991=\"\",ROW()/100000000,COUNTIF(過去ログ!$BQ$3:$CT$9999,基礎データ!P991)+ROW()/10000)","v":9.91E-6},"",null,990,11,null,{"$f":"IF(V991=\"\",ROW()/100000000,COUNTIF(過去ログ!$N$3:$N$9999,基礎データ!V991)+ROW()/10000)","v":9.91E-6},"",990,11,null,{"$f":"IF(AA991=\"\",ROW()/100000000,COUNTIF(過去ログ!$N$3:$Y$9999,基礎データ!AA991)+ROW()/10000)","v":9.91E-6},""]
[null,null,null,null,null,null,null,null,null,null,null,null,null,991,{"$f":"RANK(Q992,$Q$2:$Q$1002)","v":79},null,{"$f":"IF(P992=\"\",ROW()/100000000,COUNTIF(過去ログ!$BQ$3:$CT$9999,基礎データ!P992)+ROW()/10000)","v":9.9199999999999999E-6},"",null,991,10,null,{"$f":"IF(V992=\"\",ROW()/100000000,COUNTIF(過去ログ!$N$3:$N$9999,基礎データ!V992)+ROW()/10000)","v":9.9199999999999999E-6},"",991,10,null,{"$f":"IF(AA992=\"\",ROW()/100000000,COUNTIF(過去ログ!$N$3:$Y$9999,基礎データ!AA992)+ROW()/10000)","v":9.9199999999999999E-6},""]
[null,null,null,null,null,null,null,null,null,null,null,null,null,992,78,null,{"$f":"IF(P993=\"\",ROW()/100000000,COUNTIF(過去ログ!$BQ$3:$CT$9999,基礎データ!P993)+ROW()/10000)","v":9.9299999999999998E-6},"",null,992,9,null,{"$f":"IF(V993=\"\",ROW()/100000000,COUNTIF(過去ログ!$N$3:$N$9999,基礎データ!V993)+ROW()/10000)","v":9.9299999999999998E-6},"",992,9,null,{"$f":"IF(AA993=\"\",ROW()/100000000,COUNTIF(過去ログ!$N$3:$Y$9999,基礎データ!AA993)+ROW()/10000)","v":9.9299999999999998E-6},""]
[null,null,null,null,null,null,null,null,null,null,null,null,null,993,77,null,{"$f":"IF(P994=\"\",ROW()/100000000,COUNTIF(過去ログ!$BQ$3:$CT$9999,基礎データ!P994)+ROW()/10000)","v":9.9399999999999997E-6},"",null,993,8,null,{"$f":"IF(V994=\"\",ROW()/100000000,COUNTIF(過去ログ!$N$3:$N$9999,基礎データ!V994)+ROW()/10000)","v":9.9399999999999997E-6},"",993,8,null,{"$f":"IF(AA994=\"\",ROW()/100000000,COUNTIF(過去ログ!$N$3:$Y$9999,基礎データ!AA994)+ROW()/10000)","v":9.9399999999999997E-6},""]
[null,null,null,null,null,null,null,null,null,null,null,null,null,994,76,null,{"$f":"IF(P995=\"\",ROW()/100000000,COUNTIF(過去ログ!$BQ$3:$CT$9999,基礎データ!P995)+ROW()/10000)","v":9.9499999999999996E-6},"",null,994,7,null,{"$f":"IF(V995=\"\",ROW()/100000000,COUNTIF(過去ログ!$N$3:$N$9999,基礎データ!V995)+ROW()/10000)","v":9.9499999999999996E-6},"",994,7,null,{"$f":"IF(AA995=\"\",ROW()/100000000,COUNTIF(過去ログ!$N$3:$Y$9999,基礎データ!AA995)+ROW()/10000)","v":9.9499999999999996E-6},""]
[null,null,null,null,null,null,null,null,null,null,null,null,null,995,75,null,{"$f":"IF(P996=\"\",ROW()/100000000,COUNTIF(過去ログ!$BQ$3:$CT$9999,基礎データ!P996)+ROW()/10000)","v":9.9599999999999995E-6},"",null,995,6,null,{"$f":"IF(V996=\"\",ROW()/100000000,COUNTIF(過去ログ!$N$3:$N$9999,基礎データ!V996)+ROW()/10000)","v":9.9599999999999995E-6},"",995,6,null,{"$f":"IF(AA996=\"\",ROW()/100000000,COUNTIF(過去ログ!$N$3:$Y$9999,基礎データ!AA996)+ROW()/10000)","v":9.9599999999999995E-6},""]
[null,null,null,null,null,null,null,null,null,null,null,null,null,996,74,null,{"$f":"IF(P997=\"\",ROW()/100000000,COUNTIF(過去ログ!$BQ$3:$CT$9999,基礎データ!P997)+ROW()/10000)","v":9.9699999999999994E-6},"",null,996,5,null,{"$f":"IF(V997=\"\",ROW()/100000000,COUNTIF(過去ログ!$N$3:$N$9999,基礎データ!V997)+ROW()/10000)","v":9.9699999999999994E-6},"",996,5,null,{"$f":"IF(AA997=\"\",ROW()/100000000,COUNTIF(過去ログ!$N$3:$Y$9999,基礎データ!AA997)+ROW()/10000)","v":9.9699999999999994E-6},""]
[null,null,null,null,null,null,null,null,null,null,null,null,null,997,73,null,{"$f":"IF(P998=\"\",ROW()/100000000,COUNTIF(過去ログ!$BQ$3:$CT$9999,基礎データ!P998)+ROW()/10000)","v":9.9799999999999993E-6},"",null,997,4,null,{"$f":"IF(V998=\"\",ROW()/100000000,COUNTIF(過去ログ!$N$3:$N$9999,基礎データ!V998)+ROW()/10000)","v":9.9799999999999993E-6},"",997,4,null,{"$f":"IF(AA998=\"\",ROW()/100000000,COUNTIF(過去ログ!$N$3:$Y$9999,基礎データ!AA998)+ROW()/10000)","v":9.9799999999999993E-6},""]
[null,null,null,null,null,null,null,null,null,null,null,null,null,998,72,null,{"$f":"IF(P999=\"\",ROW()/100000000,COUNTIF(過去ログ!$BQ$3:$CT$9999,基礎データ!P999)+ROW()/10000)","v":9.9899999999999992E-6},"",null,998,3,null,{"$f":"IF(V999=\"\",ROW()/100000000,COUNTIF(過去ログ!$N$3:$N$9999,基礎データ!V999)+ROW()/10000)","v":9.9899999999999992E-6},"",998,3,null,{"$f":"IF(AA999=\"\",ROW()/100000000,COUNTIF(過去ログ!$N$3:$Y$9999,基礎データ!AA999)+ROW()/10000)","v":9.9899999999999992E-6},""]
[null,null,null,null,null,null,null,null,null,null,null,null,null,999,71,null,{"$f":"IF(P1000=\"\",ROW()/100000000,COUNTIF(過去ログ!$BQ$3:$CT$9999,基礎データ!P1000)+ROW()/10000)","v":1.0000000000000001E-5},"",null,999,2,null,{"$f":"IF(V1000=\"\",ROW()/100000000,COUNTIF(過去ログ!$N$3:$N$9999,基礎データ!V1000)+ROW()/10000)","v":1.0000000000000001E-5},"",999,2,null,{"$f":"IF(AA1000=\"\",ROW()/100000000,COUNTIF(過去ログ!$N$3:$Y$9999,基礎データ!AA1000)+ROW()/10000)","v":1.0000000000000001E-5},""]
[null,null,null,null,null,null,null,null,null,null,null,null,null,1000,70,null,{"$f":"IF(P1001=\"\",ROW()/100000000,COUNTIF(過去ログ!$BQ$3:$CT$9999,基礎データ!P1001)+ROW()/10000)","v":1.0010000000000001E-5},"",null,1000,1,null,{"$f":"IF(V1001=\"\",ROW()/100000000,COUNTIF(過去ログ!$N$3:$N$9999,基礎データ!V1001)+ROW()/10000)","v":1.0010000000000001E-5},"",1000,1,null,{"$f":"IF(AA1001=\"\",ROW()/100000000,COUNTIF(過去ログ!$N$3:$Y$9999,基礎データ!AA1001)+ROW()/10000)","v":1.0010000000000001E-5},""]

{"sheet":"旅行命令","index":3,"n_rows":160,"n_cols":110,"rows_kept":160,"cut":false,"hidden":false,"merged":[[9,52,10,84],[79,57,79,61],[79,52,79,56],[79,62,79,66],[79,67,79,71],[79,72,79,76],[73,69,77,73],[73,74,77,76],[73,77,77,81],[34,56,34,58],[35,60,35,62],[34,60,34,62],[30,51,30,53],[28,51,28,53],[35,72,35,74],[33,78,33,83],[30,78,30,83],[28,75,28,77],[28,78,28,83],[29,78,29,83],[17,70,17,77],[18,70,18,77],[19,70,19,77],[54,66,54,81],[0,103,0,105],[6,103,7,103],[7,104,7,105],[13,101,13,105],[23,66,25,84],[4,69,8,73],[4,74,8,76],[4,60,8,66],[4,67,8,68],[4,82,8,84],[4,77,8,81],[12,70,12,77],[13,70,13,77],[14,70,14,77],[15,70,15,77],[16,70,16,77],[1,77,3,81],[1,70,3,74],[1,60,3,64],[21,87,24,88],[15,86,15,87],[17,86,19,86],[21,86,24,86],[17,87,19,88],[14,68,14,69],[15,68,15,69],[16,68,16,69],[17,68,17,69],[18,68,18,69],[24,63,24,65],[26,50,27,54],[26,55,27,59],[20,42,22,60],[16,60,16,67],[17,60,17,67],[18,60,18,67],[19,60,19,67],[16,50,16,57],[17,50,17,57],[18,50,18,57],[19,50,19,57],[20,64,22,84],[21,61,21,63],[19,68,19,69],[26,75,27,84],[17,58,17,59],[18,58,18,59],[40,101,40,104],[46,101,46,105],[27,102,27,103],[14,86,14,87],[41,66,44,82],[41,83,44,84],[37,78,37,83],[37,75,37,77],[36,72,36,74],[37,72,37,74],[35,63,35,71],[30,63,30,71],[30,72,30,74],[27,60,27,74],[29,60,29,62],[28,72,28,74],[28,63,28,71],[28,60,28,62],[29,72,29,74],[29,63,29,71],[32,78,32,83],[30,60,30,62],[33,60,33,62],[33,63,33,71],[91,10,93,14],[91,15,93,15],[84,78,84,84],[85,0,85,15],[85,16,85,17],[83,0,83,15],[83,16,83,17],[84,0,84,15],[84,16,84,17],[83,18,83,49],[83,50,83,57],[83,58,83,59],[85,18,85,49],[85,50,85,57],[85,58,85,59],[88,64,90,84],[91,16,93,31],[88,34,90,36],[88,42,90,60],[89,61,89,63],[88,17,90,27],[88,28,90,33],[88,0,90,2],[29,39,29,40],[29,56,29,58],[30,56,30,58],[29,45,29,48],[28,45,28,48],[29,51,29,53],[32,75,32,77],[32,56,32,58],[32,63,32,71],[32,51,32,53],[31,72,31,74],[31,56,31,58],[31,51,31,53],[32,72,32,74],[31,45,31,48],[31,75,31,77],[24,32,24,34],[36,56,36,58],[35,42,35,44],[34,51,34,53],[36,31,36,32],[34,45,34,48],[33,42,33,44],[33,51,33,53],[49,66,49,68],[26,41,27,49],[35,31,35,32],[35,33,35,38],[33,31,33,32],[24,38,24,39],[45,40,47,45],[47,25,47,34],[48,25,48,34],[28,56,28,58],[31,60,31,62],[31,63,31,71],[39,45,39,53],[30,42,30,44],[30,45,30,48],[28,39,28,40],[53,31,53,45],[84,18,84,49],[84,50,84,57],[46,48,46,49],[46,59,46,61],[46,73,46,75],[49,47,49,48],[49,58,49,60],[55,21,55,22],[57,66,57,81],[55,66,56,81],[48,40,52,45],[50,24,52,29],[46,25,46,34],[62,66,62,81],[55,32,55,34],[60,66,60,81],[80,20,80,23],[80,25,80,27],[78,45,79,51],[78,52,78,84],[94,95,94,96],[36,63,36,71],[51,86,51,87],[35,56,35,58],[35,78,35,83],[35,75,35,77],[35,51,35,53],[34,78,34,83],[34,63,34,71],[94,60,94,74],[94,75,94,84],[53,66,53,84],[53,48,53,65],[94,50,94,54],[83,60,83,67],[83,68,83,69],[83,70,83,77],[50,69,52,83],[51,58,51,60],[36,78,36,83],[36,75,36,77],[35,9,35,10],[35,19,35,26],[34,27,34,28],[34,19,34,26],[35,29,35,30],[35,27,35,28],[35,17,35,18],[36,29,36,30],[33,27,33,28],[27,27,27,40],[41,40,44,65],[44,30,44,39],[36,27,36,28],[34,29,34,30],[44,23,44,28],[43,23,43,28],[37,39,37,40],[37,42,37,44],[37,56,37,58],[37,63,37,71],[36,60,36,62],[36,51,36,53],[37,51,37,53],[36,39,36,40],[36,45,36,48],[36,42,36,44],[35,39,35,40],[35,45,35,48],[33,45,33,48],[32,60,32,62],[36,19,36,26],[34,31,34,32],[33,33,33,38],[78,33,79,44],[78,29,79,32],[94,55,94,59],[94,27,94,40],[94,41,94,49],[91,66,93,84],[92,63,92,65],[70,41,71,84],[65,4,65,84],[79,77,79,81],[78,10,79,28],[78,0,79,9],[91,0,93,2],[91,6,93,9],[83,78,83,84],[84,58,84,59],[84,60,84,67],[84,68,84,69],[84,70,84,77],[81,60,81,69],[81,70,81,77],[88,6,90,14],[81,0,81,15],[82,0,82,15],[146,31,146,45],[153,4,153,84],[150,0,152,3],[150,4,150,84],[153,0,155,3],[154,4,154,84],[155,4,155,14],[152,4,152,84],[155,15,155,84],[151,5,151,6],[151,7,151,12],[151,13,151,28],[151,29,151,35],[151,36,151,71],[151,72,151,84],[146,46,146,47],[146,1,149,3],[146,4,146,7],[146,8,146,18],[146,19,146,20],[147,82,149,84],[148,9,148,10],[146,48,146,65],[146,66,146,84],[148,32,148,34],[147,66,149,81],[147,4,149,7],[140,46,140,47],[142,32,142,34],[136,66,136,68],[136,78,136,80],[137,24,139,29],[137,69,139,83],[138,58,138,60],[140,66,140,84],[140,48,140,65],[136,47,136,48],[136,23,136,25],[136,26,136,27],[138,47,138,48],[136,58,136,60],[135,40,139,45],[141,66,145,81],[141,82,145,84],[142,9,142,10],[142,21,142,22],[142,48,142,49],[146,21,146,30],[132,0,149,0],[132,1,139,3],[132,4,134,7],[132,31,139,39],[140,1,145,3],[140,4,140,7],[133,9,133,10],[133,11,133,12],[133,13,133,14],[135,4,139,7],[144,9,144,10],[144,32,144,34],[140,8,140,18],[140,19,140,20],[140,21,140,30],[140,31,140,45],[138,11,138,15],[138,16,138,17],[138,18,138,22],[136,11,136,15],[136,16,136,17],[136,9,136,10],[138,9,138,10],[141,4,145,7],[128,40,131,65],[128,66,131,82],[128,83,131,84],[133,48,133,49],[133,59,133,61],[130,30,131,39],[132,40,134,45],[133,73,133,75],[136,18,136,20],[136,21,136,22],[128,23,129,28],[128,29,129,29],[130,23,131,28],[130,29,131,29],[134,21,134,29],[132,21,132,29],[133,21,133,29],[129,0,130,4],[130,5,131,11],[130,12,131,13],[130,14,131,22],[131,0,131,4],[125,0,127,2],[125,7,127,10],[125,11,127,17],[125,18,127,18],[128,0,128,4],[128,5,129,11],[128,12,129,13],[128,14,129,22],[125,19,127,36],[128,30,129,39],[125,54,127,84],[126,5,126,6],[126,37,126,38],[126,39,126,44],[126,45,126,53],[122,79,124,83],[122,84,124,84],[123,43,123,44],[123,51,123,53],[123,56,123,58],[123,61,123,63],[123,76,123,78],[122,64,124,71],[122,72,124,74],[122,29,124,29],[122,30,124,30],[122,39,124,40],[122,41,124,42],[122,45,124,48],[122,49,124,49],[122,31,124,32],[122,33,124,38],[122,1,124,1],[122,2,124,8],[122,9,124,10],[122,11,124,16],[122,17,124,18],[122,19,124,26],[122,27,124,27],[122,28,124,28],[119,79,121,83],[119,1,121,1],[119,2,121,8],[119,9,121,10],[119,11,121,16],[119,17,121,18],[119,19,121,26],[119,27,121,27],[119,28,121,28],[119,84,121,84],[120,43,120,44],[120,51,120,53],[120,56,120,58],[120,61,120,63],[120,76,120,78],[119,64,121,71],[119,72,121,74],[119,29,121,29],[119,30,121,30],[119,39,121,40],[119,41,121,42],[119,45,121,48],[119,49,121,49],[119,31,121,32],[119,33,121,38],[116,79,118,83],[116,84,118,84],[117,43,117,44],[117,51,117,53],[117,56,117,58],[117,61,117,63],[117,76,117,78],[116,64,118,71],[116,72,118,74],[116,29,118,29],[116,30,118,30],[116,39,118,40],[116,41,118,42],[116,45,118,48],[116,49,118,49],[116,31,118,32],[116,33,118,38],[116,1,118,1],[116,2,118,8],[116,9,118,10],[116,11,118,16],[116,17,118,18],[116,19,118,26],[116,27,118,27],[116,28,118,28],[113,79,115,83],[113,84,115,84],[114,43,114,44],[114,51,114,53],[114,56,114,58],[114,61,114,63],[114,76,114,78],[113,64,115,71],[113,72,115,74],[113,29,115,29],[113,30,115,30],[113,39,115,40],[113,41,115,42],[113,45,115,48],[113,49,115,49],[113,31,115,32],[113,33,115,38],[113,1,115,1],[113,2,115,8],[113,9,115,10],[113,11,115,16],[113,17,115,18],[113,19,115,26],[113,27,115,27],[113,28,115,28],[110,79,112,83],[110,84,112,84],[111,43,111,44],[111,51,111,53],[111,56,111,58],[111,61,111,63],[111,76,111,78],[110,64,112,71],[110,72,112,74],[110,29,112,29],[110,30,112,30],[110,39,112,40],[110,41,112,42],[110,45,112,48],[110,49,112,49],[110,31,112,32],[110,33,112,38],[110,1,112,1],[110,2,112,8],[110,9,112,10],[110,11,112,16],[110,17,112,18],[110,19,112,26],[110,27,112,27],[110,28,112,28],[107,79,109,83],[107,84,109,84],[108,43,108,44],[108,51,108,53],[108,56,108,58],[108,61,108,63],[108,76,108,78],[107,64,109,71],[107,72,109,74],[107,29,109,29],[107,30,109,30],[107,39,109,40],[107,41,109,42],[107,45,109,48],[107,49,109,49],[107,31,109,32],[107,33,109,38],[107,1,109,1],[107,2,109,8],[107,9,109,10],[107,11,109,16],[107,17,109,18],[107,19,109,26],[107,27,109,27],[107,28,109,28],[104,49,106,49],[104,79,106,83],[104,84,106,84],[105,43,105,44],[105,51,105,53],[105,56,105,58],[105,61,105,63],[105,76,105,78],[104,64,106,71],[104,72,106,74],[104,28,106,28],[104,29,106,29],[104,30,106,30],[104,39,106,40],[104,41,106,42],[104,45,106,48],[104,31,106,32],[104,33,106,38],[104,1,106,1],[104,2,106,8],[104,9,106,10],[104,11,106,16],[104,17,106,18],[104,19,106,26],[104,27,106,27],[101,79,103,83],[101,84,103,84],[102,43,102,44],[102,51,102,53],[102,56,102,58],[102,61,102,63],[102,76,102,78],[101,64,103,71],[101,72,103,74],[101,31,103,32],[101,33,103,38],[101,1,103,1],[101,2,103,8],[101,9,103,10],[101,11,103,16],[101,17,103,18],[101,19,103,26],[101,27,103,27],[101,28,103,28],[95,1,97,1],[95,2,97,8],[95,9,97,10],[95,64,97,71],[95,17,97,18],[95,19,97,26],[95,41,97,42],[95,45,97,48],[95,33,97,38],[95,29,97,29],[95,30,97,30],[95,31,97,32],[95,39,97,40],[95,11,97,16],[95,27,97,27],[101,30,103,30],[95,79,97,83],[95,84,97,84],[96,43,96,44],[96,51,96,53],[96,56,96,58],[96,61,96,63],[96,76,96,78],[95,49,97,49],[95,72,97,74],[98,79,100,83],[98,84,100,84],[99,43,99,44],[99,51,99,53],[99,56,99,58],[99,61,99,63],[99,76,99,78],[98,64,100,71],[98,72,100,74],[98,49,100,49],[101,39,103,40],[101,41,103,42],[101,45,103,48],[101,49,103,49],[82,78,82,84],[95,28,97,28],[94,0,124,0],[94,2,94,26],[92,4,92,5],[92,32,92,34],[92,38,92,39],[92,40,92,48],[98,29,100,29],[98,30,100,30],[98,39,100,40],[98,41,100,42],[98,45,100,48],[98,31,100,32],[98,33,100,38],[98,1,100,1],[98,2,100,8],[98,9,100,10],[98,11,100,16],[98,17,100,18],[98,19,100,26],[98,27,100,27],[98,28,100,28],[101,29,103,29],[80,0,80,9],[80,10,80,13],[80,14,80,17],[80,18,80,19],[80,72,80,76],[80,68,80,71],[82,50,82,57],[82,58,82,59],[82,60,82,67],[81,50,81,59],[82,68,82,69],[82,70,82,77],[82,16,82,17],[80,77,80,84],[80,28,80,30],[80,31,80,35],[80,36,80,39],[80,40,80,43],[80,44,80,47],[80,48,80,51],[80,52,80,56],[80,57,80,62],[80,63,80,67],[81,78,81,84],[37,45,37,48],[37,27,37,28],[37,29,37,30],[37,31,37,32],[41,5,41,11],[54,82,58,84],[64,72,64,84],[64,29,64,35],[53,46,53,47],[49,78,49,80],[59,46,59,47],[59,48,59,65],[59,66,59,84],[53,21,53,30],[59,21,59,30],[53,19,53,20],[51,47,51,48],[59,8,59,18],[60,82,62,84],[61,32,61,34],[59,31,59,45],[63,4,63,84],[64,5,64,6],[64,7,64,12],[42,5,42,11],[43,5,43,11],[44,5,44,11],[37,33,37,38],[35,2,35,8],[36,33,36,38],[36,2,36,8],[36,9,36,10],[36,11,36,16],[44,12,44,13],[44,14,44,22],[41,30,41,39],[42,30,42,39],[42,12,42,13],[43,12,43,13],[41,14,41,22],[41,23,41,28],[37,2,37,8],[37,9,37,10],[37,11,37,16],[37,17,37,18],[37,19,37,26],[36,17,36,18],[35,11,35,16],[31,2,31,8],[34,2,34,8],[32,2,32,8],[34,39,34,40],[33,29,33,30],[34,42,34,44],[32,31,32,32],[34,33,34,38],[32,33,32,38],[33,11,33,16],[32,9,32,10],[32,11,32,16],[32,17,32,18],[31,19,31,26],[31,29,31,30],[31,27,31,28],[32,42,32,44],[31,39,31,40],[33,2,33,8],[33,9,33,10],[23,0,25,2],[23,6,25,9],[23,15,25,15],[23,16,25,31],[24,4,24,5],[30,31,30,32],[30,17,30,18],[28,29,28,30],[28,19,28,26],[29,2,29,8],[29,19,29,26],[29,27,29,28],[29,31,29,32],[28,11,28,16],[30,11,30,16],[29,9,29,10],[29,11,29,16],[28,27,28,28],[29,29,29,30],[29,17,29,18],[28,17,28,18],[28,31,28,32],[27,19,27,26],[27,9,27,18],[28,2,28,8],[28,9,28,10],[16,0,16,15],[16,16,16,17],[21,4,21,5],[21,15,21,16],[21,39,21,41],[19,0,19,15],[19,16,19,17],[26,0,37,0],[26,2,26,26],[26,27,26,40],[34,17,34,18],[18,0,18,15],[18,16,18,17],[17,16,17,17],[31,9,31,10],[31,11,31,16],[30,2,30,8],[30,9,30,10],[20,6,22,14],[20,17,22,27],[20,28,22,33],[20,34,22,36],[14,16,14,17],[13,0,13,15],[11,44,11,47],[15,0,15,15],[15,16,15,17],[11,52,11,56],[11,57,11,62],[11,63,11,67],[11,48,11,51],[11,0,11,9],[11,10,11,13],[11,14,11,17],[11,18,11,19],[11,20,11,23],[11,25,11,27],[11,31,11,35],[14,60,14,67],[15,60,15,67],[14,50,14,57],[15,50,15,57],[12,50,12,59],[13,50,13,59],[12,60,12,69],[13,60,13,69],[67,4,67,12],[63,0,65,3],[64,13,64,28],[64,36,64,71],[1,0,2,26],[9,0,10,9],[9,10,10,28],[9,29,10,32],[9,33,10,44],[1,41,2,47],[5,0,6,9],[5,10,8,17],[5,18,8,24],[5,25,8,32],[7,0,8,9],[4,0,4,9],[4,10,4,17],[4,18,4,24],[2,27,3,40],[4,25,4,32],[4,33,8,51],[9,45,10,51],[0,27,1,40],[11,28,11,30],[39,7,39,10],[40,5,40,39],[46,4,46,5],[49,23,49,25],[49,26,49,27],[45,35,52,39],[42,23,42,28],[48,14,48,23],[79,82,79,84],[73,82,77,84],[61,66,61,81],[58,66,58,81],[55,48,55,49],[70,0,71,26],[69,27,70,40],[73,67,77,68],[73,0,73,9],[73,10,73,17],[73,18,73,24],[55,9,55,10],[73,25,73,32],[73,33,77,51],[73,52,77,59],[73,60,77,66],[87,0,87,15],[87,16,87,17],[27,2,27,8],[28,33,28,38],[28,42,28,44],[29,33,29,38],[29,42,29,44],[30,39,30,40],[30,27,30,28],[86,0,86,15],[86,16,86,17],[42,0,43,4],[41,0,41,4],[41,12,41,13],[39,5,39,6],[53,1,58,3],[53,4,53,7],[48,2,52,2],[54,4,58,7],[45,1,52,1],[46,6,46,7],[57,9,57,10],[49,5,49,6],[49,7,49,11],[89,4,89,5],[89,15,89,16],[89,39,89,41],[49,21,49,22],[46,12,46,13],[49,13,49,14],[49,15,49,18],[87,18,87,49],[86,18,86,49],[51,5,51,6],[51,7,51,11],[74,0,75,9],[74,10,77,17],[74,18,77,24],[74,25,77,32],[76,0,77,9],[82,18,82,49],[71,27,72,40],[66,0,68,3],[68,4,68,84],[66,4,66,12],[66,13,66,30],[45,0,62,0],[61,9,61,10],[44,0,44,4],[59,1,62,3],[59,4,59,7],[60,4,62,7],[45,2,47,2],[0,107,1,109],[2,107,3,108],[5,107,6,109],[34,72,34,74],[26,60,26,74],[38,0,40,2],[32,45,32,48],[33,17,33,18],[34,9,34,10],[34,11,34,16],[4,52,8,59],[24,40,24,48],[24,10,24,14],[20,0,22,2],[17,0,17,15],[12,0,12,15],[14,0,14,15],[11,36,11,39],[11,40,11,43],[58,86,58,87],[7,107,8,108],[33,75,33,77],[34,75,34,77],[33,72,33,74],[33,56,33,58],[37,60,37,62],[29,75,29,77],[30,75,30,77],[31,78,31,83],[12,78,12,84],[13,78,13,84],[14,78,14,84],[15,78,15,84],[16,78,16,84],[17,78,17,84],[18,78,18,84],[19,78,19,84],[11,68,11,71],[11,72,11,76],[11,77,11,84],[14,58,14,59],[15,58,15,59],[16,58,16,59],[12,16,12,49],[13,16,13,49],[14,18,14,49],[15,18,15,49],[16,18,16,49],[17,18,17,49],[18,18,18,49],[19,18,19,49],[81,16,81,49],[57,32,57,34],[45,12,45,34],[43,30,43,39],[42,14,42,22],[43,14,43,22],[39,37,39,38],[53,8,53,18],[51,13,51,14],[47,12,47,13],[48,12,48,13],[46,14,46,23],[47,14,47,23],[46,8,46,9],[39,39,39,44],[39,11,39,17],[19,58,19,59],[32,27,32,28],[32,19,32,26],[32,29,32,30],[32,39,32,40],[59,19,59,20],[87,50,87,57],[87,58,87,59],[87,60,87,67],[38,54,40,84],[39,19,39,36],[67,13,67,84],[66,35,66,48],[66,49,66,84],[66,31,66,34],[30,19,30,26],[30,29,30,30],[30,33,30,38],[31,17,31,18],[31,31,31,32],[31,33,31,38],[33,19,33,26],[33,39,33,40],[31,42,31,44],[87,68,87,69],[87,70,87,77],[87,78,87,84],[85,60,85,67],[85,68,85,69],[85,70,85,77],[85,78,85,84],[86,50,86,57],[86,58,86,59],[86,60,86,67],[86,68,86,69],[86,70,86,77],[86,78,86,84]]}
["様式1（その２）（第5条関係）",null,null,null,null,null,null,null,null,null,null,null,null,null,null,null,null,null,null,null,null,null,null,null,null,null,null,"命　　令",null,null,null,null,null,null,null,null,null,null,null,null,null,null,null,null,null,null,null,null,null,null,null,null,null,null,null,null,null,null,null,null,null,null,null,null,null,null,null,null,null,null,null,null,null,null,null,null,null,null,null,null,null,null,null,null,null,null,null,null,null,"№","用務名","№","用務先","用務先住所他",null,"１乗車駅","１乗り換え","１降車駅",null,"名前",null,"職員番号",null,"通勤手当利用調整",null,null,null,"旅行期間 - 1日"]
["旅　　行",null,null,null,null,null,null,null,null,null,null,null,null,null,null,null,null,null,null,null,null,null,null,null,null,null,null,null,null,null,null,null,null,null,null,null,null,null,null,null,null,"書",null,null,null,null,null,null,null,null,null,null,null,null,null,null,null,null,null,null,null,null,null,null,null,null,null,null,null,null,null,null,null,null,null,null,null,null,null,null,null,null,null,null,null,null,null,null,null,null,null,null,null,null,null,null,null,null,null,{"$f":"IF(基礎データ!A3=0,\"\",基礎データ!A3)","v":""},null,{"$f":"VLOOKUP($BA$10,基礎データ!$A$3:$L$52,3,FALSE)","v":{"$error":"#N/A"}},null,{"$f":"基礎データ!E2","v":"名鉄"},{"$f":"VLOOKUP($BA$10,基礎データ!$A$3:$L$52,5,FALSE)","v":{"$error":"#N/A"}},{"$f":"VLOOKUP($BA$10,基礎データ!$A$3:$L$52,6,FALSE)","v":{"$error":"#N/A"}}]
[null,null,null,null,null,null,null,null,null,null,null,null,null,null,null,null,null,null,null,null,null,null,null,null,null,null,null,"依　　頼",null,null,null,null,null,null,null,null,null,null,null,null,null,null,null,null,null,null,null,null,null,null,null,null,null,null,null,null,null,null,null,null,null,null,null,null,null,null,null,null,null,null,null,null,null,null,null,null,null,null,null,null,null,null,null,null,null,null,null,null,null,1,{"$f":"基礎データ!V2","v":0},1,{"$f":"基礎データ!AA2","v":0},null,null,{"$f":"基礎データ!P2","v":"赤池"},{"$f":"基礎データ!Q2","v":2.0000000000000001E-4},{"$f":"基礎データ!R2","v":"勝川駅"},null,{"$f":"IF(基礎データ!A4=0,\"\",基礎データ!A4)","v":""},null,{"$f":"INT(CX2/100000)","v":{"$error":"#N/A"}},null,{"$f":"基礎データ!G2","v":"地下鉄"},{"$f":"VLOOKUP($BA$10,基礎データ!$A$3:$L$52,7,FALSE)","v":{"$error":"#N/A"}},{"$f":"VLOOKUP($BA$10,基礎データ!$A$3:$L$52,8,FALSE)","v":{"$error":"#N/A"}},null,{"$f":"DATE(O12+1988,U12,Z12)-1","v":"1995-05-24"},null,{"$f":"DD3","v":34843}]
[null,null,null,null,null,null,null,null,null,null,null,null,null,null,null,null,null,null,null,null,null,null,null,null,null,null,null,null,null,null,null,null,null,null,null,null,null,null,null,null,null,null,null,null,null,null,null,null,null,null,null,null,null,null,null,null,null,null,null,null,null,null,null,null,null,null,null,null,null,null,null,null,null,null,null,null,null,null,null,null,null,null,null,null,null,null,null,null,null,2,{"$f":"基礎データ!V3","v":0},2,{"$f":"基礎データ!AA3","v":0},null,null,{"$f":"基礎データ!P3","v":"学校"},{"$f":"基礎データ!Q3","v":2.9999999999999997E-4},{"$f":"基礎データ!R3","v":"下末"},null,{"$f":"IF(基礎データ!A5=0,\"\",基礎データ!A5)","v":""},null,{"$f":"INT((CX2-CX3*100000)/10000)","v":{"$error":"#N/A"}},null,{"$f":"基礎データ!I2","v":"ＪＲ"},{"$f":"VLOOKUP($BA$10,基礎データ!$A$3:$L$52,9,FALSE)","v":{"$error":"#N/A"}},{"$f":"VLOOKUP($BA$10,基礎データ!$A$3:$L$52,10,FALSE)","v":{"$error":"#N/A"}},null,null,null,{"$f":"WEEKDAY(DD3)","v":4}]
["決裁欄",null,null,null,null,null,null,null,null,null,"校長",null,null,null,null,null,null,null,null,null,null,null,null,null,null,null,null,null,null,null,null,null,null,"旅行命令年月日",null,null,null,null,null,null,null,null,null,null,null,null,null,null,null,null,null,null,{"$f":"+IF(BI5=31,\"平成\",\"令和\")","v":"令和"},null,null,null,null,null,null,null,7,null,null,null,null,null,null,"年",null,5,null,null,null,null,"月",null,null,14,null,null,null,null,"日",null,null,null,null,null,null,3,{"$f":"基礎データ!V4","v":0},3,{"$f":"基礎データ!AA4","v":0},null,null,{"$f":"基礎データ!P4","v":"金山"},{"$f":"基礎データ!Q4","v":4.0000000000000002E-4},{"$f":"基礎データ!R4","v":"勝川"},null,{"$f":"IF(基礎データ!A6=0,\"\",基礎データ!A6)","v":""},null,{"$f":"INT((CX2-CX3*100000-CX4*10000)/1000)","v":{"$error":"#N/A"}},null,{"$f":"基礎データ!K2","v":"通勤同一"},{"$f":"VLOOKUP($BA$10,基礎データ!$A$3:$L$52,11,FALSE)","v":{"$error":"#N/A"}},{"$f":"VLOOKUP($BA$10,基礎データ!$A$3:$L$52,12,FALSE)","v":{"$error":"#N/A"}}]
["自家用車",null,null,null,null,null,null,null,null,null,null,null,null,null,null,null,null,null,null,null,null,null,null,null,null,null,null,null,null,null,null,null,null,null,null,null,null,null,null,null,null,null,null,null,null,null,null,null,null,null,null,null,null,null,null,null,null,null,null,null,null,null,null,null,null,null,null,null,null,null,null,null,null,null,null,null,null,null,null,null,null,null,null,null,null,null,null,null,null,4,{"$f":"基礎データ!V5","v":0},4,{"$f":"基礎データ!AA5","v":0},null,null,{"$f":"基礎データ!P5","v":"栄"},{"$f":"基礎データ!Q5","v":5.0000000000000001E-4},{"$f":"基礎データ!R5","v":"名古屋城"},null,{"$f":"IF(基礎データ!A7=0,\"\",基礎データ!A7)","v":""},null,{"$f":"INT((CX2-CX3*100000-CX4*10000-CX5*1000)/100)","v":{"$error":"#N/A"}},null,null,null,null,null,"旅行命令年月日"]
[null,null,null,null,null,null,null,null,null,null,null,null,null,null,null,null,null,null,null,null,null,null,null,null,null,null,null,null,null,null,null,null,null,null,null,null,null,null,null,null,null,null,null,null,null,null,null,null,null,null,null,null,null,null,null,null,null,null,null,null,null,null,null,null,null,null,null,null,null,null,null,null,null,null,null,null,null,null,null,null,null,null,null,null,null,null,null,null,null,5,{"$f":"基礎データ!V6","v":0},5,{"$f":"基礎データ!AA6","v":0},null,null,{"$f":"基礎データ!P6","v":"前後"},{"$f":"基礎データ!Q6","v":5.9999999999999995E-4},{"$f":"基礎データ!R6","v":"神沢駅"},null,{"$f":"IF(基礎データ!A8=0,\"\",基礎データ!A8)","v":""},null,{"$f":"INT((CX2-CX3*100000-CX4*10000-CX5*1000-CX6*100)/10)","v":{"$error":"#N/A"}},null,"通勤同一",{"$f":"IF(ISNA(VLOOKUP($CZ$7,$CZ$2:$DB$5,2,FALSE))=TRUE,\" \",VLOOKUP($CZ$7,$CZ$2:$DB$5,2,FALSE))","v":" "},{"$f":"IF(ISNA(VLOOKUP($CZ$7,$CZ$2:$DB$5,3,FALSE))=TRUE,\" \",VLOOKUP($CZ$7,$CZ$2:$DB$5,3,FALSE))","v":" "}]
["等使用承認欄",null,null,null,null,null,null,null,null,null,null,null,null,null,null,null,null,null,null,null,null,null,null,null,null,null,null,null,null,null,null,null,null,null,null,null,null,null,null,null,null,null,null,null,null,null,null,null,null,null,null,null,null,null,null,null,null,null,null,null,null,null,null,null,null,null,null,null,null,null,null,null,null,null,null,null,null,null,null,null,null,null,null,null,null,null,null,null,null,6,{"$f":"基礎データ!V7","v":0},6,{"$f":"基礎データ!AA7","v":0},null,null,{"$f":"基礎データ!P7","v":"センター前"},{"$f":"基礎データ!Q7","v":6.9999999999999999E-4},{"$f":"基礎データ!R7","v":"日比野"},null,{"$f":"IF(基礎データ!A9=0,\"\",基礎データ!A9)","v":""},null,{"$f":"CX2-CX3*100000-CX4*10000-CX5*1000-CX6*100-CX7*10","v":{"$error":"#N/A"}},null,null,{"$f":"IF(DA7=\" \",\" \",\"通勤同一：\"&DA7&\"～\"&DB7)","v":" "},null,null,{"$f":"IF(DF4=7,DD3-1,IF(DF4=1,DD3-2,DD3))","v":"1995-05-24"},null,{"$f":"DD8","v":34843}]
[null,null,null,null,null,null,null,null,null,null,null,null,null,null,null,null,null,null,null,null,null,null,null,null,null,null,null,null,null,null,null,null,null,null,null,null,null,null,null,null,null,null,null,null,null,null,null,null,null,null,null,null,null,null,null,null,null,null,null,null,null,null,null,null,null,null,null,null,null,null,null,null,null,null,null,null,null,null,null,null,null,null,null,null,null,null,null,null,null,7,{"$f":"基礎データ!V8","v":0},7,{"$f":"基礎データ!AA8","v":0},null,null,{"$f":"基礎データ!P8","v":"豊明団地"},{"$f":"基礎データ!Q8","v":8.0000000000000004E-4},{"$f":"基礎データ!R8","v":"住吉町"},null,{"$f":"IF(基礎データ!A10=0,\"\",基礎データ!A10)","v":""},null,"職名",null,null,null,null,null,null,null,{"$f":"WEEKDAY(DD8)","v":4}]
["所属名",null,null,null,null,null,null,null,null,null,"豊明市立中央小学校",null,null,null,null,null,null,null,null,null,null,null,null,null,null,null,null,null,null,"職名",null,null,null,{"$f":"CX10","v":{"$error":"#N/A"}},null,null,null,null,null,null,null,null,null,null,null,"氏名",null,null,null,null,null,null,"テスト",null,null,null,null,null,null,null,null,null,null,null,null,null,null,null,null,null,null,null,null,null,null,null,null,null,null,null,null,null,null,null,null,null,null,null,null,8,{"$f":"基礎データ!V9","v":0},8,{"$f":"基礎データ!AA9","v":0},null,null,{"$f":"基礎データ!P9","v":"名古屋"},{"$f":"基礎データ!Q9","v":8.9999999999999998E-4},{"$f":"基礎データ!R9","v":"名鉄名古屋"},null,{"$f":"IF(基礎データ!A11=0,\"\",基礎データ!A11)","v":""},null,{"$f":"VLOOKUP($BA$10,基礎データ!$A$3:$L$52,2,FALSE)","v":{"$error":"#N/A"}}]
[null,null,null,null,null,null,null,null,null,null,null,null,null,null,null,null,null,null,null,null,null,null,null,null,null,null,null,null,null,null,null,null,null,null,null,null,null,null,null,null,null,null,null,null,null,null,null,null,null,null,null,null,null,null,null,null,null,null,null,null,null,null,null,null,null,null,null,null,null,null,null,null,null,null,null,null,null,null,null,null,null,null,null,null,null,null,null,null,null,9,{"$f":"基礎データ!V10","v":0},9,{"$f":"基礎データ!AA10","v":0},null,null,{"$f":"基礎データ!P10","v":"市役所"},{"$f":"基礎データ!Q10","v":1E-3},{"$f":"基礎データ!R10","v":"星ヶ丘"},null,{"$f":"IF(基礎データ!A12=0,\"\",基礎データ!A12)","v":""},null,"自宅住所"]
["旅行期間",null,null,null,null,null,null,null,null,null,{"$f":"+IF(O12=31,\"平成\",\"令和\")","v":"令和"},null,null,null,7,null,null,null,"年",null,5,null,null,null,"月",25,null,null,"日～",null,null,"令和",null,null,null,null,null,null,null,null,"年",null,null,null,null,null,null,null,"月",null,null,null,null,null,null,null,null,"日（",null,null,null,null,null,null,null,null,null,null,"泊",null,null,null,{"$f":"基礎データ!$CC$10","v":1},null,null,null,null,"日）",null,null,null,null,null,null,null,null,null,null,null,10,{"$f":"基礎データ!V11","v":0},10,{"$f":"基礎データ!AA11","v":0},null,null,{"$f":"基礎データ!P11","v":"伏見"},{"$f":"基礎データ!Q11","v":1.1000000000000001E-3},{"$f":"基礎データ!R11","v":"山ノ神"},null,{"$f":"IF(基礎データ!A13=0,\"\",基礎データ!A13)","v":""},null,{"$f":"VLOOKUP($BA$10,基礎データ!$A$3:$L$52,4,FALSE)","v":{"$error":"#N/A"}}]
["用務",null,null,null,null,null,null,null,null,null,null,null,null,null,null,null,"用務先",null,null,null,null,null,null,null,null,null,null,null,null,null,null,null,null,null,null,null,null,null,null,null,null,null,null,null,null,null,null,null,null,null,"泊数",null,null,null,null,null,null,null,null,null,"宿泊費",null,null,null,null,null,null,null,null,null,"朝食",null,null,null,null,null,null,null,"夕食",null,null,null,null,null,null,null,null,null,null,11,{"$f":"基礎データ!V12","v":0},11,{"$f":"基礎データ!AA12","v":0},null,null,{"$f":"基礎データ!P12","v":"有松"},{"$f":"基礎データ!Q12","v":1.1999999999999999E-3},{"$f":"基礎データ!R12","v":"野並"},null,{"$f":"IF(基礎データ!A14=0,\"\",基礎データ!A14)","v":""}]
["任意団体が主催の出張は（協議題）も記入",null,null,null,null,null,null,null,null,null,null,null,null,null,null,null,"リストにない場合は市町名［名古屋市は区も］を入力。　後に官公庁は(官公庁名)を記入。違う場合は住所を入力。",null,null,null,null,null,null,null,null,null,null,null,null,null,null,null,null,null,null,null,null,null,null,null,null,null,null,null,null,null,null,null,null,null,null,null,null,null,null,null,null,null,null,null,null,null,null,null,null,null,null,null,null,null,null,null,null,null,null,null,null,null,null,null,null,null,null,null,null,null,null,null,null,12,{"$f":"基礎データ!V13","v":0},12,{"$f":"基礎データ!AA13","v":0},null,null,"２乗車駅","３乗車駅","４乗車駅",null,{"$f":"IF(基礎データ!A15=0,\"\",基礎データ!A15)","v":""},null,"通勤手当利用調整１"]
["読書感想文全国コンクール愛知地区審査会",null,null,null,null,null,null,null,null,null,null,null,null,null,null,null,"①",null,"日進市（日進市民会館）",null,null,null,null,null,null,null,null,null,null,null,null,null,null,null,null,null,null,null,null,null,null,null,null,null,null,null,null,null,null,null,null,null,null,null,null,null,null,null,"泊",null,null,null,null,null,null,null,null,null,"円",null,null,null,null,null,null,null,null,null,null,null,null,null,null,null,null,null,"その他の標準文言",null,null,13,{"$f":"基礎データ!V14","v":0},13,{"$f":"基礎データ!AA14","v":0},null,null,null,null,null,null,{"$f":"IF(基礎データ!A16=0,\"\",基礎データ!A16)","v":""},null,{"$f":"CY15","v":0},{"$f":"IF(DA15=0,0,1)","v":0},{"$f":"CZ2","v":"名鉄"},{"$f":"IF(OR($AB$29=$CZ15,$AD$29=$CZ15,$AB$30=$CZ15,$AD$30=$CZ15,$AB$31=$CZ15,$AD$31=$CZ15,$AB$32=$CZ15,$AD$32=$CZ15,$AB$33=$CZ15,$AD$33=$CZ15,$AB$34=$CZ15,$AD$34=$CZ15,$AB$35=$CZ15,$AD$35=CZ15,$AB$36=$CZ15,$AD$36=$CZ15,$AB$37=$CZ15,$AD$37=$CZ15,$AB$38=$CZ15,$AD$38=$CZ15),DA2,0)","v":0},{"$f":"IF(DA15>0,DB2,0)","v":0}]
[null,null,null,null,null,null,null,null,null,null,null,null,null,null,null,null,"②",null,null,null,null,null,null,null,null,null,null,null,null,null,null,null,null,null,null,null,null,null,null,null,null,null,null,null,null,null,null,null,null,null,null,null,null,null,null,null,null,null,"泊",null,null,null,null,null,null,null,null,null,"円",null,null,null,null,null,null,null,null,null,null,null,null,null,null,null,null,null,"公務時間の確保",null,null,14,{"$f":"基礎データ!V15","v":0},14,{"$f":"基礎データ!AA15","v":0},null,null,{"$f":"T29","v":0},{"$f":"T30","v":0},{"$f":"T31","v":0},null,{"$f":"IF(基礎データ!A17=0,\"\",基礎データ!A17)","v":""},null,{"$f":"IF(CY16=0,0,CX15+1)","v":0},{"$f":"IF(DA16=0,0,1)","v":0},{"$f":"CZ3","v":"地下鉄"},{"$f":"IF(OR($AB$29=$CZ16,$AD$29=$CZ16,$AB$30=$CZ16,$AD$30=$CZ16,$AB$31=$CZ16,$AD$31=$CZ16,$AB$32=$CZ16,$AD$32=$CZ16,$AB$33=$CZ16,$AD$33=$CZ16,$AB$34=$CZ16,$AD$34=$CZ16,$AB$35=$CZ16,$AD$35=CZ16,$AB$36=$CZ16,$AD$36=$CZ16,$AB$37=$CZ16,$AD$37=$CZ16,$AB$38=$CZ16,$AD$38=$CZ16),DA3,0)","v":0},{"$f":"IF(DA16>0,DB3,0)","v":0}]
[null,null,null,null,null,null,null,null,null,null,null,null,null,null,null,null,"③",null,null,null,null,null,null,null,null,null,null,null,null,null,null,null,null,null,null,null,null,null,null,null,null,null,null,null,null,null,null,null,null,null,null,null,null,null,null,null,null,null,"泊",null,null,null,null,null,null,null,null,null,"円",null,null,null,null,null,null,null,null,null,null,null,null,null,null,null,null,null,null,null,null,15,{"$f":"基礎データ!V16","v":0},15,{"$f":"基礎データ!AA16","v":0},null,null,{"$f":"基礎データ!$P2","v":"赤池"},{"$f":"基礎データ!$P2","v":"赤池"},{"$f":"基礎データ!$P2","v":"赤池"},null,{"$f":"IF(基礎データ!A18=0,\"\",基礎データ!A18)","v":""},null,{"$f":"IF(CY17=0,0,CY15+CY16+1)","v":0},{"$f":"IF(DA17=0,0,1)","v":0},{"$f":"CZ4","v":"ＪＲ"},{"$f":"IF(OR($AB$29=$CZ17,$AD$29=$CZ17,$AB$30=$CZ17,$AD$30=$CZ17,$AB$31=$CZ17,$AD$31=$CZ17,$AB$32=$CZ17,$AD$32=$CZ17,$AB$33=$CZ17,$AD$33=$CZ17,$AB$34=$CZ17,$AD$34=$CZ17,$AB$35=$CZ17,$AD$35=CZ17,$AB$36=$CZ17,$AD$36=$CZ17,$AB$37=$CZ17,$AD$37=$CZ17,$AB$38=$CZ17,$AD$38=$CZ17),DA4,0)","v":0},{"$f":"IF(DA17>0,DB4,0)","v":0}]
[null,null,null,null,null,null,null,null,null,null,null,null,null,null,null,null,"④",null,null,null,null,null,null,null,null,null,null,null,null,null,null,null,null,null,null,null,null,null,null,null,null,null,null,null,null,null,null,null,null,null,null,null,null,null,null,null,null,null,"泊",null,null,null,null,null,null,null,null,null,"円",null,null,null,null,null,null,null,null,null,null,null,null,null,null,null,null,null,null,"よく使うとこ",null,16,{"$f":"基礎データ!V17","v":0},16,{"$f":"基礎データ!AA17","v":0},null,null,{"$f":"基礎データ!P3","v":"学校"},{"$f":"基礎データ!$P3","v":"学校"},{"$f":"基礎データ!$P3","v":"学校"},null,{"$f":"IF(基礎データ!A19=0,\"\",基礎データ!A19)","v":""},null,{"$f":"IF(CY18=0,0,CY15+CY16+CY17+1)","v":0},{"$f":"IF(DA18=0,0,1)","v":0},{"$f":"CZ5","v":"通勤同一"},{"$f":"IF(OR($AB$29=$CZ18,$AD$29=$CZ18,$AB$30=$CZ18,$AD$30=$CZ18,$AB$31=$CZ18,$AD$31=$CZ18,$AB$32=$CZ18,$AD$32=$CZ18,$AB$33=$CZ18,$AD$33=$CZ18,$AB$34=$CZ18,$AD$34=$CZ18,$AB$35=$CZ18,$AD$35=CZ18,$AB$36=$CZ18,$AD$36=$CZ18,$AB$37=$CZ18,$AD$37=$CZ18,$AB$38=$CZ18,$AD$38=$CZ18),DA5,0)","v":0},{"$f":"IF(DA18>0,DB5,0)","v":0}]
[null,null,null,null,null,null,null,null,null,null,null,null,null,null,null,null,"⑤",null,null,null,null,null,null,null,null,null,null,null,null,null,null,null,null,null,null,null,null,null,null,null,null,null,null,null,null,null,null,null,null,null,null,null,null,null,null,null,null,null,"泊",null,null,null,null,null,null,null,null,null,"円",null,null,null,null,null,null,null,null,null,null,null,null,null,null,null,null,null,null,null,null,17,{"$f":"基礎データ!V18","v":0},17,{"$f":"基礎データ!AA18","v":0},null,null,{"$f":"基礎データ!P4","v":"金山"},{"$f":"基礎データ!$P4","v":"金山"},{"$f":"基礎データ!$P4","v":"金山"},null,{"$f":"IF(基礎データ!A20=0,\"\",基礎データ!A20)","v":""},null,{"$f":"MAX(CX15:CX18)+1","v":1}]
[null,null,null,null,null,null,null,null,null,null,null,null,null,null,null,null,"⑥",null,null,null,null,null,null,null,null,null,null,null,null,null,null,null,null,null,null,null,null,null,null,null,null,null,null,null,null,null,null,null,null,null,null,null,null,null,null,null,null,null,"泊",null,null,null,null,null,null,null,null,null,"円",null,null,null,null,null,null,null,null,null,null,null,null,null,null,null,null,null,null,null,null,18,{"$f":"基礎データ!V19","v":0},18,{"$f":"基礎データ!AA19","v":0},null,null,{"$f":"基礎データ!P5","v":"栄"},{"$f":"基礎データ!$P5","v":"栄"},{"$f":"基礎データ!$P5","v":"栄"},null,{"$f":"IF(基礎データ!A21=0,\"\",基礎データ!A21)","v":""},null,{"$f":"MAX(CX16:CX19)+1","v":2}]
["方法",null,null,null,null,null,"全経路公用車",null,null,null,null,null,null,null,null,null,null,"全経路自家用車",null,null,null,null,null,null,null,null,null,null,null,null,null,null,null,null,"ｷﾛ",null,null,null,null,null,null,null,"全経路自家用車同乗",null,null,null,null,null,null,null,null,null,null,null,null,null,null,null,null,null,null,null,null,null,"全経路徒歩（自転車）",null,null,null,null,null,null,null,null,null,null,null,null,null,null,null,null,null,null,null,null,null,null,null,null,19,{"$f":"基礎データ!V20","v":0},19,{"$f":"基礎データ!AA20","v":0},null,null,{"$f":"基礎データ!P6","v":"前後"},{"$f":"基礎データ!$P6","v":"前後"},{"$f":"基礎データ!$P6","v":"前後"},null,{"$f":"IF(基礎データ!A22=0,\"\",基礎データ!A22)","v":""},null,{"$f":"MAX(CX17:CX20)+1","v":3}]
[null,null,null,null,null,null,null,null,null,null,null,null,null,null,null,"×",null,null,null,null,null,null,null,null,null,null,null,null,null,null,null,null,null,null,null,null,null,null,null,null,null,null,null,null,null,null,null,null,null,null,null,null,null,null,null,null,null,null,null,null,null,null,null,null,null,null,null,null,null,null,null,null,null,null,null,null,null,null,null,null,null,null,null,null,null,null,null,"たまに使うとこ",null,20,{"$f":"基礎データ!V21","v":0},20,{"$f":"基礎データ!AA21","v":0},null,null,{"$f":"基礎データ!P7","v":"センター前"},{"$f":"基礎データ!$P7","v":"センター前"},{"$f":"基礎データ!$P7","v":"センター前"},null,{"$f":"IF(基礎データ!A23=0,\"\",基礎データ!A23)","v":""},null,{"$f":"MAX(CX18:CX21)+1","v":4}]
[null,null,null,null,null,null,null,null,null,null,null,null,null,null,null,null,null,null,null,null,null,null,null,null,null,null,null,null,null,null,null,null,null,null,null,null,null,null,null,null,null,null,null,null,null,null,null,null,null,null,null,null,null,null,null,null,null,null,null,null,null,null,null,null,null,null,null,null,null,null,null,null,null,null,null,null,null,null,null,null,null,null,null,null,null,null,null,null,null,21,{"$f":"基礎データ!V22","v":0},21,{"$f":"基礎データ!AA22","v":0},null,null,{"$f":"基礎データ!P8","v":"豊明団地"},{"$f":"基礎データ!$P8","v":"豊明団地"},{"$f":"基礎データ!$P8","v":"豊明団地"},null,{"$f":"IF(基礎データ!A24=0,\"\",基礎データ!A24)","v":""}]
["出発地",null,null,null,null,null,"公署 (",null,null,null,null,null,null,null,null,"）","所属以外の公署から出発するときのみ記入",null,null,null,null,null,null,null,null,null,null,null,null,null,null,null,null,null,null,null,null,null,null,null,null,null,null,null,null,null,null,null,null,null,null,null,null,null,null,null,null,null,null,null,null,null,null,null,null,null,"往復",null,null,null,null,null,null,null,null,null,null,null,null,null,null,null,null,null,null,null,null,null,null,22,{"$f":"基礎データ!V23","v":0},22,{"$f":"基礎データ!AA23","v":0},null,null,{"$f":"基礎データ!P9","v":"名古屋"},{"$f":"基礎データ!$P9","v":"名古屋"},{"$f":"基礎データ!$P9","v":"名古屋"},null,{"$f":"IF(基礎データ!A25=0,\"\",基礎データ!A25)","v":""},null,"日数",{"$f":"IF(BU12>0,BU12,IF((AK12+AS12+BA12)=0,1,0))","v":1}]
[null,null,null,null,"×",null,null,null,null,null,null,null,null,null,null,null,null,null,null,null,null,null,null,null,null,null,null,null,null,null,null,null,null,null,null,"自宅",null,null,"（",null,{"$f":"IF(AG25=\"×\",VLOOKUP(BA10,基礎データ!$A$2:$D$102,4,FALSE),\"\")","v":""},null,null,null,null,null,null,null,null,"）",null,null,null,null,null,null,null,null,null,null,null,null,null,"×",null,null,null,null,null,null,null,null,null,null,null,null,null,null,null,null,null,null,null,null,null,null,null,null,null,23,{"$f":"基礎データ!V24","v":0},23,{"$f":"基礎データ!AA24","v":0},null,null,{"$f":"基礎データ!P10","v":"市役所"},{"$f":"基礎データ!$P10","v":"市役所"},{"$f":"基礎データ!$P10","v":"市役所"},null,{"$f":"IF(基礎データ!A26=0,\"\",基礎データ!A26)","v":""},null,"公署発",{"$f":"IF(E25=\"×\",1,0)","v":1},"公署着",{"$f":"IF(F40=\"×\",1,0)","v":0}]
[null,null,null,null,null,null,null,null,null,null,null,null,null,null,null,null,null,null,null,null,null,null,null,null,null,null,null,null,null,null,null,null,null,null,null,null,null,null,null,null,null,null,null,null,null,null,null,null,null,null,null,null,null,null,null,null,null,null,null,null,null,null,null,null,null,null,null,null,null,null,null,null,null,null,null,null,null,null,null,null,null,null,null,null,null,null,null,null,null,24,{"$f":"基礎データ!V25","v":0},24,{"$f":"基礎データ!AA25","v":0},null,null,{"$f":"基礎データ!P11","v":"伏見"},{"$f":"基礎データ!$P11","v":"伏見"},{"$f":"基礎データ!$P11","v":"伏見"},null,{"$f":"IF(基礎データ!A27=0,\"\",基礎データ!A27)","v":""},null,"公署発同日",{"$f":"IF(AND(CY24=1,CY25=1),1,0)","v":1},"公署着同日",{"$f":"IF(AND(CY24=1,DA25=1),1,0)","v":0}]
["旅行経路",null,"経路内容（駅、バス停名等）",null,null,null,null,null,null,null,null,null,null,null,null,null,null,null,null,null,null,null,null,null,null,null,null,"鉄道等移動方法",null,null,null,null,null,null,null,null,null,null,null,null,null,"バス",null,null,null,null,null,null,null,null,"回数券",null,null,null,null,"公用車",null,null,null,null,"自家用車",null,null,null,null,null,null,null,null,null,null,null,null,null,null,"タクシー",null,null,null,null,null,null,null,null,null,null,null,null,null,25,{"$f":"基礎データ!V26","v":0},25,{"$f":"基礎データ!AA26","v":0},null,null,{"$f":"基礎データ!P12","v":"有松"},{"$f":"基礎データ!$P12","v":"有松"},{"$f":"基礎データ!$P12","v":"有松"},null,{"$f":"IF(基礎データ!A28=0,\"\",基礎データ!A28)","v":""}]
[null,"経路順","どこから",null,null,null,null,null,null,"乗り換え二つ以上は○○／△△",null,null,null,null,null,null,null,null,null,"どこまで",null,null,null,null,null,null,null,"バス,車使用,同乗,等もここで選ぶ",null,null,null,null,null,null,null,null,null,null,null,null,null,null,null,null,null,null,null,null,null,null,null,null,null,null,null,null,null,null,null,null,"車使用,同乗,通勤同一",null,null,null,null,null,null,null,null,null,null,null,null,null,null,null,null,null,null,null,null,null,null,null,null,null,null,null,null,26,{"$f":"基礎データ!V27","v":0},26,{"$f":"基礎データ!AA27","v":0},null,null,"５乗車駅","６乗車駅","７乗車駅",null,{"$f":"IF(基礎データ!A29=0,\"\",基礎データ!A29)","v":""},null,{"$f":"CR62&CS62","v":"地下鉄1"},"移動方法"]
[null,null,null,null,null,null,null,null,null,"－（",null,null,null,null,null,null,null,"）－",null,null,null,null,null,null,null,null,null,null,null,null,null,"（",null,null,null,null,null,null,null,"）",null,null,{"$f":"IF(OR($CY29=9,$CZ29=9),\"×\",\" \")","v":" "},null,null,null,null,null,null,"円",null,{"$f":"IF(OR($CY29=5,$CZ29=5),\"×\",\" \")","v":" "},null,null,null,null,{"$f":"IF(OR($CY29=11,$CZ29=11),\"×\",\" \")","v":" "},null,null,null,{"$f":"IF(OR($CY29=6,$CZ29=6,CY29=7,CZ29=7,CY29=8,CZ29=8),\"×\",\" \")","v":" "},null,null,null,null,null,null,null,null,null,null,null,"ｷﾛ",null,null,{"$f":"IF(OR($CY29=10,$CZ29=10),\"×\",\" \")","v":" "},null,null,null,null,null,null,null,null,"円",null,null,null,null,27,{"$f":"基礎データ!V28","v":0},27,{"$f":"基礎データ!AA28","v":0},null,null,null,null,null,null,{"$f":"IF(基礎データ!A30=0,\"\",基礎データ!A30)","v":""},null,"名鉄2",{"$f":"VLOOKUP(AB29,$CR$61:$CS$72,2,FALSE)","v":0},{"$f":"VLOOKUP(AD29,$CR$61:$CS$72,2,FALSE)","v":0},null,"通勤同一"]
[null,null,null,null,null,null,null,null,null,"－（",null,null,null,null,null,null,null,"）－",null,null,null,null,null,null,null,null,null,null,null,null,null,"（",null,null,null,null,null,null,null,"）",null,null,{"$f":"IF(OR(CY30=9,CZ30=9),\"×\",\" \")","v":" "},null,null,null,null,null,null,"円",null," ",null,null,null,null,{"$f":"IF(OR($CY30=11,$CZ30=11),\"×\",\" \")","v":" "},null,null,null,{"$f":"IF(OR($CY30=6,$CZ30=6,CY30=7,CZ30=7,CY30=8,CZ30=8),\"×\",\" \")","v":" "},null,null,null,null,null,null,null,null,null,null,null,"ｷﾛ",null,null,{"$f":"IF(OR($CY30=10,$CZ30=10),\"×\",\" \")","v":" "},null,null,null,null,null,null,null,null,"円",null,null,null,null,28,{"$f":"基礎データ!V29","v":0},28,{"$f":"基礎データ!AA29","v":0},null,null,{"$f":"T32","v":0},{"$f":"T33","v":0},{"$f":"T34","v":0},null,{"$f":"IF(基礎データ!A31=0,\"\",基礎データ!A31)","v":""},null,"近鉄3",0,0,null,{"$f":"COUNTIF(CY29:CZ38,6)","v":0}]
[null,null,null,null,null,null,null,null,null,"－（",null,null,null,null,null,null,null,"）－",null,null,null,null,null,null,null,null,null,null,null,null,null,"（",null,null,null,null,null,null,null,"）",null,null," ",null,null,null,null,null,null,"円",null," ",null,null,null,null," ",null,null,null," ",null,null,null,null,null,null,null,null,null,null,null,"ｷﾛ",null,null," ",null,null,null,null,null,null,null,null,"円",null,null,null,null,29,{"$f":"基礎データ!V30","v":0},29,{"$f":"基礎データ!AA30","v":0},null,null,{"$f":"基礎データ!$P2","v":"赤池"},{"$f":"基礎データ!$P2","v":"赤池"},{"$f":"基礎データ!$P2","v":"赤池"},null,{"$f":"IF(基礎データ!A32=0,\"\",基礎データ!A32)","v":""},null,"JR4",0,0,null,"車使用"]
[null,null,null,null,null,null,null,null,null,"－（",null,null,null,null,null,null,null,"）－",null,null,null,null,null,null,null,null,null,null,null,null,null,"（",null,null,null,null,null,null,null,"）",null,null,{"$f":"IF(OR(CY32=9,CZ32=9),\"×\",\" \")","v":" "},null,null,null,null,null,null,"円",null," ",null,null,null,null," ",null,null,null," ",null,null,null,null,null,null,null,null,null,null,null,"ｷﾛ",null,null," ",null,null,null,null,null,null,null,null,"円",null,null,null,null,30,{"$f":"基礎データ!V31","v":0},30,{"$f":"基礎データ!AA31","v":0},null,null,{"$f":"基礎データ!$P3","v":"学校"},{"$f":"基礎データ!$P3","v":"学校"},{"$f":"基礎データ!$P3","v":"学校"},null,{"$f":"IF(基礎データ!A33=0,\"\",基礎データ!A33)","v":""},null,"回数券5",0,0,null,{"$f":"COUNTIF(CY29:CZ38,7)","v":0}]
[null,null,null,null,null,null,null,null,null,"－（",null,null,null,null,null,null,null,"）－",null,null,null,null,null,null,null,null,null,null,null,null,null,"（",null,null,null,null,null,null,null,"）",null,null,{"$f":"IF(OR(CY33=9,CZ33=9),\"×\",\" \")","v":" "},null,null,null,null,null,null,"円",null," ",null,null,null,null," ",null,null,null," ",null,null,null,null,null,null,null,null,null,null,null,"ｷﾛ",null,null," ",null,null,null,null,null,null,null,null,"円",null,null,null,null,31,{"$f":"基礎データ!V32","v":0},31,{"$f":"基礎データ!AA32","v":0},null,null,{"$f":"基礎データ!$P4","v":"金山"},{"$f":"基礎データ!$P4","v":"金山"},{"$f":"基礎データ!$P4","v":"金山"},null,{"$f":"IF(基礎データ!A34=0,\"\",基礎データ!A34)","v":""},null,"通勤同一6",0,0,null,"全経路車使用"]
[null,null,null,null,null,null,null,null,null,"－（",null,null,null,null,null,null,null,"）－",null,null,null,null,null,null,null,null,null,null,null,null,null,"（",null,null,null,null,null,null,null,"）",null,null,{"$f":"IF(OR(CY34=9,CZ34=9),\"×\",\" \")","v":" "},null,null,null,null,null,null,"円",null," ",null,null,null,null," ",null,null,null," ",null,null,null,null,null,null,null,null,null,null,null,"ｷﾛ",null,null," ",null,null,null,null,null,null,null,null,"円",null,null,null,null,32,{"$f":"基礎データ!V33","v":0},32,{"$f":"基礎データ!AA33","v":0},null,null,{"$f":"基礎データ!$P5","v":"栄"},{"$f":"基礎データ!$P5","v":"栄"},{"$f":"基礎データ!$P5","v":"栄"},null,{"$f":"IF(基礎データ!A35=0,\"\",基礎データ!A35)","v":""},null,"車使用7",0,0,null,{"$f":"IF(P22=\"×\",1,0)","v":1}]
[null,null,null,null,null,null,null,null,null,"－（",null,null,null,null,null,null,null,"）－",null,null,null,null,null,null,null,null,null,null,null,null,null,"（",null,null,null,null,null,null,null,"）",null,null,{"$f":"IF(OR(CY35=9,CZ35=9),\"×\",\" \")","v":" "},null,null,null,null,null,null,"円",null," ",null,null,null,null," ",null,null,null," ",null,null,null,null,null,null,null,null,null,null,null,"ｷﾛ",null,null," ",null,null,null,null,null,null,null,null,"円",null,null,null,null,33,{"$f":"基礎データ!V34","v":0},33,{"$f":"基礎データ!AA34","v":0},null,null,{"$f":"基礎データ!$P6","v":"前後"},{"$f":"基礎データ!$P6","v":"前後"},{"$f":"基礎データ!$P6","v":"前後"},null,{"$f":"IF(基礎データ!A36=0,\"\",基礎データ!A36)","v":""},null,"車同乗8",0,0,null,"車同乗"]
[null,null,null,null,null,null,null,null,null,"－（",null,null,null,null,null,null,null,"）－",null,null,null,null,null,null,null,null,null,null,null,null,null,"（",null,null,null,null,null,null,null,"）",null,null,{"$f":"IF(OR(CY36=9,CZ36=9),\"×\",\" \")","v":" "},null,null,null,null,null,null,"円",null," ",null,null,null,null," ",null,null,null," ",null,null,null,null,null,null,null,null,null,null,null,"ｷﾛ",null,null," ",null,null,null,null,null,null,null,null,"円",null,null,null,null,34,{"$f":"基礎データ!V35","v":0},34,{"$f":"基礎データ!AA35","v":0},null,null,{"$f":"基礎データ!$P7","v":"センター前"},{"$f":"基礎データ!$P7","v":"センター前"},{"$f":"基礎データ!$P7","v":"センター前"},null,{"$f":"IF(基礎データ!A37=0,\"\",基礎データ!A37)","v":""},null,"バス9",0,0,null,{"$f":"COUNTIF(CY29:CZ38,8)","v":0}]
[null,null,null,null,null,null,null,null,null,"－（",null,null,null,null,null,null,null,"）－",null,null,null,null,null,null,null,null,null,null,null,null,null,"（",null,null,null,null,null,null,null,"）",null,null," ",null,null,null,null,null,null,"円",null," ",null,null,null,null," ",null,null,null," ",null,null,null,null,null,null,null,null,null,null,null,"ｷﾛ",null,null," ",null,null,null,null,null,null,null,null,"円",null,null,null,null,35,{"$f":"基礎データ!V36","v":0},35,{"$f":"基礎データ!AA36","v":0},null,null,{"$f":"基礎データ!$P8","v":"豊明団地"},{"$f":"基礎データ!$P8","v":"豊明団地"},{"$f":"基礎データ!$P8","v":"豊明団地"},null,{"$f":"IF(基礎データ!A38=0,\"\",基礎データ!A38)","v":""},null,"タクシー10",0,0,null,"全経路車同乗"]
[null,null,null,null,null,null,null,null,null,"－（",null,null,null,null,null,null,null,"）－",null,null,null,null,null,null,null,null,null,null,null,null,null,"（",null,null,null,null,null,null,null,"）",null,null," ",null,null,null,null,null,null,"円",null," ",null,null,null,null," ",null,null,null," ",null,null,null,null,null,null,null,null,null,null,null,"ｷﾛ",null,null," ",null,null,null,null,null,null,null,null,"円",null,null,null,null,36,{"$f":"基礎データ!V37","v":0},36,{"$f":"基礎データ!AA37","v":0},null,null,{"$f":"基礎データ!$P9","v":"名古屋"},{"$f":"基礎データ!$P9","v":"名古屋"},{"$f":"基礎データ!$P9","v":"名古屋"},null,{"$f":"IF(基礎データ!A39=0,\"\",基礎データ!A39)","v":""},null,"公用車11",0,0,null,{"$f":"IF(AN22=\"×\",1,0)","v":0}]
["帰着地",null,null,null,null,null,null,null,null,null,null,null,null,null,null,null,null,null,null,null,null,null,null,null,null,null,null,null,null,null,null,null,null,null,null,null,null,null,null,null,null,null,null,null,null,null,null,null,null,null,null,null,null,null,"）",null,null,null,null,null,null,null,null,null,null,null,null,null,null,null,null,null,null,null,null,null,null,null,null,null,null,null,null,null,null,null,null,null,null,37,{"$f":"基礎データ!V38","v":0},37,{"$f":"基礎データ!AA38","v":0},null,null,{"$f":"基礎データ!$P10","v":"市役所"},{"$f":"基礎データ!$P10","v":"市役所"},{"$f":"基礎データ!$P10","v":"市役所"},null,{"$f":"IF(基礎データ!A40=0,\"\",基礎データ!A40)","v":""}]
[null,null,null,null,null,null,null,"公署 (",null,null,null,null,null,null,null,null,null,null,"）","所属以外の公署から帰着するときのみ記入",null,null,null,null,null,null,null,null,null,null,null,null,null,null,null,null,null,null,null,"自宅　（",null,null,null,null,null,{"$f":"IF(AL40=\"×\",CX12,0)","v":0},null,null,null,null,null,null,null,null,null,null,null,null,null,null,null,null,null,null,null,null,null,null,null,null,null,null,null,null,null,null,null,null,null,null,null,null,null,null,null,null,null,null,null,38,{"$f":"基礎データ!V39","v":0},38,{"$f":"基礎データ!AA39","v":0},null,null,{"$f":"基礎データ!$P11","v":"伏見"},{"$f":"基礎データ!$P11","v":"伏見"},{"$f":"基礎データ!$P11","v":"伏見"},null,{"$f":"IF(基礎データ!A41=0,\"\",基礎データ!A41)","v":""}]
[null,null,null,null,null,"↓通勤手当利用調整を変更する場合は下の黄色のセルに入力、消す場合は０を入力",null,null,null,null,null,null,null,null,null,null,null,null,null,null,null,null,null,null,null,null,null,null,null,null,null,null,null,null,null,null,null,null,null,null,null,null,null,null,null,null,null,null,null,null,null,null,null,null,null,null,null,null,null,null,null,null,null,null,null,null,null,null,null,null,null,null,null,null,null,null,null,null,null,null,null,null,null,null,null,null,null,null,null,39,{"$f":"基礎データ!V40","v":0},39,{"$f":"基礎データ!AA40","v":0},null,null,{"$f":"基礎データ!$P12","v":"有松"},{"$f":"基礎データ!$P12","v":"有松"},{"$f":"基礎データ!$P12","v":"有松"},null,{"$f":"IF(基礎データ!A42=0,\"\",基礎データ!A42)","v":""},null,"通勤手当利用調整変更"]
["通勤手当利用調整",null,null,null,null,{"$f":"IF(CX42=FALSE,F43,VLOOKUP(1,$CX$15:$DB$22,4,FALSE))","v":0},null,null,null,null,null,null,"－",null,{"$f":"IF(CY42=FALSE,O43,VLOOKUP(1,$CX$15:$DB$22,5,FALSE))","v":0},null,null,null,null,null,null,null,null,{"$f":"IF(CZ42=FALSE,X43,VLOOKUP(2,$CX$15:$DB$22,4,FALSE))","v":0},null,null,null,null,null,"－",{"$f":"IF(DA42=FALSE,AE43,VLOOKUP(2,$CX$15:$DB$22,5,FALSE))","v":0},null,null,null,null,null,null,null,null,null,"プリペイドカード（公用）利用調整\n（合計額を記入）",null,null,null,null,null,null,null,null,null,null,null,null,null,null,null,null,null,null,null,null,null,null,null,null,null,null,null,null,null,null,null,null,null,null,null,null,null,null,null,null,null,null,"円",null,null,null,null,null,40,{"$f":"基礎データ!V41","v":0},40,{"$f":"基礎データ!AA41","v":0},null,null,"８乗車駅","９乗車駅","１０乗車駅",null,{"$f":"IF(基礎データ!A43=0,\"\",基礎データ!A43)","v":""},null,{"$f":"ISBLANK(F43)","v":true},{"$f":"ISBLANK(O43)","v":true},{"$f":"ISBLANK(X43)","v":true},{"$f":"ISBLANK(AE43)","v":true}]
["定期券・回数券・自家用車",null,null,null,null,null,null,null,null,null,null,null,null,null,null,null,null,null,null,null,null,null,null,null,null,null,null,null,null,null,null,null,null,null,null,null,null,null,null,null,null,null,null,null,null,null,null,null,null,null,null,null,null,null,null,null,null,null,null,null,null,null,null,null,null,null,null,null,null,null,null,null,null,null,null,null,null,null,null,null,null,null,null,null,null,null,null,null,null,41,{"$f":"基礎データ!V42","v":0},41,{"$f":"基礎データ!AA42","v":0},null,null,null,null,null,null,{"$f":"IF(基礎データ!A44=0,\"\",基礎データ!A44)","v":""}]
[null,null,null,null,null,{"$f":"IF(CX44=FALSE,F45,VLOOKUP(3,$CX$15:$DB$22,4,FALSE))","v":0},null,null,null,null,null,null,"－",null,{"$f":"IF(CY44=FALSE,O45,VLOOKUP(3,$CX$15:$DB$22,5,FALSE))","v":0},null,null,null,null,null,null,null,null,{"$f":"IF(CZ44=FALSE,X45,VLOOKUP(4,$CX$15:$DB$22,4,FALSE))","v":0},null,null,null,null,null,"－",{"$f":"IF(DA44=FALSE,AE45,VLOOKUP(4,$CX$15:$DB$22,5,FALSE))","v":0},null,null,null,null,null,null,null,null,null,null,null,null,null,null,null,null,null,null,null,null,null,null,null,null,null,null,null,null,null,null,null,null,null,null,null,null,null,null,null,null,null,null,null,null,null,null,null,null,null,null,null,null,null,null,null,null,null,null,42,{"$f":"基礎データ!V43","v":0},42,{"$f":"基礎データ!AA43","v":0},null,null,{"$f":"T35","v":0},{"$f":"T36","v":0},{"$f":"T37","v":0},null,{"$f":"IF(基礎データ!A45=0,\"\",基礎データ!A45)","v":""},null,{"$f":"ISBLANK(F45)","v":true},{"$f":"ISBLANK(O45)","v":true},{"$f":"ISBLANK(X45)","v":true},{"$f":"ISBLANK(AE45)","v":true}]
["（重複区間を記載）",null,null,null,null,null,null,null,null,null,null,null,"－",null,null,null,null,null,null,null,null,null,null,null,null,null,null,null,null,null,null,null,null,null,null,null,null,null,null,null,null,null,null,null,null,null,null,null,null,null,null,null,null,null,null,null,null,null,null,null,null,null,null,null,null,null,null,null,null,null,null,null,null,null,null,null,null,null,null,null,null,null,null,null,null,null,null,null,null,43,{"$f":"基礎データ!V44","v":0},43,{"$f":"基礎データ!AA44","v":0},null,null,{"$f":"基礎データ!$P2","v":"赤池"},{"$f":"基礎データ!$P2","v":"赤池"},{"$f":"基礎データ!$P2","v":"赤池"},null,{"$f":"IF(基礎データ!A46=0,\"\",基礎データ!A46)","v":""}]
["使用申請","自家用車","状況",null,null,null,null,null,null,null,null,null,"同乗者又は運転者入力",null,null,null,null,null,null,null,null,null,null,null,null,null,null,null,null,null,null,null,null,null,null,"タクシー",null,null,null,null,"状況",null,null,null,null,null,null,null,null,null,null,null,null,null,null,null,null,null,null,null,null,null,null,null,null,null,null,null,null,null,null,null,null,null,null,null,null,null,null,null,null,null,null,null,null,null,null,null,null,null,{"$f":"基礎データ!V45","v":0},null,{"$f":"基礎データ!AA45","v":0},null,null,{"$f":"基礎データ!$P3","v":"学校"},{"$f":"基礎データ!$P3","v":"学校"},{"$f":"基礎データ!$P3","v":"学校"},null,{"$f":"IF(基礎データ!A47=0,\"\",基礎データ!A47)","v":""}]
[null,null,null,null,{"$f":"IF(A15=\"赴任\",\" \",IF((DB30+DB32+DB34)>0,\"×\",0))","v":"×"},null,"運転",null,{"$f":"IF((DB36+DB38)>0,\"×\",0)","v":0},null,"同乗",null,1,null,null,null,null,null,null,null,null,null,null,null,4,null,null,null,null,null,null,null,null,null,null,null,null,null,null,null,null,null,null,null,null,null,null,null,null,null,"チケット",null,null,null,null,null,null,null,null,null,null,null,"旅費請求",null,null,null,null,null,null,null,null,null,null,null,null,null,"同　乗",null,null,null,null,null,null,null,null,null,null,null,null,44,{"$f":"基礎データ!V46","v":0},44,{"$f":"基礎データ!AA46","v":0},null,null,{"$f":"基礎データ!$P4","v":"金山"},{"$f":"基礎データ!$P4","v":"金山"},{"$f":"基礎データ!$P4","v":"金山"},null,{"$f":"IF(基礎データ!A48=0,\"\",基礎データ!A48)","v":""},null,"通勤手当利用調整2"]
[null,null,null,null,null,null,null,null,null,null,null,null,2,null,null,null,null,null,null,null,null,null,null,null,5,null,null,null,null,null,null,null,null,null,null,null,null,null,null,null,null,null,null,null,null,null,null,null,null,null,null,null,null,null,null,null,null,null,null,null,null,null,null,null,null,null,null,null,null,null,null,null,null,null,null,null,null,null,null,null,null,null,null,null,null,null,null,null,null,45,{"$f":"基礎データ!V47","v":0},45,{"$f":"基礎データ!AA47","v":0},null,null,{"$f":"基礎データ!$P5","v":"栄"},{"$f":"基礎データ!$P5","v":"栄"},{"$f":"基礎データ!$P5","v":"栄"},null,{"$f":"IF(基礎データ!A49=0,\"\",基礎データ!A49)","v":""},null,{"$f":"CY48","v":0},{"$f":"IF(DA48=0,0,1)","v":0},1,{"$f":"F42","v":0},{"$f":"O42","v":0}]
[null,null,"理由",null,null,null,null,null,null,null,null,null,3,null,null,null,null,null,null,null,null,null,null,null,6,null,null,null,null,null,null,null,null,null,null,null,null,null,null,null,"理由",null,null,null,null,null,null,null,null,null,null,null,null,null,null,null,null,null,null,null,null,null,null,null,null,null,null,null,null,null,null,null,null,null,null,null,null,null,null,null,null,null,null,null,null,null,"理由(その他以外)","交通不便用",null,46,{"$f":"基礎データ!V48","v":0},46,{"$f":"基礎データ!AA48","v":0},null,null,{"$f":"基礎データ!$P6","v":"前後"},{"$f":"基礎データ!$P6","v":"前後"},{"$f":"基礎データ!$P6","v":"前後"},null,{"$f":"IF(基礎データ!A50=0,\"\",基礎データ!A50)","v":""},null,{"$f":"IF(CY49=0,0,CX48+1)","v":0},{"$f":"IF(DA49=0,0,1)","v":0},2,{"$f":"X42","v":0},{"$f":"AE42","v":0},"同乗者名"]
[null,null,null,null,null,null,null,"交通不便",null,null,null,null,null,null,null,"緊急",null,null,null,null,null,null,null,"時間外",null,null,null,null,"運搬",null,null,null,null,null,null,null,null,null,null,null,null,null,null,null,null,null,null,null,null,"交通不便",null,null,null,null,null,null,null,null,null,null,null,"緊急",null,null,null,null,null,null,null,"時間外",null,null,null,null,null,null,null,null,null,null,null,"運搬",null,null,null,null,{"$f":"CY74","v":0},0,null,47,{"$f":"基礎データ!V49","v":0},47,{"$f":"基礎データ!AA49","v":0},null,null,{"$f":"基礎データ!$P7","v":"センター前"},{"$f":"基礎データ!$P7","v":"センター前"},{"$f":"基礎データ!$P7","v":"センター前"},null,{"$f":"IF(基礎データ!A51=0,\"\",基礎データ!A51)","v":""},null,{"$f":"IF(CY50=0,0,CY48+CY49+1)","v":0},{"$f":"IF(DA50=0,0,1)","v":0},3,{"$f":"F44","v":0},{"$f":"O44","v":0},{"$f":"O47","v":0}]
[null,null,null,null,null,null,null,null,null,null,null,null,null,null,null,null,null,null,null,null,null,null,null,null,null,null,null,null,null,null,null,null,null,null,null,null,null,null,null,null,null,null,null,null,null,null,null,null,null,null,null,null,null,null,null,null,null,null,null,null,null,null,null,null,null,null,null,null,null,null,null,null,null,null,null,null,null,null,null,null,null,null,null,null,null,null,null,null,null,48,{"$f":"基礎データ!V50","v":0},48,{"$f":"基礎データ!AA50","v":0},null,null,{"$f":"基礎データ!$P8","v":"豊明団地"},{"$f":"基礎データ!$P8","v":"豊明団地"},{"$f":"基礎データ!$P8","v":"豊明団地"},null,{"$f":"IF(基礎データ!A52=0,\"\",基礎データ!A52)","v":""},null,{"$f":"IF(CY51=0,0,CY48+CY49+CY50+1)","v":0},{"$f":"IF(DA51=0,0,1)","v":0},4,{"$f":"X44","v":0},{"$f":"AE44","v":0},{"$f":"O48","v":0}]
[null,null,null,null,null,null,null,"多目的地",null,null,null,null,null,null,null,"その他",null,null,null,null,null,null,null,null,null,null,null,null,null,null,null,null,null,null,null,null,null,null,null,null,null,null,null,null,null,null,null,null,null,"多目的地",null,null,null,null,null,null,null,null,null,null,null,"その他",null,null,null,null,null,null,null,null,null,null,null,null,null,null,null,null,null,null,null,null,null,null,null,null,"重複その他判定",null,null,49,{"$f":"基礎データ!V51","v":0},49,{"$f":"基礎データ!AA51","v":0},null,null,{"$f":"基礎データ!$P9","v":"名古屋"},{"$f":"基礎データ!$P9","v":"名古屋"},{"$f":"基礎データ!$P9","v":"名古屋"},null,{"$f":"IF(基礎データ!A53=0,\"\",基礎データ!A53)","v":""},null,{"$f":"MAX(CX48:CX51)+1","v":1},null,null,null,null,{"$f":"O49","v":0}]
[null,null,null,null,null,null,null,null,null,null,null,null,null,null,null,null,null,null,null,null,null,null,null,null,null,null,null,null,null,null,null,null,null,null,null,null,null,null,null,null,null,null,null,null,null,null,null,null,null,null,null,null,null,null,null,null,null,null,null,null,null,null,null,null,null,null,null,null,null,null,null,null,null,null,null,null,null,null,null,null,null,null,null,null,null,null,"赴任・自家用車",{"$f":"IF(A15=\"赴任\",0,IF(OR(E47=\"×\",I47=\"×\"),1,0))","v":1},null,50,{"$f":"基礎データ!V52","v":0},50,{"$f":"基礎データ!AA52","v":0},null,null,{"$f":"基礎データ!$P10","v":"市役所"},{"$f":"基礎データ!$P10","v":"市役所"},{"$f":"基礎データ!$P10","v":"市役所"},null,null,null,{"$f":"MAX(CX49:CX52)+1","v":2},null,null,null,null,{"$f":"Z47","v":0}]
[null,"有料道路",null,null,"区間",null,null,null,null,null,null,null,null,null,null,null,null,null,null,"－",null,null,null,null,null,null,null,null,null,null,null,null,null,null,null,null,null,null,null,null,null,null,null,null,null,null,"－",null,null,null,null,null,null,null,null,null,null,null,null,null,null,null,null,null,null,null,"有料道路合計額",null,null,null,null,null,null,null,null,null,null,null,null,null,null,null,null,null,null,null,"重複",{"$f":"IF(CI50>0,IF(N52<>\"×\",0,2),1)","v":1},null,51,{"$f":"基礎データ!V53","v":0},51,{"$f":"基礎データ!AA53","v":0},null,null,{"$f":"基礎データ!$P11","v":"伏見"},{"$f":"基礎データ!$P11","v":"伏見"},{"$f":"基礎データ!$P11","v":"伏見"},null,null,null,{"$f":"MAX(CX50:CX53)+1","v":3},null,null,null,null,{"$f":"Z48","v":0}]
[null,null,null,null,"理由",null,null,null,null,null,null,null,null,null,null,null,null,null,null,null,null,null,null,null,null,null,null,null,null,null,null,null,null,null,null,null,null,null,null,null,null,null,null,null,null,null,null,null,null,null,null,null,null,null,null,null,null,null,null,null,null,null,null,null,null,null,null,null,null,null,null,null,null,null,null,null,null,null,null,null,null,null,"円",null,null,null,null,{"$f":"CJ53*CJ54","v":1},null,52,{"$f":"基礎データ!V54","v":0},52,{"$f":"基礎データ!AA54","v":0},null,null,{"$f":"基礎データ!$P12","v":"有松"},{"$f":"基礎データ!$P12","v":"有松"},{"$f":"基礎データ!$P12","v":"有松"},null,null,null,{"$f":"MAX(CX51:CX54)+1","v":4},null,null,null,null,{"$f":"Z49","v":0}]
[null,null,null,null,null,null,null,null,null,null,null,"時間短縮",null,null,null,null,null,null,null,null,null,null,null,"利用が一般的",null,null,null,null,null,null,null,null,null,null,null,"時間短縮",null,null,null,null,null,null,null,null,null,null,null,null,null,null,"利用が一般的",null,null,null,null,null,null,null,null,null,null,null,null,null,null,null,null,null,null,null,null,null,null,null,null,null,null,null,null,null,null,null,null,null,null,null,null,null,null,53,{"$f":"基礎データ!V55","v":0},53,{"$f":"基礎データ!AA55","v":0},null,null,null,null,null,null,null,null,null,null,null,null,null,{"$f":"COUNT(DC50:DC55)","v":6}]
[null,null,null,null,null,null,null,null,null,null,null,null,null,null,null,null,null,null,null,null,null,null,null,null,null,null,null,null,null,null,null,null,null,null,null,null,null,null,null,null,null,null,null,null,null,null,null,null,null,null,null,null,null,null,null,null,null,null,null,null,null,null,null,null,null,null,null,null,null,null,null,null,null,null,null,null,null,null,null,null,null,null,null,null,null,null,null,null,null,52,{"$f":"基礎データ!V56","v":0},52,{"$f":"基礎データ!AA56","v":0},null,null,{"$f":"基礎データ!$P14","v":"池下"},{"$f":"基礎データ!$P14","v":"池下"},{"$f":"基礎データ!$P14","v":"池下"},null,null,null,{"$f":"MAX(CX53:CX56)+1","v":5}]
[null,null,null,null,null,null,null,null,null,null,null,"通勤区間（併給調整）",null,null,null,null,null,null,null,null,null,null,null,null,null,null,null,null,null,null,null,null,null,null,null,"通勤区間（併給調整）",null,null,null,null,null,null,null,null,null,null,null,null,null,null,null,null,null,null,null,null,null,null,null,null,null,null,null,null,null,null,null,null,null,null,null,null,null,null,null,null,null,null,null,null,null,null,null,null,null,null,null,null,null,53,{"$f":"基礎データ!V57","v":0},53,{"$f":"基礎データ!AA57","v":0}]
[null,null,null,null,null,null,null,null,null,null,null,null,null,null,null,null,null,null,null,null,null,null,null,null,null,null,null,null,null,null,null,null,null,null,null,null,null,null,null,null,null,null,null,null,null,null,null,null,null,null,null,null,null,null,null,null,null,null,null,null,null,null,null,null,null,null,null,null,null,null,null,null,null,null,null,null,null,null,null,null,null,null,null,null,null,null,"自家用車申請理由判定用",null,null,54,{"$f":"基礎データ!V56","v":0},54,{"$f":"基礎データ!AA56","v":0}]
[null,"駐車場",null,null,"場所",null,null,null,null,null,null,null,null,null,null,null,null,null,null,"－",null,null,null,null,null,null,null,null,null,null,null,null,null,null,null,null,null,null,null,null,null,null,null,null,null,null,"－",null,null,null,null,null,null,null,null,null,null,null,null,null,null,null,null,null,null,null,"駐車場合計額",null,null,null,null,null,null,null,null,null,null,null,null,null,null,null,null,null,null,null,"自家用車or同乗",{"$f":"IF(OR(J134=\"×\",N134=\"×\"),1,0)","v":1},null,55,{"$f":"基礎データ!V57","v":0},55,null,null,null,"移動手段","番号"]
[null,null,null,null,null,null,null,null,null,null,null,null,null,null,null,null,null,null,null,null,null,null,null,null,null,null,null,null,null,null,null,null,null,null,null,null,null,null,null,null,null,null,null,null,null,null,null,null,null,null,null,null,null,null,null,null,null,null,null,null,null,null,null,null,null,null,null,null,null,null,null,null,null,null,null,null,null,null,null,null,null,null,"円",null,null,null,"用務先",{"$f":"+COUNTA(S15:AX20)","v":1},null,56,{"$f":"基礎データ!V58","v":0},56,{"$f":"基礎データ!AA58","v":0},null,null,0,0]
[null,null,null,null,null,null,null,null,null,null,null,"利用が一般的かつ合理的経路",null,null,null,null,null,null,null,null,null,null,null,null,null,null,null,null,null,null,null,null,null,null,null,"利用が一般的かつ合理的経路",null,null,null,null,null,null,null,null,null,null,null,null,null,null,null,null,null,null,null,null,null,null,null,null,null,null,null,null,null,null,null,null,null,null,null,null,null,null,null,null,null,null,null,null,null,null,null,null,null,null,null,null,null,57,{"$f":"基礎データ!V59","v":0},57,{"$f":"基礎データ!AA59","v":0},null,null,"地下鉄",1]
[null,null,null,null,null,null,null,null,null,null,null,null,null,null,null,null,null,null,null,null,null,null,null,null,null,null,null,null,null,null,null,null,null,null,null,null,null,null,null,null,null,null,null,null,null,null,null,null,null,null,null,null,null,null,null,null,null,null,null,null,null,null,null,null,null,null,null,null,null,null,null,null,null,null,null,null,null,null,null,null,null,null,null,null,null,null,"素点","理由","点数",58,{"$f":"基礎データ!V60","v":0},58,{"$f":"基礎データ!AA60","v":0},null,null,"名鉄",2]
["別 途 支 給",null,null,null,null,null,null,null,null,null,null,null,null,null,null,null,null,null,null,null,null,null,null,null,null,null,null,null,null,null,null,null,null,null,null,null,null,null,null,null,null,null,null,null,null,null,null,null,null,null,null,null,null,null,null,null,null,null,null,null,null,null,null,null,null,null,null,null,null,null,null,null,null,null,null,null,null,null,null,null,null,null,null,null,null,null,4,"交通不便",{"$f":"+IF(CJ60=1,IF(OR(AND(AG25=\"×\",BL25=\"×\"),F50=\"×\"),CI64,0),0)","v":0},59,{"$f":"基礎データ!V61","v":0},59,{"$f":"基礎データ!AA61","v":0},null,null,"近鉄",3]
[null,null,null,null,null,null,null,"あり　（金額",null,null,null,null,null,null,null,null,null,null,null,null,null,null,null,null,null,null,null,null,null,null,null,null,null,null,null,null,null,null,null,null,null,null,null,null,null,null,null,null,null,null,null,null,null,null,null,null,null,null,null,null,null,null,null,null,null,null,null,null,null,null,null,null,null,null,null,null,null,null,null,null,null,null,null,null,null,null,6,"緊急",{"$f":"+IF(CJ60=1,IF(N50=\"×\",CI65,0),0)","v":0},60,{"$f":"基礎データ!V62","v":0},60,{"$f":"基礎データ!AA62","v":0},null,null,"JR",4]
[null,null,null,null,null,null,null,null,null,null,null,null,null,null,null,null,null,null,null,null,null,null,null,null,null,null,null,null,null,null,null,null,null,null,null,null,null,null,null,null,null,null,null,null,null,null,null,null,null,null,null,null,null,null,null,null,null,null,null,null,null,null,null,null,null,null,null,null,null,null,null,null,null,null,null,null,null,null,null,null,null,null,null,null,null,null,5,"時間外",{"$f":"+IF(CJ60=1,IF(V50=\"×\",CI66,0),0)","v":0},61,{"$f":"基礎データ!V63","v":0},61,{"$f":"基礎データ!AA63","v":0},null,null,"回数券",5]
["備　　　　考",null,null,null,null,null,null,null,null,null,null,null,null,null,null,null,null,null,null,null,null,null,null,null,null,null,null,null,null,null,null,null,null,null,null,null,null,null,null,null,null,null,null,null,null,null,null,null,null,null,null,null,null,null,null,null,null,null,null,null,null,null,null,null,null,null,null,null,null,null,null,null,null,null,null,null,null,null,null,null,null,null,null,null,null,null,3,"運搬",{"$f":"+IF(CJ60=1,IF(AA50=\"×\",CI67,0),0)","v":0},62,{"$f":"基礎データ!V64","v":0},62,{"$f":"基礎データ!AA64","v":0},null,null,"通勤同一",6,null,null,null,null,"交通不便",{"$f":"IF(F50=\"×\",1,0)","v":0}]
[null,null,null,null,"何を使って",null,null,null,null,null,null,null,null,null,null,null,null,null,null,null,null,null,null,null,null,null,null,null,null,null,null,null,null,null,null,null,null,null,null,null,null,null,null,null,null,null,null,null,null,null,null,null,null,null,null,null,null,null,null,null,null,null,null,null,null,null,null,null,null,null,null,null,null,null,null,null,null,null,null,null,null,null,null,null,null,null,2,"多目的地",{"$f":"+IF(CJ60=0,0,IF(CJ61>1,CI68,0))","v":0},63,{"$f":"基礎データ!V65","v":0},63,{"$f":"基礎データ!AA65","v":0},null,null,"車使用",7,null,null,null,null,"緊急",{"$f":"IF(N50=\"×\",1,0)","v":0}]
[null,null,null,null,null,null,null,null,null,null,null,null,null,null,null,null,null,null,null,null,null,null,null,null,null,null,null,null,null,null,null,null,null,null,null,null,null,null,null,null,null,null,null,null,null,null,null,null,null,null,null,null,null,null,null,null,null,null,null,null,null,null,null,null,null,null,null,null,null,null,null,null,null,null,null,null,null,null,null,null,null,null,null,null,null,null,1,"その他",{"$f":"+IF(CJ60=1,CI69,0)","v":1},64,{"$f":"基礎データ!V66","v":0},64,{"$f":"基礎データ!AA66","v":0},null,null,"車同乗",8,null,null,null,null,"時間外",{"$f":"IF(V50=\"×\",1,0)","v":0}]
["様式1（その２）（第5条関係）",null,null,null,null,null,null,null,null,null,null,null,null,null,null,null,null,null,null,null,null,null,null,null,null,null,null,"命　　令",null,null,null,null,null,null,null,null,null,null,null,null,null,null,null,null,null,null,null,null,null,null,null,null,null,null,null,null,null,null,null,null,null,null,null,null,null,null,null,null,null,null,null,null,null,null,null,null,null,null,null,null,null,null,null,null,null,null,null,"判定",{"$f":"+MAX(CK64:CK69)","v":1},65,{"$f":"基礎データ!V67","v":0},65,{"$f":"基礎データ!AA67","v":0},null,null,"バス",9,null,null,null,null,"運搬",{"$f":"IF(AA50=\"×\",1,0)","v":0}]
["旅　　行",null,null,null,null,null,null,null,null,null,null,null,null,null,null,null,null,null,null,null,null,null,null,null,null,null,null,null,null,null,null,null,null,null,null,null,null,null,null,null,null,"書",null,null,null,null,null,null,null,null,null,null,null,null,null,null,null,null,null,null,null,null,null,null,null,null,null,null,null,null,null,null,null,null,null,null,null,null,null,null,null,null,null,null,null,null,null,null,null,null,null,null,null,null,null,"タクシー",10,null,null,null,null,"多目的地",{"$f":"IF(F52=\"×\",1,0)","v":0}]
[null,null,null,null,null,null,null,null,null,null,null,null,null,null,null,null,null,null,null,null,null,null,null,null,null,null,null,"依　　頼",null,null,null,null,null,null,null,null,null,null,null,null,null,null,null,null,null,null,null,null,null,null,null,null,null,null,null,null,null,null,null,null,null,null,null,null,null,null,null,null,null,null,null,null,null,null,null,null,null,null,null,null,null,null,null,null,null,null,null,null,null,null,null,null,"備考","学校名",null,"公用車",11,null,null,null,null,"その他",{"$f":"IF(N52=\"×\",1,0)","v":0}]
[null,null,null,null,null,null,null,null,null,null,null,null,null,null,null,null,null,null,null,null,null,null,null,null,null,null,null,null,null,null,null,null,null,null,null,null,null,null,null,null,null,null,null,null,null,null,null,null,null,null,null,null,null,null,null,null,null,null,null,null,null,null,null,null,null,null,null,null,null,null,null,null,null,null,null,null,null,null,null,null,null,null,null,null,null,null,null,null,null,null,null,null,null,{"$f":"基礎データ!AE1","v":"学校名"},null,null,null,null,null,null,null,"理由",{"$f":"IF(Y51>0,1,0)","v":0}]
["決裁欄",null,null,null,null,null,null,null,null,null,"校長",null,null,null,null,null,null,null,null,null,null,null,null,null,null,null,null,null,null,null,null,null,null,"旅行命令年月日",null,null,null,null,null,null,null,null,null,null,null,null,null,null,null,null,null,null,{"$f":"IF(BI74=31,\"平成\",BA5)","v":"令和"},null,null,null,null,null,null,null,{"$f":"BI5","v":7},null,null,null,null,null,null,"年",null,{"$f":"BR5","v":5},null,null,null,null,"月",null,null,{"$f":"BZ5","v":14},null,null,null,null,"日",null,null,null,null,null,null,null,null,null,{"$f":"基礎データ!P16","v":"中川車庫前"},{"$f":"基礎データ!AE2","v":"豊明市立豊明小学校"},null,null,null,null,null,null,null,"計",{"$f":"SUM(CY67:CY73)","v":0}]
["自家用車",null,null,null,null,null,null,null,null,null,null,null,null,null,null,null,null,null,null,null,null,null,null,null,null,null,null,null,null,null,null,null,null,null,null,null,null,null,null,null,null,null,null,null,null,null,null,null,null,null,null,null,null,null,null,null,null,null,null,null,null,null,null,null,null,null,null,null,null,null,null,null,null,null,null,null,null,null,null,null,null,null,null,null,null,null,null,null,null,null,null,null,{"$f":"基礎データ!P17","v":"上池"},{"$f":"基礎データ!AE3","v":"豊明市立中央小学校"}]
[null,null,null,null,null,null,null,null,null,null,null,null,null,null,null,null,null,null,null,null,null,null,null,null,null,null,null,null,null,null,null,null,null,null,null,null,null,null,null,null,null,null,null,null,null,null,null,null,null,null,null,null,null,null,null,null,null,null,null,null,null,null,null,null,null,null,null,null,null,null,null,null,null,null,null,null,null,null,null,null,null,null,null,null,null,null,null,null,null,null,null,null,{"$f":"基礎データ!P18","v":"豊明中学校前"},{"$f":"基礎データ!AE4","v":"豊明市立沓掛小学校"}]
["等使用承認欄",null,null,null,null,null,null,null,null,null,null,null,null,null,null,null,null,null,null,null,null,null,null,null,null,null,null,null,null,null,null,null,null,null,null,null,null,null,null,null,null,null,null,null,null,null,null,null,null,null,null,null,null,null,null,null,null,null,null,null,null,null,null,null,null,null,null,null,null,null,null,null,null,null,null,null,null,null,null,null,null,null,null,null,null,null,null,null,null,null,null,null,{"$f":"基礎データ!P19","v":"鶴舞"},{"$f":"基礎データ!AE5","v":"豊明市立栄小学校"}]
[null,null,null,null,null,null,null,null,null,null,null,null,null,null,null,null,null,null,null,null,null,null,null,null,null,null,null,null,null,null,null,null,null,null,null,null,null,null,null,null,null,null,null,null,null,null,null,null,null,null,null,null,null,null,null,null,null,null,null,null,null,null,null,null,null,null,null,null,null,null,null,null,null,null,null,null,null,null,null,null,null,null,null,null,null,null,null,null,null,null,null,null,{"$f":"基礎データ!P20","v":"大曽根"},{"$f":"基礎データ!AE6","v":"豊明市立二村台小学校"},null,"順","計","名前","職名","職名名前","　組み合わせ","1行目","2行目","3行目"]
["所属名",null,null,null,null,null,null,null,null,null,{"$f":"K10","v":"豊明市立中央小学校"},null,null,null,null,null,null,null,null,null,null,null,null,null,null,null,null,null,null,"職名",null,null,null,{"$f":"IFERROR(AH10,\"\")","v":""},null,null,null,null,null,null,null,null,null,null,null,"氏名\n職番",null,null,null,null,null,null,{"$f":"+BA10","v":"テスト"},null,null,null,null,null,null,null,null,null,null,null,null,null,null,null,null,null,null,null,null,null,null,null,null,null,null,null,null,null,null,null,null,null,null,null,null,null,null,null,{"$f":"基礎データ!P21","v":"高蔵寺"},{"$f":"基礎データ!AE7","v":"豊明市立三崎小学校"},null,{"$f":"RANK(DA79,$DA$79:$DA$84,)","v":1},{"$f":"IF(CT79=0,0,1)","v":0},{"$f":"O47","v":0},{"$f":"IF(ISNA(VLOOKUP(CT79,基礎データ!$A$3:$B$52,2,FALSE))=TRUE,\"\",VLOOKUP(CT79,基礎データ!$A$3:$B$52,2,FALSE))","v":""},{"$f":"CU79&CT79","v":"0"},1,null,{"$f":"VLOOKUP(1,$CR$79:$CV$85,5,FALSE)","v":"0"},null,{"$f":"IF(CT79=0,0,6)","v":0}]
[null,null,null,null,null,null,null,null,null,null,null,null,null,null,null,null,null,null,null,null,null,null,null,null,null,null,null,null,null,null,null,null,null,null,null,null,null,null,null,null,null,null,null,null,null,null,null,null,null,null,null,null,{"$f":"IFERROR(MID(VLOOKUP(BA10,基礎データ!A3:C999,3,FALSE),1,1),\"\")","v":""},null,null,null,null,{"$f":"IFERROR(MID(VLOOKUP(BA10,基礎データ!A3:C999,3,FALSE),2,1),\"\")","v":""},null,null,null,null,{"$f":"IFERROR(MID(VLOOKUP(BA10,基礎データ!A3:C999,3,FALSE),3,1),\"\")","v":""},null,null,null,null,{"$f":"IFERROR(MID(VLOOKUP(BA10,基礎データ!A3:C999,3,FALSE),4,1),\"\")","v":""},null,null,null,null,{"$f":"IFERROR(MID(VLOOKUP(BA10,基礎データ!A3:C999,3,FALSE),5,1),\"\")","v":""},null,null,null,null,{"$f":"IFERROR(MID(VLOOKUP(BA10,基礎データ!A3:C999,3,FALSE),6,1),\"\")","v":""},null,null,null,null,{"$f":"IFERROR(MID(VLOOKUP(BA10,基礎データ!A3:C999,3,FALSE),7,1),\"\")","v":""},null,null,null,null,null,null,null,null,null,{"$f":"基礎データ!P22","v":"六番町"},{"$f":"基礎データ!AE8","v":"豊明市立大宮小学校"},null,1,0,{"$f":"O48","v":0},{"$f":"IF(ISNA(VLOOKUP(CT80,基礎データ!$A$3:$B$52,2,FALSE))=TRUE,\"\",VLOOKUP(CT80,基礎データ!$A$3:$B$52,2,FALSE))","v":""},"0",2,{"$f":"VLOOKUP(1,$CR$79:$CV$85,5,FALSE)","v":"0"},{"$f":"VLOOKUP(2,$CR$79:$CV$85,5,FALSE)","v":{"$error":"#N/A"}},null,{"$f":"IF(CT80=0,0,5)","v":0}]
["旅行期間",null,null,null,null,null,null,null,null,null,{"$f":"IF(O81=31,\"平成\",K12)","v":"令和"},null,null,null,{"$f":"O12","v":7},null,null,null,"年",null,{"$f":"U12","v":5},null,null,null,"月",{"$f":"Z12","v":25},null,null,"日～",null,null,null,null,null,null,null,{"$f":"AK12","v":0},null,null,null,"年",null,null,null,{"$f":"AS12","v":0},null,null,null,"月",null,null,null,{"$f":"BA12","v":0},null,null,null,null,"日（",null,null,null,null,null,{"$f":"BL12","v":0},null,null,null,null,"泊",null,null,null,{"$f":"CY24","v":1},null,null,null,null,"日）",null,null,null,null,null,null,null,null,null,null,null,null,null,null,{"$f":"基礎データ!P23","v":"高畑"},{"$f":"基礎データ!AE9","v":"豊明市立舘小学校"},null,1,0,{"$f":"O49","v":0},{"$f":"IF(ISNA(VLOOKUP(CT81,基礎データ!$A$3:$B$52,2,FALSE))=TRUE,\"\",VLOOKUP(CT81,基礎データ!$A$3:$B$52,2,FALSE))","v":""},"0",3,{"$f":"VLOOKUP(1,$CR$79:$CV$85,5,FALSE)","v":"0"},{"$f":"VLOOKUP(2,$CR$79:$CV$85,5,FALSE)","v":{"$error":"#N/A"}},{"$f":"VLOOKUP(3,$CR$79:$CV$85,5,FALSE)","v":{"$error":"#N/A"}},{"$f":"IF(CT81=0,0,4)","v":0}]
["用務",null,null,null,null,null,null,null,null,null,null,null,null,null,null,null,"用務先",null,null,null,null,null,null,null,null,null,null,null,null,null,null,null,null,null,null,null,null,null,null,null,null,null,null,null,null,null,null,null,null,null,"泊数",null,null,null,null,null,null,null,null,null,"宿泊費",null,null,null,null,null,null,null,null,null,"朝食",null,null,null,null,null,null,null,"夕食",null,null,null,null,null,null,null,null,null,null,null,"用務先",null,{"$f":"基礎データ!P24","v":"神宮前"},{"$f":"基礎データ!AE10","v":"豊明市立豊明中学校"},null,1,0,{"$f":"Z47","v":0},{"$f":"IF(ISNA(VLOOKUP(CT82,基礎データ!$A$3:$B$52,2,FALSE))=TRUE,\"\",VLOOKUP(CT82,基礎データ!$A$3:$B$52,2,FALSE))","v":""},"0",4,{"$f":"VLOOKUP(1,$CR$79:$CV$85,5,FALSE)","v":"0"},{"$f":"VLOOKUP(2,$CR$79:$CV$85,5,FALSE)","v":{"$error":"#N/A"}},{"$f":"VLOOKUP(3,$CR$79:$CV$84,5,FALSE)&\"，\"&VLOOKUP(4,$CR$79:$CV$84,5,FALSE)","v":{"$error":"#N/A"}},{"$f":"IF(CT82=0,0,3)","v":0}]
[{"$f":"A15","v":"読書感想文全国コンクール愛知地区審査会"},null,null,null,null,null,null,null,null,null,null,null,null,null,null,null,"①",null,{"$f":"S15","v":"日進市（日進市民会館）"},null,null,null,null,null,null,null,null,null,null,null,null,null,null,null,null,null,null,null,null,null,null,null,null,null,null,null,null,null,null,null,{"$f":"IF(AY15=\"\",\"\",AY15)","v":""},null,null,null,null,null,null,null,"泊",null,{"$f":"IF(BI15=\"\",\"\",BI15)","v":""},null,null,null,null,null,null,null,"円",null,{"$f":"IF(BS15=\"\",\"\",BS15)","v":""},null,null,null,null,null,null,null,{"$f":"IF(CA15=\"\",\"\",CA15)","v":""},null,{"$f":"CC15","v":0},null,null,"泊",null,null,null,null,null,null,{"$f":"IF(ISNA(VLOOKUP(S15,$CO$2:$CP$70,2,FALSE))=TRUE,S15,VLOOKUP(S15,$CO$2:$CP$70,2,FALSE))","v":"日進市（日進市民会館）"},null,{"$f":"基礎データ!P25","v":"港区役所"},{"$f":"基礎データ!AE11","v":"豊明市立栄中学校"},null,1,0,{"$f":"Z48","v":0},{"$f":"IF(ISNA(VLOOKUP(CT83,基礎データ!$A$3:$B$52,2,FALSE))=TRUE,\"\",VLOOKUP(CT83,基礎データ!$A$3:$B$52,2,FALSE))","v":""},"0",5,{"$f":"VLOOKUP(1,$CR$79:$CV$85,5,FALSE)","v":"0"},{"$f":"VLOOKUP(2,$CR$79:$CV$84,5,FALSE)&\"，\"&VLOOKUP(3,$CR$79:$CV$84,5,FALSE)","v":{"$error":"#N/A"}},{"$f":"VLOOKUP(4,$CR$79:$CV$84,5,FALSE)&\"，\"&VLOOKUP(5,$CR$79:$CV$84,5,FALSE)","v":{"$error":"#N/A"}},{"$f":"IF(CT83=0,0,2)","v":0}]
[{"$f":"IF(A16=\"\",\"\",A16)","v":""},null,null,null,null,null,null,null,null,null,null,null,null,null,null,null,"②",null,{"$f":"IF(S16=\"\",\"\",S16)","v":""},null,null,null,null,null,null,null,null,null,null,null,null,null,null,null,null,null,null,null,null,null,null,null,null,null,null,null,null,null,null,null,{"$f":"IF(AY16=\"\",\"\",AY16)","v":""},null,null,null,null,null,null,null,"泊",null,{"$f":"IF(BI16=\"\",\"\",BI16)","v":""},null,null,null,null,null,null,null,"円",null,{"$f":"IF(BS16=\"\",\"\",BS16)","v":""},null,null,null,null,null,null,null,{"$f":"IF(CA16=\"\",\"\",CA16)","v":""},null,0,null,null,"泊",null,null,null,null,null,null,0,null,{"$f":"基礎データ!P26","v":"平安通"},{"$f":"基礎データ!AE12","v":"豊明市立沓掛中学校"},null,1,0,{"$f":"Z49","v":0},{"$f":"IF(ISNA(VLOOKUP(CT84,基礎データ!$A$3:$B$52,2,FALSE))=TRUE,\"\",VLOOKUP(CT84,基礎データ!$A$3:$B$52,2,FALSE))","v":""},"0",6,{"$f":"VLOOKUP(1,$CR$79:$CV$84,5,FALSE)&\"，\"&VLOOKUP(2,$CR$79:$CV$84,5,FALSE)","v":{"$error":"#N/A"}},{"$f":"VLOOKUP(3,$CR$79:$CV$84,5,FALSE)&\"，\"&VLOOKUP(4,$CR$79:$CV$84,5,FALSE)","v":{"$error":"#N/A"}},{"$f":"VLOOKUP(5,$CR$79:$CV$84,5,FALSE)&\"，\"&VLOOKUP(6,$CR$79:$CV$84,5,FALSE)","v":{"$error":"#N/A"}},{"$f":"IF(CT84=0,0,1)","v":0}]
[{"$f":"IF(A17=\"\",\"\",A17)","v":""},null,null,null,null,null,null,null,null,null,null,null,null,null,null,null,"③",null,{"$f":"IF(S17=\"\",\"\",S17)","v":""},null,null,null,null,null,null,null,null,null,null,null,null,null,null,null,null,null,null,null,null,null,null,null,null,null,null,null,null,null,null,null,"",null,null,null,null,null,null,null,"泊",null,"",null,null,null,null,null,null,null,"円",null,"",null,null,null,null,null,null,null,{"$f":"IF(CA17=\"\",\"\",CA17)","v":""},null,0,null,null,"泊",null,null,null,null,null,null,0,null,{"$f":"基礎データ!P27","v":"小牧"},{"$f":"基礎データ!AE13","v":0},null,null,{"$f":"SUM(CS79:CS84)","v":0},null,null,null,null,{"$f":"IF(CS85=0,0,VLOOKUP($CS$85,$CW$79:$CZ$84,2,FALSE))","v":0},{"$f":"IF(CS85=0,0,VLOOKUP($CS$85,$CW$79:$CZ$84,3,FALSE))","v":0},{"$f":"IF(CS85=0,0,VLOOKUP($CS$85,$CW$79:$CZ$84,4,FALSE))","v":0}]
["",null,null,null,null,null,null,null,null,null,null,null,null,null,null,null,"④",null,"",null,null,null,null,null,null,null,null,null,null,null,null,null,null,null,null,null,null,null,null,null,null,null,null,null,null,null,null,null,null,null,"",null,null,null,null,null,null,null,"泊",null,"",null,null,null,null,null,null,null,"円",null,"",null,null,null,null,null,null,null,"",null,0,null,null,"泊",null,null,null,null,null,null,0,null,{"$f":"基礎データ!P28","v":"上前津"}]
["",null,null,null,null,null,null,null,null,null,null,null,null,null,null,null,"⑤",null,"",null,null,null,null,null,null,null,null,null,null,null,null,null,null,null,null,null,null,null,null,null,null,null,null,null,null,null,null,null,null,null,"",null,null,null,null,null,null,null,"泊",null,"",null,null,null,null,null,null,null,"円",null,"",null,null,null,null,null,null,null,"",null,0,null,null,"泊",null,null,null,null,null,null,0,null,{"$f":"基礎データ!P29","v":"米野木"}]
["",null,null,null,null,null,null,null,null,null,null,null,null,null,null,null,"⑥",null,"",null,null,null,null,null,null,null,null,null,null,null,null,null,null,null,null,null,null,null,null,null,null,null,null,null,null,null,null,null,null,null,"",null,null,null,null,null,null,null,"泊",null,"",null,null,null,null,null,null,null,"円",null,"",null,null,null,null,null,null,null,"",null,0,null,null,"泊",null,null,null,null,null,null,0]
["方法",null,null,null,null,null,"全経路公用車",null,null,null,null,null,null,null,null,null,null,"全経路自家用車",null,null,null,null,null,null,null,null,null,null,{"$f":"IF(AC21=0,\"．\",AC21)","v":"．"},null,null,null,null,null,"ｷﾛ",null,null,null,null,null,null,null,"全経路自家用車同乗",null,null,null,null,null,null,null,null,null,null,null,null,null,null,null,null,null,null,null,null,null,"全経路徒歩（自転車）"]
[null,null,null,null,{"$f":"E22","v":0},null,null,null,null,null,null,null,null,null,null,{"$f":"P22","v":"×"},null,null,null,null,null,null,null,null,null,null,null,null,null,null,null,null,null,null,null,null,null,null,null,{"$f":"AN22","v":0},null,null,null,null,null,null,null,null,null,null,null,null,null,null,null,null,null,null,null,null,null,{"$f":"BJ22","v":0}]
[]
["出発地",null,null,null,null,null,"公署 (",null,null,null,{"$f":"K25","v":0},null,null,null,null,"）","所属以外の公署から出発するときのみ記入",null,null,null,null,null,null,null,null,null,null,null,null,null,null,null,null,null,null,null,null,null,null,null,null,null,null,null,null,null,null,null,null,null,null,null,null,null,null,null,null,null,null,null,null,null,null,null,null,null,"往復"]
[null,null,null,null,{"$f":"E25","v":"×"},null,null,null,null,null,null,null,null,null,null,null,null,null,null,null,null,null,null,null,null,null,null,null,null,null,null,null,{"$f":"AG25","v":0},null,null,"自宅",null,null,"（",null,{"$f":"AO25","v":""},null,null,null,null,null,null,null,null,"）",null,null,null,null,null,null,null,null,null,null,null,null,null,{"$f":"BL25","v":"×"}]
[]
["旅行経路","経路順","経路内容（駅、バス停名等）",null,null,null,null,null,null,null,null,null,null,null,null,null,null,null,null,null,null,null,null,null,null,null,null,"鉄道",null,null,null,null,null,null,null,null,null,null,null,null,null,"バス",null,null,null,null,null,null,null,null,"回数券",null,null,null,null,"公用車",null,null,null,null,"自家用車",null,null,null,null,null,null,null,null,null,null,null,null,null,null,"タクシー",null,null,null,null,null,null,null,null,null,null,null,null,null,null,null,null,null,null,null,"移動方法"]
[null,{"$f":"IF(C96=0,\"\",B29)","v":""},{"$f":"C29","v":0},null,null,null,null,null,null,"－（",null,{"$f":"L29","v":0},null,null,null,null,null,"）－",null,{"$f":"T29","v":0},null,null,null,null,null,null,null,{"$f":"IF(OR(CR97=1,CS97=1),\"○\",\" \")","v":" "},{"$f":"IF(OR($CR97=2,$CS97=2),\"○\",\" \")","v":" "},{"$f":"IF(OR($CR97=3,$CS97=3),\"○\",\" \")","v":" "},{"$f":"IF(OR($CR97=4,$CS97=4),\"○\",\" \")","v":" "},"（",null,{"$f":"AH29","v":0},null,null,null,null,null,"）",null,null,null,null,null,{"$f":"AT29","v":0},null,null,null,"円",null,null,null,null,null,null,null,null,null,null,null,null,null,null,{"$f":"IF(OR(CR97=6,CS97=6),\"(通勤)\",IF(OR(CR97=8,CS97=8),\"(同乗)\",IF(BL29>0,BL29,\".\")))","v":"."},null,null,null,null,null,null,null,"ｷﾛ",null,null,null,null,null,null,{"$f":"CA29","v":0},null,null,null,null,"円"]
[null,null,null,null,null,null,null,null,null,null,null,null,null,null,null,null,null,null,null,null,null,null,null,null,null,null,null,null,null,null,null,null,null,null,null,null,null,null,null,null,null,null,null,{"$f":"IF(OR(CR97=9,CS97=9),\"×\",\" \")","v":" "},null,null,null,null,null,null,null,{"$f":"IF(OR($CR97=5,$CS97=5),\"×\",\" \")","v":" "},null,null,null,null,{"$f":"IF(OR($CR97=11,$CS97=11),\"×\",\" \")","v":" "},null,null,null,null,{"$f":"IF(OR($CR97=6,$CS97=6,CR97=7,CS97=7,CR97=8,CS97=8),\"×\",\" \")","v":" "},null,null,null,null,null,null,null,null,null,null,null,null,null,null,{"$f":"IF(OR($CR97=10,$CS97=10),\"×\",\" \")","v":" "},null,null,null,null,null,null,null,null,null,null,null,null,null,null,null,null,null,null,{"$f":"VLOOKUP(AB29,$CR$61:$CS$72,2,FALSE)","v":0},{"$f":"VLOOKUP(AD29,$CR$61:$CS$72,2,FALSE)","v":0}]
[]
[null,{"$f":"B30","v":0},{"$f":"C30","v":0},null,null,null,null,null,null,"－（",null,{"$f":"L30","v":0},null,null,null,null,null,"）－",null,{"$f":"T30","v":0},null,null,null,null,null,null,null,{"$f":"IF(OR(CR100=1,CS100=1),\"○\",\" \")","v":" "},{"$f":"IF(OR($CR100=2,$CS100=2),\"○\",\" \")","v":" "},{"$f":"IF(OR($CR100=3,$CS100=3),\"○\",\" \")","v":" "},{"$f":"IF(OR($CR100=4,$CS100=4),\"○\",\" \")","v":" "},"（",null,{"$f":"AH30","v":0},null,null,null,null,null,"）",null,null,null,null,null,{"$f":"AT30","v":0},null,null,null,"円",null,null,null,null,null,null,null,null,null,null,null,null,null,null,{"$f":"IF(OR(CR100=6,CS100=6),\"(通勤)\",IF(OR(CR100=8,CS100=8),\"(同乗)\",IF(BL30>0,BL30,\".\")))","v":"."},null,null,null,null,null,null,null,"ｷﾛ",null,null,null,null,null,null,{"$f":"CA30","v":0},null,null,null,null,"円"]
[null,null,null,null,null,null,null,null,null,null,null,null,null,null,null,null,null,null,null,null,null,null,null,null,null,null,null,null,null,null,null,null,null,null,null,null,null,null,null,null,null,null,null,{"$f":"IF(OR(CR100=9,CS100=9),\"×\",\" \")","v":" "},null,null,null,null,null,null,null,{"$f":"IF(OR($CR100=5,$CS100=5),\"×\",\" \")","v":" "},null,null,null,null,{"$f":"IF(OR($CR100=11,$CS100=11),\"×\",\" \")","v":" "},null,null,null,null,{"$f":"IF(OR($CR100=6,$CS100=6,CR100=7,CS100=7,CR100=8,CS100=8),\"×\",\" \")","v":" "},null,null,null,null,null,null,null,null,null,null,null,null,null,null,{"$f":"IF(OR($CR100=10,$CS100=10),\"×\",\" \")","v":" "},null,null,null,null,null,null,null,null,null,null,null,null,null,null,null,null,null,null,{"$f":"VLOOKUP(AB30,$CR$61:$CS$72,2,FALSE)","v":0},{"$f":"VLOOKUP(AD30,$CR$61:$CS$72,2,FALSE)","v":0}]
[]
[null,{"$f":"B31","v":0},{"$f":"C31","v":0},null,null,null,null,null,null,"－（",null,{"$f":"L31","v":0},null,null,null,null,null,"）－",null,{"$f":"T31","v":0},null,null,null,null,null,null,null,{"$f":"IF(OR(CR103=1,CS103=1),\"○\",\" \")","v":" "},{"$f":"IF(OR($CR103=2,$CS103=2),\"○\",\" \")","v":" "},{"$f":"IF(OR($CR103=3,$CS103=3),\"○\",\" \")","v":" "},{"$f":"IF(OR($CR103=4,$CS103=4),\"○\",\" \")","v":" "},"（",null,{"$f":"AH31","v":0},null,null,null,null,null,"）",null,null,null,null,null,{"$f":"AT31","v":0},null,null,null,"円",null,null,null,null,null,null,null,null,null,null,null,null,null,null,{"$f":"IF(OR(CR103=6,CS103=6),\"(通勤)\",IF(OR(CR103=8,CS103=8),\"(同乗)\",IF(BL31>0,BL31,\".\")))","v":"."},null,null,null,null,null,null,null,"ｷﾛ",null,null,null,null,null,null,{"$f":"CA31","v":0},null,null,null,null,"円"]
[null,null,null,null,null,null,null,null,null,null,null,null,null,null,null,null,null,null,null,null,null,null,null,null,null,null,null,null,null,null,null,null,null,null,null,null,null,null,null,null,null,null,null,{"$f":"IF(OR(CR103=9,CS103=9),\"×\",\" \")","v":" "},null,null,null,null,null,null,null,{"$f":"IF(OR($CR103=5,$CS103=5),\"×\",\" \")","v":" "},null,null,null,null,{"$f":"IF(OR($CR103=11,$CS103=11),\"×\",\" \")","v":" "},null,null,null,null,{"$f":"IF(OR($CR103=6,$CS103=6,CR103=7,CS103=7,CR103=8,CS103=8),\"×\",\" \")","v":" "},null,null,null,null,null,null,null,null,null,null,null,null,null,null,{"$f":"IF(OR($CR103=10,$CS103=10),\"×\",\" \")","v":" "},null,null,null,null,null,null,null,null,null,null,null,null,null,null,null,null,null,null,{"$f":"VLOOKUP(AB31,$CR$61:$CS$72,2,FALSE)","v":0},{"$f":"VLOOKUP(AD31,$CR$61:$CS$72,2,FALSE)","v":0}]
[]
[null,{"$f":"B32","v":0},{"$f":"C32","v":0},null,null,null,null,null,null,"－（",null,{"$f":"L32","v":0},null,null,null,null,null,"）－",null,{"$f":"T32","v":0},null,null,null,null,null,null,null,{"$f":"IF(OR(CR106=1,CS106=1),\"○\",\" \")","v":" "},{"$f":"IF(OR($CR106=2,$CS106=2),\"○\",\" \")","v":" "},{"$f":"IF(OR($CR106=3,$CS106=3),\"○\",\" \")","v":" "},{"$f":"IF(OR($CR106=4,$CS106=4),\"○\",\" \")","v":" "},"（",null,{"$f":"AH32","v":0},null,null,null,null,null,"）",null,null,null,null,null,{"$f":"AT32","v":0},null,null,null,"円",null,null,null,null,null,null,null,null,null,null,null,null,null,null,{"$f":"IF(OR(CR106=6,CS106=6),\"(通勤)\",IF(OR(CR106=8,CS106=8),\"(同乗)\",IF(BL32>0,BL32,\".\")))","v":"."},null,null,null,null,null,null,null,"ｷﾛ",null,null,null,null,null,null,{"$f":"CA32","v":0},null,null,null,null,"円"]
[null,null,null,null,null,null,null,null,null,null,null,null,null,null,null,null,null,null,null,null,null,null,null,null,null,null,null,null,null,null,null,null,null,null,null,null,null,null,null,null,null,null,null,{"$f":"IF(OR(CR106=9,CS106=9),\"×\",\" \")","v":" "},null,null,null,null,null,null,null,{"$f":"IF(OR($CR106=5,$CS106=5),\"×\",\" \")","v":" "},null,null,null,null,{"$f":"IF(OR($CR106=11,$CS106=11),\"×\",\" \")","v":" "},null,null,null,null,{"$f":"IF(OR($CR106=6,$CS106=6,CR106=7,CS106=7,CR106=8,CS106=8),\"×\",\" \")","v":" "},null,null,null,null,null,null,null,null,null,null,null,null,null,null,{"$f":"IF(OR($CR106=10,$CS106=10),\"×\",\" \")","v":" "},null,null,null,null,null,null,null,null,null,null,null,null,null,null,null,null,null,null,{"$f":"VLOOKUP(AB32,$CR$61:$CS$72,2,FALSE)","v":0},{"$f":"VLOOKUP(AD32,$CR$61:$CS$72,2,FALSE)","v":0}]
[]
[null,{"$f":"B33","v":0},{"$f":"C33","v":0},null,null,null,null,null,null,"－（",null,{"$f":"L33","v":0},null,null,null,null,null,"）－",null,{"$f":"T33","v":0},null,null,null,null,null,null,null,{"$f":"IF(OR(CR109=1,CS109=1),\"○\",\" \")","v":" "},{"$f":"IF(OR($CR109=2,$CS109=2),\"○\",\" \")","v":" "},{"$f":"IF(OR($CR109=3,$CS109=3),\"○\",\" \")","v":" "},{"$f":"IF(OR($CR109=4,$CS109=4),\"○\",\" \")","v":" "},"（",null,{"$f":"AH33","v":0},null,null,null,null,null,"）",null,null,null,null,null,{"$f":"AT33","v":0},null,null,null,"円",null,null,null,null,null,null,null,null,null,null,null,null,null,null,{"$f":"IF(OR(CR109=6,CS109=6),\"(通勤)\",IF(OR(CR109=8,CS109=8),\"(同乗)\",IF(BL33>0,BL33,\".\")))","v":"."},null,null,null,null,null,null,null,"ｷﾛ",null,null,null,null,null,null,{"$f":"CA33","v":0},null,null,null,null,"円"]
[null,null,null,null,null,null,null,null,null,null,null,null,null,null,null,null,null,null,null,null,null,null,null,null,null,null,null,null,null,null,null,null,null,null,null,null,null,null,null,null,null,null,null,{"$f":"IF(OR(CR109=9,CS109=9),\"×\",\" \")","v":" "},null,null,null,null,null,null,null,{"$f":"IF(OR($CR109=5,$CS109=5),\"×\",\" \")","v":" "},null,null,null,null,{"$f":"IF(OR($CR109=11,$CS109=11),\"×\",\" \")","v":" "},null,null,null,null,{"$f":"IF(OR($CR109=6,$CS109=6,CR109=7,CS109=7,CR109=8,CS109=8),\"×\",\" \")","v":" "},null,null,null,null,null,null,null,null,null,null,null,null,null,null,{"$f":"IF(OR($CR109=10,$CS109=10),\"×\",\" \")","v":" "},null,null,null,null,null,null,null,null,null,null,null,null,null,null,null,null,null,null,{"$f":"VLOOKUP(AB33,$CR$61:$CS$72,2,FALSE)","v":0},{"$f":"VLOOKUP(AD33,$CR$61:$CS$72,2,FALSE)","v":0}]
[]
[null,{"$f":"B34","v":0},{"$f":"C34","v":0},null,null,null,null,null,null,"－（",null,{"$f":"L34","v":0},null,null,null,null,null,"）－",null,{"$f":"T34","v":0},null,null,null,null,null,null,null,{"$f":"IF(OR(CR112=1,CS112=1),\"○\",\" \")","v":" "},{"$f":"IF(OR($CR112=2,$CS112=2),\"○\",\" \")","v":" "},{"$f":"IF(OR($CR112=3,$CS112=3),\"○\",\" \")","v":" "},{"$f":"IF(OR($CR112=4,$CS112=4),\"○\",\" \")","v":" "},"（",null,{"$f":"AH34","v":0},null,null,null,null,null,"）",null,null,null,null,null,{"$f":"AT34","v":0},null,null,null,"円",null,null,null,null,null,null,null,null,null,null,null,null,null,null,{"$f":"IF(OR(CR112=6,CS112=6),\"(通勤)\",IF(OR(CR112=8,CS112=8),\"(同乗)\",IF(BL34>0,BL34,\".\")))","v":"."},null,null,null,null,null,null,null,"ｷﾛ",null,null,null,null,null,null,{"$f":"CA34","v":0},null,null,null,null,"円"]
[null,null,null,null,null,null,null,null,null,null,null,null,null,null,null,null,null,null,null,null,null,null,null,null,null,null,null,null,null,null,null,null,null,null,null,null,null,null,null,null,null,null,null,{"$f":"IF(OR(CR112=9,CS112=9),\"×\",\" \")","v":" "},null,null,null,null,null,null,null,{"$f":"IF(OR($CR112=5,$CS112=5),\"×\",\" \")","v":" "},null,null,null,null,{"$f":"IF(OR($CR112=11,$CS112=11),\"×\",\" \")","v":" "},null,null,null,null,{"$f":"IF(OR($CR112=6,$CS112=6,CR112=7,CS112=7,CR112=8,CS112=8),\"×\",\" \")","v":" "},null,null,null,null,null,null,null,null,null,null,null,null,null,null,{"$f":"IF(OR($CR112=10,$CS112=10),\"×\",\" \")","v":" "},null,null,null,null,null,null,null,null,null,null,null,null,null,null,null,null,null,null,{"$f":"VLOOKUP(AB34,$CR$61:$CS$72,2,FALSE)","v":0},{"$f":"VLOOKUP(AD34,$CR$61:$CS$72,2,FALSE)","v":0}]
[]
[null,{"$f":"B35","v":0},{"$f":"C35","v":0},null,null,null,null,null,null,"－（",null,{"$f":"L35","v":0},null,null,null,null,null,"）－",null,{"$f":"T35","v":0},null,null,null,null,null,null,null,{"$f":"IF(OR(CR115=1,CS115=1),\"○\",\" \")","v":" "},{"$f":"IF(OR($CR115=2,$CS115=2),\"○\",\" \")","v":" "},{"$f":"IF(OR($CR115=3,$CS115=3),\"○\",\" \")","v":" "},{"$f":"IF(OR($CR115=4,$CS115=4),\"○\",\" \")","v":" "},"（",null,{"$f":"AH35","v":0},null,null,null,null,null,"）",null,null,null,null,null,{"$f":"AT35","v":0},null,null,null,"円",null,null,null,null,null,null,null,null,null,null,null,null,null,null,{"$f":"IF(OR(CR115=6,CS115=6),\"(通勤)\",IF(OR(CR115=8,CS115=8),\"(同乗)\",IF(BL35>0,BL35,\".\")))","v":"."},null,null,null,null,null,null,null,"ｷﾛ",null,null,null,null,null,null,{"$f":"CA35","v":0},null,null,null,null,"円"]
[null,null,null,null,null,null,null,null,null,null,null,null,null,null,null,null,null,null,null,null,null,null,null,null,null,null,null,null,null,null,null,null,null,null,null,null,null,null,null,null,null,null,null,{"$f":"IF(OR(CR115=9,CS115=9),\"×\",\" \")","v":" "},null,null,null,null,null,null,null,{"$f":"IF(OR($CR115=5,$CS115=5),\"×\",\" \")","v":" "},null,null,null,null,{"$f":"IF(OR($CR115=11,$CS115=11),\"×\",\" \")","v":" "},null,null,null,null,{"$f":"IF(OR($CR115=6,$CS115=6,CR115=7,CS115=7,CR115=8,CS115=8),\"×\",\" \")","v":" "},null,null,null,null,null,null,null,null,null,null,null,null,null,null,{"$f":"IF(OR($CR115=10,$CS115=10),\"×\",\" \")","v":" "},null,null,null,null,null,null,null,null,null,null,null,null,null,null,null,null,null,null,{"$f":"VLOOKUP(AB35,$CR$61:$CS$72,2,FALSE)","v":0},{"$f":"VLOOKUP(AD35,$CR$61:$CS$72,2,FALSE)","v":0}]
[]
[null,{"$f":"B36","v":0},{"$f":"C36","v":0},null,null,null,null,null,null,"－（",null,{"$f":"L36","v":0},null,null,null,null,null,"）－",null,{"$f":"T36","v":0},null,null,null,null,null,null,null,{"$f":"IF(OR(CR118=1,CS118=1),\"○\",\" \")","v":" "},{"$f":"IF(OR($CR118=2,$CS118=2),\"○\",\" \")","v":" "},{"$f":"IF(OR($CR118=3,$CS118=3),\"○\",\" \")","v":" "},{"$f":"IF(OR($CR118=4,$CS118=4),\"○\",\" \")","v":" "},"（",null,{"$f":"AH36","v":0},null,null,null,null,null,"）",null,null,null,null,null,{"$f":"AT36","v":0},null,null,null,"円",null,null,null,null,null,null,null,null,null,null,null,null,null,null,{"$f":"IF(OR(CR118=6,CS118=6),\"(通勤)\",IF(OR(CR118=8,CS118=8),\"(同乗)\",IF(BL36>0,BL36,\".\")))","v":"."},null,null,null,null,null,null,null,"ｷﾛ",null,null,null,null,null,null,{"$f":"CA36","v":0},null,null,null,null,"円"]
[null,null,null,null,null,null,null,null,null,null,null,null,null,null,null,null,null,null,null,null,null,null,null,null,null,null,null,null,null,null,null,null,null,null,null,null,null,null,null,null,null,null,null,{"$f":"IF(OR(CR118=9,CS118=9),\"×\",\" \")","v":" "},null,null,null,null,null,null,null,{"$f":"IF(OR($CR118=5,$CS118=5),\"×\",\" \")","v":" "},null,null,null,null,{"$f":"IF(OR($CR118=11,$CS118=11),\"×\",\" \")","v":" "},null,null,null,null,{"$f":"IF(OR($CR118=6,$CS118=6,CR118=7,CS118=7,CR118=8,CS118=8),\"×\",\" \")","v":" "},null,null,null,null,null,null,null,null,null,null,null,null,null,null,{"$f":"IF(OR($CR118=10,$CS118=10),\"×\",\" \")","v":" "},null,null,null,null,null,null,null,null,null,null,null,null,null,null,null,null,null,null,{"$f":"VLOOKUP(AB36,$CR$61:$CS$72,2,FALSE)","v":0},{"$f":"VLOOKUP(AD36,$CR$61:$CS$72,2,FALSE)","v":0}]
[]
[null,{"$f":"B37","v":0},{"$f":"C37","v":0},null,null,null,null,null,null,"－（",null,{"$f":"L37","v":0},null,null,null,null,null,"）－",null,{"$f":"T37","v":0},null,null,null,null,null,null,null,{"$f":"IF(OR(CR121=1,CS121=1),\"○\",\" \")","v":" "},{"$f":"IF(OR($CR121=2,$CS121=2),\"○\",\" \")","v":" "},{"$f":"IF(OR($CR121=3,$CS121=3),\"○\",\" \")","v":" "},{"$f":"IF(OR($CR121=4,$CS121=4),\"○\",\" \")","v":" "},"（",null,{"$f":"AH37","v":0},null,null,null,null,null,"）",null,null,null,null,null,{"$f":"AT37","v":0},null,null,null,"円",null,null,null,null,null,null,null,null,null,null,null,null,null,null,{"$f":"IF(OR(CR121=6,CS121=6),\"(通勤)\",IF(OR(CR121=8,CS121=8),\"(同乗)\",IF(BL37>0,BL37,\".\")))","v":"."},null,null,null,null,null,null,null,"ｷﾛ",null,null,null,null,null,null,{"$f":"CA37","v":0},null,null,null,null,"円"]
[null,null,null,null,null,null,null,null,null,null,null,null,null,null,null,null,null,null,null,null,null,null,null,null,null,null,null,null,null,null,null,null,null,null,null,null,null,null,null,null,null,null,null,{"$f":"IF(OR(CR121=9,CS121=9),\"×\",\" \")","v":" "},null,null,null,null,null,null,null,{"$f":"IF(OR($CR121=5,$CS121=5),\"×\",\" \")","v":" "},null,null,null,null,{"$f":"IF(OR($CR121=11,$CS121=11),\"×\",\" \")","v":" "},null,null,null,null,{"$f":"IF(OR($CR121=6,$CS121=6,CR121=7,CS121=7,CR121=8,CS121=8),\"×\",\" \")","v":" "},null,null,null,null,null,null,null,null,null,null,null,null,null,null,{"$f":"IF(OR($CR121=10,$CS121=10),\"×\",\" \")","v":" "},null,null,null,null,null,null,null,null,null,null,null,null,null,null,null,null,null,null,{"$f":"VLOOKUP(AB37,$CR$61:$CS$72,2,FALSE)","v":0},{"$f":"VLOOKUP(AD37,$CR$61:$CS$72,2,FALSE)","v":0}]
[]
[null,{"$f":"B38","v":0},{"$f":"C38","v":0},null,null,null,null,null,null,"－（",null,{"$f":"L38","v":0},null,null,null,null,null,"）－",null,{"$f":"T38","v":0},null,null,null,null,null,null,null,{"$f":"IF(OR(CR124=1,CS124=1),\"○\",\" \")","v":" "},{"$f":"IF(OR($CR124=2,$CS124=2),\"○\",\" \")","v":" "},{"$f":"IF(OR($CR124=3,$CS124=3),\"○\",\" \")","v":" "},{"$f":"IF(OR($CR124=4,$CS124=4),\"○\",\" \")","v":" "},"（",null,{"$f":"AH38","v":0},null,null,null,null,null,"）",null,null,null,null,null,{"$f":"AT38","v":0},null,null,null,"円",null,null,null,null,null,null,null,null,null,null,null,null,null,null,{"$f":"IF(OR(CR124=6,CS124=6),\"(通勤)\",IF(OR(CR124=8,CS124=8),\"(同乗)\",IF(BL38>0,BL38,\".\")))","v":"."},null,null,null,null,null,null,null,"ｷﾛ",null,null,null,null,null,null,{"$f":"CA38","v":0},null,null,null,null,"円"]
[null,null,null,null,null,null,null,null,null,null,null,null,null,null,null,null,null,null,null,null,null,null,null,null,null,null,null,null,null,null,null,null,null,null,null,null,null,null,null,null,null,null,null,{"$f":"IF(OR(CR124=9,CS124=9),\"×\",\" \")","v":" "},null,null,null,null,null,null,null,{"$f":"IF(OR($CR124=5,$CS124=5),\"×\",\" \")","v":" "},null,null,null,null,{"$f":"IF(OR($CR124=11,$CS124=11),\"×\",\" \")","v":" "},null,null,null,null,{"$f":"IF(OR($CR124=6,$CS124=6,CR124=7,CS124=7,CR124=8,CS124=8),\"×\",\" \")","v":" "},null,null,null,null,null,null,null,null,null,null,null,null,null,null,{"$f":"IF(OR($CR124=10,$CS124=10),\"×\",\" \")","v":" "},null,null,null,null,null,null,null,null,null,null,null,null,null,null,null,null,null,null,{"$f":"VLOOKUP(AB38,$CR$61:$CS$72,2,FALSE)","v":0},{"$f":"VLOOKUP(AD38,$CR$61:$CS$72,2,FALSE)","v":0}]
[]
["帰着地",null,null,null,null,null,null,"公署 (",null,null,null,{"$f":"L40","v":0},null,null,null,null,null,null,"）","所属以外の公署から帰着するときのみ記入",null,null,null,null,null,null,null,null,null,null,null,null,null,null,null,null,null,null,null,null,null,null,null,null,null,null,null,null,null,null,null,null,null,null,"）"]
[null,null,null,null,null,{"$f":"F40","v":0},null,null,null,null,null,null,null,null,null,null,null,null,null,null,null,null,null,null,null,null,null,null,null,null,null,null,null,null,null,null,null,{"$f":"AL40","v":0},null,"自宅　（",null,null,null,null,null,{"$f":"AT40","v":0}]
[]
["通勤手当利用調整",null,null,null,null,{"$f":"VLOOKUP(1,$CX$48:$DB$55,4,FALSE)","v":0},null,null,null,null,null,null,"－",null,{"$f":"VLOOKUP(1,$CX$48:$DB$55,5,FALSE)","v":0},null,null,null,null,null,null,null,null,{"$f":"VLOOKUP(2,$CX$48:$DB$55,4,FALSE)","v":0},null,null,null,null,null,"－",{"$f":"VLOOKUP(2,$CX$48:$DB$55,5,FALSE)","v":0},null,null,null,null,null,null,null,null,null,"プリペイドカード（公用）利用調整\n（合計額を記入）",null,null,null,null,null,null,null,null,null,null,null,null,null,null,null,null,null,null,null,null,null,null,null,null,null,{"$f":"BO42","v":0},null,null,null,null,null,null,null,null,null,null,null,null,null,null,null,null,"円"]
["定期券・回数券・自家用車"]
[null,null,null,null,null,{"$f":"VLOOKUP(3,$CX$48:$DB$55,4,FALSE)","v":0},null,null,null,null,null,null,"－",null,{"$f":"VLOOKUP(3,$CX$48:$DB$55,5,FALSE)","v":0},null,null,null,null,null,null,null,null,{"$f":"VLOOKUP(4,$CX$48:$DB$55,4,FALSE)","v":0},null,null,null,null,null,"－",{"$f":"VLOOKUP(4,$CX$48:$DB$55,5,FALSE)","v":0}]
["（重複区間を記載）"]
["使用申請","自家用車",null,null,"状況",null,null,null,null,null,null,null,null,null,null,null,null,null,null,null,null,{"$f":"CX85","v":0},null,null,null,null,null,null,null,null,null,"タクシー",null,null,null,null,null,null,null,null,"状況"]
[null,null,null,null,null,null,null,null,null,{"$f":"E47","v":"×"},null,"運転",null,{"$f":"I47","v":0},null,"同乗",null,null,null,null,null,{"$f":"CY85","v":0},null,null,null,null,null,null,null,null,null,null,null,null,null,null,null,null,null,null,null,null,null,null,null,null,null,null,{"$f":"AW47","v":0},null,"チケット",null,null,null,null,null,null,null,null,{"$f":"BH47","v":0},null,null,"旅費請求",null,null,null,null,null,null,null,null,null,null,{"$f":"BV47","v":0},null,null,"同　乗"]
[null,null,null,null,null,null,null,null,null,null,null,null,null,null,null,null,null,null,null,null,null,{"$f":"CZ85","v":0}]
[null,null,null,null,"理由",null,null,null,null,null,null,null,null,null,null,null,null,null,null,null,null,null,null,null,null,null,null,null,null,null,null,null,null,null,null,null,null,null,null,null,"理由"]
[null,null,null,null,null,null,null,null,null,{"$f":"+IF($CK$70=4,\"×\",\"\")","v":""},null,"交通不便",null,null,null,null,{"$f":"+IF($CK$70=6,\"×\",\"\")","v":""},null,"緊急",null,null,{"$f":"+IF($CK$70=5,\"×\",\"\")","v":""},null,"時間外",null,null,{"$f":"+IF($CK$70=3,\"×\",\"\")","v":""},null,"運搬",null,null,null,null,null,null,null,null,null,null,null,null,null,null,null,null,null,null,{"$f":"AV50","v":0},null,"交通不便",null,null,null,null,null,null,null,null,{"$f":"BG50","v":0},null,null,"緊急",null,null,null,null,{"$f":"BO50","v":0},null,null,"時間外",null,null,null,null,null,null,null,null,{"$f":"CA50","v":0},null,null,"運搬"]
[null,null,null,null,null,null,null,null,null,null,null,null,null,null,null,null,null,null,null,null,null,null,null,null,{"$f":"IF(Q139=\"\",\"\",IF(Y51=\"\",CI16,Y51))","v":"公務時間の確保"},null,null,null,null,null,null,null,null,null,null,null,null,null,null,null,null,null,null,null,null,null,null,null,null,null,null,null,null,null,null,null,null,null,null,null,null,null,null,null,null,null,null,null,null,{"$f":"BR51","v":0}]
[null,null,null,null,null,null,null,null,null,{"$f":"+IF($CK$70=2,\"×\",\"\")","v":""},null,"多目的地",null,null,null,null,{"$f":"+IF($CK$70=1,\"×\",\"\")","v":"×"},null,"その他",null,null,null,null,null,null,null,null,null,null,null,null,null,null,null,null,null,null,null,null,null,null,null,null,null,null,null,null,{"$f":"AV52","v":0},null,"多目的地",null,null,null,null,null,null,null,null,{"$f":"BG52","v":0},null,null,"その他"]
[]
[null,"有料道路",null,null,"区間",null,null,null,{"$f":"I54","v":0},null,null,null,null,null,null,null,null,null,null,"－",null,{"$f":"V54","v":0},null,null,null,null,null,null,null,null,null,{"$f":"AF54","v":0},null,null,null,null,null,null,null,null,null,null,null,null,null,null,"－",null,{"$f":"AW54","v":0},null,null,null,null,null,null,null,null,null,null,null,null,null,null,null,null,null,"有料道路合計額"]
[null,null,null,null,"理由",null,null,null,null,null,null,null,null,null,null,null,null,null,null,null,null,null,null,null,null,null,null,null,null,null,null,null,null,null,null,null,null,null,null,null,null,null,null,null,null,null,null,null,null,null,null,null,null,null,null,null,null,null,null,null,null,null,null,null,null,null,null,null,null,null,null,null,null,null,null,null,null,null,null,null,null,null,"円"]
[null,null,null,null,null,null,null,null,null,{"$f":"J56","v":0},null,"時間短縮",null,null,null,null,null,null,null,null,null,{"$f":"V56","v":0},null,"利用が一般的",null,null,null,null,null,null,null,null,{"$f":"AG56","v":0},null,null,"時間短縮",null,null,null,null,null,null,null,null,null,null,null,null,{"$f":"AW56","v":0},null,"利用が一般的"]
[]
[null,null,null,null,null,null,null,null,null,{"$f":"J58","v":0},null,"通勤区間（併給調整）",null,null,null,null,null,null,null,null,null,null,null,null,null,null,null,null,null,null,null,null,{"$f":"AG58","v":0},null,null,"通勤区間（併給調整）"]
[]
[null,"駐車場",null,null,"場所",null,null,null,{"$f":"I60","v":0},null,null,null,null,null,null,null,null,null,null,"－",null,{"$f":"V60","v":0},null,null,null,null,null,null,null,null,null,{"$f":"AF60","v":0},null,null,null,null,null,null,null,null,null,null,null,null,null,null,"－",null,{"$f":"AW60","v":0},null,null,null,null,null,null,null,null,null,null,null,null,null,null,null,null,null,"駐車場合計額"]
[null,null,null,null,"理由",null,null,null,null,null,null,null,null,null,null,null,null,null,null,null,null,null,null,null,null,null,null,null,null,null,null,null,null,null,null,null,null,null,null,null,null,null,null,null,null,null,null,null,null,null,null,null,null,null,null,null,null,null,null,null,null,null,null,null,null,null,null,null,null,null,null,null,null,null,null,null,null,null,null,null,null,null,"円"]
[null,null,null,null,null,null,null,null,null,{"$f":"J62","v":0},null,"利用が一般的かつ合理的経路",null,null,null,null,null,null,null,null,null,null,null,null,null,null,null,null,null,null,null,null,{"$f":"AG62","v":0},null,null,"利用が一般的かつ合理的経路"]
[]
["別 途 支 給"]
[null,null,null,null,null,{"$f":"F65","v":0},null,"あり　（金額",null,null,null,null,null,{"$f":"N65","v":0},null,null,null,null,null,null,null,null,null,null,null,null,null,null,null,"、支払者",null,null,null,null,null,null,{"$f":"AK65","v":0},null,null,null,null,null,null,null,null,null,null,null,null,null,null,null,null,null,null,null,null,null,null,null,null,null,null,null,null,null,null,null,null,null,null,null,"）"]
[]
["備　　　　考",null,null,null,{"$f":"IF(N67>0,N67&AF67&AX67,0)","v":0}]
[null,null,null,null,{"$f":"N68","v":0}]
[null,null,null,null,{"$f":"IF(DB30>0,DA8,\" \")","v":" "},null,null,null,null,null,null,null,null,null,null,{"$f":"E69","v":0}]
["備考","１　用紙の大きさは、日本工業規格Ａ４とする。"]
[null,"２　この様式は、旅行者が条例第１条第１項に規定する県費負担教職員である場合に使用すること。"]
[null,"３　旅行命令書として用いる場合には、旅行者が記入すること。"]
[null,"４　この様式により難い事由がある場合には、県教育委員会は、知事と協議して別に様式を定めることができる。"]

{"sheet":"県外視察報告書","index":4,"n_rows":119,"n_cols":26,"rows_kept":119,"cut":false,"hidden":true,"merged":[[3,16,3,17],[4,16,4,17],[7,5,7,6],[7,8,7,9],[7,10,7,12],[1,4,3,9],[1,10,1,11],[1,12,1,13],[2,10,3,11],[2,12,3,13],[8,9,8,13],[10,1,10,13],[11,1,12,13],[12,15,13,19],[13,1,13,2],[13,3,13,5],[13,6,13,9],[13,10,13,13],[19,2,21,2],[19,3,19,5],[19,6,19,9],[19,10,19,13],[20,3,20,5],[20,6,20,9],[20,10,20,13],[21,3,21,5],[21,6,21,9],[21,10,21,13],[28,3,28,13],[29,3,29,13],[30,3,30,13],[14,15,15,19],[15,3,15,13],[16,3,16,13],[17,3,17,13],[17,15,18,15],[18,3,18,13],[14,1,21,1],[14,2,18,2],[14,3,14,13],[31,1,35,2],[31,3,31,13],[32,3,32,13],[33,3,33,13],[34,3,34,13],[35,3,35,13],[22,1,30,2],[22,3,22,13],[23,3,23,13],[24,3,24,13],[25,3,25,13],[26,3,26,13],[27,3,27,13]]}
[]
[null,null,"様式１－２",null,"研究視察旅行報告書",null,null,null,null,null,"校長",null,"教頭"]
[]
[]
[]
[null,null,null,null,null,null,null,"平成",31,"年",3,"月",18,"日"]
[null,{"$f":"P18&\"長  殿\"","v":"豊明市立中央小学校長  殿"}]
[null,null,null,null,null,"職　名",null,"教諭","氏　名",null,"佐藤　幸子",null,null,"印"]
[]
[]
[null,"　　下記のとおり研究視察しましたので、報告します。"]
[null,"記"]
[null,null,null,null,null,null,null,null,null,null,null,null,null,null,null,"リストにない場合は一番下に追加してください"]
[null,"出張期間",null,"2019-03-16",null,null,"2019-03-16",null,null,null,{"$f":"IF(G14=\"\",\"\",\"( \"&G14-D14&\"泊\"&G14-D14+1&\"日\"&\" )\")","v":"( 0泊1日 )"}]
[null,"視察先","所在地\n\n\n宿泊地",null,null,null,null,null,null,null,null,null,null,null,null,"基礎データ"]
[null,null,null,"東京都文京区大塚"]
[null,null,null,null,null,null,null,null,null,null,null,null,null,null,null,"学校名","報告書名","場所","氏名","職名"]
[null,null,null,null,null,null,null,null,null,null,null,null,null,null,null,{"$f":"旅行命令!K10","v":"豊明市立中央小学校"},"研究視察旅行報告書",null,{"$f":"IF(基礎データ!A3=\"\",\"\",基礎データ!A3)","v":""},{"$f":"IF(基礎データ!B3=\"\",\"\",基礎データ!B3)","v":""}]
[null,null,null,null,null,null,null,null,null,null,null,null,null,null,null,null,null,null,{"$f":"IF(基礎データ!A4=\"\",\"\",基礎データ!A4)","v":""},{"$f":"IF(基礎データ!B4=\"\",\"\",基礎データ!B4)","v":""}]
[null,null,"会　場","名称",null,null,"主催者又は相手方職員",null,null,null,"電話",null,null,null,null,null,null,null,{"$f":"IF(基礎データ!A5=\"\",\"\",基礎データ!A5)","v":""},{"$f":"IF(基礎データ!B5=\"\",\"\",基礎データ!B5)","v":""}]
[null,null,null,"筑波大学付属小学校",null,null,"苦手教科ビギナー研究会",null,null,null,"０３－３９４６－１９０８",null,null,null,null,null,null,null,{"$f":"IF(基礎データ!A6=\"\",\"\",基礎データ!A6)","v":""},{"$f":"IF(基礎データ!B6=\"\",\"\",基礎データ!B6)","v":""}]
[null,null,null,null,null,null,null,null,null,null,null,null,null,null,null,null,null,null,{"$f":"IF(基礎データ!A7=\"\",\"\",基礎データ!A7)","v":""},{"$f":"IF(基礎データ!B7=\"\",\"\",基礎データ!B7)","v":""}]
[null,"報　告　事　項",null,"国語セミナー",null,null,null,null,null,null,null,null,null,null,null,null,null,null,{"$f":"IF(基礎データ!A8=\"\",\"\",基礎データ!A8)","v":""},{"$f":"IF(基礎データ!B8=\"\",\"\",基礎データ!B8)","v":""}]
[null,null,null,"○物語文は、１．２．３年生は場面分け、４．５．６年生はまるごと読み。",null,null,null,null,null,null,null,null,null,null,null,null,null,null,{"$f":"IF(基礎データ!A9=\"\",\"\",基礎データ!A9)","v":""},{"$f":"IF(基礎データ!B9=\"\",\"\",基礎データ!B9)","v":""}]
[null,null,null,"○教材のしかけを使う。Ｗｈich型課題の発問がよい。",null,null,null,null,null,null,null,null,null,null,null,null,null,null,{"$f":"IF(基礎データ!A10=\"\",\"\",基礎データ!A10)","v":""},{"$f":"IF(基礎データ!B10=\"\",\"\",基礎データ!B10)","v":""}]
[null,null,null,"道徳セミナー",null,null,null,null,null,null,null,null,null,null,null,null,null,null,{"$f":"IF(基礎データ!A11=\"\",\"\",基礎データ!A11)","v":""},{"$f":"IF(基礎データ!B11=\"\",\"\",基礎データ!B11)","v":""}]
[null,null,null,"○模擬授業　４年「みんな　いっしょ」",null,null,null,null,null,null,null,null,null,null,null,null,null,null,{"$f":"IF(基礎データ!A12=\"\",\"\",基礎データ!A12)","v":""},{"$f":"IF(基礎データ!B12=\"\",\"\",基礎データ!B12)","v":""}]
[null,null,null,"○内容項目の本質に向かう発問。",null,null,null,null,null,null,null,null,null,null,null,null,null,null,{"$f":"IF(基礎データ!A13=\"\",\"\",基礎データ!A13)","v":""},{"$f":"IF(基礎データ!B13=\"\",\"\",基礎データ!B13)","v":""}]
[null,null,null,"○深く考えるテーマ発問型、子どもとつくる生きた授業。",null,null,null,null,null,null,null,null,null,null,null,null,null,null,{"$f":"IF(基礎データ!A14=\"\",\"\",基礎データ!A14)","v":""},{"$f":"IF(基礎データ!B14=\"\",\"\",基礎データ!B14)","v":""}]
[null,null,null,"音楽セミナー",null,null,null,null,null,null,null,null,null,null,null,null,null,null,{"$f":"IF(基礎データ!A15=\"\",\"\",基礎データ!A15)","v":""},{"$f":"IF(基礎データ!B15=\"\",\"\",基礎データ!B15)","v":""}]
[null,null,null,"○音楽の学力→共通事項など窓口として、子どもが音楽に関わるようにする。",null,null,null,null,null,null,null,null,null,null,null,null,null,null,{"$f":"IF(基礎データ!A16=\"\",\"\",基礎データ!A16)","v":""},{"$f":"IF(基礎データ!B16=\"\",\"\",基礎データ!B16)","v":""}]
[null,"備　　考",null,null,null,null,null,null,null,null,null,null,null,null,null,null,null,null,{"$f":"IF(基礎データ!A17=\"\",\"\",基礎データ!A17)","v":""},{"$f":"IF(基礎データ!B17=\"\",\"\",基礎データ!B17)","v":""}]
[null,null,null,null,null,null,null,null,null,null,null,null,null,null,null,null,null,null,{"$f":"IF(基礎データ!A18=\"\",\"\",基礎データ!A18)","v":""},{"$f":"IF(基礎データ!B18=\"\",\"\",基礎データ!B18)","v":""}]
[null,null,null,null,null,null,null,null,null,null,null,null,null,null,null,null,null,null,{"$f":"IF(基礎データ!A19=\"\",\"\",基礎データ!A19)","v":""},{"$f":"IF(基礎データ!B19=\"\",\"\",基礎データ!B19)","v":""}]
[null,null,null,null,null,null,null,null,null,null,null,null,null,null,null,null,null,null,{"$f":"IF(基礎データ!A20=\"\",\"\",基礎データ!A20)","v":""},{"$f":"IF(基礎データ!B20=\"\",\"\",基礎データ!B20)","v":""}]
[null,null,null,null,null,null,null,null,null,null,null,null,null,null,null,null,null,null,{"$f":"IF(基礎データ!A21=\"\",\"\",基礎データ!A21)","v":""},{"$f":"IF(基礎データ!B21=\"\",\"\",基礎データ!B21)","v":""}]
[null,null,null,null,null,null,null,null,null,null,null,null,null,null,null,null,null,null,{"$f":"IF(基礎データ!A22=\"\",\"\",基礎データ!A22)","v":""},{"$f":"IF(基礎データ!B22=\"\",\"\",基礎データ!B22)","v":""}]
[null,null,null,null,null,null,null,null,null,null,null,null,null,null,null,null,null,null,{"$f":"IF(基礎データ!A23=\"\",\"\",基礎データ!A23)","v":""},{"$f":"IF(基礎データ!B23=\"\",\"\",基礎データ!B23)","v":""}]
[null,null,null,null,null,null,null,null,null,null,null,null,null,null,null,null,null,null,{"$f":"IF(基礎データ!A24=\"\",\"\",基礎データ!A24)","v":""},{"$f":"IF(基礎データ!B24=\"\",\"\",基礎データ!B24)","v":""}]
[null,null,null,null,null,null,null,null,null,null,null,null,null,null,null,null,null,null,{"$f":"IF(基礎データ!A25=\"\",\"\",基礎データ!A25)","v":""},{"$f":"IF(基礎データ!B25=\"\",\"\",基礎データ!B25)","v":""}]
[null,null,null,null,null,null,null,null,null,null,null,null,null,null,null,null,null,null,{"$f":"IF(基礎データ!A26=\"\",\"\",基礎データ!A26)","v":""},{"$f":"IF(基礎データ!B26=\"\",\"\",基礎データ!B26)","v":""}]
[null,null,null,null,null,null,null,null,null,null,null,null,null,null,null,null,null,null,{"$f":"IF(基礎データ!A27=\"\",\"\",基礎データ!A27)","v":""},{"$f":"IF(基礎データ!B27=\"\",\"\",基礎データ!B27)","v":""}]
[null,null,null,null,null,null,null,null,null,null,null,null,null,null,null,null,null,null,{"$f":"IF(基礎データ!A28=\"\",\"\",基礎データ!A28)","v":""},{"$f":"IF(基礎データ!B28=\"\",\"\",基礎データ!B28)","v":""}]
[null,null,null,null,null,null,null,null,null,null,null,null,null,null,null,null,null,null,{"$f":"IF(基礎データ!A29=\"\",\"\",基礎データ!A29)","v":""},{"$f":"IF(基礎データ!B29=\"\",\"\",基礎データ!B29)","v":""}]
[null,null,null,null,null,null,null,null,null,null,null,null,null,null,null,null,null,null,{"$f":"IF(基礎データ!A30=\"\",\"\",基礎データ!A30)","v":""},{"$f":"IF(基礎データ!B30=\"\",\"\",基礎データ!B30)","v":""}]
[null,null,null,null,null,null,null,null,null,null,null,null,null,null,null,null,null,null,{"$f":"IF(基礎データ!A31=\"\",\"\",基礎データ!A31)","v":""},{"$f":"IF(基礎データ!B31=\"\",\"\",基礎データ!B31)","v":""}]
[null,null,null,null,null,null,null,null,null,null,null,null,null,null,null,null,null,null,{"$f":"IF(基礎データ!A32=\"\",\"\",基礎データ!A32)","v":""},{"$f":"IF(基礎データ!B32=\"\",\"\",基礎データ!B32)","v":""}]
[null,null,null,null,null,null,null,null,null,null,null,null,null,null,null,null,null,null,{"$f":"IF(基礎データ!A33=\"\",\"\",基礎データ!A33)","v":""},{"$f":"IF(基礎データ!B33=\"\",\"\",基礎データ!B33)","v":""}]
[null,null,null,null,null,null,null,null,null,null,null,null,null,null,null,null,null,null,{"$f":"IF(基礎データ!A34=\"\",\"\",基礎データ!A34)","v":""},{"$f":"IF(基礎データ!B34=\"\",\"\",基礎データ!B34)","v":""}]
[null,null,null,null,null,null,null,null,null,null,null,null,null,null,null,null,null,null,{"$f":"IF(基礎データ!A35=\"\",\"\",基礎データ!A35)","v":""},{"$f":"IF(基礎データ!B35=\"\",\"\",基礎データ!B35)","v":""}]
[null,null,null,null,null,null,null,null,null,null,null,null,null,null,null,null,null,null,{"$f":"IF(基礎データ!A36=\"\",\"\",基礎データ!A36)","v":""},{"$f":"IF(基礎データ!B36=\"\",\"\",基礎データ!B36)","v":""}]
[null,null,null,null,null,null,null,null,null,null,null,null,null,null,null,null,null,null,{"$f":"IF(基礎データ!A37=\"\",\"\",基礎データ!A37)","v":""},{"$f":"IF(基礎データ!B37=\"\",\"\",基礎データ!B37)","v":""}]
[null,null,null,null,null,null,null,null,null,null,null,null,null,null,null,null,null,null,{"$f":"IF(基礎データ!A38=\"\",\"\",基礎データ!A38)","v":""},{"$f":"IF(基礎データ!B38=\"\",\"\",基礎データ!B38)","v":""}]
[null,null,null,null,null,null,null,null,null,null,null,null,null,null,null,null,null,null,{"$f":"IF(基礎データ!A39=\"\",\"\",基礎データ!A39)","v":""},{"$f":"IF(基礎データ!B39=\"\",\"\",基礎データ!B39)","v":""}]
[null,null,null,null,null,null,null,null,null,null,null,null,null,null,null,null,null,null,{"$f":"IF(基礎データ!A40=\"\",\"\",基礎データ!A40)","v":""},{"$f":"IF(基礎データ!B40=\"\",\"\",基礎データ!B40)","v":""}]
[null,null,null,null,null,null,null,null,null,null,null,null,null,null,null,null,null,null,{"$f":"IF(基礎データ!A41=\"\",\"\",基礎データ!A41)","v":""},{"$f":"IF(基礎データ!B41=\"\",\"\",基礎データ!B41)","v":""}]
[null,null,null,null,null,null,null,null,null,null,null,null,null,null,null,null,null,null,{"$f":"IF(基礎データ!A42=\"\",\"\",基礎データ!A42)","v":""},{"$f":"IF(基礎データ!B42=\"\",\"\",基礎データ!B42)","v":""}]
[null,null,null,null,null,null,null,null,null,null,null,null,null,null,null,null,null,null,{"$f":"IF(基礎データ!A43=\"\",\"\",基礎データ!A43)","v":""},{"$f":"IF(基礎データ!B43=\"\",\"\",基礎データ!B43)","v":""}]
[null,null,null,null,null,null,null,null,null,null,null,null,null,null,null,null,null,null,{"$f":"IF(基礎データ!A44=\"\",\"\",基礎データ!A44)","v":""},{"$f":"IF(基礎データ!B44=\"\",\"\",基礎データ!B44)","v":""}]
[null,null,null,null,null,null,null,null,null,null,null,null,null,null,null,null,null,null,{"$f":"IF(基礎データ!A45=\"\",\"\",基礎データ!A45)","v":""},{"$f":"IF(基礎データ!B45=\"\",\"\",基礎データ!B45)","v":""}]
[null,null,null,null,null,null,null,null,null,null,null,null,null,null,null,null,null,null,{"$f":"IF(基礎データ!A46=\"\",\"\",基礎データ!A46)","v":""},{"$f":"IF(基礎データ!B46=\"\",\"\",基礎データ!B46)","v":""}]
[null,null,null,null,null,null,null,null,null,null,null,null,null,null,null,null,null,null,{"$f":"IF(基礎データ!A47=\"\",\"\",基礎データ!A47)","v":""},{"$f":"IF(基礎データ!B47=\"\",\"\",基礎データ!B47)","v":""}]
[null,null,null,null,null,null,null,null,null,null,null,null,null,null,null,null,null,null,{"$f":"IF(基礎データ!A48=\"\",\"\",基礎データ!A48)","v":""},{"$f":"IF(基礎データ!B48=\"\",\"\",基礎データ!B48)","v":""},null,null,null,null,null,{"$f":"IF(S63=\"\",\"\",ROW())","v":""}]
[null,null,null,null,null,null,null,null,null,null,null,null,null,null,null,null,null,null,{"$f":"IF(基礎データ!A49=\"\",\"\",基礎データ!A49)","v":""},{"$f":"IF(基礎データ!B49=\"\",\"\",基礎データ!B49)","v":""},null,null,null,null,null,""]
[null,null,null,null,null,null,null,null,null,null,null,null,null,null,null,null,null,null,{"$f":"IF(基礎データ!A50=\"\",\"\",基礎データ!A50)","v":""},{"$f":"IF(基礎データ!B50=\"\",\"\",基礎データ!B50)","v":""},null,null,null,null,null,""]
[null,null,null,null,null,null,null,null,null,null,null,null,null,null,null,null,null,null,{"$f":"IF(基礎データ!A51=\"\",\"\",基礎データ!A51)","v":""},{"$f":"IF(基礎データ!B51=\"\",\"\",基礎データ!B51)","v":""},null,null,null,null,null,""]
[null,null,null,null,null,null,null,null,null,null,null,null,null,null,null,null,null,null,{"$f":"IF(基礎データ!A52=\"\",\"\",基礎データ!A52)","v":""},{"$f":"IF(基礎データ!B52=\"\",\"\",基礎データ!B52)","v":""},null,null,null,null,null,""]
[null,null,null,null,null,null,null,null,null,null,null,null,null,null,null,null,null,null,{"$f":"IF(基礎データ!A53=\"\",\"\",基礎データ!A53)","v":""},{"$f":"IF(基礎データ!B53=\"\",\"\",基礎データ!B53)","v":""},null,null,null,null,null,""]
[null,null,null,null,null,null,null,null,null,null,null,null,null,null,null,null,null,null,{"$f":"IF(基礎データ!A54=\"\",\"\",基礎データ!A54)","v":""},{"$f":"IF(基礎データ!B54=\"\",\"\",基礎データ!B54)","v":""},null,null,null,null,null,""]
[null,null,null,null,null,null,null,null,null,null,null,null,null,null,null,null,null,null,{"$f":"IF(基礎データ!A55=\"\",\"\",基礎データ!A55)","v":""},{"$f":"IF(基礎データ!B55=\"\",\"\",基礎データ!B55)","v":""},null,null,null,null,null,""]
[null,null,null,null,null,null,null,null,null,null,null,null,null,null,null,null,null,null,{"$f":"IF(基礎データ!A56=\"\",\"\",基礎データ!A56)","v":""},{"$f":"IF(基礎データ!B56=\"\",\"\",基礎データ!B56)","v":""},null,null,null,null,null,""]
[null,null,null,null,null,null,null,null,null,null,null,null,null,null,null,null,null,null,{"$f":"IF(基礎データ!A57=\"\",\"\",基礎データ!A57)","v":""},{"$f":"IF(基礎データ!B57=\"\",\"\",基礎データ!B57)","v":""},null,null,null,null,null,""]
[null,null,null,null,null,null,null,null,null,null,null,null,null,null,null,null,null,null,{"$f":"IF(基礎データ!A58=\"\",\"\",基礎データ!A58)","v":""},{"$f":"IF(基礎データ!B58=\"\",\"\",基礎データ!B58)","v":""},null,null,null,null,null,""]
[null,null,null,null,null,null,null,null,null,null,null,null,null,null,null,null,null,null,{"$f":"IF(基礎データ!A59=\"\",\"\",基礎データ!A59)","v":""},{"$f":"IF(基礎データ!B59=\"\",\"\",基礎データ!B59)","v":""},null,null,null,null,null,""]
[null,null,null,null,null,null,null,null,null,null,null,null,null,null,null,null,null,null,{"$f":"IF(基礎データ!A60=\"\",\"\",基礎データ!A60)","v":""},{"$f":"IF(基礎データ!B60=\"\",\"\",基礎データ!B60)","v":""},null,null,null,null,null,""]
[null,null,null,null,null,null,null,null,null,null,null,null,null,null,null,null,null,null,{"$f":"IF(基礎データ!A61=\"\",\"\",基礎データ!A61)","v":""},{"$f":"IF(基礎データ!B61=\"\",\"\",基礎データ!B61)","v":""},null,null,null,null,null,""]
[null,null,null,null,null,null,null,null,null,null,null,null,null,null,null,null,null,null,{"$f":"IF(基礎データ!A62=\"\",\"\",基礎データ!A62)","v":""},{"$f":"IF(基礎データ!B62=\"\",\"\",基礎データ!B62)","v":""},null,null,null,null,null,""]
[null,null,null,null,null,null,null,null,null,null,null,null,null,null,null,null,null,null,{"$f":"IF(基礎データ!A63=\"\",\"\",基礎データ!A63)","v":""},{"$f":"IF(基礎データ!B63=\"\",\"\",基礎データ!B63)","v":""},null,null,null,null,null,""]
[null,null,null,null,null,null,null,null,null,null,null,null,null,null,null,null,null,null,{"$f":"IF(基礎データ!A64=\"\",\"\",基礎データ!A64)","v":""},{"$f":"IF(基礎データ!B64=\"\",\"\",基礎データ!B64)","v":""},null,null,null,null,null,""]
[null,null,null,null,null,null,null,null,null,null,null,null,null,null,null,null,null,null,{"$f":"IF(基礎データ!A65=\"\",\"\",基礎データ!A65)","v":""},{"$f":"IF(基礎データ!B65=\"\",\"\",基礎データ!B65)","v":""},null,null,null,null,null,""]
[null,null,null,null,null,null,null,null,null,null,null,null,null,null,null,null,null,null,{"$f":"IF(基礎データ!A66=\"\",\"\",基礎データ!A66)","v":""},{"$f":"IF(基礎データ!B66=\"\",\"\",基礎データ!B66)","v":""},null,null,null,null,null,""]
[null,null,null,null,null,null,null,null,null,null,null,null,null,null,null,null,null,null,{"$f":"IF(基礎データ!A67=\"\",\"\",基礎データ!A67)","v":""},{"$f":"IF(基礎データ!B67=\"\",\"\",基礎データ!B67)","v":""},null,null,null,null,null,""]
[null,null,null,null,null,null,null,null,null,null,null,null,null,null,null,null,null,null,{"$f":"IF(基礎データ!A68=\"\",\"\",基礎データ!A68)","v":""},{"$f":"IF(基礎データ!B68=\"\",\"\",基礎データ!B68)","v":""},null,null,null,null,null,{"$f":"IF(S83=\"\",\"\",ROW())","v":""}]
[null,null,null,null,null,null,null,null,null,null,null,null,null,null,null,null,null,null,{"$f":"IF(基礎データ!A69=\"\",\"\",基礎データ!A69)","v":""},{"$f":"IF(基礎データ!B69=\"\",\"\",基礎データ!B69)","v":""},null,null,null,null,null,""]
[null,null,null,null,null,null,null,null,null,null,null,null,null,null,null,null,null,null,{"$f":"IF(基礎データ!A70=\"\",\"\",基礎データ!A70)","v":""},{"$f":"IF(基礎データ!B70=\"\",\"\",基礎データ!B70)","v":""},null,null,null,null,null,""]
[null,null,null,null,null,null,null,null,null,null,null,null,null,null,null,null,null,null,{"$f":"IF(基礎データ!A71=\"\",\"\",基礎データ!A71)","v":""},{"$f":"IF(基礎データ!B71=\"\",\"\",基礎データ!B71)","v":""},null,null,null,null,null,""]
[null,null,null,null,null,null,null,null,null,null,null,null,null,null,null,null,null,null,{"$f":"IF(基礎データ!A72=\"\",\"\",基礎データ!A72)","v":""},{"$f":"IF(基礎データ!B72=\"\",\"\",基礎データ!B72)","v":""},null,null,null,null,null,""]
[null,null,null,null,null,null,null,null,null,null,null,null,null,null,null,null,null,null,{"$f":"IF(基礎データ!A73=\"\",\"\",基礎データ!A73)","v":""},{"$f":"IF(基礎データ!B73=\"\",\"\",基礎データ!B73)","v":""},null,null,null,null,null,""]
[null,null,null,null,null,null,null,null,null,null,null,null,null,null,null,null,null,null,{"$f":"IF(基礎データ!A74=\"\",\"\",基礎データ!A74)","v":""},{"$f":"IF(基礎データ!B74=\"\",\"\",基礎データ!B74)","v":""},null,null,null,null,null,""]
[null,null,null,null,null,null,null,null,null,null,null,null,null,null,null,null,null,null,{"$f":"IF(基礎データ!A75=\"\",\"\",基礎データ!A75)","v":""},{"$f":"IF(基礎データ!B75=\"\",\"\",基礎データ!B75)","v":""},null,null,null,null,null,""]
[null,null,null,null,null,null,null,null,null,null,null,null,null,null,null,null,null,null,{"$f":"IF(基礎データ!A76=\"\",\"\",基礎データ!A76)","v":""},{"$f":"IF(基礎データ!B76=\"\",\"\",基礎データ!B76)","v":""},null,null,null,null,null,""]
[null,null,null,null,null,null,null,null,null,null,null,null,null,null,null,null,null,null,{"$f":"IF(基礎データ!A77=\"\",\"\",基礎データ!A77)","v":""},{"$f":"IF(基礎データ!B77=\"\",\"\",基礎データ!B77)","v":""},null,null,null,null,null,""]
[null,null,null,null,null,null,null,null,null,null,null,null,null,null,null,null,null,null,{"$f":"IF(基礎データ!A78=\"\",\"\",基礎データ!A78)","v":""},{"$f":"IF(基礎データ!B78=\"\",\"\",基礎データ!B78)","v":""},null,null,null,null,null,""]
[null,null,null,null,null,null,null,null,null,null,null,null,null,null,null,null,null,null,{"$f":"IF(基礎データ!A79=\"\",\"\",基礎データ!A79)","v":""},{"$f":"IF(基礎データ!B79=\"\",\"\",基礎データ!B79)","v":""},null,null,null,null,null,""]
[null,null,null,null,null,null,null,null,null,null,null,null,null,null,null,null,null,null,{"$f":"IF(基礎データ!A80=\"\",\"\",基礎データ!A80)","v":""},{"$f":"IF(基礎データ!B80=\"\",\"\",基礎データ!B80)","v":""},null,null,null,null,null,""]
[null,null,null,null,null,null,null,null,null,null,null,null,null,null,null,null,null,null,{"$f":"IF(基礎データ!A81=\"\",\"\",基礎データ!A81)","v":""},{"$f":"IF(基礎データ!B81=\"\",\"\",基礎データ!B81)","v":""},null,null,null,null,null,""]
[null,null,null,null,null,null,null,null,null,null,null,null,null,null,null,null,null,null,{"$f":"IF(基礎データ!A82=\"\",\"\",基礎データ!A82)","v":""},{"$f":"IF(基礎データ!B82=\"\",\"\",基礎データ!B82)","v":""},null,null,null,null,null,""]
[null,null,null,null,null,null,null,null,null,null,null,null,null,null,null,null,null,null,{"$f":"IF(基礎データ!A83=\"\",\"\",基礎データ!A83)","v":""},{"$f":"IF(基礎データ!B83=\"\",\"\",基礎データ!B83)","v":""},null,null,null,null,null,""]
[null,null,null,null,null,null,null,null,null,null,null,null,null,null,null,null,null,null,{"$f":"IF(基礎データ!A84=\"\",\"\",基礎データ!A84)","v":""},{"$f":"IF(基礎データ!B84=\"\",\"\",基礎データ!B84)","v":""},null,null,null,null,null,""]
[null,null,null,null,null,null,null,null,null,null,null,null,null,null,null,null,null,null,{"$f":"IF(基礎データ!A85=\"\",\"\",基礎データ!A85)","v":""},{"$f":"IF(基礎データ!B85=\"\",\"\",基礎データ!B85)","v":""},null,null,null,null,null,""]
[null,null,null,null,null,null,null,null,null,null,null,null,null,null,null,null,null,null,{"$f":"IF(基礎データ!A86=\"\",\"\",基礎データ!A86)","v":""},{"$f":"IF(基礎データ!B86=\"\",\"\",基礎データ!B86)","v":""},null,null,null,null,null,""]
[null,null,null,null,null,null,null,null,null,null,null,null,null,null,null,null,null,null,{"$f":"IF(基礎データ!A87=\"\",\"\",基礎データ!A87)","v":""},{"$f":"IF(基礎データ!B87=\"\",\"\",基礎データ!B87)","v":""},null,null,null,null,null,""]
[null,null,null,null,null,null,null,null,null,null,null,null,null,null,null,null,null,null,{"$f":"IF(基礎データ!A88=\"\",\"\",基礎データ!A88)","v":""},{"$f":"IF(基礎データ!B88=\"\",\"\",基礎データ!B88)","v":""},null,null,null,null,null,""]
[null,null,null,null,null,null,null,null,null,null,null,null,null,null,null,null,null,null,{"$f":"IF(基礎データ!A89=\"\",\"\",基礎データ!A89)","v":""},{"$f":"IF(基礎データ!B89=\"\",\"\",基礎データ!B89)","v":""},null,null,null,null,null,""]
[null,null,null,null,null,null,null,null,null,null,null,null,null,null,null,null,null,null,{"$f":"IF(基礎データ!A90=\"\",\"\",基礎データ!A90)","v":""},{"$f":"IF(基礎データ!B90=\"\",\"\",基礎データ!B90)","v":""},null,null,null,null,null,""]
[null,null,null,null,null,null,null,null,null,null,null,null,null,null,null,null,null,null,{"$f":"IF(基礎データ!A91=\"\",\"\",基礎データ!A91)","v":""},{"$f":"IF(基礎データ!B91=\"\",\"\",基礎データ!B91)","v":""},null,null,null,null,null,""]
[null,null,null,null,null,null,null,null,null,null,null,null,null,null,null,null,null,null,{"$f":"IF(基礎データ!A92=\"\",\"\",基礎データ!A92)","v":""},{"$f":"IF(基礎データ!B92=\"\",\"\",基礎データ!B92)","v":""},null,null,null,null,null,""]
[null,null,null,null,null,null,null,null,null,null,null,null,null,null,null,null,null,null,{"$f":"IF(基礎データ!A93=\"\",\"\",基礎データ!A93)","v":""},{"$f":"IF(基礎データ!B93=\"\",\"\",基礎データ!B93)","v":""},null,null,null,null,null,""]
[null,null,null,null,null,null,null,null,null,null,null,null,null,null,null,null,null,null,{"$f":"IF(基礎データ!A94=\"\",\"\",基礎データ!A94)","v":""},{"$f":"IF(基礎データ!B94=\"\",\"\",基礎データ!B94)","v":""},null,null,null,null,null,""]
[null,null,null,null,null,null,null,null,null,null,null,null,null,null,null,null,null,null,{"$f":"IF(基礎データ!A95=\"\",\"\",基礎データ!A95)","v":""},{"$f":"IF(基礎データ!B95=\"\",\"\",基礎データ!B95)","v":""},null,null,null,null,null,""]
[null,null,null,null,null,null,null,null,null,null,null,null,null,null,null,null,null,null,{"$f":"IF(基礎データ!A96=\"\",\"\",基礎データ!A96)","v":""},{"$f":"IF(基礎データ!B96=\"\",\"\",基礎データ!B96)","v":""},null,null,null,null,null,""]
[null,null,null,null,null,null,null,null,null,null,null,null,null,null,null,null,null,null,{"$f":"IF(基礎データ!A97=\"\",\"\",基礎データ!A97)","v":""},{"$f":"IF(基礎データ!B97=\"\",\"\",基礎データ!B97)","v":""},null,null,null,null,null,""]
[null,null,null,null,null,null,null,null,null,null,null,null,null,null,null,null,null,null,{"$f":"IF(基礎データ!A98=\"\",\"\",基礎データ!A98)","v":""},{"$f":"IF(基礎データ!B98=\"\",\"\",基礎データ!B98)","v":""},null,null,null,null,null,""]
[null,null,null,null,null,null,null,null,null,null,null,null,null,null,null,null,null,null,{"$f":"IF(基礎データ!A99=\"\",\"\",基礎データ!A99)","v":""},{"$f":"IF(基礎データ!B99=\"\",\"\",基礎データ!B99)","v":""},null,null,null,null,null,""]
[null,null,null,null,null,null,null,null,null,null,null,null,null,null,null,null,null,null,{"$f":"IF(基礎データ!A100=\"\",\"\",基礎データ!A100)","v":""},{"$f":"IF(基礎データ!B100=\"\",\"\",基礎データ!B100)","v":""},null,null,null,null,null,""]
[null,null,null,null,null,null,null,null,null,null,null,null,null,null,null,null,null,null,{"$f":"IF(基礎データ!A101=\"\",\"\",基礎データ!A101)","v":""},{"$f":"IF(基礎データ!B101=\"\",\"\",基礎データ!B101)","v":""},null,null,null,null,null,""]
[null,null,null,null,null,null,null,null,null,null,null,null,null,null,null,null,null,null,{"$f":"IF(基礎データ!A102=\"\",\"\",基礎データ!A102)","v":""},{"$f":"IF(基礎データ!B102=\"\",\"\",基礎データ!B102)","v":""},null,null,null,null,null,""]
[null,null,null,null,null,null,null,null,null,null,null,null,null,null,null,null,null,null,{"$f":"IF(基礎データ!A103=\"\",\"\",基礎データ!A103)","v":""},{"$f":"IF(基礎データ!B103=\"\",\"\",基礎データ!B103)","v":""},null,null,null,null,null,""]
[null,null,null,null,null,null,null,null,null,null,null,null,null,null,null,null,null,null,{"$f":"IF(基礎データ!A104=\"\",\"\",基礎データ!A104)","v":""},{"$f":"IF(基礎データ!B104=\"\",\"\",基礎データ!B104)","v":""}]

{"sheet":"県外視察計画書","index":5,"n_rows":119,"n_cols":20,"rows_kept":119,"cut":false,"hidden":true,"merged":[[4,16,4,17],[5,16,5,17],[8,5,8,6],[8,8,8,9],[8,10,8,12],[2,4,4,9],[2,10,2,11],[2,12,2,13],[3,10,4,11],[3,12,4,13],[13,15,14,19],[14,1,14,2],[14,3,14,5],[14,6,14,9],[14,10,14,13],[23,1,30,1],[23,2,27,2],[23,3,23,13],[24,3,24,13],[11,1,11,13],[12,1,13,13],[15,1,22,2],[15,3,15,13],[19,3,19,13],[20,3,20,13],[21,3,21,13],[22,3,22,13],[28,2,30,2],[28,3,28,5],[29,6,29,9],[29,10,29,13],[15,15,15,19],[16,3,16,13],[17,3,17,13],[17,15,18,15],[18,3,18,13],[31,1,35,2],[31,3,31,13],[32,3,32,13],[33,3,33,13],[34,3,34,13],[35,3,35,13],[25,3,25,13],[26,3,26,13],[27,3,27,13],[30,3,30,5],[30,6,30,9],[28,6,28,9],[28,10,28,13],[29,3,29,5],[30,10,30,13]]}
[]
[null,"様式１－１"]
[null,null,null,null,"研究視察旅行計画書",null,null,null,null,null,"校長",null,"教頭"]
[]
[]
[]
[null,null,null,null,null,null,null,"平成",24,"年",1,"月",3,"日"]
[null,{"$f":"P18&\"長  殿\"","v":"豊明市立中央小学校長  殿"}]
[null,null,null,null,null,"職　名",null,{"$f":"IF(K9=\"\",\"\",VLOOKUP(K9,S18:T118,2,FALSE))","v":{"$error":"#N/A"}},"氏　名",null,"坪田　孝子",null,null,"印"]
[]
[]
[null,"　　下記のとおり研究視察を計画しましたので、実施してよろしいか。"]
[null,"記"]
[null,null,null,null,null,null,null,null,null,null,null,null,null,null,null,"リストにない場合は一番下に追加してください"]
[null,"出張期間",null,"2012-01-01",null,null,"2012-01-03",null,null,null,{"$f":"IF(G15=\"\",\"\",\"( \"&G15-D15&\"泊\"&G15-D15+1&\"日\"&\" )\")","v":"( 2泊3日 )"}]
[null,"目的及び\n\n\n\n\n\n\n\n視察概要",null,null,null,null,null,null,null,null,null,null,null,null,null,"基礎データ"]
[null,null,null,null,null,null,null,null,null,null,null,null,null,null,null,"学校名","報告書名","場所","氏名","職名"]
[null,null,null,null,null,null,null,null,null,null,null,null,null,null,null,{"$f":"旅行命令!K10","v":"豊明市立中央小学校"},"研究視察旅行計画書",null,{"$f":"IF(基礎データ!A3=\"\",\"\",基礎データ!A3)","v":""},{"$f":"IF(基礎データ!B3=\"\",\"\",基礎データ!B3)","v":""}]
[null,null,null,null,null,null,null,null,null,null,null,null,null,null,null,null,null,null,{"$f":"IF(基礎データ!A4=\"\",\"\",基礎データ!A4)","v":""},{"$f":"IF(基礎データ!B4=\"\",\"\",基礎データ!B4)","v":""}]
[null,null,null,null,null,null,null,null,null,null,null,null,null,null,null,null,null,null,{"$f":"IF(基礎データ!A5=\"\",\"\",基礎データ!A5)","v":""},{"$f":"IF(基礎データ!B5=\"\",\"\",基礎データ!B5)","v":""}]
[null,null,null,null,null,null,null,null,null,null,null,null,null,null,null,null,null,null,{"$f":"IF(基礎データ!A6=\"\",\"\",基礎データ!A6)","v":""},{"$f":"IF(基礎データ!B6=\"\",\"\",基礎データ!B6)","v":""}]
[null,null,null,null,null,null,null,null,null,null,null,null,null,null,null,null,null,null,{"$f":"IF(基礎データ!A7=\"\",\"\",基礎データ!A7)","v":""},{"$f":"IF(基礎データ!B7=\"\",\"\",基礎データ!B7)","v":""}]
[null,null,null,null,null,null,null,null,null,null,null,null,null,null,null,null,null,null,{"$f":"IF(基礎データ!A8=\"\",\"\",基礎データ!A8)","v":""},{"$f":"IF(基礎データ!B8=\"\",\"\",基礎データ!B8)","v":""}]
[null,"視察先","所在地\n\n\n宿泊地",null,null,null,null,null,null,null,null,null,null,null,null,null,null,null,{"$f":"IF(基礎データ!A9=\"\",\"\",基礎データ!A9)","v":""},{"$f":"IF(基礎データ!B9=\"\",\"\",基礎データ!B9)","v":""}]
[null,null,null,null,null,null,null,null,null,null,null,null,null,null,null,null,null,null,{"$f":"IF(基礎データ!A10=\"\",\"\",基礎データ!A10)","v":""},{"$f":"IF(基礎データ!B10=\"\",\"\",基礎データ!B10)","v":""}]
[null,null,null,null,null,null,null,null,null,null,null,null,null,null,null,null,null,null,{"$f":"IF(基礎データ!A11=\"\",\"\",基礎データ!A11)","v":""},{"$f":"IF(基礎データ!B11=\"\",\"\",基礎データ!B11)","v":""}]
[null,null,null,null,null,null,null,null,null,null,null,null,null,null,null,null,null,null,{"$f":"IF(基礎データ!A12=\"\",\"\",基礎データ!A12)","v":""},{"$f":"IF(基礎データ!B12=\"\",\"\",基礎データ!B12)","v":""}]
[null,null,null,null,null,null,null,null,null,null,null,null,null,null,null,null,null,null,{"$f":"IF(基礎データ!A13=\"\",\"\",基礎データ!A13)","v":""},{"$f":"IF(基礎データ!B13=\"\",\"\",基礎データ!B13)","v":""}]
[null,null,"会　場","名称",null,null,"主催者又は相手方職員",null,null,null,"電話",null,null,null,null,null,null,null,{"$f":"IF(基礎データ!A14=\"\",\"\",基礎データ!A14)","v":""},{"$f":"IF(基礎データ!B14=\"\",\"\",基礎データ!B14)","v":""}]
[null,null,null,null,null,null,null,null,null,null,null,null,null,null,null,null,null,null,{"$f":"IF(基礎データ!A15=\"\",\"\",基礎データ!A15)","v":""},{"$f":"IF(基礎データ!B15=\"\",\"\",基礎データ!B15)","v":""}]
[null,null,null,null,null,null,null,null,null,null,null,null,null,null,null,null,null,null,{"$f":"IF(基礎データ!A16=\"\",\"\",基礎データ!A16)","v":""},{"$f":"IF(基礎データ!B16=\"\",\"\",基礎データ!B16)","v":""}]
[null,"備　　考",null,null,null,null,null,null,null,null,null,null,null,null,null,null,null,null,{"$f":"IF(基礎データ!A17=\"\",\"\",基礎データ!A17)","v":""},{"$f":"IF(基礎データ!B17=\"\",\"\",基礎データ!B17)","v":""}]
[null,null,null,null,null,null,null,null,null,null,null,null,null,null,null,null,null,null,{"$f":"IF(基礎データ!A18=\"\",\"\",基礎データ!A18)","v":""},{"$f":"IF(基礎データ!B18=\"\",\"\",基礎データ!B18)","v":""}]
[null,null,null,null,null,null,null,null,null,null,null,null,null,null,null,null,null,null,{"$f":"IF(基礎データ!A19=\"\",\"\",基礎データ!A19)","v":""},{"$f":"IF(基礎データ!B19=\"\",\"\",基礎データ!B19)","v":""}]
[null,null,null,null,null,null,null,null,null,null,null,null,null,null,null,null,null,null,{"$f":"IF(基礎データ!A20=\"\",\"\",基礎データ!A20)","v":""},{"$f":"IF(基礎データ!B20=\"\",\"\",基礎データ!B20)","v":""}]
[null,null,null,null,null,null,null,null,null,null,null,null,null,null,null,null,null,null,{"$f":"IF(基礎データ!A21=\"\",\"\",基礎データ!A21)","v":""},{"$f":"IF(基礎データ!B21=\"\",\"\",基礎データ!B21)","v":""}]
[null,null,null,null,null,null,null,null,null,null,null,null,null,null,null,null,null,null,{"$f":"IF(基礎データ!A22=\"\",\"\",基礎データ!A22)","v":""},{"$f":"IF(基礎データ!B22=\"\",\"\",基礎データ!B22)","v":""}]
[null,null,null,null,null,null,null,null,null,null,null,null,null,null,null,null,null,null,{"$f":"IF(基礎データ!A23=\"\",\"\",基礎データ!A23)","v":""},{"$f":"IF(基礎データ!B23=\"\",\"\",基礎データ!B23)","v":""}]
[null,null,null,null,null,null,null,null,null,null,null,null,null,null,null,null,null,null,{"$f":"IF(基礎データ!A24=\"\",\"\",基礎データ!A24)","v":""},{"$f":"IF(基礎データ!B24=\"\",\"\",基礎データ!B24)","v":""}]
[null,null,null,null,null,null,null,null,null,null,null,null,null,null,null,null,null,null,{"$f":"IF(基礎データ!A25=\"\",\"\",基礎データ!A25)","v":""},{"$f":"IF(基礎データ!B25=\"\",\"\",基礎データ!B25)","v":""}]
[null,null,null,null,null,null,null,null,null,null,null,null,null,null,null,null,null,null,{"$f":"IF(基礎データ!A26=\"\",\"\",基礎データ!A26)","v":""},{"$f":"IF(基礎データ!B26=\"\",\"\",基礎データ!B26)","v":""}]
[null,null,null,null,null,null,null,null,null,null,null,null,null,null,null,null,null,null,{"$f":"IF(基礎データ!A27=\"\",\"\",基礎データ!A27)","v":""},{"$f":"IF(基礎データ!B27=\"\",\"\",基礎データ!B27)","v":""}]
[null,null,null,null,null,null,null,null,null,null,null,null,null,null,null,null,null,null,{"$f":"IF(基礎データ!A28=\"\",\"\",基礎データ!A28)","v":""},{"$f":"IF(基礎データ!B28=\"\",\"\",基礎データ!B28)","v":""}]
[null,null,null,null,null,null,null,null,null,null,null,null,null,null,null,null,null,null,{"$f":"IF(基礎データ!A29=\"\",\"\",基礎データ!A29)","v":""},{"$f":"IF(基礎データ!B29=\"\",\"\",基礎データ!B29)","v":""}]
[null,null,null,null,null,null,null,null,null,null,null,null,null,null,null,null,null,null,{"$f":"IF(基礎データ!A30=\"\",\"\",基礎データ!A30)","v":""},{"$f":"IF(基礎データ!B30=\"\",\"\",基礎データ!B30)","v":""}]
[null,null,null,null,null,null,null,null,null,null,null,null,null,null,null,null,null,null,{"$f":"IF(基礎データ!A31=\"\",\"\",基礎データ!A31)","v":""},{"$f":"IF(基礎データ!B31=\"\",\"\",基礎データ!B31)","v":""}]
[null,null,null,null,null,null,null,null,null,null,null,null,null,null,null,null,null,null,{"$f":"IF(基礎データ!A32=\"\",\"\",基礎データ!A32)","v":""},{"$f":"IF(基礎データ!B32=\"\",\"\",基礎データ!B32)","v":""}]
[null,null,null,null,null,null,null,null,null,null,null,null,null,null,null,null,null,null,{"$f":"IF(基礎データ!A33=\"\",\"\",基礎データ!A33)","v":""},{"$f":"IF(基礎データ!B33=\"\",\"\",基礎データ!B33)","v":""}]
[null,null,null,null,null,null,null,null,null,null,null,null,null,null,null,null,null,null,{"$f":"IF(基礎データ!A34=\"\",\"\",基礎データ!A34)","v":""},{"$f":"IF(基礎データ!B34=\"\",\"\",基礎データ!B34)","v":""}]
[null,null,null,null,null,null,null,null,null,null,null,null,null,null,null,null,null,null,{"$f":"IF(基礎データ!A35=\"\",\"\",基礎データ!A35)","v":""},{"$f":"IF(基礎データ!B35=\"\",\"\",基礎データ!B35)","v":""}]
[null,null,null,null,null,null,null,null,null,null,null,null,null,null,null,null,null,null,{"$f":"IF(基礎データ!A36=\"\",\"\",基礎データ!A36)","v":""},{"$f":"IF(基礎データ!B36=\"\",\"\",基礎データ!B36)","v":""}]
[null,null,null,null,null,null,null,null,null,null,null,null,null,null,null,null,null,null,{"$f":"IF(基礎データ!A37=\"\",\"\",基礎データ!A37)","v":""},{"$f":"IF(基礎データ!B37=\"\",\"\",基礎データ!B37)","v":""}]
[null,null,null,null,null,null,null,null,null,null,null,null,null,null,null,null,null,null,{"$f":"IF(基礎データ!A38=\"\",\"\",基礎データ!A38)","v":""},{"$f":"IF(基礎データ!B38=\"\",\"\",基礎データ!B38)","v":""}]
[null,null,null,null,null,null,null,null,null,null,null,null,null,null,null,null,null,null,{"$f":"IF(基礎データ!A39=\"\",\"\",基礎データ!A39)","v":""},{"$f":"IF(基礎データ!B39=\"\",\"\",基礎データ!B39)","v":""}]
[null,null,null,null,null,null,null,null,null,null,null,null,null,null,null,null,null,null,{"$f":"IF(基礎データ!A40=\"\",\"\",基礎データ!A40)","v":""},{"$f":"IF(基礎データ!B40=\"\",\"\",基礎データ!B40)","v":""}]
[null,null,null,null,null,null,null,null,null,null,null,null,null,null,null,null,null,null,{"$f":"IF(基礎データ!A41=\"\",\"\",基礎データ!A41)","v":""},{"$f":"IF(基礎データ!B41=\"\",\"\",基礎データ!B41)","v":""}]
[null,null,null,null,null,null,null,null,null,null,null,null,null,null,null,null,null,null,{"$f":"IF(基礎データ!A42=\"\",\"\",基礎データ!A42)","v":""},{"$f":"IF(基礎データ!B42=\"\",\"\",基礎データ!B42)","v":""}]
[null,null,null,null,null,null,null,null,null,null,null,null,null,null,null,null,null,null,{"$f":"IF(基礎データ!A43=\"\",\"\",基礎データ!A43)","v":""},{"$f":"IF(基礎データ!B43=\"\",\"\",基礎データ!B43)","v":""}]
[null,null,null,null,null,null,null,null,null,null,null,null,null,null,null,null,null,null,{"$f":"IF(基礎データ!A44=\"\",\"\",基礎データ!A44)","v":""},{"$f":"IF(基礎データ!B44=\"\",\"\",基礎データ!B44)","v":""}]
[null,null,null,null,null,null,null,null,null,null,null,null,null,null,null,null,null,null,{"$f":"IF(基礎データ!A45=\"\",\"\",基礎データ!A45)","v":""},{"$f":"IF(基礎データ!B45=\"\",\"\",基礎データ!B45)","v":""}]
[null,null,null,null,null,null,null,null,null,null,null,null,null,null,null,null,null,null,{"$f":"IF(基礎データ!A46=\"\",\"\",基礎データ!A46)","v":""},{"$f":"IF(基礎データ!B46=\"\",\"\",基礎データ!B46)","v":""}]
[null,null,null,null,null,null,null,null,null,null,null,null,null,null,null,null,null,null,{"$f":"IF(基礎データ!A47=\"\",\"\",基礎データ!A47)","v":""},{"$f":"IF(基礎データ!B47=\"\",\"\",基礎データ!B47)","v":""}]
[null,null,null,null,null,null,null,null,null,null,null,null,null,null,null,null,null,null,{"$f":"IF(基礎データ!A48=\"\",\"\",基礎データ!A48)","v":""},{"$f":"IF(基礎データ!B48=\"\",\"\",基礎データ!B48)","v":""}]
[null,null,null,null,null,null,null,null,null,null,null,null,null,null,null,null,null,null,{"$f":"IF(基礎データ!A49=\"\",\"\",基礎データ!A49)","v":""},{"$f":"IF(基礎データ!B49=\"\",\"\",基礎データ!B49)","v":""}]
[null,null,null,null,null,null,null,null,null,null,null,null,null,null,null,null,null,null,{"$f":"IF(基礎データ!A50=\"\",\"\",基礎データ!A50)","v":""},{"$f":"IF(基礎データ!B50=\"\",\"\",基礎データ!B50)","v":""}]
[null,null,null,null,null,null,null,null,null,null,null,null,null,null,null,null,null,null,{"$f":"IF(基礎データ!A51=\"\",\"\",基礎データ!A51)","v":""},{"$f":"IF(基礎データ!B51=\"\",\"\",基礎データ!B51)","v":""}]
[null,null,null,null,null,null,null,null,null,null,null,null,null,null,null,null,null,null,{"$f":"IF(基礎データ!A52=\"\",\"\",基礎データ!A52)","v":""},{"$f":"IF(基礎データ!B52=\"\",\"\",基礎データ!B52)","v":""}]
[null,null,null,null,null,null,null,null,null,null,null,null,null,null,null,null,null,null,{"$f":"IF(基礎データ!A53=\"\",\"\",基礎データ!A53)","v":""},{"$f":"IF(基礎データ!B53=\"\",\"\",基礎データ!B53)","v":""}]
[null,null,null,null,null,null,null,null,null,null,null,null,null,null,null,null,null,null,{"$f":"IF(基礎データ!A54=\"\",\"\",基礎データ!A54)","v":""},{"$f":"IF(基礎データ!B54=\"\",\"\",基礎データ!B54)","v":""}]
[null,null,null,null,null,null,null,null,null,null,null,null,null,null,null,null,null,null,{"$f":"IF(基礎データ!A55=\"\",\"\",基礎データ!A55)","v":""},{"$f":"IF(基礎データ!B55=\"\",\"\",基礎データ!B55)","v":""}]
[null,null,null,null,null,null,null,null,null,null,null,null,null,null,null,null,null,null,{"$f":"IF(基礎データ!A56=\"\",\"\",基礎データ!A56)","v":""},{"$f":"IF(基礎データ!B56=\"\",\"\",基礎データ!B56)","v":""}]
[null,null,null,null,null,null,null,null,null,null,null,null,null,null,null,null,null,null,{"$f":"IF(基礎データ!A57=\"\",\"\",基礎データ!A57)","v":""},{"$f":"IF(基礎データ!B57=\"\",\"\",基礎データ!B57)","v":""}]
[null,null,null,null,null,null,null,null,null,null,null,null,null,null,null,null,null,null,{"$f":"IF(基礎データ!A58=\"\",\"\",基礎データ!A58)","v":""},{"$f":"IF(基礎データ!B58=\"\",\"\",基礎データ!B58)","v":""}]
[null,null,null,null,null,null,null,null,null,null,null,null,null,null,null,null,null,null,{"$f":"IF(基礎データ!A59=\"\",\"\",基礎データ!A59)","v":""},{"$f":"IF(基礎データ!B59=\"\",\"\",基礎データ!B59)","v":""}]
[null,null,null,null,null,null,null,null,null,null,null,null,null,null,null,null,null,null,{"$f":"IF(基礎データ!A60=\"\",\"\",基礎データ!A60)","v":""},{"$f":"IF(基礎データ!B60=\"\",\"\",基礎データ!B60)","v":""}]
[null,null,null,null,null,null,null,null,null,null,null,null,null,null,null,null,null,null,{"$f":"IF(基礎データ!A61=\"\",\"\",基礎データ!A61)","v":""},{"$f":"IF(基礎データ!B61=\"\",\"\",基礎データ!B61)","v":""}]
[null,null,null,null,null,null,null,null,null,null,null,null,null,null,null,null,null,null,{"$f":"IF(基礎データ!A62=\"\",\"\",基礎データ!A62)","v":""},{"$f":"IF(基礎データ!B62=\"\",\"\",基礎データ!B62)","v":""}]
[null,null,null,null,null,null,null,null,null,null,null,null,null,null,null,null,null,null,{"$f":"IF(基礎データ!A63=\"\",\"\",基礎データ!A63)","v":""},{"$f":"IF(基礎データ!B63=\"\",\"\",基礎データ!B63)","v":""}]
[null,null,null,null,null,null,null,null,null,null,null,null,null,null,null,null,null,null,{"$f":"IF(基礎データ!A64=\"\",\"\",基礎データ!A64)","v":""},{"$f":"IF(基礎データ!B64=\"\",\"\",基礎データ!B64)","v":""}]
[null,null,null,null,null,null,null,null,null,null,null,null,null,null,null,null,null,null,{"$f":"IF(基礎データ!A65=\"\",\"\",基礎データ!A65)","v":""},{"$f":"IF(基礎データ!B65=\"\",\"\",基礎データ!B65)","v":""}]
[null,null,null,null,null,null,null,null,null,null,null,null,null,null,null,null,null,null,{"$f":"IF(基礎データ!A66=\"\",\"\",基礎データ!A66)","v":""},{"$f":"IF(基礎データ!B66=\"\",\"\",基礎データ!B66)","v":""}]
[null,null,null,null,null,null,null,null,null,null,null,null,null,null,null,null,null,null,{"$f":"IF(基礎データ!A67=\"\",\"\",基礎データ!A67)","v":""},{"$f":"IF(基礎データ!B67=\"\",\"\",基礎データ!B67)","v":""}]
[null,null,null,null,null,null,null,null,null,null,null,null,null,null,null,null,null,null,{"$f":"IF(基礎データ!A68=\"\",\"\",基礎データ!A68)","v":""},{"$f":"IF(基礎データ!B68=\"\",\"\",基礎データ!B68)","v":""}]
[null,null,null,null,null,null,null,null,null,null,null,null,null,null,null,null,null,null,{"$f":"IF(基礎データ!A69=\"\",\"\",基礎データ!A69)","v":""},{"$f":"IF(基礎データ!B69=\"\",\"\",基礎データ!B69)","v":""}]
[null,null,null,null,null,null,null,null,null,null,null,null,null,null,null,null,null,null,{"$f":"IF(基礎データ!A70=\"\",\"\",基礎データ!A70)","v":""},{"$f":"IF(基礎データ!B70=\"\",\"\",基礎データ!B70)","v":""}]
[null,null,null,null,null,null,null,null,null,null,null,null,null,null,null,null,null,null,{"$f":"IF(基礎データ!A71=\"\",\"\",基礎データ!A71)","v":""},{"$f":"IF(基礎データ!B71=\"\",\"\",基礎データ!B71)","v":""}]
[null,null,null,null,null,null,null,null,null,null,null,null,null,null,null,null,null,null,{"$f":"IF(基礎データ!A72=\"\",\"\",基礎データ!A72)","v":""},{"$f":"IF(基礎データ!B72=\"\",\"\",基礎データ!B72)","v":""}]
[null,null,null,null,null,null,null,null,null,null,null,null,null,null,null,null,null,null,{"$f":"IF(基礎データ!A73=\"\",\"\",基礎データ!A73)","v":""},{"$f":"IF(基礎データ!B73=\"\",\"\",基礎データ!B73)","v":""}]
[null,null,null,null,null,null,null,null,null,null,null,null,null,null,null,null,null,null,{"$f":"IF(基礎データ!A74=\"\",\"\",基礎データ!A74)","v":""},{"$f":"IF(基礎データ!B74=\"\",\"\",基礎データ!B74)","v":""}]
[null,null,null,null,null,null,null,null,null,null,null,null,null,null,null,null,null,null,{"$f":"IF(基礎データ!A75=\"\",\"\",基礎データ!A75)","v":""},{"$f":"IF(基礎データ!B75=\"\",\"\",基礎データ!B75)","v":""}]
[null,null,null,null,null,null,null,null,null,null,null,null,null,null,null,null,null,null,{"$f":"IF(基礎データ!A76=\"\",\"\",基礎データ!A76)","v":""},{"$f":"IF(基礎データ!B76=\"\",\"\",基礎データ!B76)","v":""}]
[null,null,null,null,null,null,null,null,null,null,null,null,null,null,null,null,null,null,{"$f":"IF(基礎データ!A77=\"\",\"\",基礎データ!A77)","v":""},{"$f":"IF(基礎データ!B77=\"\",\"\",基礎データ!B77)","v":""}]
[null,null,null,null,null,null,null,null,null,null,null,null,null,null,null,null,null,null,{"$f":"IF(基礎データ!A78=\"\",\"\",基礎データ!A78)","v":""},{"$f":"IF(基礎データ!B78=\"\",\"\",基礎データ!B78)","v":""}]
[null,null,null,null,null,null,null,null,null,null,null,null,null,null,null,null,null,null,{"$f":"IF(基礎データ!A79=\"\",\"\",基礎データ!A79)","v":""},{"$f":"IF(基礎データ!B79=\"\",\"\",基礎データ!B79)","v":""}]
[null,null,null,null,null,null,null,null,null,null,null,null,null,null,null,null,null,null,{"$f":"IF(基礎データ!A80=\"\",\"\",基礎データ!A80)","v":""},{"$f":"IF(基礎データ!B80=\"\",\"\",基礎データ!B80)","v":""}]
[null,null,null,null,null,null,null,null,null,null,null,null,null,null,null,null,null,null,{"$f":"IF(基礎データ!A81=\"\",\"\",基礎データ!A81)","v":""},{"$f":"IF(基礎データ!B81=\"\",\"\",基礎データ!B81)","v":""}]
[null,null,null,null,null,null,null,null,null,null,null,null,null,null,null,null,null,null,{"$f":"IF(基礎データ!A82=\"\",\"\",基礎データ!A82)","v":""},{"$f":"IF(基礎データ!B82=\"\",\"\",基礎データ!B82)","v":""}]
[null,null,null,null,null,null,null,null,null,null,null,null,null,null,null,null,null,null,{"$f":"IF(基礎データ!A83=\"\",\"\",基礎データ!A83)","v":""},{"$f":"IF(基礎データ!B83=\"\",\"\",基礎データ!B83)","v":""}]
[null,null,null,null,null,null,null,null,null,null,null,null,null,null,null,null,null,null,{"$f":"IF(基礎データ!A84=\"\",\"\",基礎データ!A84)","v":""},{"$f":"IF(基礎データ!B84=\"\",\"\",基礎データ!B84)","v":""}]
[null,null,null,null,null,null,null,null,null,null,null,null,null,null,null,null,null,null,{"$f":"IF(基礎データ!A85=\"\",\"\",基礎データ!A85)","v":""},{"$f":"IF(基礎データ!B85=\"\",\"\",基礎データ!B85)","v":""}]
[null,null,null,null,null,null,null,null,null,null,null,null,null,null,null,null,null,null,{"$f":"IF(基礎データ!A86=\"\",\"\",基礎データ!A86)","v":""},{"$f":"IF(基礎データ!B86=\"\",\"\",基礎データ!B86)","v":""}]
[null,null,null,null,null,null,null,null,null,null,null,null,null,null,null,null,null,null,{"$f":"IF(基礎データ!A87=\"\",\"\",基礎データ!A87)","v":""},{"$f":"IF(基礎データ!B87=\"\",\"\",基礎データ!B87)","v":""}]
[null,null,null,null,null,null,null,null,null,null,null,null,null,null,null,null,null,null,{"$f":"IF(基礎データ!A88=\"\",\"\",基礎データ!A88)","v":""},{"$f":"IF(基礎データ!B88=\"\",\"\",基礎データ!B88)","v":""}]
[null,null,null,null,null,null,null,null,null,null,null,null,null,null,null,null,null,null,{"$f":"IF(基礎データ!A89=\"\",\"\",基礎データ!A89)","v":""},{"$f":"IF(基礎データ!B89=\"\",\"\",基礎データ!B89)","v":""}]
[null,null,null,null,null,null,null,null,null,null,null,null,null,null,null,null,null,null,{"$f":"IF(基礎データ!A90=\"\",\"\",基礎データ!A90)","v":""},{"$f":"IF(基礎データ!B90=\"\",\"\",基礎データ!B90)","v":""}]
[null,null,null,null,null,null,null,null,null,null,null,null,null,null,null,null,null,null,{"$f":"IF(基礎データ!A91=\"\",\"\",基礎データ!A91)","v":""},{"$f":"IF(基礎データ!B91=\"\",\"\",基礎データ!B91)","v":""}]
[null,null,null,null,null,null,null,null,null,null,null,null,null,null,null,null,null,null,{"$f":"IF(基礎データ!A92=\"\",\"\",基礎データ!A92)","v":""},{"$f":"IF(基礎データ!B92=\"\",\"\",基礎データ!B92)","v":""}]
[null,null,null,null,null,null,null,null,null,null,null,null,null,null,null,null,null,null,{"$f":"IF(基礎データ!A93=\"\",\"\",基礎データ!A93)","v":""},{"$f":"IF(基礎データ!B93=\"\",\"\",基礎データ!B93)","v":""}]
[null,null,null,null,null,null,null,null,null,null,null,null,null,null,null,null,null,null,{"$f":"IF(基礎データ!A94=\"\",\"\",基礎データ!A94)","v":""},{"$f":"IF(基礎データ!B94=\"\",\"\",基礎データ!B94)","v":""}]
[null,null,null,null,null,null,null,null,null,null,null,null,null,null,null,null,null,null,{"$f":"IF(基礎データ!A95=\"\",\"\",基礎データ!A95)","v":""},{"$f":"IF(基礎データ!B95=\"\",\"\",基礎データ!B95)","v":""}]
[null,null,null,null,null,null,null,null,null,null,null,null,null,null,null,null,null,null,{"$f":"IF(基礎データ!A96=\"\",\"\",基礎データ!A96)","v":""},{"$f":"IF(基礎データ!B96=\"\",\"\",基礎データ!B96)","v":""}]
[null,null,null,null,null,null,null,null,null,null,null,null,null,null,null,null,null,null,{"$f":"IF(基礎データ!A97=\"\",\"\",基礎データ!A97)","v":""},{"$f":"IF(基礎データ!B97=\"\",\"\",基礎データ!B97)","v":""}]
[null,null,null,null,null,null,null,null,null,null,null,null,null,null,null,null,null,null,{"$f":"IF(基礎データ!A98=\"\",\"\",基礎データ!A98)","v":""},{"$f":"IF(基礎データ!B98=\"\",\"\",基礎データ!B98)","v":""}]
[null,null,null,null,null,null,null,null,null,null,null,null,null,null,null,null,null,null,{"$f":"IF(基礎データ!A99=\"\",\"\",基礎データ!A99)","v":""},{"$f":"IF(基礎データ!B99=\"\",\"\",基礎データ!B99)","v":""}]
[null,null,null,null,null,null,null,null,null,null,null,null,null,null,null,null,null,null,{"$f":"IF(基礎データ!A100=\"\",\"\",基礎データ!A100)","v":""},{"$f":"IF(基礎データ!B100=\"\",\"\",基礎データ!B100)","v":""}]
[null,null,null,null,null,null,null,null,null,null,null,null,null,null,null,null,null,null,{"$f":"IF(基礎データ!A101=\"\",\"\",基礎データ!A101)","v":""},{"$f":"IF(基礎データ!B101=\"\",\"\",基礎データ!B101)","v":""}]
[null,null,null,null,null,null,null,null,null,null,null,null,null,null,null,null,null,null,{"$f":"IF(基礎データ!A102=\"\",\"\",基礎データ!A102)","v":""},{"$f":"IF(基礎データ!B102=\"\",\"\",基礎データ!B102)","v":""}]
[null,null,null,null,null,null,null,null,null,null,null,null,null,null,null,null,null,null,{"$f":"IF(基礎データ!A103=\"\",\"\",基礎データ!A103)","v":""},{"$f":"IF(基礎データ!B103=\"\",\"\",基礎データ!B103)","v":""}]
[null,null,null,null,null,null,null,null,null,null,null,null,null,null,null,null,null,null,{"$f":"IF(基礎データ!A104=\"\",\"\",基礎データ!A104)","v":""},{"$f":"IF(基礎データ!B104=\"\",\"\",基礎データ!B104)","v":""}]

{"sheet":"集団宿泊的行事","index":6,"n_rows":119,"n_cols":18,"rows_kept":119,"cut":false,"hidden":true,"merged":[[2,3,4,7],[2,8,2,9],[2,10,2,11],[3,8,4,9],[3,10,4,11],[8,5,9,5],[8,6,9,7],[8,8,9,10],[8,11,9,11],[12,1,12,11],[11,6,11,7],[13,13,14,17],[14,2,14,3],[14,4,14,7],[14,8,14,11],[15,2,15,11],[15,13,16,17],[18,13,19,13],[19,2,19,11],[20,2,20,11],[21,2,21,11],[22,2,22,11],[18,2,18,11],[33,1,35,1],[33,2,35,11],[23,2,23,11],[24,2,24,11],[25,2,25,11],[16,1,32,1],[16,2,16,11],[17,2,17,11],[26,2,26,11],[27,2,27,11],[28,2,28,11],[30,2,30,11],[29,2,29,11],[31,2,31,11],[32,2,32,11]]}
[]
[null,"様式　３"]
[null,null,null,"社会見学事前調査報告書",null,null,null,null,"校長",null,"教頭"]
[]
[]
[]
[null,null,null,null,null,"令和","元","年",7,"月",24,"日"]
[null,{"$f":"N19&\"長  殿\"","v":"豊明市立中央小学校長  殿"}]
[null,null,null,null,null,"職・氏名","教諭",null,"長縄　佳子",null,null,"印"]
[]
[null,"　　　下記のとおり事前調査しましたので、報告します。"]
[]
[null,"記"]
[null,null,null,null,null,null,null,null,null,null,null,null,null,"リストにない場合は一番下に追加してください"]
[null,"期　　間","2019-07-24",null,"2019-07-24",null,null,null,{"$f":"IF(E15=\"\",\"\",\"( \"&E15-C15&\"泊\"&E15-C15+1&\"日\"&\" )\")","v":"( 0泊1日 )"}]
[null,"用務先","東海市（ガス・エネルギー館）",null,null,null,null,null,null,null,null,null,null,"基礎データ"]
[null,"報　　　　　　告　　　　　　事　　　　　　項","①　経路・交通機関等の安全確保等について"]
[null,null,"・特に問題なし。",null,null,null,null,null,null,null,null,null,null,"学校名","行事名","場所","氏名","職名"]
[null,null,null,null,null,null,null,null,null,null,null,null,null,{"$f":"旅行命令!K10","v":"豊明市立中央小学校"},"第６学年修学旅行事前調査報告書","豊根村（豊明市野外教育ｾﾝﾀｰ）",{"$f":"IF(基礎データ!A3=\"\",\"\",基礎データ!A3)","v":""},{"$f":"IF(基礎データ!B3=\"\",\"\",基礎データ!B3)","v":""}]
[null,null,null,null,null,null,null,null,null,null,null,null,null,null,"第５学年野外活動事前調査報告書","豊明市（中京競馬場)",{"$f":"IF(基礎データ!A4=\"\",\"\",基礎データ!A4)","v":""},{"$f":"IF(基礎データ!B4=\"\",\"\",基礎データ!B4)","v":""}]
[null,null,null,null,null,null,null,null,null,null,null,null,null,null,"遠足事前調査報告書","豊明市新田町（三崎水辺公園）",{"$f":"IF(基礎データ!A5=\"\",\"\",基礎データ!A5)","v":""},{"$f":"IF(基礎データ!B5=\"\",\"\",基礎データ!B5)","v":""}]
[null,null,null,null,null,null,null,null,null,null,null,null,null,null,"社会見学事前調査報告書","大府市（大府みどり公園）",{"$f":"IF(基礎データ!A6=\"\",\"\",基礎データ!A6)","v":""},{"$f":"IF(基礎データ!B6=\"\",\"\",基礎データ!B6)","v":""}]
[null,null,null,null,null,null,null,null,null,null,null,null,null,null,null,"名古屋市緑区水広（水広公園）",{"$f":"IF(基礎データ!A7=\"\",\"\",基礎データ!A7)","v":""},{"$f":"IF(基礎データ!B7=\"\",\"\",基礎データ!B7)","v":""}]
[null,null,"②　見学先・食事場所・宿泊施設について",null,null,null,null,null,null,null,null,null,null,null,null,"刈谷市井ヶ谷町（洲原公園）",{"$f":"IF(基礎データ!A8=\"\",\"\",基礎データ!A8)","v":""},{"$f":"IF(基礎データ!B8=\"\",\"\",基礎データ!B8)","v":""}]
[null,null,"・昼食、集合写真の場所確認。",null,null,null,null,null,null,null,null,null,null,null,null,"豊田市足助町（三州足助屋敷）",{"$f":"IF(基礎データ!A9=\"\",\"\",基礎データ!A9)","v":""},{"$f":"IF(基礎データ!B9=\"\",\"\",基礎データ!B9)","v":""}]
[null,null,"・トイレの確認。",null,null,null,null,null,null,null,null,null,null,null,null,"名古屋市港区港町（名古屋港水族館）",{"$f":"IF(基礎データ!A10=\"\",\"\",基礎データ!A10)","v":""},{"$f":"IF(基礎データ!B10=\"\",\"\",基礎データ!B10)","v":""}]
[null,null,"・見学内容の確認。",null,null,null,null,null,null,null,null,null,null,null,null,"知多郡美浜町(美浜少年自然の家）",{"$f":"IF(基礎データ!A11=\"\",\"\",基礎データ!A11)","v":""},{"$f":"IF(基礎データ!B11=\"\",\"\",基礎データ!B11)","v":""}]
[null,null,null,null,null,null,null,null,null,null,null,null,null,null,null,"東海市（ガス・エネルギー館）",{"$f":"IF(基礎データ!A12=\"\",\"\",基礎データ!A12)","v":""},{"$f":"IF(基礎データ!B12=\"\",\"\",基礎データ!B12)","v":""}]
[null,null,null,null,null,null,null,null,null,null,null,null,null,null,null,null,{"$f":"IF(基礎データ!A13=\"\",\"\",基礎データ!A13)","v":""},{"$f":"IF(基礎データ!B13=\"\",\"\",基礎データ!B13)","v":""}]
[null,null,"③　その他",null,null,null,null,null,null,null,null,null,null,null,null,null,{"$f":"IF(基礎データ!A14=\"\",\"\",基礎データ!A14)","v":""},{"$f":"IF(基礎データ!B14=\"\",\"\",基礎データ!B14)","v":""}]
[null,null,null,null,null,null,null,null,null,null,null,null,null,null,null,null,{"$f":"IF(基礎データ!A15=\"\",\"\",基礎データ!A15)","v":""},{"$f":"IF(基礎データ!B15=\"\",\"\",基礎データ!B15)","v":""}]
[null,null,null,null,null,null,null,null,null,null,null,null,null,null,null,null,{"$f":"IF(基礎データ!A16=\"\",\"\",基礎データ!A16)","v":""},{"$f":"IF(基礎データ!B16=\"\",\"\",基礎データ!B16)","v":""}]
[null,null,null,null,null,null,null,null,null,null,null,null,null,null,null,null,{"$f":"IF(基礎データ!A17=\"\",\"\",基礎データ!A17)","v":""},{"$f":"IF(基礎データ!B17=\"\",\"\",基礎データ!B17)","v":""}]
[null,"備　　考",null,null,null,null,null,null,null,null,null,null,null,null,null,null,{"$f":"IF(基礎データ!A18=\"\",\"\",基礎データ!A18)","v":""},{"$f":"IF(基礎データ!B18=\"\",\"\",基礎データ!B18)","v":""}]
[null,null,null,null,null,null,null,null,null,null,null,null,null,null,null,null,{"$f":"IF(基礎データ!A19=\"\",\"\",基礎データ!A19)","v":""},{"$f":"IF(基礎データ!B19=\"\",\"\",基礎データ!B19)","v":""}]
[null,null,null,null,null,null,null,null,null,null,null,null,null,null,null,null,{"$f":"IF(基礎データ!A20=\"\",\"\",基礎データ!A20)","v":""},{"$f":"IF(基礎データ!B20=\"\",\"\",基礎データ!B20)","v":""}]
[null,null,null,null,null,null,null,null,null,null,null,null,null,null,null,null,{"$f":"IF(基礎データ!A21=\"\",\"\",基礎データ!A21)","v":""},{"$f":"IF(基礎データ!B21=\"\",\"\",基礎データ!B21)","v":""}]
[null,null,null,null,null,null,null,null,null,null,null,null,null,null,null,null,{"$f":"IF(基礎データ!A22=\"\",\"\",基礎データ!A22)","v":""},{"$f":"IF(基礎データ!B22=\"\",\"\",基礎データ!B22)","v":""}]
[null,null,null,null,null,null,null,null,null,null,null,null,null,null,null,null,{"$f":"IF(基礎データ!A23=\"\",\"\",基礎データ!A23)","v":""},{"$f":"IF(基礎データ!B23=\"\",\"\",基礎データ!B23)","v":""}]
[null,null,null,null,null,null,null,null,null,null,null,null,null,null,null,null,{"$f":"IF(基礎データ!A24=\"\",\"\",基礎データ!A24)","v":""},{"$f":"IF(基礎データ!B24=\"\",\"\",基礎データ!B24)","v":""}]
[null,null,null,null,null,null,null,null,null,null,null,null,null,null,null,null,{"$f":"IF(基礎データ!A25=\"\",\"\",基礎データ!A25)","v":""},{"$f":"IF(基礎データ!B25=\"\",\"\",基礎データ!B25)","v":""}]
[null,null,null,null,null,null,null,null,null,null,null,null,null,null,null,null,{"$f":"IF(基礎データ!A26=\"\",\"\",基礎データ!A26)","v":""},{"$f":"IF(基礎データ!B26=\"\",\"\",基礎データ!B26)","v":""}]
[null,null,null,null,null,null,null,null,null,null,null,null,null,null,null,null,{"$f":"IF(基礎データ!A27=\"\",\"\",基礎データ!A27)","v":""},{"$f":"IF(基礎データ!B27=\"\",\"\",基礎データ!B27)","v":""}]
[null,null,null,null,null,null,null,null,null,null,null,null,null,null,null,null,{"$f":"IF(基礎データ!A28=\"\",\"\",基礎データ!A28)","v":""},{"$f":"IF(基礎データ!B28=\"\",\"\",基礎データ!B28)","v":""}]
[null,null,null,null,null,null,null,null,null,null,null,null,null,null,null,null,{"$f":"IF(基礎データ!A29=\"\",\"\",基礎データ!A29)","v":""},{"$f":"IF(基礎データ!B29=\"\",\"\",基礎データ!B29)","v":""}]
[null,null,null,null,null,null,null,null,null,null,null,null,null,null,null,null,{"$f":"IF(基礎データ!A30=\"\",\"\",基礎データ!A30)","v":""},{"$f":"IF(基礎データ!B30=\"\",\"\",基礎データ!B30)","v":""}]
[null,null,null,null,null,null,null,null,null,null,null,null,null,null,null,null,{"$f":"IF(基礎データ!A31=\"\",\"\",基礎データ!A31)","v":""},{"$f":"IF(基礎データ!B31=\"\",\"\",基礎データ!B31)","v":""}]
[null,null,null,null,null,null,null,null,null,null,null,null,null,null,null,null,{"$f":"IF(基礎データ!A32=\"\",\"\",基礎データ!A32)","v":""},{"$f":"IF(基礎データ!B32=\"\",\"\",基礎データ!B32)","v":""}]
[null,null,null,null,null,null,null,null,null,null,null,null,null,null,null,null,{"$f":"IF(基礎データ!A33=\"\",\"\",基礎データ!A33)","v":""},{"$f":"IF(基礎データ!B33=\"\",\"\",基礎データ!B33)","v":""}]
[null,null,null,null,null,null,null,null,null,null,null,null,null,null,null,null,{"$f":"IF(基礎データ!A34=\"\",\"\",基礎データ!A34)","v":""},{"$f":"IF(基礎データ!B34=\"\",\"\",基礎データ!B34)","v":""}]
[null,null,null,null,null,null,null,null,null,null,null,null,null,null,null,null,{"$f":"IF(基礎データ!A35=\"\",\"\",基礎データ!A35)","v":""},{"$f":"IF(基礎データ!B35=\"\",\"\",基礎データ!B35)","v":""}]
[null,null,null,null,null,null,null,null,null,null,null,null,null,null,null,null,{"$f":"IF(基礎データ!A36=\"\",\"\",基礎データ!A36)","v":""},{"$f":"IF(基礎データ!B36=\"\",\"\",基礎データ!B36)","v":""}]
[null,null,null,null,null,null,null,null,null,null,null,null,null,null,null,null,{"$f":"IF(基礎データ!A37=\"\",\"\",基礎データ!A37)","v":""},{"$f":"IF(基礎データ!B37=\"\",\"\",基礎データ!B37)","v":""}]
[null,null,null,null,null,null,null,null,null,null,null,null,null,null,null,null,{"$f":"IF(基礎データ!A38=\"\",\"\",基礎データ!A38)","v":""},{"$f":"IF(基礎データ!B38=\"\",\"\",基礎データ!B38)","v":""}]
[null,null,null,null,null,null,null,null,null,null,null,null,null,null,null,null,{"$f":"IF(基礎データ!A39=\"\",\"\",基礎データ!A39)","v":""},{"$f":"IF(基礎データ!B39=\"\",\"\",基礎データ!B39)","v":""}]
[null,null,null,null,null,null,null,null,null,null,null,null,null,null,null,null,{"$f":"IF(基礎データ!A40=\"\",\"\",基礎データ!A40)","v":""},{"$f":"IF(基礎データ!B40=\"\",\"\",基礎データ!B40)","v":""}]
[null,null,null,null,null,null,null,null,null,null,null,null,null,null,null,null,{"$f":"IF(基礎データ!A41=\"\",\"\",基礎データ!A41)","v":""},{"$f":"IF(基礎データ!B41=\"\",\"\",基礎データ!B41)","v":""}]
[null,null,null,null,null,null,null,null,null,null,null,null,null,null,null,null,{"$f":"IF(基礎データ!A42=\"\",\"\",基礎データ!A42)","v":""},{"$f":"IF(基礎データ!B42=\"\",\"\",基礎データ!B42)","v":""}]
[null,null,null,null,null,null,null,null,null,null,null,null,null,null,null,null,{"$f":"IF(基礎データ!A43=\"\",\"\",基礎データ!A43)","v":""},{"$f":"IF(基礎データ!B43=\"\",\"\",基礎データ!B43)","v":""}]
[null,null,null,null,null,null,null,null,null,null,null,null,null,null,null,null,{"$f":"IF(基礎データ!A44=\"\",\"\",基礎データ!A44)","v":""},{"$f":"IF(基礎データ!B44=\"\",\"\",基礎データ!B44)","v":""}]
[null,null,null,null,null,null,null,null,null,null,null,null,null,null,null,null,{"$f":"IF(基礎データ!A45=\"\",\"\",基礎データ!A45)","v":""},{"$f":"IF(基礎データ!B45=\"\",\"\",基礎データ!B45)","v":""}]
[null,null,null,null,null,null,null,null,null,null,null,null,null,null,null,null,{"$f":"IF(基礎データ!A46=\"\",\"\",基礎データ!A46)","v":""},{"$f":"IF(基礎データ!B46=\"\",\"\",基礎データ!B46)","v":""}]
[null,null,null,null,null,null,null,null,null,null,null,null,null,null,null,null,{"$f":"IF(基礎データ!A47=\"\",\"\",基礎データ!A47)","v":""},{"$f":"IF(基礎データ!B47=\"\",\"\",基礎データ!B47)","v":""}]
[null,null,null,null,null,null,null,null,null,null,null,null,null,null,null,null,{"$f":"IF(基礎データ!A48=\"\",\"\",基礎データ!A48)","v":""},{"$f":"IF(基礎データ!B48=\"\",\"\",基礎データ!B48)","v":""}]
[null,null,null,null,null,null,null,null,null,null,null,null,null,null,null,null,{"$f":"IF(基礎データ!A49=\"\",\"\",基礎データ!A49)","v":""},{"$f":"IF(基礎データ!B49=\"\",\"\",基礎データ!B49)","v":""}]
[null,null,null,null,null,null,null,null,null,null,null,null,null,null,null,null,{"$f":"IF(基礎データ!A50=\"\",\"\",基礎データ!A50)","v":""},{"$f":"IF(基礎データ!B50=\"\",\"\",基礎データ!B50)","v":""}]
[null,null,null,null,null,null,null,null,null,null,null,null,null,null,null,null,{"$f":"IF(基礎データ!A51=\"\",\"\",基礎データ!A51)","v":""},{"$f":"IF(基礎データ!B51=\"\",\"\",基礎データ!B51)","v":""}]
[null,null,null,null,null,null,null,null,null,null,null,null,null,null,null,null,{"$f":"IF(基礎データ!A52=\"\",\"\",基礎データ!A52)","v":""},{"$f":"IF(基礎データ!B52=\"\",\"\",基礎データ!B52)","v":""}]
[null,null,null,null,null,null,null,null,null,null,null,null,null,null,null,null,{"$f":"IF(基礎データ!A53=\"\",\"\",基礎データ!A53)","v":""},{"$f":"IF(基礎データ!B53=\"\",\"\",基礎データ!B53)","v":""}]
[null,null,null,null,null,null,null,null,null,null,null,null,null,null,null,null,{"$f":"IF(基礎データ!A54=\"\",\"\",基礎データ!A54)","v":""},{"$f":"IF(基礎データ!B54=\"\",\"\",基礎データ!B54)","v":""}]
[null,null,null,null,null,null,null,null,null,null,null,null,null,null,null,null,{"$f":"IF(基礎データ!A55=\"\",\"\",基礎データ!A55)","v":""},{"$f":"IF(基礎データ!B55=\"\",\"\",基礎データ!B55)","v":""}]
[null,null,null,null,null,null,null,null,null,null,null,null,null,null,null,null,{"$f":"IF(基礎データ!A56=\"\",\"\",基礎データ!A56)","v":""},{"$f":"IF(基礎データ!B56=\"\",\"\",基礎データ!B56)","v":""}]
[null,null,null,null,null,null,null,null,null,null,null,null,null,null,null,null,{"$f":"IF(基礎データ!A57=\"\",\"\",基礎データ!A57)","v":""},{"$f":"IF(基礎データ!B57=\"\",\"\",基礎データ!B57)","v":""}]
[null,null,null,null,null,null,null,null,null,null,null,null,null,null,null,null,{"$f":"IF(基礎データ!A58=\"\",\"\",基礎データ!A58)","v":""},{"$f":"IF(基礎データ!B58=\"\",\"\",基礎データ!B58)","v":""}]
[null,null,null,null,null,null,null,null,null,null,null,null,null,null,null,null,{"$f":"IF(基礎データ!A59=\"\",\"\",基礎データ!A59)","v":""},{"$f":"IF(基礎データ!B59=\"\",\"\",基礎データ!B59)","v":""}]
[null,null,null,null,null,null,null,null,null,null,null,null,null,null,null,null,{"$f":"IF(基礎データ!A60=\"\",\"\",基礎データ!A60)","v":""},{"$f":"IF(基礎データ!B60=\"\",\"\",基礎データ!B60)","v":""}]
[null,null,null,null,null,null,null,null,null,null,null,null,null,null,null,null,{"$f":"IF(基礎データ!A61=\"\",\"\",基礎データ!A61)","v":""},{"$f":"IF(基礎データ!B61=\"\",\"\",基礎データ!B61)","v":""}]
[null,null,null,null,null,null,null,null,null,null,null,null,null,null,null,null,{"$f":"IF(基礎データ!A62=\"\",\"\",基礎データ!A62)","v":""},{"$f":"IF(基礎データ!B62=\"\",\"\",基礎データ!B62)","v":""}]
[null,null,null,null,null,null,null,null,null,null,null,null,null,null,null,null,{"$f":"IF(基礎データ!A63=\"\",\"\",基礎データ!A63)","v":""},{"$f":"IF(基礎データ!B63=\"\",\"\",基礎データ!B63)","v":""}]
[null,null,null,null,null,null,null,null,null,null,null,null,null,null,null,null,{"$f":"IF(基礎データ!A64=\"\",\"\",基礎データ!A64)","v":""},{"$f":"IF(基礎データ!B64=\"\",\"\",基礎データ!B64)","v":""}]
[null,null,null,null,null,null,null,null,null,null,null,null,null,null,null,null,{"$f":"IF(基礎データ!A65=\"\",\"\",基礎データ!A65)","v":""},{"$f":"IF(基礎データ!B65=\"\",\"\",基礎データ!B65)","v":""}]
[null,null,null,null,null,null,null,null,null,null,null,null,null,null,null,null,{"$f":"IF(基礎データ!A66=\"\",\"\",基礎データ!A66)","v":""},{"$f":"IF(基礎データ!B66=\"\",\"\",基礎データ!B66)","v":""}]
[null,null,null,null,null,null,null,null,null,null,null,null,null,null,null,null,{"$f":"IF(基礎データ!A67=\"\",\"\",基礎データ!A67)","v":""},{"$f":"IF(基礎データ!B67=\"\",\"\",基礎データ!B67)","v":""}]
[null,null,null,null,null,null,null,null,null,null,null,null,null,null,null,null,{"$f":"IF(基礎データ!A68=\"\",\"\",基礎データ!A68)","v":""},{"$f":"IF(基礎データ!B68=\"\",\"\",基礎データ!B68)","v":""}]
[null,null,null,null,null,null,null,null,null,null,null,null,null,null,null,null,{"$f":"IF(基礎データ!A69=\"\",\"\",基礎データ!A69)","v":""},{"$f":"IF(基礎データ!B69=\"\",\"\",基礎データ!B69)","v":""}]
[null,null,null,null,null,null,null,null,null,null,null,null,null,null,null,null,{"$f":"IF(基礎データ!A70=\"\",\"\",基礎データ!A70)","v":""},{"$f":"IF(基礎データ!B70=\"\",\"\",基礎データ!B70)","v":""}]
[null,null,null,null,null,null,null,null,null,null,null,null,null,null,null,null,{"$f":"IF(基礎データ!A71=\"\",\"\",基礎データ!A71)","v":""},{"$f":"IF(基礎データ!B71=\"\",\"\",基礎データ!B71)","v":""}]
[null,null,null,null,null,null,null,null,null,null,null,null,null,null,null,null,{"$f":"IF(基礎データ!A72=\"\",\"\",基礎データ!A72)","v":""},{"$f":"IF(基礎データ!B72=\"\",\"\",基礎データ!B72)","v":""}]
[null,null,null,null,null,null,null,null,null,null,null,null,null,null,null,null,{"$f":"IF(基礎データ!A73=\"\",\"\",基礎データ!A73)","v":""},{"$f":"IF(基礎データ!B73=\"\",\"\",基礎データ!B73)","v":""}]
[null,null,null,null,null,null,null,null,null,null,null,null,null,null,null,null,{"$f":"IF(基礎データ!A74=\"\",\"\",基礎データ!A74)","v":""},{"$f":"IF(基礎データ!B74=\"\",\"\",基礎データ!B74)","v":""}]
[null,null,null,null,null,null,null,null,null,null,null,null,null,null,null,null,{"$f":"IF(基礎データ!A75=\"\",\"\",基礎データ!A75)","v":""},{"$f":"IF(基礎データ!B75=\"\",\"\",基礎データ!B75)","v":""}]
[null,null,null,null,null,null,null,null,null,null,null,null,null,null,null,null,{"$f":"IF(基礎データ!A76=\"\",\"\",基礎データ!A76)","v":""},{"$f":"IF(基礎データ!B76=\"\",\"\",基礎データ!B76)","v":""}]
[null,null,null,null,null,null,null,null,null,null,null,null,null,null,null,null,{"$f":"IF(基礎データ!A77=\"\",\"\",基礎データ!A77)","v":""},{"$f":"IF(基礎データ!B77=\"\",\"\",基礎データ!B77)","v":""}]
[null,null,null,null,null,null,null,null,null,null,null,null,null,null,null,null,{"$f":"IF(基礎データ!A78=\"\",\"\",基礎データ!A78)","v":""},{"$f":"IF(基礎データ!B78=\"\",\"\",基礎データ!B78)","v":""}]
[null,null,null,null,null,null,null,null,null,null,null,null,null,null,null,null,{"$f":"IF(基礎データ!A79=\"\",\"\",基礎データ!A79)","v":""},{"$f":"IF(基礎データ!B79=\"\",\"\",基礎データ!B79)","v":""}]
[null,null,null,null,null,null,null,null,null,null,null,null,null,null,null,null,{"$f":"IF(基礎データ!A80=\"\",\"\",基礎データ!A80)","v":""},{"$f":"IF(基礎データ!B80=\"\",\"\",基礎データ!B80)","v":""}]
[null,null,null,null,null,null,null,null,null,null,null,null,null,null,null,null,{"$f":"IF(基礎データ!A81=\"\",\"\",基礎データ!A81)","v":""},{"$f":"IF(基礎データ!B81=\"\",\"\",基礎データ!B81)","v":""}]
[null,null,null,null,null,null,null,null,null,null,null,null,null,null,null,null,{"$f":"IF(基礎データ!A82=\"\",\"\",基礎データ!A82)","v":""},{"$f":"IF(基礎データ!B82=\"\",\"\",基礎データ!B82)","v":""}]
[null,null,null,null,null,null,null,null,null,null,null,null,null,null,null,null,{"$f":"IF(基礎データ!A83=\"\",\"\",基礎データ!A83)","v":""},{"$f":"IF(基礎データ!B83=\"\",\"\",基礎データ!B83)","v":""}]
[null,null,null,null,null,null,null,null,null,null,null,null,null,null,null,null,{"$f":"IF(基礎データ!A84=\"\",\"\",基礎データ!A84)","v":""},{"$f":"IF(基礎データ!B84=\"\",\"\",基礎データ!B84)","v":""}]
[null,null,null,null,null,null,null,null,null,null,null,null,null,null,null,null,{"$f":"IF(基礎データ!A85=\"\",\"\",基礎データ!A85)","v":""},{"$f":"IF(基礎データ!B85=\"\",\"\",基礎データ!B85)","v":""}]
[null,null,null,null,null,null,null,null,null,null,null,null,null,null,null,null,{"$f":"IF(基礎データ!A86=\"\",\"\",基礎データ!A86)","v":""},{"$f":"IF(基礎データ!B86=\"\",\"\",基礎データ!B86)","v":""}]
[null,null,null,null,null,null,null,null,null,null,null,null,null,null,null,null,{"$f":"IF(基礎データ!A87=\"\",\"\",基礎データ!A87)","v":""},{"$f":"IF(基礎データ!B87=\"\",\"\",基礎データ!B87)","v":""}]
[null,null,null,null,null,null,null,null,null,null,null,null,null,null,null,null,{"$f":"IF(基礎データ!A88=\"\",\"\",基礎データ!A88)","v":""},{"$f":"IF(基礎データ!B88=\"\",\"\",基礎データ!B88)","v":""}]
[null,null,null,null,null,null,null,null,null,null,null,null,null,null,null,null,{"$f":"IF(基礎データ!A89=\"\",\"\",基礎データ!A89)","v":""},{"$f":"IF(基礎データ!B89=\"\",\"\",基礎データ!B89)","v":""}]
[null,null,null,null,null,null,null,null,null,null,null,null,null,null,null,null,{"$f":"IF(基礎データ!A90=\"\",\"\",基礎データ!A90)","v":""},{"$f":"IF(基礎データ!B90=\"\",\"\",基礎データ!B90)","v":""}]
[null,null,null,null,null,null,null,null,null,null,null,null,null,null,null,null,{"$f":"IF(基礎データ!A91=\"\",\"\",基礎データ!A91)","v":""},{"$f":"IF(基礎データ!B91=\"\",\"\",基礎データ!B91)","v":""}]
[null,null,null,null,null,null,null,null,null,null,null,null,null,null,null,null,{"$f":"IF(基礎データ!A92=\"\",\"\",基礎データ!A92)","v":""},{"$f":"IF(基礎データ!B92=\"\",\"\",基礎データ!B92)","v":""}]
[null,null,null,null,null,null,null,null,null,null,null,null,null,null,null,null,{"$f":"IF(基礎データ!A93=\"\",\"\",基礎データ!A93)","v":""},{"$f":"IF(基礎データ!B93=\"\",\"\",基礎データ!B93)","v":""}]
[null,null,null,null,null,null,null,null,null,null,null,null,null,null,null,null,{"$f":"IF(基礎データ!A94=\"\",\"\",基礎データ!A94)","v":""},{"$f":"IF(基礎データ!B94=\"\",\"\",基礎データ!B94)","v":""}]
[null,null,null,null,null,null,null,null,null,null,null,null,null,null,null,null,{"$f":"IF(基礎データ!A95=\"\",\"\",基礎データ!A95)","v":""},{"$f":"IF(基礎データ!B95=\"\",\"\",基礎データ!B95)","v":""}]
[null,null,null,null,null,null,null,null,null,null,null,null,null,null,null,null,{"$f":"IF(基礎データ!A96=\"\",\"\",基礎データ!A96)","v":""},{"$f":"IF(基礎データ!B96=\"\",\"\",基礎データ!B96)","v":""}]
[null,null,null,null,null,null,null,null,null,null,null,null,null,null,null,null,{"$f":"IF(基礎データ!A97=\"\",\"\",基礎データ!A97)","v":""},{"$f":"IF(基礎データ!B97=\"\",\"\",基礎データ!B97)","v":""}]
[null,null,null,null,null,null,null,null,null,null,null,null,null,null,null,null,{"$f":"IF(基礎データ!A98=\"\",\"\",基礎データ!A98)","v":""},{"$f":"IF(基礎データ!B98=\"\",\"\",基礎データ!B98)","v":""}]
[null,null,null,null,null,null,null,null,null,null,null,null,null,null,null,null,{"$f":"IF(基礎データ!A99=\"\",\"\",基礎データ!A99)","v":""},{"$f":"IF(基礎データ!B99=\"\",\"\",基礎データ!B99)","v":""}]
[null,null,null,null,null,null,null,null,null,null,null,null,null,null,null,null,{"$f":"IF(基礎データ!A100=\"\",\"\",基礎データ!A100)","v":""},{"$f":"IF(基礎データ!B100=\"\",\"\",基礎データ!B100)","v":""}]
[null,null,null,null,null,null,null,null,null,null,null,null,null,null,null,null,{"$f":"IF(基礎データ!A101=\"\",\"\",基礎データ!A101)","v":""},{"$f":"IF(基礎データ!B101=\"\",\"\",基礎データ!B101)","v":""}]
[null,null,null,null,null,null,null,null,null,null,null,null,null,null,null,null,{"$f":"IF(基礎データ!A102=\"\",\"\",基礎データ!A102)","v":""},{"$f":"IF(基礎データ!B102=\"\",\"\",基礎データ!B102)","v":""}]
[null,null,null,null,null,null,null,null,null,null,null,null,null,null,null,null,{"$f":"IF(基礎データ!A103=\"\",\"\",基礎データ!A103)","v":""},{"$f":"IF(基礎データ!B103=\"\",\"\",基礎データ!B103)","v":""}]

{"sheet":"研修報告","index":7,"n_rows":119,"n_cols":18,"rows_kept":119,"cut":false,"hidden":true,"merged":[[1,3,3,7],[1,8,1,9],[1,10,1,11],[2,8,3,9],[2,10,3,11],[7,5,8,5],[7,6,8,7],[7,8,8,10],[7,11,8,11],[11,1,11,11],[12,13,13,17],[13,2,13,3],[13,4,13,7],[13,8,13,11],[14,2,14,11],[14,13,15,17],[17,13,18,13],[18,2,18,11],[19,2,19,11],[20,2,20,11],[21,2,21,11],[36,1,37,1],[36,2,36,11],[37,2,37,11],[32,2,32,11],[33,2,33,11],[15,1,35,1],[15,2,15,11],[16,2,16,11],[17,2,17,11],[22,2,22,11],[23,2,23,11],[24,2,24,11],[25,2,25,11],[26,2,26,11],[27,2,31,11],[34,2,34,11]]}
[]
[null,"様式　４",null,"小学校初任者研修報告書",null,null,null,null,"校長",null,"教頭"]
[]
[]
[]
[null,null,null,null,null,"平成",30,"年",4,"月",18,"日"]
[null,{"$f":"N18&\"長  殿\"","v":"豊明市立中央小学校長  殿"}]
[null,null,null,null,null,"職・氏名",{"$f":"IF(I8=\"\",\"\",VLOOKUP(I8,Q18:R118,2,FALSE))","v":{"$error":"#N/A"}},null,"秋山　主輝",null,null,"印"]
[]
[]
[null,"　　　下記のとおり研修しましたので、報告します。"]
[null,"記"]
[null,null,null,null,null,null,null,null,null,null,null,null,null,"下にどんどん100まで対応"]
[null,"期　　間","2018-04-25",null,"2018-04-25",null,null,null,{"$f":"IF(E14=\"\",\"\",\"( \"&E14-C14&\"泊\"&E14-C14+1&\"日\"&\" )\")","v":"( 0泊1日 )"}]
[null,"用務先","蒲郡市（蒲郡市民会館）",null,null,null,null,null,null,null,null,null,null,"基礎データ"]
[null,"報　　　　　　告　　　　　　事　　　　　　項","①　研修内容"]
[null,null,"講話「教員としての門出に際して」",null,null,null,null,null,null,null,null,null,null,"学校名","研修名","場所","氏名","職名"]
[null,null,"講義「教育公務員としての自覚」",null,null,null,null,null,null,null,null,null,null,{"$f":"旅行命令!K10","v":"豊明市立中央小学校"},"小学校初任者研修報告書","東郷町（愛知県教育センター）",{"$f":"IF(基礎データ!A3=\"\",\"\",基礎データ!A3)","v":""},{"$f":"IF(基礎データ!B3=\"\",\"\",基礎データ!B3)","v":""}]
[null,null,"講演「教員としての生き方」",null,null,null,null,null,null,null,null,null,null,null,"中学校初任者研修報告書","豊明市（豊明市役所）",{"$f":"IF(基礎データ!A4=\"\",\"\",基礎データ!A4)","v":""},{"$f":"IF(基礎データ!B4=\"\",\"\",基礎データ!B4)","v":""}]
[null,null,null,null,null,null,null,null,null,null,null,null,null,null,"新規採用養護教諭研修報告書","蒲郡市（蒲郡市民会館）",{"$f":"IF(基礎データ!A5=\"\",\"\",基礎データ!A5)","v":""},{"$f":"IF(基礎データ!B5=\"\",\"\",基礎データ!B5)","v":""}]
[null,null,null,null,null,null,null,null,null,null,null,null,null,null,"新規採用栄養教諭研修報告書","東郷町（愛知県教育センター）",{"$f":"IF(基礎データ!A6=\"\",\"\",基礎データ!A6)","v":""},{"$f":"IF(基礎データ!B6=\"\",\"\",基礎データ!B6)","v":""}]
[null,null,null,null,null,null,null,null,null,null,null,null,null,null,"小学校５年経験者研修報告書",null,{"$f":"IF(基礎データ!A7=\"\",\"\",基礎データ!A7)","v":""},{"$f":"IF(基礎データ!B7=\"\",\"\",基礎データ!B7)","v":""}]
[null,null,null,null,null,null,null,null,null,null,null,null,null,null,"中学校５年経験者研修報告書",null,{"$f":"IF(基礎データ!A8=\"\",\"\",基礎データ!A8)","v":""},{"$f":"IF(基礎データ!B8=\"\",\"\",基礎データ!B8)","v":""}]
[null,null,null,null,null,null,null,null,null,null,null,null,null,null,"小学校１０年経験者研修報告書",null,{"$f":"IF(基礎データ!A9=\"\",\"\",基礎データ!A9)","v":""},{"$f":"IF(基礎データ!B9=\"\",\"\",基礎データ!B9)","v":""}]
[null,null,null,null,null,null,null,null,null,null,null,null,null,null,"中学校１０年経験者研修報告書",null,{"$f":"IF(基礎データ!A10=\"\",\"\",基礎データ!A10)","v":""},{"$f":"IF(基礎データ!B10=\"\",\"\",基礎データ!B10)","v":""}]
[null,null,null,null,null,null,null,null,null,null,null,null,null,null,"新規採用者研修",null,{"$f":"IF(基礎データ!A11=\"\",\"\",基礎データ!A11)","v":""},{"$f":"IF(基礎データ!B11=\"\",\"\",基礎データ!B11)","v":""}]
[null,null,"②　今後の課題等",null,null,null,null,null,null,null,null,null,null,null,null,null,{"$f":"IF(基礎データ!A12=\"\",\"\",基礎データ!A12)","v":""},{"$f":"IF(基礎データ!B12=\"\",\"\",基礎データ!B12)","v":""}]
[null,null,"　初任者研修の開講式でした。これから、いよいよ初任者としての１年が始まると思うと身の引き締まる思いです。これから、学校での職務と並行して初任者研修があります。大変だと聞いていますが、頑張っていきたいと思います。",null,null,null,null,null,null,null,null,null,null,null,null,null,{"$f":"IF(基礎データ!A13=\"\",\"\",基礎データ!A13)","v":""},{"$f":"IF(基礎データ!B13=\"\",\"\",基礎データ!B13)","v":""}]
[null,null,null,null,null,null,null,null,null,null,null,null,null,null,null,null,{"$f":"IF(基礎データ!A14=\"\",\"\",基礎データ!A14)","v":""},{"$f":"IF(基礎データ!B14=\"\",\"\",基礎データ!B14)","v":""}]
[null,null,null,null,null,null,null,null,null,null,null,null,null,null,null,null,{"$f":"IF(基礎データ!A15=\"\",\"\",基礎データ!A15)","v":""},{"$f":"IF(基礎データ!B15=\"\",\"\",基礎データ!B15)","v":""}]
[null,null,null,null,null,null,null,null,null,null,null,null,null,null,null,null,{"$f":"IF(基礎データ!A16=\"\",\"\",基礎データ!A16)","v":""},{"$f":"IF(基礎データ!B16=\"\",\"\",基礎データ!B16)","v":""}]
[null,null,null,null,null,null,null,null,null,null,null,null,null,null,null,null,{"$f":"IF(基礎データ!A17=\"\",\"\",基礎データ!A17)","v":""},{"$f":"IF(基礎データ!B17=\"\",\"\",基礎データ!B17)","v":""}]
[null,null,"③　その他",null,null,null,null,null,null,null,null,null,null,null,null,null,{"$f":"IF(基礎データ!A18=\"\",\"\",基礎データ!A18)","v":""},{"$f":"IF(基礎データ!B18=\"\",\"\",基礎データ!B18)","v":""}]
[null,null,null,null,null,null,null,null,null,null,null,null,null,null,null,null,{"$f":"IF(基礎データ!A19=\"\",\"\",基礎データ!A19)","v":""},{"$f":"IF(基礎データ!B19=\"\",\"\",基礎データ!B19)","v":""}]
[null,null,null,null,null,null,null,null,null,null,null,null,null,null,null,null,{"$f":"IF(基礎データ!A20=\"\",\"\",基礎データ!A20)","v":""},{"$f":"IF(基礎データ!B20=\"\",\"\",基礎データ!B20)","v":""}]
[null,null,null,null,null,null,null,null,null,null,null,null,null,null,null,null,{"$f":"IF(基礎データ!A21=\"\",\"\",基礎データ!A21)","v":""},{"$f":"IF(基礎データ!B21=\"\",\"\",基礎データ!B21)","v":""}]
[null,"備　　考",null,null,null,null,null,null,null,null,null,null,null,null,null,null,{"$f":"IF(基礎データ!A22=\"\",\"\",基礎データ!A22)","v":""},{"$f":"IF(基礎データ!B22=\"\",\"\",基礎データ!B22)","v":""}]
[null,null,null,null,null,null,null,null,null,null,null,null,null,null,null,null,{"$f":"IF(基礎データ!A23=\"\",\"\",基礎データ!A23)","v":""},{"$f":"IF(基礎データ!B23=\"\",\"\",基礎データ!B23)","v":""}]
[null,null,null,null,null,null,null,null,null,null,null,null,null,null,null,null,{"$f":"IF(基礎データ!A24=\"\",\"\",基礎データ!A24)","v":""},{"$f":"IF(基礎データ!B24=\"\",\"\",基礎データ!B24)","v":""}]
[null,null,null,null,null,null,null,null,null,null,null,null,null,null,null,null,{"$f":"IF(基礎データ!A25=\"\",\"\",基礎データ!A25)","v":""},{"$f":"IF(基礎データ!B25=\"\",\"\",基礎データ!B25)","v":""}]
[null,null,null,null,null,null,null,null,null,null,null,null,null,null,null,null,{"$f":"IF(基礎データ!A26=\"\",\"\",基礎データ!A26)","v":""},{"$f":"IF(基礎データ!B26=\"\",\"\",基礎データ!B26)","v":""}]
[null,null,null,null,null,null,null,null,null,null,null,null,null,null,null,null,{"$f":"IF(基礎データ!A27=\"\",\"\",基礎データ!A27)","v":""},{"$f":"IF(基礎データ!B27=\"\",\"\",基礎データ!B27)","v":""}]
[null,null,null,null,null,null,null,null,null,null,null,null,null,null,null,null,{"$f":"IF(基礎データ!A28=\"\",\"\",基礎データ!A28)","v":""},{"$f":"IF(基礎データ!B28=\"\",\"\",基礎データ!B28)","v":""}]
[null,null,null,null,null,null,null,null,null,null,null,null,null,null,null,null,{"$f":"IF(基礎データ!A29=\"\",\"\",基礎データ!A29)","v":""},{"$f":"IF(基礎データ!B29=\"\",\"\",基礎データ!B29)","v":""}]
[null,null,null,null,null,null,null,null,null,null,null,null,null,null,null,null,{"$f":"IF(基礎データ!A30=\"\",\"\",基礎データ!A30)","v":""},{"$f":"IF(基礎データ!B30=\"\",\"\",基礎データ!B30)","v":""}]
[null,null,null,null,null,null,null,null,null,null,null,null,null,null,null,null,{"$f":"IF(基礎データ!A31=\"\",\"\",基礎データ!A31)","v":""},{"$f":"IF(基礎データ!B31=\"\",\"\",基礎データ!B31)","v":""}]
[null,null,null,null,null,null,null,null,null,null,null,null,null,null,null,null,{"$f":"IF(基礎データ!A32=\"\",\"\",基礎データ!A32)","v":""},{"$f":"IF(基礎データ!B32=\"\",\"\",基礎データ!B32)","v":""}]
[null,null,null,null,null,null,null,null,null,null,null,null,null,null,null,null,{"$f":"IF(基礎データ!A33=\"\",\"\",基礎データ!A33)","v":""},{"$f":"IF(基礎データ!B33=\"\",\"\",基礎データ!B33)","v":""}]
[null,null,null,null,null,null,null,null,null,null,null,null,null,null,null,null,{"$f":"IF(基礎データ!A34=\"\",\"\",基礎データ!A34)","v":""},{"$f":"IF(基礎データ!B34=\"\",\"\",基礎データ!B34)","v":""}]
[null,null,null,null,null,null,null,null,null,null,null,null,null,null,null,null,{"$f":"IF(基礎データ!A35=\"\",\"\",基礎データ!A35)","v":""},{"$f":"IF(基礎データ!B35=\"\",\"\",基礎データ!B35)","v":""}]
[null,null,null,null,null,null,null,null,null,null,null,null,null,null,null,null,{"$f":"IF(基礎データ!A36=\"\",\"\",基礎データ!A36)","v":""},{"$f":"IF(基礎データ!B36=\"\",\"\",基礎データ!B36)","v":""}]
[null,null,null,null,null,null,null,null,null,null,null,null,null,null,null,null,{"$f":"IF(基礎データ!A37=\"\",\"\",基礎データ!A37)","v":""},{"$f":"IF(基礎データ!B37=\"\",\"\",基礎データ!B37)","v":""}]
[null,null,null,null,null,null,null,null,null,null,null,null,null,null,null,null,{"$f":"IF(基礎データ!A38=\"\",\"\",基礎データ!A38)","v":""},{"$f":"IF(基礎データ!B38=\"\",\"\",基礎データ!B38)","v":""}]
[null,null,null,null,null,null,null,null,null,null,null,null,null,null,null,null,{"$f":"IF(基礎データ!A39=\"\",\"\",基礎データ!A39)","v":""},{"$f":"IF(基礎データ!B39=\"\",\"\",基礎データ!B39)","v":""}]
[null,null,null,null,null,null,null,null,null,null,null,null,null,null,null,null,{"$f":"IF(基礎データ!A40=\"\",\"\",基礎データ!A40)","v":""},{"$f":"IF(基礎データ!B40=\"\",\"\",基礎データ!B40)","v":""}]
[null,null,null,null,null,null,null,null,null,null,null,null,null,null,null,null,{"$f":"IF(基礎データ!A41=\"\",\"\",基礎データ!A41)","v":""},{"$f":"IF(基礎データ!B41=\"\",\"\",基礎データ!B41)","v":""}]
[null,null,null,null,null,null,null,null,null,null,null,null,null,null,null,null,{"$f":"IF(基礎データ!A42=\"\",\"\",基礎データ!A42)","v":""},{"$f":"IF(基礎データ!B42=\"\",\"\",基礎データ!B42)","v":""}]
[null,null,null,null,null,null,null,null,null,null,null,null,null,null,null,null,{"$f":"IF(基礎データ!A43=\"\",\"\",基礎データ!A43)","v":""},{"$f":"IF(基礎データ!B43=\"\",\"\",基礎データ!B43)","v":""}]
[null,null,null,null,null,null,null,null,null,null,null,null,null,null,null,null,{"$f":"IF(基礎データ!A44=\"\",\"\",基礎データ!A44)","v":""},{"$f":"IF(基礎データ!B44=\"\",\"\",基礎データ!B44)","v":""}]
[null,null,null,null,null,null,null,null,null,null,null,null,null,null,null,null,{"$f":"IF(基礎データ!A45=\"\",\"\",基礎データ!A45)","v":""},{"$f":"IF(基礎データ!B45=\"\",\"\",基礎データ!B45)","v":""}]
[null,null,null,null,null,null,null,null,null,null,null,null,null,null,null,null,{"$f":"IF(基礎データ!A46=\"\",\"\",基礎データ!A46)","v":""},{"$f":"IF(基礎データ!B46=\"\",\"\",基礎データ!B46)","v":""}]
[null,null,null,null,null,null,null,null,null,null,null,null,null,null,null,null,{"$f":"IF(基礎データ!A47=\"\",\"\",基礎データ!A47)","v":""},{"$f":"IF(基礎データ!B47=\"\",\"\",基礎データ!B47)","v":""}]
[null,null,null,null,null,null,null,null,null,null,null,null,null,null,null,null,{"$f":"IF(基礎データ!A48=\"\",\"\",基礎データ!A48)","v":""},{"$f":"IF(基礎データ!B48=\"\",\"\",基礎データ!B48)","v":""}]
[null,null,null,null,null,null,null,null,null,null,null,null,null,null,null,null,{"$f":"IF(基礎データ!A49=\"\",\"\",基礎データ!A49)","v":""},{"$f":"IF(基礎データ!B49=\"\",\"\",基礎データ!B49)","v":""}]
[null,null,null,null,null,null,null,null,null,null,null,null,null,null,null,null,{"$f":"IF(基礎データ!A50=\"\",\"\",基礎データ!A50)","v":""},{"$f":"IF(基礎データ!B50=\"\",\"\",基礎データ!B50)","v":""}]
[null,null,null,null,null,null,null,null,null,null,null,null,null,null,null,null,{"$f":"IF(基礎データ!A51=\"\",\"\",基礎データ!A51)","v":""},{"$f":"IF(基礎データ!B51=\"\",\"\",基礎データ!B51)","v":""}]
[null,null,null,null,null,null,null,null,null,null,null,null,null,null,null,null,{"$f":"IF(基礎データ!A52=\"\",\"\",基礎データ!A52)","v":""},{"$f":"IF(基礎データ!B52=\"\",\"\",基礎データ!B52)","v":""}]
[null,null,null,null,null,null,null,null,null,null,null,null,null,null,null,null,{"$f":"IF(基礎データ!A53=\"\",\"\",基礎データ!A53)","v":""},{"$f":"IF(基礎データ!B53=\"\",\"\",基礎データ!B53)","v":""}]
[null,null,null,null,null,null,null,null,null,null,null,null,null,null,null,null,{"$f":"IF(基礎データ!A54=\"\",\"\",基礎データ!A54)","v":""},{"$f":"IF(基礎データ!B54=\"\",\"\",基礎データ!B54)","v":""}]
[null,null,null,null,null,null,null,null,null,null,null,null,null,null,null,null,{"$f":"IF(基礎データ!A55=\"\",\"\",基礎データ!A55)","v":""},{"$f":"IF(基礎データ!B55=\"\",\"\",基礎データ!B55)","v":""}]
[null,null,null,null,null,null,null,null,null,null,null,null,null,null,null,null,{"$f":"IF(基礎データ!A56=\"\",\"\",基礎データ!A56)","v":""},{"$f":"IF(基礎データ!B56=\"\",\"\",基礎データ!B56)","v":""}]
[null,null,null,null,null,null,null,null,null,null,null,null,null,null,null,null,{"$f":"IF(基礎データ!A57=\"\",\"\",基礎データ!A57)","v":""},{"$f":"IF(基礎データ!B57=\"\",\"\",基礎データ!B57)","v":""}]
[null,null,null,null,null,null,null,null,null,null,null,null,null,null,null,null,{"$f":"IF(基礎データ!A58=\"\",\"\",基礎データ!A58)","v":""},{"$f":"IF(基礎データ!B58=\"\",\"\",基礎データ!B58)","v":""}]
[null,null,null,null,null,null,null,null,null,null,null,null,null,null,null,null,{"$f":"IF(基礎データ!A59=\"\",\"\",基礎データ!A59)","v":""},{"$f":"IF(基礎データ!B59=\"\",\"\",基礎データ!B59)","v":""}]
[null,null,null,null,null,null,null,null,null,null,null,null,null,null,null,null,{"$f":"IF(基礎データ!A60=\"\",\"\",基礎データ!A60)","v":""},{"$f":"IF(基礎データ!B60=\"\",\"\",基礎データ!B60)","v":""}]
[null,null,null,null,null,null,null,null,null,null,null,null,null,null,null,null,{"$f":"IF(基礎データ!A61=\"\",\"\",基礎データ!A61)","v":""},{"$f":"IF(基礎データ!B61=\"\",\"\",基礎データ!B61)","v":""}]
[null,null,null,null,null,null,null,null,null,null,null,null,null,null,null,null,{"$f":"IF(基礎データ!A62=\"\",\"\",基礎データ!A62)","v":""},{"$f":"IF(基礎データ!B62=\"\",\"\",基礎データ!B62)","v":""}]
[null,null,null,null,null,null,null,null,null,null,null,null,null,null,null,null,{"$f":"IF(基礎データ!A63=\"\",\"\",基礎データ!A63)","v":""},{"$f":"IF(基礎データ!B63=\"\",\"\",基礎データ!B63)","v":""}]
[null,null,null,null,null,null,null,null,null,null,null,null,null,null,null,null,{"$f":"IF(基礎データ!A64=\"\",\"\",基礎データ!A64)","v":""},{"$f":"IF(基礎データ!B64=\"\",\"\",基礎データ!B64)","v":""}]
[null,null,null,null,null,null,null,null,null,null,null,null,null,null,null,null,{"$f":"IF(基礎データ!A65=\"\",\"\",基礎データ!A65)","v":""},{"$f":"IF(基礎データ!B65=\"\",\"\",基礎データ!B65)","v":""}]
[null,null,null,null,null,null,null,null,null,null,null,null,null,null,null,null,{"$f":"IF(基礎データ!A66=\"\",\"\",基礎データ!A66)","v":""},{"$f":"IF(基礎データ!B66=\"\",\"\",基礎データ!B66)","v":""}]
[null,null,null,null,null,null,null,null,null,null,null,null,null,null,null,null,{"$f":"IF(基礎データ!A67=\"\",\"\",基礎データ!A67)","v":""},{"$f":"IF(基礎データ!B67=\"\",\"\",基礎データ!B67)","v":""}]
[null,null,null,null,null,null,null,null,null,null,null,null,null,null,null,null,{"$f":"IF(基礎データ!A68=\"\",\"\",基礎データ!A68)","v":""},{"$f":"IF(基礎データ!B68=\"\",\"\",基礎データ!B68)","v":""}]
[null,null,null,null,null,null,null,null,null,null,null,null,null,null,null,null,{"$f":"IF(基礎データ!A69=\"\",\"\",基礎データ!A69)","v":""},{"$f":"IF(基礎データ!B69=\"\",\"\",基礎データ!B69)","v":""}]
[null,null,null,null,null,null,null,null,null,null,null,null,null,null,null,null,{"$f":"IF(基礎データ!A70=\"\",\"\",基礎データ!A70)","v":""},{"$f":"IF(基礎データ!B70=\"\",\"\",基礎データ!B70)","v":""}]
[null,null,null,null,null,null,null,null,null,null,null,null,null,null,null,null,{"$f":"IF(基礎データ!A71=\"\",\"\",基礎データ!A71)","v":""},{"$f":"IF(基礎データ!B71=\"\",\"\",基礎データ!B71)","v":""}]
[null,null,null,null,null,null,null,null,null,null,null,null,null,null,null,null,{"$f":"IF(基礎データ!A72=\"\",\"\",基礎データ!A72)","v":""},{"$f":"IF(基礎データ!B72=\"\",\"\",基礎データ!B72)","v":""}]
[null,null,null,null,null,null,null,null,null,null,null,null,null,null,null,null,{"$f":"IF(基礎データ!A73=\"\",\"\",基礎データ!A73)","v":""},{"$f":"IF(基礎データ!B73=\"\",\"\",基礎データ!B73)","v":""}]
[null,null,null,null,null,null,null,null,null,null,null,null,null,null,null,null,{"$f":"IF(基礎データ!A74=\"\",\"\",基礎データ!A74)","v":""},{"$f":"IF(基礎データ!B74=\"\",\"\",基礎データ!B74)","v":""}]
[null,null,null,null,null,null,null,null,null,null,null,null,null,null,null,null,{"$f":"IF(基礎データ!A75=\"\",\"\",基礎データ!A75)","v":""},{"$f":"IF(基礎データ!B75=\"\",\"\",基礎データ!B75)","v":""}]
[null,null,null,null,null,null,null,null,null,null,null,null,null,null,null,null,{"$f":"IF(基礎データ!A76=\"\",\"\",基礎データ!A76)","v":""},{"$f":"IF(基礎データ!B76=\"\",\"\",基礎データ!B76)","v":""}]
[null,null,null,null,null,null,null,null,null,null,null,null,null,null,null,null,{"$f":"IF(基礎データ!A77=\"\",\"\",基礎データ!A77)","v":""},{"$f":"IF(基礎データ!B77=\"\",\"\",基礎データ!B77)","v":""}]
[null,null,null,null,null,null,null,null,null,null,null,null,null,null,null,null,{"$f":"IF(基礎データ!A78=\"\",\"\",基礎データ!A78)","v":""},{"$f":"IF(基礎データ!B78=\"\",\"\",基礎データ!B78)","v":""}]
[null,null,null,null,null,null,null,null,null,null,null,null,null,null,null,null,{"$f":"IF(基礎データ!A79=\"\",\"\",基礎データ!A79)","v":""},{"$f":"IF(基礎データ!B79=\"\",\"\",基礎データ!B79)","v":""}]
[null,null,null,null,null,null,null,null,null,null,null,null,null,null,null,null,{"$f":"IF(基礎データ!A80=\"\",\"\",基礎データ!A80)","v":""},{"$f":"IF(基礎データ!B80=\"\",\"\",基礎データ!B80)","v":""}]
[null,null,null,null,null,null,null,null,null,null,null,null,null,null,null,null,{"$f":"IF(基礎データ!A81=\"\",\"\",基礎データ!A81)","v":""},{"$f":"IF(基礎データ!B81=\"\",\"\",基礎データ!B81)","v":""}]
[null,null,null,null,null,null,null,null,null,null,null,null,null,null,null,null,{"$f":"IF(基礎データ!A82=\"\",\"\",基礎データ!A82)","v":""},{"$f":"IF(基礎データ!B82=\"\",\"\",基礎データ!B82)","v":""}]
[null,null,null,null,null,null,null,null,null,null,null,null,null,null,null,null,{"$f":"IF(基礎データ!A83=\"\",\"\",基礎データ!A83)","v":""},{"$f":"IF(基礎データ!B83=\"\",\"\",基礎データ!B83)","v":""}]
[null,null,null,null,null,null,null,null,null,null,null,null,null,null,null,null,{"$f":"IF(基礎データ!A84=\"\",\"\",基礎データ!A84)","v":""},{"$f":"IF(基礎データ!B84=\"\",\"\",基礎データ!B84)","v":""}]
[null,null,null,null,null,null,null,null,null,null,null,null,null,null,null,null,{"$f":"IF(基礎データ!A85=\"\",\"\",基礎データ!A85)","v":""},{"$f":"IF(基礎データ!B85=\"\",\"\",基礎データ!B85)","v":""}]
[null,null,null,null,null,null,null,null,null,null,null,null,null,null,null,null,{"$f":"IF(基礎データ!A86=\"\",\"\",基礎データ!A86)","v":""},{"$f":"IF(基礎データ!B86=\"\",\"\",基礎データ!B86)","v":""}]
[null,null,null,null,null,null,null,null,null,null,null,null,null,null,null,null,{"$f":"IF(基礎データ!A87=\"\",\"\",基礎データ!A87)","v":""},{"$f":"IF(基礎データ!B87=\"\",\"\",基礎データ!B87)","v":""}]
[null,null,null,null,null,null,null,null,null,null,null,null,null,null,null,null,{"$f":"IF(基礎データ!A88=\"\",\"\",基礎データ!A88)","v":""},{"$f":"IF(基礎データ!B88=\"\",\"\",基礎データ!B88)","v":""}]
[null,null,null,null,null,null,null,null,null,null,null,null,null,null,null,null,{"$f":"IF(基礎データ!A89=\"\",\"\",基礎データ!A89)","v":""},{"$f":"IF(基礎データ!B89=\"\",\"\",基礎データ!B89)","v":""}]
[null,null,null,null,null,null,null,null,null,null,null,null,null,null,null,null,{"$f":"IF(基礎データ!A90=\"\",\"\",基礎データ!A90)","v":""},{"$f":"IF(基礎データ!B90=\"\",\"\",基礎データ!B90)","v":""}]
[null,null,null,null,null,null,null,null,null,null,null,null,null,null,null,null,{"$f":"IF(基礎データ!A91=\"\",\"\",基礎データ!A91)","v":""},{"$f":"IF(基礎データ!B91=\"\",\"\",基礎データ!B91)","v":""}]
[null,null,null,null,null,null,null,null,null,null,null,null,null,null,null,null,{"$f":"IF(基礎データ!A92=\"\",\"\",基礎データ!A92)","v":""},{"$f":"IF(基礎データ!B92=\"\",\"\",基礎データ!B92)","v":""}]
[null,null,null,null,null,null,null,null,null,null,null,null,null,null,null,null,{"$f":"IF(基礎データ!A93=\"\",\"\",基礎データ!A93)","v":""},{"$f":"IF(基礎データ!B93=\"\",\"\",基礎データ!B93)","v":""}]
[null,null,null,null,null,null,null,null,null,null,null,null,null,null,null,null,{"$f":"IF(基礎データ!A94=\"\",\"\",基礎データ!A94)","v":""},{"$f":"IF(基礎データ!B94=\"\",\"\",基礎データ!B94)","v":""}]
[null,null,null,null,null,null,null,null,null,null,null,null,null,null,null,null,{"$f":"IF(基礎データ!A95=\"\",\"\",基礎データ!A95)","v":""},{"$f":"IF(基礎データ!B95=\"\",\"\",基礎データ!B95)","v":""}]
[null,null,null,null,null,null,null,null,null,null,null,null,null,null,null,null,{"$f":"IF(基礎データ!A96=\"\",\"\",基礎データ!A96)","v":""},{"$f":"IF(基礎データ!B96=\"\",\"\",基礎データ!B96)","v":""}]
[null,null,null,null,null,null,null,null,null,null,null,null,null,null,null,null,{"$f":"IF(基礎データ!A97=\"\",\"\",基礎データ!A97)","v":""},{"$f":"IF(基礎データ!B97=\"\",\"\",基礎データ!B97)","v":""}]
[null,null,null,null,null,null,null,null,null,null,null,null,null,null,null,null,{"$f":"IF(基礎データ!A98=\"\",\"\",基礎データ!A98)","v":""},{"$f":"IF(基礎データ!B98=\"\",\"\",基礎データ!B98)","v":""}]
[null,null,null,null,null,null,null,null,null,null,null,null,null,null,null,null,{"$f":"IF(基礎データ!A99=\"\",\"\",基礎データ!A99)","v":""},{"$f":"IF(基礎データ!B99=\"\",\"\",基礎データ!B99)","v":""}]
[null,null,null,null,null,null,null,null,null,null,null,null,null,null,null,null,{"$f":"IF(基礎データ!A100=\"\",\"\",基礎データ!A100)","v":""},{"$f":"IF(基礎データ!B100=\"\",\"\",基礎データ!B100)","v":""}]
[null,null,null,null,null,null,null,null,null,null,null,null,null,null,null,null,{"$f":"IF(基礎データ!A101=\"\",\"\",基礎データ!A101)","v":""},{"$f":"IF(基礎データ!B101=\"\",\"\",基礎データ!B101)","v":""}]
[null,null,null,null,null,null,null,null,null,null,null,null,null,null,null,null,{"$f":"IF(基礎データ!A102=\"\",\"\",基礎データ!A102)","v":""},{"$f":"IF(基礎データ!B102=\"\",\"\",基礎データ!B102)","v":""}]
[null,null,null,null,null,null,null,null,null,null,null,null,null,null,null,null,{"$f":"IF(基礎データ!A103=\"\",\"\",基礎データ!A103)","v":""},{"$f":"IF(基礎データ!B103=\"\",\"\",基礎データ!B103)","v":""}]
[null,null,null,null,null,null,null,null,null,null,null,null,null,null,null,null,{"$f":"IF(基礎データ!A104=\"\",\"\",基礎データ!A104)","v":""},{"$f":"IF(基礎データ!B104=\"\",\"\",基礎データ!B104)","v":""}]

{"sheet":"研究大会報告","index":8,"n_rows":119,"n_cols":18,"rows_kept":119,"cut":false,"hidden":true,"merged":[[1,3,3,7],[1,8,1,9],[1,10,1,11],[2,8,3,9],[2,10,3,11],[7,5,8,5],[7,6,8,7],[7,8,8,10],[7,11,8,11],[12,1,12,11],[29,2,29,11],[30,2,30,11],[13,13,14,17],[14,2,14,3],[14,4,14,7],[14,8,14,11],[15,2,15,11],[15,13,16,17],[18,13,19,13],[19,2,19,11],[20,2,20,11],[21,2,21,11],[22,2,22,11],[31,2,31,11],[32,2,32,11],[33,2,33,11],[35,1,37,1],[35,2,35,11],[36,2,36,11],[37,2,37,11],[16,1,34,1],[16,2,16,11],[17,2,17,11],[18,2,18,11],[23,2,23,11],[25,2,25,11],[26,2,26,11],[27,2,27,11],[28,2,28,11]]}
[]
[null,"様式　２",null,"英語教育シンポジウム",null,null,null,null,"校長",null,"教頭"]
[]
[]
[]
[null,null,null,null,null,"平成",24,"年",1,"月",3,"日"]
[null,{"$f":"N19&\"長  殿\"","v":"豊明市立中央小学校長  殿"}]
[null,null,null,null,null,"職・氏名",{"$f":"IF(I8=\"\",\"\",VLOOKUP(I8,Q19:R119,2,FALSE))","v":{"$error":"#N/A"}},null,"鍵本弘子",null,null,"印"]
[]
[]
[null,"　　　下記のとおり研究大会に参加しましたので、報告します。"]
[]
[null,"記"]
[null,null,null,null,null,null,null,null,null,null,null,null,null,"リストにない場合は一番下に追加してください"]
[null,"期　　間","2012-01-01",null,"2012-01-03",null,null,null,{"$f":"IF(E15=\"\",\"\",\"( \"&E15-C15&\"泊\"&E15-C15+1&\"日\"&\" )\")","v":"( 2泊3日 )"}]
[null,"用務先","横浜市（横浜文化会館）",null,null,null,null,null,null,null,null,null,null,"基礎データ"]
[null,"報　　　　　　告　　　　　　事　　　　　　項","①　研究概要･内容"]
[null,null,null,null,null,null,null,null,null,null,null,null,null,"学校名","研修名","用務先","氏名","職名"]
[null,null,null,null,null,null,null,null,null,null,null,null,null,{"$f":"旅行命令!K10","v":"豊明市立中央小学校"},"愛知県小中学校音楽教育研究大会報告書","横浜市（横浜文化会館）",{"$f":"IF(基礎データ!A3=\"\",\"\",基礎データ!A3)","v":""},{"$f":"IF(基礎データ!B3=\"\",\"\",基礎データ!B3)","v":""}]
[null,null,null,null,null,null,null,null,null,null,null,null,null,null,"英語教育シンポジウム","安城市（市役所）",{"$f":"IF(基礎データ!A4=\"\",\"\",基礎データ!A4)","v":""},{"$f":"IF(基礎データ!B4=\"\",\"\",基礎データ!B4)","v":""}]
[null,null,null,null,null,null,null,null,null,null,null,null,null,null,null,null,{"$f":"IF(基礎データ!A5=\"\",\"\",基礎データ!A5)","v":""},{"$f":"IF(基礎データ!B5=\"\",\"\",基礎データ!B5)","v":""}]
[null,null,null,null,null,null,null,null,null,null,null,null,null,null,null,null,{"$f":"IF(基礎データ!A6=\"\",\"\",基礎データ!A6)","v":""},{"$f":"IF(基礎データ!B6=\"\",\"\",基礎データ!B6)","v":""}]
[null,null,null,null,null,null,null,null,null,null,null,null,null,null,null,null,{"$f":"IF(基礎データ!A7=\"\",\"\",基礎データ!A7)","v":""},{"$f":"IF(基礎データ!B7=\"\",\"\",基礎データ!B7)","v":""}]
[null,null,null,null,null,null,null,null,null,null,null,null,null,null,null,null,{"$f":"IF(基礎データ!A8=\"\",\"\",基礎データ!A8)","v":""},{"$f":"IF(基礎データ!B8=\"\",\"\",基礎データ!B8)","v":""}]
[null,null,null,null,null,null,null,null,null,null,null,null,null,null,null,null,{"$f":"IF(基礎データ!A9=\"\",\"\",基礎データ!A9)","v":""},{"$f":"IF(基礎データ!B9=\"\",\"\",基礎データ!B9)","v":""}]
[null,null,null,null,null,null,null,null,null,null,null,null,null,null,null,null,{"$f":"IF(基礎データ!A10=\"\",\"\",基礎データ!A10)","v":""},{"$f":"IF(基礎データ!B10=\"\",\"\",基礎データ!B10)","v":""}]
[null,null,"②　成果と活用方策等について",null,null,null,null,null,null,null,null,null,null,null,null,null,{"$f":"IF(基礎データ!A11=\"\",\"\",基礎データ!A11)","v":""},{"$f":"IF(基礎データ!B11=\"\",\"\",基礎データ!B11)","v":""}]
[null,null,null,null,null,null,null,null,null,null,null,null,null,null,null,null,{"$f":"IF(基礎データ!A12=\"\",\"\",基礎データ!A12)","v":""},{"$f":"IF(基礎データ!B12=\"\",\"\",基礎データ!B12)","v":""}]
[null,null,null,null,null,null,null,null,null,null,null,null,null,null,null,null,{"$f":"IF(基礎データ!A13=\"\",\"\",基礎データ!A13)","v":""},{"$f":"IF(基礎データ!B13=\"\",\"\",基礎データ!B13)","v":""}]
[null,null,null,null,null,null,null,null,null,null,null,null,null,null,null,null,{"$f":"IF(基礎データ!A14=\"\",\"\",基礎データ!A14)","v":""},{"$f":"IF(基礎データ!B14=\"\",\"\",基礎データ!B14)","v":""}]
[null,null,null,null,null,null,null,null,null,null,null,null,null,null,null,null,{"$f":"IF(基礎データ!A15=\"\",\"\",基礎データ!A15)","v":""},{"$f":"IF(基礎データ!B15=\"\",\"\",基礎データ!B15)","v":""}]
[null,null,"③　その他",null,null,null,null,null,null,null,null,null,null,null,null,null,{"$f":"IF(基礎データ!A16=\"\",\"\",基礎データ!A16)","v":""},{"$f":"IF(基礎データ!B16=\"\",\"\",基礎データ!B16)","v":""}]
[null,null,null,null,null,null,null,null,null,null,null,null,null,null,null,null,{"$f":"IF(基礎データ!A17=\"\",\"\",基礎データ!A17)","v":""},{"$f":"IF(基礎データ!B17=\"\",\"\",基礎データ!B17)","v":""}]
[null,null,null,null,null,null,null,null,null,null,null,null,null,null,null,null,{"$f":"IF(基礎データ!A18=\"\",\"\",基礎データ!A18)","v":""},{"$f":"IF(基礎データ!B18=\"\",\"\",基礎データ!B18)","v":""}]
[null,null,null,null,null,null,null,null,null,null,null,null,null,null,null,null,{"$f":"IF(基礎データ!A19=\"\",\"\",基礎データ!A19)","v":""},{"$f":"IF(基礎データ!B19=\"\",\"\",基礎データ!B19)","v":""}]
[null,"備　　考",null,null,null,null,null,null,null,null,null,null,null,null,null,null,{"$f":"IF(基礎データ!A20=\"\",\"\",基礎データ!A20)","v":""},{"$f":"IF(基礎データ!B20=\"\",\"\",基礎データ!B20)","v":""}]
[null,null,null,null,null,null,null,null,null,null,null,null,null,null,null,null,{"$f":"IF(基礎データ!A21=\"\",\"\",基礎データ!A21)","v":""},{"$f":"IF(基礎データ!B21=\"\",\"\",基礎データ!B21)","v":""}]
[null,null,null,null,null,null,null,null,null,null,null,null,null,null,null,null,{"$f":"IF(基礎データ!A22=\"\",\"\",基礎データ!A22)","v":""},{"$f":"IF(基礎データ!B22=\"\",\"\",基礎データ!B22)","v":""}]
[null,null,null,null,null,null,null,null,null,null,null,null,null,null,null,null,{"$f":"IF(基礎データ!A23=\"\",\"\",基礎データ!A23)","v":""},{"$f":"IF(基礎データ!B23=\"\",\"\",基礎データ!B23)","v":""}]
[null,null,null,null,null,null,null,null,null,null,null,null,null,null,null,null,{"$f":"IF(基礎データ!A24=\"\",\"\",基礎データ!A24)","v":""},{"$f":"IF(基礎データ!B24=\"\",\"\",基礎データ!B24)","v":""}]
[null,null,null,null,null,null,null,null,null,null,null,null,null,null,null,null,{"$f":"IF(基礎データ!A25=\"\",\"\",基礎データ!A25)","v":""},{"$f":"IF(基礎データ!B25=\"\",\"\",基礎データ!B25)","v":""}]
[null,null,null,null,null,null,null,null,null,null,null,null,null,null,null,null,{"$f":"IF(基礎データ!A26=\"\",\"\",基礎データ!A26)","v":""},{"$f":"IF(基礎データ!B26=\"\",\"\",基礎データ!B26)","v":""}]
[null,null,null,null,null,null,null,null,null,null,null,null,null,null,null,null,{"$f":"IF(基礎データ!A27=\"\",\"\",基礎データ!A27)","v":""},{"$f":"IF(基礎データ!B27=\"\",\"\",基礎データ!B27)","v":""}]
[null,null,null,null,null,null,null,null,null,null,null,null,null,null,null,null,{"$f":"IF(基礎データ!A28=\"\",\"\",基礎データ!A28)","v":""},{"$f":"IF(基礎データ!B28=\"\",\"\",基礎データ!B28)","v":""}]
[null,null,null,null,null,null,null,null,null,null,null,null,null,null,null,null,{"$f":"IF(基礎データ!A29=\"\",\"\",基礎データ!A29)","v":""},{"$f":"IF(基礎データ!B29=\"\",\"\",基礎データ!B29)","v":""}]
[null,null,null,null,null,null,null,null,null,null,null,null,null,null,null,null,{"$f":"IF(基礎データ!A30=\"\",\"\",基礎データ!A30)","v":""},{"$f":"IF(基礎データ!B30=\"\",\"\",基礎データ!B30)","v":""}]
[null,null,null,null,null,null,null,null,null,null,null,null,null,null,null,null,{"$f":"IF(基礎データ!A31=\"\",\"\",基礎データ!A31)","v":""},{"$f":"IF(基礎データ!B31=\"\",\"\",基礎データ!B31)","v":""}]
[null,null,null,null,null,null,null,null,null,null,null,null,null,null,null,null,{"$f":"IF(基礎データ!A32=\"\",\"\",基礎データ!A32)","v":""},{"$f":"IF(基礎データ!B32=\"\",\"\",基礎データ!B32)","v":""}]
[null,null,null,null,null,null,null,null,null,null,null,null,null,null,null,null,{"$f":"IF(基礎データ!A33=\"\",\"\",基礎データ!A33)","v":""},{"$f":"IF(基礎データ!B33=\"\",\"\",基礎データ!B33)","v":""}]
[null,null,null,null,null,null,null,null,null,null,null,null,null,null,null,null,{"$f":"IF(基礎データ!A34=\"\",\"\",基礎データ!A34)","v":""},{"$f":"IF(基礎データ!B34=\"\",\"\",基礎データ!B34)","v":""}]
[null,null,null,null,null,null,null,null,null,null,null,null,null,null,null,null,{"$f":"IF(基礎データ!A35=\"\",\"\",基礎データ!A35)","v":""},{"$f":"IF(基礎データ!B35=\"\",\"\",基礎データ!B35)","v":""}]
[null,null,null,null,null,null,null,null,null,null,null,null,null,null,null,null,{"$f":"IF(基礎データ!A36=\"\",\"\",基礎データ!A36)","v":""},{"$f":"IF(基礎データ!B36=\"\",\"\",基礎データ!B36)","v":""}]
[null,null,null,null,null,null,null,null,null,null,null,null,null,null,null,null,{"$f":"IF(基礎データ!A37=\"\",\"\",基礎データ!A37)","v":""},{"$f":"IF(基礎データ!B37=\"\",\"\",基礎データ!B37)","v":""}]
[null,null,null,null,null,null,null,null,null,null,null,null,null,null,null,null,{"$f":"IF(基礎データ!A38=\"\",\"\",基礎データ!A38)","v":""},{"$f":"IF(基礎データ!B38=\"\",\"\",基礎データ!B38)","v":""}]
[null,null,null,null,null,null,null,null,null,null,null,null,null,null,null,null,{"$f":"IF(基礎データ!A39=\"\",\"\",基礎データ!A39)","v":""},{"$f":"IF(基礎データ!B39=\"\",\"\",基礎データ!B39)","v":""}]
[null,null,null,null,null,null,null,null,null,null,null,null,null,null,null,null,{"$f":"IF(基礎データ!A40=\"\",\"\",基礎データ!A40)","v":""},{"$f":"IF(基礎データ!B40=\"\",\"\",基礎データ!B40)","v":""}]
[null,null,null,null,null,null,null,null,null,null,null,null,null,null,null,null,{"$f":"IF(基礎データ!A41=\"\",\"\",基礎データ!A41)","v":""},{"$f":"IF(基礎データ!B41=\"\",\"\",基礎データ!B41)","v":""}]
[null,null,null,null,null,null,null,null,null,null,null,null,null,null,null,null,{"$f":"IF(基礎データ!A42=\"\",\"\",基礎データ!A42)","v":""},{"$f":"IF(基礎データ!B42=\"\",\"\",基礎データ!B42)","v":""}]
[null,null,null,null,null,null,null,null,null,null,null,null,null,null,null,null,{"$f":"IF(基礎データ!A43=\"\",\"\",基礎データ!A43)","v":""},{"$f":"IF(基礎データ!B43=\"\",\"\",基礎データ!B43)","v":""}]
[null,null,null,null,null,null,null,null,null,null,null,null,null,null,null,null,{"$f":"IF(基礎データ!A44=\"\",\"\",基礎データ!A44)","v":""},{"$f":"IF(基礎データ!B44=\"\",\"\",基礎データ!B44)","v":""}]
[null,null,null,null,null,null,null,null,null,null,null,null,null,null,null,null,{"$f":"IF(基礎データ!A45=\"\",\"\",基礎データ!A45)","v":""},{"$f":"IF(基礎データ!B45=\"\",\"\",基礎データ!B45)","v":""}]
[null,null,null,null,null,null,null,null,null,null,null,null,null,null,null,null,{"$f":"IF(基礎データ!A46=\"\",\"\",基礎データ!A46)","v":""},{"$f":"IF(基礎データ!B46=\"\",\"\",基礎データ!B46)","v":""}]
[null,null,null,null,null,null,null,null,null,null,null,null,null,null,null,null,{"$f":"IF(基礎データ!A47=\"\",\"\",基礎データ!A47)","v":""},{"$f":"IF(基礎データ!B47=\"\",\"\",基礎データ!B47)","v":""}]
[null,null,null,null,null,null,null,null,null,null,null,null,null,null,null,null,{"$f":"IF(基礎データ!A48=\"\",\"\",基礎データ!A48)","v":""},{"$f":"IF(基礎データ!B48=\"\",\"\",基礎データ!B48)","v":""}]
[null,null,null,null,null,null,null,null,null,null,null,null,null,null,null,null,{"$f":"IF(基礎データ!A49=\"\",\"\",基礎データ!A49)","v":""},{"$f":"IF(基礎データ!B49=\"\",\"\",基礎データ!B49)","v":""}]
[null,null,null,null,null,null,null,null,null,null,null,null,null,null,null,null,{"$f":"IF(基礎データ!A50=\"\",\"\",基礎データ!A50)","v":""},{"$f":"IF(基礎データ!B50=\"\",\"\",基礎データ!B50)","v":""}]
[null,null,null,null,null,null,null,null,null,null,null,null,null,null,null,null,{"$f":"IF(基礎データ!A51=\"\",\"\",基礎データ!A51)","v":""},{"$f":"IF(基礎データ!B51=\"\",\"\",基礎データ!B51)","v":""}]
[null,null,null,null,null,null,null,null,null,null,null,null,null,null,null,null,{"$f":"IF(基礎データ!A52=\"\",\"\",基礎データ!A52)","v":""},{"$f":"IF(基礎データ!B52=\"\",\"\",基礎データ!B52)","v":""}]
[null,null,null,null,null,null,null,null,null,null,null,null,null,null,null,null,{"$f":"IF(基礎データ!A53=\"\",\"\",基礎データ!A53)","v":""},{"$f":"IF(基礎データ!B53=\"\",\"\",基礎データ!B53)","v":""}]
[null,null,null,null,null,null,null,null,null,null,null,null,null,null,null,null,{"$f":"IF(基礎データ!A54=\"\",\"\",基礎データ!A54)","v":""},{"$f":"IF(基礎データ!B54=\"\",\"\",基礎データ!B54)","v":""}]
[null,null,null,null,null,null,null,null,null,null,null,null,null,null,null,null,{"$f":"IF(基礎データ!A55=\"\",\"\",基礎データ!A55)","v":""},{"$f":"IF(基礎データ!B55=\"\",\"\",基礎データ!B55)","v":""}]
[null,null,null,null,null,null,null,null,null,null,null,null,null,null,null,null,{"$f":"IF(基礎データ!A56=\"\",\"\",基礎データ!A56)","v":""},{"$f":"IF(基礎データ!B56=\"\",\"\",基礎データ!B56)","v":""}]
[null,null,null,null,null,null,null,null,null,null,null,null,null,null,null,null,{"$f":"IF(基礎データ!A57=\"\",\"\",基礎データ!A57)","v":""},{"$f":"IF(基礎データ!B57=\"\",\"\",基礎データ!B57)","v":""}]
[null,null,null,null,null,null,null,null,null,null,null,null,null,null,null,null,{"$f":"IF(基礎データ!A58=\"\",\"\",基礎データ!A58)","v":""},{"$f":"IF(基礎データ!B58=\"\",\"\",基礎データ!B58)","v":""}]
[null,null,null,null,null,null,null,null,null,null,null,null,null,null,null,null,{"$f":"IF(基礎データ!A59=\"\",\"\",基礎データ!A59)","v":""},{"$f":"IF(基礎データ!B59=\"\",\"\",基礎データ!B59)","v":""}]
[null,null,null,null,null,null,null,null,null,null,null,null,null,null,null,null,{"$f":"IF(基礎データ!A60=\"\",\"\",基礎データ!A60)","v":""},{"$f":"IF(基礎データ!B60=\"\",\"\",基礎データ!B60)","v":""}]
[null,null,null,null,null,null,null,null,null,null,null,null,null,null,null,null,{"$f":"IF(基礎データ!A61=\"\",\"\",基礎データ!A61)","v":""},{"$f":"IF(基礎データ!B61=\"\",\"\",基礎データ!B61)","v":""}]
[null,null,null,null,null,null,null,null,null,null,null,null,null,null,null,null,{"$f":"IF(基礎データ!A62=\"\",\"\",基礎データ!A62)","v":""},{"$f":"IF(基礎データ!B62=\"\",\"\",基礎データ!B62)","v":""}]
[null,null,null,null,null,null,null,null,null,null,null,null,null,null,null,null,{"$f":"IF(基礎データ!A63=\"\",\"\",基礎データ!A63)","v":""},{"$f":"IF(基礎データ!B63=\"\",\"\",基礎データ!B63)","v":""}]
[null,null,null,null,null,null,null,null,null,null,null,null,null,null,null,null,{"$f":"IF(基礎データ!A64=\"\",\"\",基礎データ!A64)","v":""},{"$f":"IF(基礎データ!B64=\"\",\"\",基礎データ!B64)","v":""}]
[null,null,null,null,null,null,null,null,null,null,null,null,null,null,null,null,{"$f":"IF(基礎データ!A65=\"\",\"\",基礎データ!A65)","v":""},{"$f":"IF(基礎データ!B65=\"\",\"\",基礎データ!B65)","v":""}]
[null,null,null,null,null,null,null,null,null,null,null,null,null,null,null,null,{"$f":"IF(基礎データ!A66=\"\",\"\",基礎データ!A66)","v":""},{"$f":"IF(基礎データ!B66=\"\",\"\",基礎データ!B66)","v":""}]
[null,null,null,null,null,null,null,null,null,null,null,null,null,null,null,null,{"$f":"IF(基礎データ!A67=\"\",\"\",基礎データ!A67)","v":""},{"$f":"IF(基礎データ!B67=\"\",\"\",基礎データ!B67)","v":""}]
[null,null,null,null,null,null,null,null,null,null,null,null,null,null,null,null,{"$f":"IF(基礎データ!A68=\"\",\"\",基礎データ!A68)","v":""},{"$f":"IF(基礎データ!B68=\"\",\"\",基礎データ!B68)","v":""}]
[null,null,null,null,null,null,null,null,null,null,null,null,null,null,null,null,{"$f":"IF(基礎データ!A69=\"\",\"\",基礎データ!A69)","v":""},{"$f":"IF(基礎データ!B69=\"\",\"\",基礎データ!B69)","v":""}]
[null,null,null,null,null,null,null,null,null,null,null,null,null,null,null,null,{"$f":"IF(基礎データ!A70=\"\",\"\",基礎データ!A70)","v":""},{"$f":"IF(基礎データ!B70=\"\",\"\",基礎データ!B70)","v":""}]
[null,null,null,null,null,null,null,null,null,null,null,null,null,null,null,null,{"$f":"IF(基礎データ!A71=\"\",\"\",基礎データ!A71)","v":""},{"$f":"IF(基礎データ!B71=\"\",\"\",基礎データ!B71)","v":""}]
[null,null,null,null,null,null,null,null,null,null,null,null,null,null,null,null,{"$f":"IF(基礎データ!A72=\"\",\"\",基礎データ!A72)","v":""},{"$f":"IF(基礎データ!B72=\"\",\"\",基礎データ!B72)","v":""}]
[null,null,null,null,null,null,null,null,null,null,null,null,null,null,null,null,{"$f":"IF(基礎データ!A73=\"\",\"\",基礎データ!A73)","v":""},{"$f":"IF(基礎データ!B73=\"\",\"\",基礎データ!B73)","v":""}]
[null,null,null,null,null,null,null,null,null,null,null,null,null,null,null,null,{"$f":"IF(基礎データ!A74=\"\",\"\",基礎データ!A74)","v":""},{"$f":"IF(基礎データ!B74=\"\",\"\",基礎データ!B74)","v":""}]
[null,null,null,null,null,null,null,null,null,null,null,null,null,null,null,null,{"$f":"IF(基礎データ!A75=\"\",\"\",基礎データ!A75)","v":""},{"$f":"IF(基礎データ!B75=\"\",\"\",基礎データ!B75)","v":""}]
[null,null,null,null,null,null,null,null,null,null,null,null,null,null,null,null,{"$f":"IF(基礎データ!A76=\"\",\"\",基礎データ!A76)","v":""},{"$f":"IF(基礎データ!B76=\"\",\"\",基礎データ!B76)","v":""}]
[null,null,null,null,null,null,null,null,null,null,null,null,null,null,null,null,{"$f":"IF(基礎データ!A77=\"\",\"\",基礎データ!A77)","v":""},{"$f":"IF(基礎データ!B77=\"\",\"\",基礎データ!B77)","v":""}]
[null,null,null,null,null,null,null,null,null,null,null,null,null,null,null,null,{"$f":"IF(基礎データ!A78=\"\",\"\",基礎データ!A78)","v":""},{"$f":"IF(基礎データ!B78=\"\",\"\",基礎データ!B78)","v":""}]
[null,null,null,null,null,null,null,null,null,null,null,null,null,null,null,null,{"$f":"IF(基礎データ!A79=\"\",\"\",基礎データ!A79)","v":""},{"$f":"IF(基礎データ!B79=\"\",\"\",基礎データ!B79)","v":""}]
[null,null,null,null,null,null,null,null,null,null,null,null,null,null,null,null,{"$f":"IF(基礎データ!A80=\"\",\"\",基礎データ!A80)","v":""},{"$f":"IF(基礎データ!B80=\"\",\"\",基礎データ!B80)","v":""}]
[null,null,null,null,null,null,null,null,null,null,null,null,null,null,null,null,{"$f":"IF(基礎データ!A81=\"\",\"\",基礎データ!A81)","v":""},{"$f":"IF(基礎データ!B81=\"\",\"\",基礎データ!B81)","v":""}]
[null,null,null,null,null,null,null,null,null,null,null,null,null,null,null,null,{"$f":"IF(基礎データ!A82=\"\",\"\",基礎データ!A82)","v":""},{"$f":"IF(基礎データ!B82=\"\",\"\",基礎データ!B82)","v":""}]
[null,null,null,null,null,null,null,null,null,null,null,null,null,null,null,null,{"$f":"IF(基礎データ!A83=\"\",\"\",基礎データ!A83)","v":""},{"$f":"IF(基礎データ!B83=\"\",\"\",基礎データ!B83)","v":""}]
[null,null,null,null,null,null,null,null,null,null,null,null,null,null,null,null,{"$f":"IF(基礎データ!A84=\"\",\"\",基礎データ!A84)","v":""},{"$f":"IF(基礎データ!B84=\"\",\"\",基礎データ!B84)","v":""}]
[null,null,null,null,null,null,null,null,null,null,null,null,null,null,null,null,{"$f":"IF(基礎データ!A85=\"\",\"\",基礎データ!A85)","v":""},{"$f":"IF(基礎データ!B85=\"\",\"\",基礎データ!B85)","v":""}]
[null,null,null,null,null,null,null,null,null,null,null,null,null,null,null,null,{"$f":"IF(基礎データ!A86=\"\",\"\",基礎データ!A86)","v":""},{"$f":"IF(基礎データ!B86=\"\",\"\",基礎データ!B86)","v":""}]
[null,null,null,null,null,null,null,null,null,null,null,null,null,null,null,null,{"$f":"IF(基礎データ!A87=\"\",\"\",基礎データ!A87)","v":""},{"$f":"IF(基礎データ!B87=\"\",\"\",基礎データ!B87)","v":""}]
[null,null,null,null,null,null,null,null,null,null,null,null,null,null,null,null,{"$f":"IF(基礎データ!A88=\"\",\"\",基礎データ!A88)","v":""},{"$f":"IF(基礎データ!B88=\"\",\"\",基礎データ!B88)","v":""}]
[null,null,null,null,null,null,null,null,null,null,null,null,null,null,null,null,{"$f":"IF(基礎データ!A89=\"\",\"\",基礎データ!A89)","v":""},{"$f":"IF(基礎データ!B89=\"\",\"\",基礎データ!B89)","v":""}]
[null,null,null,null,null,null,null,null,null,null,null,null,null,null,null,null,{"$f":"IF(基礎データ!A90=\"\",\"\",基礎データ!A90)","v":""},{"$f":"IF(基礎データ!B90=\"\",\"\",基礎データ!B90)","v":""}]
[null,null,null,null,null,null,null,null,null,null,null,null,null,null,null,null,{"$f":"IF(基礎データ!A91=\"\",\"\",基礎データ!A91)","v":""},{"$f":"IF(基礎データ!B91=\"\",\"\",基礎データ!B91)","v":""}]
[null,null,null,null,null,null,null,null,null,null,null,null,null,null,null,null,{"$f":"IF(基礎データ!A92=\"\",\"\",基礎データ!A92)","v":""},{"$f":"IF(基礎データ!B92=\"\",\"\",基礎データ!B92)","v":""}]
[null,null,null,null,null,null,null,null,null,null,null,null,null,null,null,null,{"$f":"IF(基礎データ!A93=\"\",\"\",基礎データ!A93)","v":""},{"$f":"IF(基礎データ!B93=\"\",\"\",基礎データ!B93)","v":""}]
[null,null,null,null,null,null,null,null,null,null,null,null,null,null,null,null,{"$f":"IF(基礎データ!A94=\"\",\"\",基礎データ!A94)","v":""},{"$f":"IF(基礎データ!B94=\"\",\"\",基礎データ!B94)","v":""}]
[null,null,null,null,null,null,null,null,null,null,null,null,null,null,null,null,{"$f":"IF(基礎データ!A95=\"\",\"\",基礎データ!A95)","v":""},{"$f":"IF(基礎データ!B95=\"\",\"\",基礎データ!B95)","v":""}]
[null,null,null,null,null,null,null,null,null,null,null,null,null,null,null,null,{"$f":"IF(基礎データ!A96=\"\",\"\",基礎データ!A96)","v":""},{"$f":"IF(基礎データ!B96=\"\",\"\",基礎データ!B96)","v":""}]
[null,null,null,null,null,null,null,null,null,null,null,null,null,null,null,null,{"$f":"IF(基礎データ!A97=\"\",\"\",基礎データ!A97)","v":""},{"$f":"IF(基礎データ!B97=\"\",\"\",基礎データ!B97)","v":""}]
[null,null,null,null,null,null,null,null,null,null,null,null,null,null,null,null,{"$f":"IF(基礎データ!A98=\"\",\"\",基礎データ!A98)","v":""},{"$f":"IF(基礎データ!B98=\"\",\"\",基礎データ!B98)","v":""}]
[null,null,null,null,null,null,null,null,null,null,null,null,null,null,null,null,{"$f":"IF(基礎データ!A99=\"\",\"\",基礎データ!A99)","v":""},{"$f":"IF(基礎データ!B99=\"\",\"\",基礎データ!B99)","v":""}]
[null,null,null,null,null,null,null,null,null,null,null,null,null,null,null,null,{"$f":"IF(基礎データ!A100=\"\",\"\",基礎データ!A100)","v":""},{"$f":"IF(基礎データ!B100=\"\",\"\",基礎データ!B100)","v":""}]
[null,null,null,null,null,null,null,null,null,null,null,null,null,null,null,null,{"$f":"IF(基礎データ!A101=\"\",\"\",基礎データ!A101)","v":""},{"$f":"IF(基礎データ!B101=\"\",\"\",基礎データ!B101)","v":""}]
[null,null,null,null,null,null,null,null,null,null,null,null,null,null,null,null,{"$f":"IF(基礎データ!A102=\"\",\"\",基礎データ!A102)","v":""},{"$f":"IF(基礎データ!B102=\"\",\"\",基礎データ!B102)","v":""}]
[null,null,null,null,null,null,null,null,null,null,null,null,null,null,null,null,{"$f":"IF(基礎データ!A103=\"\",\"\",基礎データ!A103)","v":""},{"$f":"IF(基礎データ!B103=\"\",\"\",基礎データ!B103)","v":""}]

{"sheet":"復命書","index":9,"n_rows":18,"n_cols":47,"rows_kept":18,"cut":false,"hidden":false,"merged":[[0,0,1,46],[2,0,6,0],[2,1,2,4],[2,5,2,8],[2,9,2,12],[2,13,6,21],[2,22,6,26],[2,27,6,31],[2,32,6,35],[2,36,6,40],[2,41,6,43],[2,44,6,45],[2,46,6,46],[3,1,6,4],[3,5,6,8],[3,9,6,12],[7,0,8,0],[7,1,8,9],[7,10,8,12],[7,13,8,17],[7,18,8,21],[9,6,9,7],[9,9,9,10],[9,13,9,14],[9,15,9,16],[7,22,7,46],[8,22,8,46],[11,0,11,4],[11,6,11,43],[11,44,11,45],[9,17,9,18],[9,19,9,20],[9,36,9,39],[9,40,9,43],[10,0,10,4],[10,5,10,43],[10,44,10,46],[9,21,9,22],[9,23,9,26],[9,27,9,31],[9,32,9,35],[9,1,9,2],[9,3,9,4],[12,0,12,4],[12,6,12,43],[12,44,12,45],[13,0,13,4],[13,6,13,43],[13,44,13,45],[14,0,14,4],[14,6,14,43],[14,44,14,45],[15,0,15,4],[15,6,15,43],[15,44,15,45],[16,0,16,4],[16,6,16,43],[16,44,16,45],[17,0,17,46],[18,0,18,46],[19,0,19,46],[20,0,20,46],[21,0,21,46],[22,0,22,46],[23,0,23,46],[24,0,24,46],[25,0,25,46],[32,0,32,46],[33,0,33,46],[34,0,34,46],[26,0,26,46],[27,0,27,46],[28,0,28,46],[29,0,29,46],[30,0,30,46],[31,0,31,46]]}
["復命書"]
[]
["決  裁  欄","校  長",null,null,null,null,null,null,null,null,null,null,null,"復命年月日",null,null,null,null,null,null,null,null,"令和",null,null,null,null,null,null,null,null,null,"年",null,null,null,null,null,null,null,null,"月",null,null,null,null,"日"]
[]
[]
[]
[]
["所属名",{"$f":"旅行命令!$K$10","v":"豊明市立中央小学校"},null,null,null,null,null,null,null,null,"職名",null,null,{"$f":"旅行命令!AH10","v":{"$error":"#N/A"}},null,null,null,null,"氏名\n職番",null,null,null,{"$f":"+旅行命令!BA79","v":"テスト"}]
[null,null,null,null,null,null,null,null,null,null,null,null,null,null,null,null,null,null,null,null,null,null,{"$f":"VLOOKUP(旅行命令!BA10,基礎データ!A3:C999,3,FALSE)","v":{"$error":"#N/A"}}]
["旅行期間","令和",null,{"$f":"+旅行命令!O81","v":7},null,"年",{"$f":"+旅行命令!U81","v":5},null,"月",{"$f":"+旅行命令!Z81","v":25},null,"日～",null,null,null,{"$f":"+旅行命令!AK81","v":0},null,"年",null,{"$f":"+旅行命令!AS81","v":0},null,"月",null,{"$f":"+旅行命令!BA81","v":0},null,null,null,"日（",null,null,null,null,{"$f":"+旅行命令!BL81","v":0},null,null,null,"泊",null,null,null,{"$f":"+旅行命令!BU81","v":1},null,null,null,"日）"]
["用務",null,null,null,null,"用　務　先",null,null,null,null,null,null,null,null,null,null,null,null,null,null,null,null,null,null,null,null,null,null,null,null,null,null,null,null,null,null,null,null,null,null,null,null,null,null,"泊　数"]
[{"$f":"+旅行命令!A83","v":"読書感想文全国コンクール愛知地区審査会"},null,null,null,null,"①",{"$f":"+旅行命令!S83","v":"日進市（日進市民会館）"},null,null,null,null,null,null,null,null,null,null,null,null,null,null,null,null,null,null,null,null,null,null,null,null,null,null,null,null,null,null,null,null,null,null,null,null,null,{"$f":"+旅行命令!CC83","v":0},null,"泊"]
[{"$f":"+旅行命令!A84","v":""},null,null,null,null,"②",{"$f":"+旅行命令!S84","v":""},null,null,null,null,null,null,null,null,null,null,null,null,null,null,null,null,null,null,null,null,null,null,null,null,null,null,null,null,null,null,null,null,null,null,null,null,null,{"$f":"+旅行命令!CC84","v":0},null,"泊"]
[{"$f":"+旅行命令!A85","v":""},null,null,null,null,"③",{"$f":"+旅行命令!S85","v":""},null,null,null,null,null,null,null,null,null,null,null,null,null,null,null,null,null,null,null,null,null,null,null,null,null,null,null,null,null,null,null,null,null,null,null,null,null,{"$f":"+旅行命令!CC85","v":0},null,"泊"]
[{"$f":"+旅行命令!A86","v":""},null,null,null,null,"④",{"$f":"+旅行命令!S86","v":""},null,null,null,null,null,null,null,null,null,null,null,null,null,null,null,null,null,null,null,null,null,null,null,null,null,null,null,null,null,null,null,null,null,null,null,null,null,{"$f":"+旅行命令!CC86","v":0},null,"泊"]
[{"$f":"+旅行命令!A87","v":""},null,null,null,null,"⑤",{"$f":"+旅行命令!S87","v":""},null,null,null,null,null,null,null,null,null,null,null,null,null,null,null,null,null,null,null,null,null,null,null,null,null,null,null,null,null,null,null,null,null,null,null,null,null,{"$f":"+旅行命令!CC87","v":0},null,"泊"]
[{"$f":"+旅行命令!A88","v":""},null,null,null,null,"⑥",{"$f":"+旅行命令!S88","v":""},null,null,null,null,null,null,null,null,null,null,null,null,null,null,null,null,null,null,null,null,null,null,null,null,null,null,null,null,null,null,null,null,null,null,null,null,null,{"$f":"+旅行命令!CC88","v":0},null,"泊"]
["報  告  事  項"]

{"sheet":"証明書","index":10,"n_rows":48,"n_cols":24,"rows_kept":48,"cut":false,"hidden":true,"merged":[[40,0,40,23],[19,16,19,18],[20,16,20,18],[21,16,21,18],[23,16,23,18],[24,16,24,18],[22,0,26,0],[19,4,19,12],[22,20,22,23],[19,20,19,23],[24,13,24,14],[25,13,25,14],[23,20,23,23],[23,1,23,12],[31,4,31,10],[21,4,21,12],[22,1,22,12],[39,0,39,23],[21,1,21,3],[36,0,36,23],[37,0,37,23],[20,20,21,22],[38,0,38,23],[25,16,25,18],[11,20,11,22],[13,13,13,14],[14,13,14,14],[20,13,20,14],[30,0,30,3],[31,0,31,3],[34,0,34,23],[29,0,29,22],[32,0,32,3],[30,12,30,22],[28,0,28,22],[20,23,21,23],[24,20,26,22],[24,23,26,23],[25,1,25,12],[26,1,26,12],[23,13,23,14],[35,0,35,23],[31,12,31,22],[33,0,33,22],[32,4,32,10],[18,4,18,12],[17,1,17,16],[12,20,16,22],[18,1,18,3],[18,13,18,15],[12,23,16,23],[32,13,32,14],[32,15,32,20],[26,13,26,14],[0,2,0,23],[12,7,12,9],[15,7,15,9],[5,5,5,9],[5,13,5,15],[3,11,3,12],[6,0,17,0],[6,1,6,2],[10,1,10,2],[12,1,16,2],[11,1,11,2],[7,7,7,9],[5,2,5,4],[5,10,5,12],[11,10,11,12],[7,13,7,14],[6,10,6,12],[10,10,10,12],[8,10,8,12],[13,16,13,18],[14,16,14,18],[15,16,15,18],[16,16,16,18],[10,16,10,18],[1,0,1,23],[2,2,2,23],[4,2,4,23],[7,1,9,2],[9,10,9,12],[3,2,3,3],[5,0,5,1],[3,4,3,9],[3,22,3,23],[3,0,3,1],[6,13,6,15],[5,16,5,19],[5,20,5,23],[7,20,9,22],[6,20,6,23],[8,16,8,18],[9,16,9,18],[8,13,8,14],[7,16,7,18],[2,0,2,1],[6,16,6,19],[7,4,7,5],[8,4,8,5],[9,13,9,14],[3,17,3,18],[11,13,11,14],[6,4,6,9],[10,4,10,5],[12,10,12,12],[13,7,13,9],[14,7,14,9],[16,7,16,9],[13,4,13,5],[14,4,14,5],[15,4,15,5],[16,4,16,5],[14,10,14,12],[11,4,11,5],[12,4,12,5],[11,7,11,9],[15,10,15,12],[16,10,16,12],[15,13,15,14],[16,13,16,14],[12,13,12,14],[7,10,7,12],[10,13,10,14],[13,10,13,12],[4,0,4,1],[10,20,10,22],[18,0,21,0],[19,1,19,3],[20,1,20,3],[20,4,20,12],[27,14,27,22],[21,13,21,14],[22,13,22,15],[19,13,19,14],[17,19,17,22],[27,0,27,13],[18,16,18,19],[22,16,22,19],[18,20,18,23],[24,1,24,12],[9,4,9,5],[9,7,9,9],[10,7,10,9],[8,7,8,9],[11,16,11,18],[26,16,26,18],[12,16,12,18],[7,23,9,23]]}
["　様　式"]
["旅　 行 　費 　用 　証　 明 　書"]
["学校名",null,{"$f":"旅行命令!K10","v":"豊明市立中央小学校"}]
["旅行の名称",null,2,null,"校外学習引率",null,null,null,null,null,"（平成",18,null,11,30,"日","～",0,null,0,"日",0,0]
["旅行先",null,"名古屋市（大高緑地）"]
["参加者数",null,{"$f":"K6+Q6","v":44},null,null,"人（児童・生徒",null,null,null,null,41,null,null,"人・引率教員",null,null,3,null,null,null,"人）"]
["　　　運　　　　　　　　　　賃","種類",null,"交通機関名","利   　用　 　区　 　間",null,null,null,null,null,"往復・片道の別",null,null,"総　　　　　額",null,null,"利用者数",null,null,null,"１人当たりの額"]
[null,"鉄道賃",null,"名鉄電車","前後",null,"～","左京山",null,null,"片道",null,null,540,null,"円",3,null,null,"人",324,null,null,"円"]
[null,null,null,"名鉄電車","左京山",null,"～","前後",null,null,"片道",null,null,288,null,"円",2,null,null,"人"]
[null,null,null,null,null,null,"～",null,null,null,null,null,null,null,null,"円",null,null,null,"人"]
[null,"船 　賃",null,null,null,null,"～",null,null,null,null,null,null,null,null,"円",null,null,null,"人",null,null,null,"円"]
[null,"航空賃",null,null,null,null,"～",null,null,null,null,null,null,null,null,"円",null,null,null,"人",null,null,null,"円"]
[null,"車 　賃",null,"有料道路",null,null,"～",null,null,null,null,null,null,null,null,"円",null,null,null,"人",null,null,null,"円"]
[null,null,null,"駐車場",null,null,"～",null,null,null,null,null,null,null,null,"円",null,null,null,"人"]
[null,null,null,"貸切バス",null,null,"～",null,null,null,null,null,null,null,null,"円",null,null,null,"人"]
[null,null,null,null,null,null,"～",null,null,null,null,null,null,null,null,"円",null,null,null,"人"]
[null,null,null,null,null,null,"～",null,null,null,null,null,null,null,null,"円",null,null,null,"人"]
[null,null,null,null,null,null,null,null,null,null,null,null,null,null,null,null,null,"計（１）",null,{"$f":"SUM(U8:W17)","v":324},null,null,null,"円"]
["宿　泊　料","宿泊施設名",null,null,"所在地",null,null,null,null,null,null,null,null,"総額",null,null,"宿泊者数",null,null,null,"１人当たりの額"]
[null,null,null,null,null,null,null,null,null,null,null,null,null,null,null,"円",null,null,null,"人","計（２）"]
[null,null,null,null,null,null,null,null,null,null,null,null,null,null,null,"円",null,null,null,"人",null,null,null,"円"]
[null,null,null,null,null,null,null,null,null,null,null,null,null,null,null,"円",null,null,null,"人"]
["旅 行 雑 費","名　　　　　　　　　　　　　　称",null,null,null,null,null,null,null,null,null,null,null,"総額",null,null,"利用者数",null,null,null,"１人当たりの額"]
[null,null,null,null,null,null,null,null,null,null,null,null,null,null,null,"円",null,null,null,"人","計（３）"]
[null,null,null,null,null,null,null,null,null,null,null,null,null,null,null,"円",null,null,null,"人",null,null,null,"円"]
[null,null,null,null,null,null,null,null,null,null,null,null,null,null,null,"円",null,null,null,"人"]
[null,null,null,null,null,null,null,null,null,null,null,null,null,null,null,"円",null,null,null,"人"]
["　合　計　（１）＋（２）＋（３）",null,null,null,null,null,null,null,null,null,null,null,null,null,{"$f":"T18+U21+U25","v":324},null,null,null,null,null,null,null,null,"円"]
[]
["　上記のとおり相違ないことを証明します。"]
[null,null,null,null,"平成",18,"年",11,"月",30,"日"]
[null,null,null,null,"（旅行業者名又は学校名）",null,null,null,null,null,null,null,{"$f":"C3","v":"豊明市立中央小学校"}]
[null,null,null,null,"（代表者名又は校長名）",null,null,null,null,null,null,null,null,"校長",null,"佐野　智",null,null,null,null,null,null,"印"]
[]
["備考　１　用紙の大きさは、日本工業規格A4とする。"]
["　　　　２　この様式は、団体旅行に要する経費を旅行業者(旅行の企画及び手配を旅行業者に依頼しない場合にあっては校長）が証明する場合に使用すること。"]
["　　　　３　「旅行先」欄には、旅行計画書の主な目的地を記載すること。"]
["　　　　４　「総額」欄には、児童、生徒等と引率教員の負担額の総額を記載し、「１人当たりの額」欄には、引率教員１人当たりの負担額を記載すること。"]
["　　　　５　「車賃」欄には、貸切バスの借上料、道路若しくは駐車場の料金、乗務員経費又は路線バスの運賃について記載すること。"]
["　　　　６　「旅行雑費」欄には、旅行取扱手数料、旅行企画料、航空機変更保険料、旅行添乗員経費又は荷物運送代（貸切バスを利用しない区間に係るもの"]
["　　　　　に限る）について記載すること。"]
[]
[]
[null,"野外活動引率"]
[null,"修学旅行引率"]
[null,"校外学習引率"]
[null,"社会見学引率"]
[null,"遠足引率"]

{"sheet":"修学旅行証明書","index":11,"n_rows":48,"n_cols":24,"rows_kept":48,"cut":false,"hidden":true,"merged":[[22,0,26,0],[23,1,23,12],[22,1,22,12],[21,1,21,3],[25,13,25,14],[15,13,15,14],[16,13,16,14],[18,13,18,15],[20,13,20,14],[21,13,21,14],[16,4,16,5],[18,4,18,12],[19,4,19,12],[33,0,33,22],[32,4,32,10],[18,16,18,19],[22,16,22,19],[18,20,18,23],[31,4,31,10],[31,12,31,22],[20,4,20,12],[26,13,26,14],[22,13,22,15],[19,13,19,14],[24,1,24,12],[23,20,23,23],[24,20,26,22],[24,23,26,23],[25,1,25,12],[26,1,26,12],[23,13,23,14],[24,13,24,14],[18,1,18,3],[28,0,28,22],[27,0,27,13],[19,1,19,3],[20,1,20,3],[40,0,40,23],[19,16,19,18],[20,16,20,18],[21,16,21,18],[23,16,23,18],[24,16,24,18],[25,16,25,18],[35,0,35,23],[38,0,38,23],[39,0,39,23],[27,14,27,22],[26,16,26,18],[21,4,21,12],[22,20,22,23],[36,0,36,23],[37,0,37,23],[34,0,34,23],[29,0,29,22],[32,0,32,3],[30,12,30,22],[32,13,32,14],[32,15,32,20],[30,0,30,3],[31,0,31,3],[0,2,0,23],[12,7,12,9],[15,7,15,9],[5,5,5,9],[5,13,5,15],[10,16,10,18],[7,16,7,18],[8,16,8,18],[9,16,9,18],[7,13,7,14],[8,13,8,14],[9,13,9,14],[11,16,11,18],[1,0,1,23],[2,2,2,23],[4,2,4,23],[3,2,3,3],[7,1,9,2],[3,22,3,23],[10,20,10,22],[6,13,6,15],[5,16,5,19],[13,16,13,18],[15,16,15,18],[2,0,2,1],[3,11,3,12],[15,10,15,12],[7,7,7,9],[10,7,10,9],[3,4,3,9],[9,4,9,5],[7,10,7,12],[8,10,8,12],[8,4,8,5],[7,4,7,5],[9,7,9,9],[13,4,13,5],[3,0,3,1],[4,0,4,1],[14,7,14,9],[15,4,15,5],[16,16,16,18],[16,7,16,9],[12,23,16,23],[17,1,17,16],[19,20,19,23],[5,0,5,1],[5,2,5,4],[5,10,5,12],[11,20,11,22],[6,20,6,23],[12,20,16,22],[7,23,9,23],[14,13,14,14],[13,10,13,12],[14,10,14,12],[18,0,21,0],[6,10,6,12],[10,13,10,14],[13,13,13,14],[5,20,5,23],[7,20,9,22],[9,10,9,12],[8,7,8,9],[14,4,14,5],[17,19,17,22],[20,20,21,22],[20,23,21,23],[3,17,3,18],[6,0,17,0],[6,1,6,2],[10,1,10,2],[12,1,16,2],[11,1,11,2],[6,4,6,9],[16,10,16,12],[10,10,10,12],[11,10,11,12],[12,10,12,12],[10,4,10,5],[13,7,13,9],[11,4,11,5],[12,4,12,5],[11,7,11,9],[11,13,11,14],[14,16,14,18],[12,13,12,14],[12,16,12,18],[6,16,6,19]]}
["　様　式"]
["旅　 行 　費 　用 　証　 明 　書"]
["学校名",null,{"$f":"旅行命令!K10","v":"豊明市立中央小学校"}]
["旅行の名称",null,6,null,"修学旅行引率",null,null,null,null,null,"（平成",15,null,10,21,"日","～",10,null,22,"日",1,2]
["旅行先",null,"三重県伊勢市・鳥羽市・志摩郡磯部町"]
["参加者数",null,{"$f":"K6+Q6","v":62},null,null,"人（児童・生徒",null,null,null,null,57,null,null,"人・引率教員",null,null,5,null,null,null,"人）"]
["　　　運　　　　　　　　　　賃","種類",null,"交通機関名","利   　用　 　区　 　間",null,null,null,null,null,"往復・片道の別",null,null,"総　　　　　額",null,null,"利用者数",null,null,null,"１人当たりの額"]
[null,"鉄道賃",null,null,null,null,"～",null,null,null,null,null,null,null,null,"円",null,null,null,"人",null,null,null,"円"]
[null,null,null,null,null,null,"～",null,null,null,null,null,null,null,null,"円",null,null,null,"人"]
[null,null,null,null,null,null,"～",null,null,null,null,null,null,null,null,"円",null,null,null,"人"]
[null,"船 　賃",null,"伊勢湾フェリー","鳥羽",null,"～","師崎",null,null,"片道",null,null,null,null,"円",62,null,null,"人",null,null,null,"円"]
[null,"航空賃",null,null,null,null,"～",null,null,null,null,null,null,null,null,"円",null,null,null,"人",null,null,null,"円"]
[null,"車 　賃",null,"有料道路","名古屋",null,"～","鳥羽",null,null,null,null,null,null,null,"円",62,null,null,"人",null,null,null,"円"]
[null,null,null,"駐車場","鳥羽水族館",null,"～","スペイン村",null,null,null,null,null,null,null,"円",62,null,null,"人"]
[null,null,null,"貸切バス","学校",null,"～","鳥羽",null,null,"往復",null,null,null,null,"円",62,null,null,"人"]
[null,null,null,"乗務員経費",null,null,"～",null,null,null,null,null,null,null,null,"円",62,null,null,"人"]
[null,null,null,"伊勢湾フェリー","鳥羽",null,"～","師崎",null,null,"片道",null,null,null,null,"円",62,null,null,"人"]
[null,null,null,null,null,null,null,null,null,null,null,null,null,null,null,null,null,"計（１）",null,{"$f":"SUM(U8:W17)","v":0},null,null,null,"円"]
["宿　泊　料","宿泊施設名",null,null,"所在地",null,null,null,null,null,null,null,null,"総額",null,null,"宿泊者数",null,null,null,"１人当たりの額"]
[null,"ホテルリゾート彩花亭",null,null,"三重県鳥羽市安楽島町１０７５－１４９",null,null,null,null,null,null,null,null,null,null,"円",62,null,null,"人","計（２）"]
[null,null,null,null,null,null,null,null,null,null,null,null,null,null,null,"円",null,null,null,"人",7350,null,null,"円"]
[null,null,null,null,null,null,null,null,null,null,null,null,null,null,null,"円",null,null,null,"人"]
["旅 行 雑 費","名　　　　　　　　　　　　　　称",null,null,null,null,null,null,null,null,null,null,null,"総額",null,null,"利用者数",null,null,null,"１人当たりの額"]
[null,"旅行取扱料金",null,null,null,null,null,null,null,null,null,null,null,null,null,"円",62,null,null,"人","計（３）"]
[null,"添乗員諸経費",null,null,null,null,null,null,null,null,null,null,null,null,null,"円",62,null,null,"人",1591,null,null,"円"]
[null,null,null,null,null,null,null,null,null,null,null,null,null,null,null,"円",null,null,null,"人"]
[null,null,null,null,null,null,null,null,null,null,null,null,null,null,null,"円",null,null,null,"人"]
["　合　計　（１）＋（２）＋（３）",null,null,null,null,null,null,null,null,null,null,null,null,null,{"$f":"T18+U21+U25","v":8941},null,null,null,null,null,null,null,null,"円"]
[]
["　上記のとおり相違ないことを証明します。"]
[null,null,null,null,"平成",15,"年",10,"月",31,"日"]
[null,null,null,null,"（旅行業者名又は学校名）",null,null,null,null,null,null,null,"株式会社　新鉄旅行"]
[null,null,null,null,"（代表者名又は校長名）",null,null,null,null,null,null,null,null,"代表取締役",null,"牧野宗二",null,null,null,null,null,null,"印"]
[]
["備考　１　用紙の大きさは、日本工業規格A4とする。"]
["　　　　２　この様式は、団体旅行に要する経費を旅行業者(旅行の企画及び手配を旅行業者に依頼しない場合にあっては校長）が証明する場合に使用すること。"]
["　　　　３　「旅行先」欄には、旅行計画書の主な目的地を記載すること。"]
["　　　　４　「総額」欄には、児童、生徒等と引率教員の負担額の総額を記載し、「１人当たりの額」欄には、引率教員１人当たりの負担額を記載すること。"]
["　　　　５　「車賃」欄には、貸切バスの借上料、道路若しくは駐車場の料金、乗務員経費又は路線バスの運賃について記載すること。"]
["　　　　６　「旅行雑費」欄には、旅行取扱手数料、旅行企画料、航空機変更保険料、旅行添乗員経費又は荷物運送代（貸切バスを利用しない区間に係るもの"]
["　　　　　に限る）について記載すること。"]
[]
[]
[null,"野外活動引率"]
[null,"修学旅行引率"]
[null,"校外学習引率"]
[null,"社会見学引率"]
[null,"遠足引率"]

{"sheet":"野外活動証明書","index":12,"n_rows":41,"n_cols":24,"rows_kept":41,"cut":false,"hidden":true,"merged":[[32,15,32,20],[19,13,19,14],[23,13,23,14],[21,13,21,14],[12,23,16,23],[27,14,27,22],[33,0,33,22],[39,0,39,23],[37,0,37,23],[17,19,17,22],[16,10,16,12],[18,1,18,3],[35,0,35,23],[30,0,30,3],[31,0,31,3],[36,0,36,23],[12,7,12,9],[13,7,13,9],[15,16,15,18],[16,16,16,18],[12,20,16,22],[18,20,18,23],[22,20,22,23],[18,13,18,15],[11,7,11,9],[10,7,10,9],[14,4,14,5],[5,13,5,15],[40,0,40,23],[19,16,19,18],[20,16,20,18],[21,16,21,18],[23,16,23,18],[24,16,24,18],[25,16,25,18],[38,0,38,23],[20,1,20,3],[31,12,31,22],[26,16,26,18],[18,0,21,0],[22,0,26,0],[19,1,19,3],[21,1,21,3],[19,20,19,23],[20,20,21,22],[20,23,21,23],[32,4,32,10],[32,13,32,14],[8,13,8,14],[9,13,9,14],[10,13,10,14],[22,13,22,15],[0,2,0,23],[34,0,34,23],[29,0,29,22],[32,0,32,3],[30,12,30,22],[28,0,28,22],[27,0,27,13],[5,10,5,12],[11,10,11,12],[6,4,6,9],[8,7,8,9],[10,10,10,12],[7,4,7,5],[18,4,18,12],[16,7,16,9],[9,4,9,5],[10,4,10,5],[15,4,15,5],[11,4,11,5],[15,7,15,9],[20,4,20,12],[15,10,15,12],[31,4,31,10],[12,10,12,12],[26,1,26,12],[20,13,20,14],[19,4,19,12],[12,13,12,14],[24,13,24,14],[25,13,25,14],[22,1,22,12],[21,4,21,12],[24,1,24,12],[25,1,25,12],[23,1,23,12],[16,13,16,14],[26,13,26,14],[5,2,5,4],[9,7,9,9],[8,10,8,12],[3,0,3,1],[6,0,17,0],[6,1,6,2],[10,1,10,2],[11,1,11,2],[14,7,14,9],[14,10,14,12],[12,1,16,2],[16,4,16,5],[12,4,12,5],[17,1,17,16],[13,4,13,5],[13,10,13,12],[13,13,13,14],[7,13,7,14],[6,13,6,15],[7,16,7,18],[15,13,15,14],[8,4,8,5],[7,7,7,9],[11,13,11,14],[1,0,1,23],[2,2,2,23],[4,2,4,23],[7,1,9,2],[9,10,9,12],[3,2,3,3],[3,17,3,18],[5,16,5,19],[3,22,3,23],[5,5,5,9],[2,0,2,1],[6,16,6,19],[6,20,6,23],[6,10,6,12],[7,10,7,12],[5,20,5,23],[7,20,9,22],[8,16,8,18],[9,16,9,18],[3,4,3,9],[7,23,9,23],[3,11,3,12],[4,0,4,1],[5,0,5,1],[10,20,10,22],[10,16,10,18],[11,20,11,22],[23,20,23,23],[24,20,26,22],[24,23,26,23],[14,13,14,14],[18,16,18,19],[22,16,22,19],[12,16,12,18],[13,16,13,18],[14,16,14,18],[11,16,11,18]]}
["　様　式"]
["旅　 行 　費 　用 　証　 明 　書"]
["学校名",null,{"$f":"旅行命令!K10","v":"豊明市立中央小学校"}]
["旅行の名称",null,"第5学年",null,"野外活動引率",null,null,null,null,null,"令和",2,null,9,6,"日","～",9,null,7,"日",1,2]
["旅行先",null,"愛知県知多郡美浜町大字小野浦字宮後（愛知県美浜少年自然の家）"]
["参加者数",null,{"$f":"K6+Q6","v":35},null,null,"人（児童・生徒",null,null,null,null,30,null,null,"人・引率教員",null,null,5,null,null,null,"人）"]
["　　　運　　　　　　　　　　賃","種類",null,"交通機関名","利   　用　 　区　 　間",null,null,null,null,null,"往復・片道の別",null,null,"総　　　　　額",null,null,"利用者数",null,null,null,"１人当たりの額"]
[null,"鉄道賃",null,null,null,null,"～",null,null,null,null,null,null,null,null,"円",null,null,null,"人",null,null,null,"円"]
[null,null,null,null,null,null,"～",null,null,null,null,null,null,null,null,"円",null,null,null,"人"]
[null,null,null,null,null,null,"～",null,null,null,null,null,null,null,null,"円",null,null,null,"人"]
[null,"船 　賃",null,null,null,null,"～",null,null,null,null,null,null,null,null,"円",null,null,null,"人",null,null,null,"円"]
[null,"航空賃",null,null,null,null,"～",null,null,null,null,null,null,null,null,"円",null,null,null,"人",null,null,null,"円"]
[null,"車 　賃",null,"有料道路",null,null,"～",null,null,null,null,null,null,null,null,"円",null,null,null,"人",{"$f":"IF(N13=0,\" \",INT(N13/Q13))","v":" "},null,null,"円"]
[null,null,null,"駐車場",null,null,"～",null,null,null,null,null,null,null,null,"円",null,null,null,"人"]
[null,null,null,"貸切バス",null,null,"～",null,null,null,null,null,null,null,null,"円",null,null,null,"人"]
[null,null,null,null,null,null,"～",null,null,null,null,null,null,null,null,"円",null,null,null,"人"]
[null,null,null,null,null,null,"～",null,null,null,null,null,null,null,null,"円",null,null,null,"人"]
[null,null,null,null,null,null,null,null,null,null,null,null,null,null,null,null,null,"計（１）",null,{"$f":"SUM(U8:W17)","v":0},null,null,null,"円"]
["宿　泊　料","宿泊施設名",null,null,"所在地",null,null,null,null,null,null,null,null,"総額",null,null,"宿泊者数",null,null,null,"１人当たりの額"]
[null,"美浜少年自然の家",null,null,"愛知県知多郡美浜町大字小野浦字宮後1-1",null,null,null,null,null,null,null,null,{"$f":"+(3480*5)+((3480-750)*30)","v":99300},null,"円",35,null,null,"人","計（２）"]
[null,null,null,null,null,null,null,null,null,null,null,null,null,null,null,"円",null,null,null,"人",{"$f":"+(1500+670+125+125+110+125+110+590+125)","v":3480},null,null,"円"]
[null,null,null,null,null,null,null,null,null,null,null,null,null,null,null,"円",null,null,null,"人"]
["旅 行 雑 費","名　　　　　　　　　　　　　　称",null,null,null,null,null,null,null,null,null,null,null,"総額",null,null,"利用者数",null,null,null,"１人当たりの額"]
[null,null,null,null,null,null,null,null,null,null,null,null,null,null,null,"円",null,null,null,"人","計（３）"]
[null,null,null,null,null,null,null,null,null,null,null,null,null,null,null,"円",null,null,null,"人",null,null,null,"円"]
[null,null,null,null,null,null,null,null,null,null,null,null,null,null,null,"円",null,null,null,"人"]
[null,null,null,null,null,null,null,null,null,null,null,null,null,null,null,"円",null,null,null,"人"]
["　合　計　（１）＋（２）＋（３）",null,null,null,null,null,null,null,null,null,null,null,null,null,{"$f":"T18+U21+U25","v":3480},null,null,null,null,null,null,null,null,"円"]
[]
["　上記のとおり相違ないことを証明します。"]
[null,null,null,null,"令和",2,"年",9,"月",9,"日"]
[null,null,null,null,"（旅行業者名又は学校名）",null,null,null,null,null,null,null,{"$f":"C3","v":"豊明市立中央小学校"}]
[null,null,null,null,"（代表者名又は校長名）",null,null,null,null,null,null,null,null,"校長",null,"佐藤　敬子",null,null,null,null,null,null,"印"]
[]
["備考　１　用紙の大きさは、日本工業規格A4とする。"]
["　　　　２　この様式は、団体旅行に要する経費を旅行業者(旅行の企画及び手配を旅行業者に依頼しない場合にあっては校長）が証明する場合に使用すること。"]
["　　　　３　「旅行先」欄には、旅行計画書の主な目的地を記載すること。"]
["　　　　４　「総額」欄には、児童、生徒等と引率教員の負担額の総額を記載し、「１人当たりの額」欄には、引率教員１人当たりの負担額を記載すること。"]
["　　　　５　「車賃」欄には、貸切バスの借上料、道路若しくは駐車場の料金、乗務員経費又は路線バスの運賃について記載すること。"]
["　　　　６　「旅行雑費」欄には、旅行取扱手数料、旅行企画料、航空機変更保険料、旅行添乗員経費又は荷物運送代（貸切バスを利用しない区間に係るもの"]
["　　　　　に限る）について記載すること。"]