{"text_format":"1","workbook":"xlsx","n_sheets":7,"sheets":["使い方","祝日","整理簿作成","スタンプ","月の日数","職員名簿","整理簿"],"not_rendered":{"charts":0,"images":127,"macros":1,"external_links":0,"defined_names":3,"comments":0,"pivot_tables":0},"unopened":[],"bounds":{"document_bytes":16777216,"sheet_cells":100000,"rows_first":2000,"rows_last":500,"rows_between":2000,"halvings":0,"cell_chars":16384,"cell_head_chars":4096},"cells_cut":0,"cells_raw":0,"read":"whole","date_system":"1900"}

{"sheet":"使い方","index":0,"n_rows":16,"n_cols":8,"rows_kept":16,"cut":false,"hidden":false,"merged":[]}
["勤務整理簿の使い方"]
[]
["①","「祝日」シートで祝日を設定します。（A列とB列を入力する）"]
["②","↓のボタンで勤務整理簿の作成をします。",null,null,null,null,null,"勤務整理簿が希望の年度になっている場合は"]
[null,null,null,null,null,null,null,"ここを飛ばして③に進んでください"]
[]
["③","「職員名簿」シートで職員ごとの勤務整理簿を作成してください。"]
[]
["※各シート名は絶対に名前を変更しないでください！"]
["※「整理簿」シートは原本のため絶対に触らないでください！"]
[]
["シート名一覧"]
["①","使い方"]
["②","祝日"]
["③","職員名簿"]
["④","整理簿"]

{"sheet":"祝日","index":1,"n_rows":58,"n_cols":8,"rows_kept":58,"cut":false,"hidden":false,"merged":[]}
["日付","名称","曜日",null,"年末","曜日","年始","曜日"]
["2025-01-01","元日",{"$f":"TEXT(A2,\"aaa\")","v":"水"},null,{"$f":"DATE(職員名簿!$L$1,12,29)","v":"2025-12-29"},{"$f":"TEXT(E2,\"aaa\")","v":"月"},{"$f":"DATE(職員名簿!$L$1+1,1,1)","v":"2026-01-01"},{"$f":"TEXT(G2,\"aaa\")","v":"木"}]
["2025-01-13","成人の日",{"$f":"TEXT(A3,\"aaa\")","v":"月"},null,{"$f":"DATE(職員名簿!$L$1,12,30)","v":"2025-12-30"},{"$f":"TEXT(E3,\"aaa\")","v":"火"},{"$f":"DATE(職員名簿!$L$1+1,1,2)","v":"2026-01-02"},{"$f":"TEXT(G3,\"aaa\")","v":"金"}]
["2025-02-11","建国記念の日","火",null,{"$f":"DATE(職員名簿!$L$1,12,31)","v":"2025-12-31"},"水",{"$f":"DATE(職員名簿!$L$1+1,1,3)","v":"2026-01-03"},"土"]
["2025-02-23","天皇誕生日","日"]
["2025-02-24","振替休日","月"]
["2025-03-20","春分の日","木"]
["2025-04-29","昭和の日","火"]
["2025-05-03","憲法記念日","土"]
["2025-05-04","みどりの日","日"]
["2025-05-05","こどもの日","月"]
["2025-05-06","振替休日","火"]
["2025-07-21","海の日","月"]
["2025-08-11","山の日","月"]
["2025-09-15","敬老の日","月"]
["2025-09-23","秋分の日","火"]
["2025-10-13","スポーツの日","月"]
["2025-11-03","文化の日","月"]
["2025-11-23","勤労感謝の日","日"]
["2025-11-24","振替休日","月"]
["2026-01-01","元日","木"]
["2026-01-12","成人の日","月"]
["2026-02-11","建国記念の日","水"]
["2026-02-23","天皇誕生日","月"]
["2026-03-20","春分の日","金"]
["2026-04-29","昭和の日","水"]
["2026-05-03","憲法記念日","日"]
["2026-05-04","みどりの日","月"]
["2026-05-05","こどもの日","火"]
["2026-05-06","振替休日","水"]
["2026-07-20","海の日","月"]
["2026-08-11","山の日","火"]
["2026-09-21","敬老の日","月"]
["2026-09-22","国民の休日","火"]
["2026-09-23","秋分の日","水"]
["2026-10-12","スポーツの日","月"]
["2026-11-03","文化の日","火"]
["2026-11-23","勤労感謝の日","月"]
[null,null,"土"]
[null,null,"土"]
[null,null,"土"]
[null,null,"土"]
[null,null,"土"]
[null,null,"土"]
[null,null,"土"]
[null,null,"土"]
[null,null,"土"]
[null,null,"土"]
[null,null,"土"]
[null,null,"土"]
[null,null,"土"]
[null,null,"土"]
[null,null,"土"]
[null,null,"土"]
[null,null,"土"]
[null,null,"土"]
[null,null,"土"]
[null,null,"土"]

{"sheet":"整理簿作成","index":2,"n_rows":77,"n_cols":45,"rows_kept":77,"cut":false,"hidden":true,"merged":[[56,6,56,7],[57,6,57,7],[58,6,58,7],[30,2,30,6],[35,5,35,10],[36,9,36,11],[30,26,30,28],[30,30,30,35],[25,35,26,35],[23,2,24,3],[23,4,24,4],[30,10,30,16],[25,2,26,3],[25,4,26,4],[25,34,26,34],[27,2,28,3],[27,4,28,4],[19,2,20,3],[19,4,20,4],[19,35,20,35],[21,2,22,3],[21,4,22,4],[2,24,3,24],[2,13,3,13],[2,31,3,31],[2,32,3,32],[13,2,14,3],[13,4,14,4],[2,20,3,20],[2,21,3,21],[2,22,3,22],[2,23,3,23],[2,10,3,10],[2,11,3,11],[2,12,3,12],[2,17,3,17],[2,18,3,18],[5,2,6,3],[15,35,16,35],[17,2,18,3],[17,4,18,4],[7,2,8,3],[7,4,8,4],[9,2,10,3],[9,4,10,4],[9,35,10,35],[11,2,12,3],[11,4,12,4],[15,2,16,3],[15,4,16,4],[5,4,6,4],[2,19,3,19],[2,5,3,5],[2,6,3,6],[2,7,3,7],[2,8,3,8],[2,9,3,9],[2,14,3,14],[2,15,3,15],[2,16,3,16],[5,35,6,35],[2,25,3,25],[2,26,3,26],[2,27,3,27],[2,28,3,28],[2,29,3,29],[2,30,3,30],[2,33,3,33],[2,34,3,34],[2,35,3,35]]}
[]
[]
[null,null,null,"日",null,"1","2","3","4","5","6","7","8","9","10","11","12","13","14","15","16","17","18","19","20","21","22","23","24","25","26","27","28","29","30","31"]
[null,null,"月"]
[]
[null,null,"4",null,null,{"$f":"DATE(職員名簿!$L$1,$C6,COLUMN()-5)","v":"2025-04-01"},{"$f":"DATE(職員名簿!$L$1,$C6,COLUMN()-5)","v":"2025-04-02"},{"$f":"DATE(職員名簿!$L$1,$C6,COLUMN()-5)","v":"2025-04-03"},{"$f":"DATE(職員名簿!$L$1,$C6,COLUMN()-5)","v":"2025-04-04"},{"$f":"DATE(職員名簿!$L$1,$C6,COLUMN()-5)","v":"2025-04-05"},{"$f":"DATE(職員名簿!$L$1,$C6,COLUMN()-5)","v":"2025-04-06"},{"$f":"DATE(職員名簿!$L$1,$C6,COLUMN()-5)","v":"2025-04-07"},{"$f":"DATE(職員名簿!$L$1,$C6,COLUMN()-5)","v":"2025-04-08"},{"$f":"DATE(職員名簿!$L$1,$C6,COLUMN()-5)","v":"2025-04-09"},{"$f":"DATE(職員名簿!$L$1,$C6,COLUMN()-5)","v":"2025-04-10"},{"$f":"DATE(職員名簿!$L$1,$C6,COLUMN()-5)","v":"2025-04-11"},{"$f":"DATE(職員名簿!$L$1,$C6,COLUMN()-5)","v":"2025-04-12"},{"$f":"DATE(職員名簿!$L$1,$C6,COLUMN()-5)","v":"2025-04-13"},{"$f":"DATE(職員名簿!$L$1,$C6,COLUMN()-5)","v":"2025-04-14"},{"$f":"DATE(職員名簿!$L$1,$C6,COLUMN()-5)","v":"2025-04-15"},{"$f":"DATE(職員名簿!$L$1,$C6,COLUMN()-5)","v":"2025-04-16"},{"$f":"DATE(職員名簿!$L$1,$C6,COLUMN()-5)","v":"2025-04-17"},{"$f":"DATE(職員名簿!$L$1,$C6,COLUMN()-5)","v":"2025-04-18"},{"$f":"DATE(職員名簿!$L$1,$C6,COLUMN()-5)","v":"2025-04-19"},{"$f":"DATE(職員名簿!$L$1,$C6,COLUMN()-5)","v":"2025-04-20"},{"$f":"DATE(職員名簿!$L$1,$C6,COLUMN()-5)","v":"2025-04-21"},{"$f":"DATE(職員名簿!$L$1,$C6,COLUMN()-5)","v":"2025-04-22"},{"$f":"DATE(職員名簿!$L$1,$C6,COLUMN()-5)","v":"2025-04-23"},{"$f":"DATE(職員名簿!$L$1,$C6,COLUMN()-5)","v":"2025-04-24"},{"$f":"DATE(職員名簿!$L$1,$C6,COLUMN()-5)","v":"2025-04-25"},{"$f":"DATE(職員名簿!$L$1,$C6,COLUMN()-5)","v":"2025-04-26"},{"$f":"DATE(職員名簿!$L$1,$C6,COLUMN()-5)","v":"2025-04-27"},{"$f":"DATE(職員名簿!$L$1,$C6,COLUMN()-5)","v":"2025-04-28"},{"$f":"DATE(職員名簿!$L$1,$C6,COLUMN()-5)","v":"2025-04-29"},{"$f":"DATE(職員名簿!$L$1,$C6,COLUMN()-5)","v":"2025-04-30"}]
[]
[null,null,"5",null,null,{"$f":"DATE(職員名簿!$L$1,$C8,COLUMN()-5)","v":"2025-05-01"},{"$f":"DATE(職員名簿!$L$1,$C8,COLUMN()-5)","v":"2025-05-02"},{"$f":"DATE(職員名簿!$L$1,$C8,COLUMN()-5)","v":"2025-05-03"},{"$f":"DATE(職員名簿!$L$1,$C8,COLUMN()-5)","v":"2025-05-04"},{"$f":"DATE(職員名簿!$L$1,$C8,COLUMN()-5)","v":"2025-05-05"},{"$f":"DATE(職員名簿!$L$1,$C8,COLUMN()-5)","v":"2025-05-06"},{"$f":"DATE(職員名簿!$L$1,$C8,COLUMN()-5)","v":"2025-05-07"},{"$f":"DATE(職員名簿!$L$1,$C8,COLUMN()-5)","v":"2025-05-08"},{"$f":"DATE(職員名簿!$L$1,$C8,COLUMN()-5)","v":"2025-05-09"},{"$f":"DATE(職員名簿!$L$1,$C8,COLUMN()-5)","v":"2025-05-10"},{"$f":"DATE(職員名簿!$L$1,$C8,COLUMN()-5)","v":"2025-05-11"},{"$f":"DATE(職員名簿!$L$1,$C8,COLUMN()-5)","v":"2025-05-12"},{"$f":"DATE(職員名簿!$L$1,$C8,COLUMN()-5)","v":"2025-05-13"},{"$f":"DATE(職員名簿!$L$1,$C8,COLUMN()-5)","v":"2025-05-14"},{"$f":"DATE(職員名簿!$L$1,$C8,COLUMN()-5)","v":"2025-05-15"},{"$f":"DATE(職員名簿!$L$1,$C8,COLUMN()-5)","v":"2025-05-16"},{"$f":"DATE(職員名簿!$L$1,$C8,COLUMN()-5)","v":"2025-05-17"},{"$f":"DATE(職員名簿!$L$1,$C8,COLUMN()-5)","v":"2025-05-18"},{"$f":"DATE(職員名簿!$L$1,$C8,COLUMN()-5)","v":"2025-05-19"},{"$f":"DATE(職員名簿!$L$1,$C8,COLUMN()-5)","v":"2025-05-20"},{"$f":"DATE(職員名簿!$L$1,$C8,COLUMN()-5)","v":"2025-05-21"},{"$f":"DATE(職員名簿!$L$1,$C8,COLUMN()-5)","v":"2025-05-22"},{"$f":"DATE(職員名簿!$L$1,$C8,COLUMN()-5)","v":"2025-05-23"},{"$f":"DATE(職員名簿!$L$1,$C8,COLUMN()-5)","v":"2025-05-24"},{"$f":"DATE(職員名簿!$L$1,$C8,COLUMN()-5)","v":"2025-05-25"},{"$f":"DATE(職員名簿!$L$1,$C8,COLUMN()-5)","v":"2025-05-26"},{"$f":"DATE(職員名簿!$L$1,$C8,COLUMN()-5)","v":"2025-05-27"},{"$f":"DATE(職員名簿!$L$1,$C8,COLUMN()-5)","v":"2025-05-28"},{"$f":"DATE(職員名簿!$L$1,$C8,COLUMN()-5)","v":"2025-05-29"},{"$f":"DATE(職員名簿!$L$1,$C8,COLUMN()-5)","v":"2025-05-30"},{"$f":"DATE(職員名簿!$L$1,$C8,COLUMN()-5)","v":"2025-05-31"}]
[]
[null,null,"6",null,null,{"$f":"DATE(職員名簿!$L$1,$C10,COLUMN()-5)","v":"2025-06-01"},{"$f":"DATE(職員名簿!$L$1,$C10,2)","v":"2025-06-02"},{"$f":"DATE(職員名簿!$L$1,$C10,3)","v":"2025-06-03"},{"$f":"DATE(職員名簿!$L$1,$C10,4)","v":"2025-06-04"},{"$f":"DATE(職員名簿!$L$1,$C10,5)","v":"2025-06-05"},{"$f":"DATE(職員名簿!$L$1,$C10,6)","v":"2025-06-06"},{"$f":"DATE(職員名簿!$L$1,$C10,7)","v":"2025-06-07"},{"$f":"DATE(職員名簿!$L$1,$C10,8)","v":"2025-06-08"},{"$f":"DATE(職員名簿!$L$1,$C10,9)","v":"2025-06-09"},{"$f":"DATE(職員名簿!$L$1,$C10,10)","v":"2025-06-10"},{"$f":"DATE(職員名簿!$L$1,$C10,11)","v":"2025-06-11"},{"$f":"DATE(職員名簿!$L$1,$C10,12)","v":"2025-06-12"},{"$f":"DATE(職員名簿!$L$1,$C10,13)","v":"2025-06-13"},{"$f":"DATE(職員名簿!$L$1,$C10,14)","v":"2025-06-14"},{"$f":"DATE(職員名簿!$L$1,$C10,15)","v":"2025-06-15"},{"$f":"DATE(職員名簿!$L$1,$C10,16)","v":"2025-06-16"},{"$f":"DATE(職員名簿!$L$1,$C10,17)","v":"2025-06-17"},{"$f":"DATE(職員名簿!$L$1,$C10,18)","v":"2025-06-18"},{"$f":"DATE(職員名簿!$L$1,$C10,19)","v":"2025-06-19"},{"$f":"DATE(職員名簿!$L$1,$C10,20)","v":"2025-06-20"},{"$f":"DATE(職員名簿!$L$1,$C10,21)","v":"2025-06-21"},{"$f":"DATE(職員名簿!$L$1,$C10,22)","v":"2025-06-22"},{"$f":"DATE(職員名簿!$L$1,$C10,23)","v":"2025-06-23"},{"$f":"DATE(職員名簿!$L$1,$C10,24)","v":"2025-06-24"},{"$f":"DATE(職員名簿!$L$1,$C10,25)","v":"2025-06-25"},{"$f":"DATE(職員名簿!$L$1,$C10,26)","v":"2025-06-26"},{"$f":"DATE(職員名簿!$L$1,$C10,27)","v":"2025-06-27"},{"$f":"DATE(職員名簿!$L$1,$C10,28)","v":"2025-06-28"},{"$f":"DATE(職員名簿!$L$1,$C10,29)","v":"2025-06-29"},{"$f":"DATE(職員名簿!$L$1,$C10,30)","v":"2025-06-30"}]
[]
[null,null,"7",null,null,{"$f":"DATE(職員名簿!$L$1,$C12,COLUMN()-5)","v":"2025-07-01"},{"$f":"DATE(職員名簿!$L$1,$C12,COLUMN()-5)","v":"2025-07-02"},{"$f":"DATE(職員名簿!$L$1,$C12,COLUMN()-5)","v":"2025-07-03"},{"$f":"DATE(職員名簿!$L$1,$C12,COLUMN()-5)","v":"2025-07-04"},{"$f":"DATE(職員名簿!$L$1,$C12,COLUMN()-5)","v":"2025-07-05"},{"$f":"DATE(職員名簿!$L$1,$C12,COLUMN()-5)","v":"2025-07-06"},{"$f":"DATE(職員名簿!$L$1,$C12,COLUMN()-5)","v":"2025-07-07"},{"$f":"DATE(職員名簿!$L$1,$C12,COLUMN()-5)","v":"2025-07-08"},{"$f":"DATE(職員名簿!$L$1,$C12,COLUMN()-5)","v":"2025-07-09"},{"$f":"DATE(職員名簿!$L$1,$C12,COLUMN()-5)","v":"2025-07-10"},{"$f":"DATE(職員名簿!$L$1,$C12,COLUMN()-5)","v":"2025-07-11"},{"$f":"DATE(職員名簿!$L$1,$C12,COLUMN()-5)","v":"2025-07-12"},{"$f":"DATE(職員名簿!$L$1,$C12,COLUMN()-5)","v":"2025-07-13"},{"$f":"DATE(職員名簿!$L$1,$C12,COLUMN()-5)","v":"2025-07-14"},{"$f":"DATE(職員名簿!$L$1,$C12,COLUMN()-5)","v":"2025-07-15"},{"$f":"DATE(職員名簿!$L$1,$C12,COLUMN()-5)","v":"2025-07-16"},{"$f":"DATE(職員名簿!$L$1,$C12,COLUMN()-5)","v":"2025-07-17"},{"$f":"DATE(職員名簿!$L$1,$C12,COLUMN()-5)","v":"2025-07-18"},{"$f":"DATE(職員名簿!$L$1,$C12,COLUMN()-5)","v":"2025-07-19"},{"$f":"DATE(職員名簿!$L$1,$C12,COLUMN()-5)","v":"2025-07-20"},{"$f":"DATE(職員名簿!$L$1,$C12,COLUMN()-5)","v":"2025-07-21"},{"$f":"DATE(職員名簿!$L$1,$C12,COLUMN()-5)","v":"2025-07-22"},{"$f":"DATE(職員名簿!$L$1,$C12,COLUMN()-5)","v":"2025-07-23"},{"$f":"DATE(職員名簿!$L$1,$C12,COLUMN()-5)","v":"2025-07-24"},{"$f":"DATE(職員名簿!$L$1,$C12,COLUMN()-5)","v":"2025-07-25"},{"$f":"DATE(職員名簿!$L$1,$C12,COLUMN()-5)","v":"2025-07-26"},{"$f":"DATE(職員名簿!$L$1,$C12,COLUMN()-5)","v":"2025-07-27"},{"$f":"DATE(職員名簿!$L$1,$C12,COLUMN()-5)","v":"2025-07-28"},{"$f":"DATE(職員名簿!$L$1,$C12,COLUMN()-5)","v":"2025-07-29"},{"$f":"DATE(職員名簿!$L$1,$C12,COLUMN()-5)","v":"2025-07-30"},{"$f":"DATE(職員名簿!$L$1,$C12,COLUMN()-5)","v":"2025-07-31"}]
[]
[null,null,"8",null,null,{"$f":"DATE(職員名簿!$L$1,$C14,COLUMN()-5)","v":"2025-08-01"},{"$f":"DATE(職員名簿!$L$1,$C14,COLUMN()-5)","v":"2025-08-02"},{"$f":"DATE(職員名簿!$L$1,$C14,COLUMN()-5)","v":"2025-08-03"},{"$f":"DATE(職員名簿!$L$1,$C14,COLUMN()-5)","v":"2025-08-04"},{"$f":"DATE(職員名簿!$L$1,$C14,COLUMN()-5)","v":"2025-08-05"},{"$f":"DATE(職員名簿!$L$1,$C14,COLUMN()-5)","v":"2025-08-06"},{"$f":"DATE(職員名簿!$L$1,$C14,COLUMN()-5)","v":"2025-08-07"},{"$f":"DATE(職員名簿!$L$1,$C14,COLUMN()-5)","v":"2025-08-08"},{"$f":"DATE(職員名簿!$L$1,$C14,COLUMN()-5)","v":"2025-08-09"},{"$f":"DATE(職員名簿!$L$1,$C14,COLUMN()-5)","v":"2025-08-10"},{"$f":"DATE(職員名簿!$L$1,$C14,COLUMN()-5)","v":"2025-08-11"},{"$f":"DATE(職員名簿!$L$1,$C14,COLUMN()-5)","v":"2025-08-12"},{"$f":"DATE(職員名簿!$L$1,$C14,COLUMN()-5)","v":"2025-08-13"},{"$f":"DATE(職員名簿!$L$1,$C14,COLUMN()-5)","v":"2025-08-14"},{"$f":"DATE(職員名簿!$L$1,$C14,COLUMN()-5)","v":"2025-08-15"},{"$f":"DATE(職員名簿!$L$1,$C14,COLUMN()-5)","v":"2025-08-16"},{"$f":"DATE(職員名簿!$L$1,$C14,COLUMN()-5)","v":"2025-08-17"},{"$f":"DATE(職員名簿!$L$1,$C14,COLUMN()-5)","v":"2025-08-18"},{"$f":"DATE(職員名簿!$L$1,$C14,COLUMN()-5)","v":"2025-08-19"},{"$f":"DATE(職員名簿!$L$1,$C14,COLUMN()-5)","v":"2025-08-20"},{"$f":"DATE(職員名簿!$L$1,$C14,COLUMN()-5)","v":"2025-08-21"},{"$f":"DATE(職員名簿!$L$1,$C14,COLUMN()-5)","v":"2025-08-22"},{"$f":"DATE(職員名簿!$L$1,$C14,COLUMN()-5)","v":"2025-08-23"},{"$f":"DATE(職員名簿!$L$1,$C14,COLUMN()-5)","v":"2025-08-24"},{"$f":"DATE(職員名簿!$L$1,$C14,COLUMN()-5)","v":"2025-08-25"},{"$f":"DATE(職員名簿!$L$1,$C14,COLUMN()-5)","v":"2025-08-26"},{"$f":"DATE(職員名簿!$L$1,$C14,COLUMN()-5)","v":"2025-08-27"},{"$f":"DATE(職員名簿!$L$1,$C14,COLUMN()-5)","v":"2025-08-28"},{"$f":"DATE(職員名簿!$L$1,$C14,COLUMN()-5)","v":"2025-08-29"},{"$f":"DATE(職員名簿!$L$1,$C14,COLUMN()-5)","v":"2025-08-30"},{"$f":"DATE(職員名簿!$L$1,$C14,COLUMN()-5)","v":"2025-08-31"}]
[]
[null,null,"9",null,null,{"$f":"DATE(職員名簿!$L$1,$C16,COLUMN()-5)","v":"2025-09-01"},{"$f":"DATE(職員名簿!$L$1,$C16,2)","v":"2025-09-02"},{"$f":"DATE(職員名簿!$L$1,$C16,3)","v":"2025-09-03"},{"$f":"DATE(職員名簿!$L$1,$C16,4)","v":"2025-09-04"},{"$f":"DATE(職員名簿!$L$1,$C16,5)","v":"2025-09-05"},{"$f":"DATE(職員名簿!$L$1,$C16,6)","v":"2025-09-06"},{"$f":"DATE(職員名簿!$L$1,$C16,7)","v":"2025-09-07"},{"$f":"DATE(職員名簿!$L$1,$C16,8)","v":"2025-09-08"},{"$f":"DATE(職員名簿!$L$1,$C16,9)","v":"2025-09-09"},{"$f":"DATE(職員名簿!$L$1,$C16,10)","v":"2025-09-10"},{"$f":"DATE(職員名簿!$L$1,$C16,11)","v":"2025-09-11"},{"$f":"DATE(職員名簿!$L$1,$C16,12)","v":"2025-09-12"},{"$f":"DATE(職員名簿!$L$1,$C16,13)","v":"2025-09-13"},{"$f":"DATE(職員名簿!$L$1,$C16,14)","v":"2025-09-14"},{"$f":"DATE(職員名簿!$L$1,$C16,15)","v":"2025-09-15"},{"$f":"DATE(職員名簿!$L$1,$C16,16)","v":"2025-09-16"},{"$f":"DATE(職員名簿!$L$1,$C16,17)","v":"2025-09-17"},{"$f":"DATE(職員名簿!$L$1,$C16,18)","v":"2025-09-18"},{"$f":"DATE(職員名簿!$L$1,$C16,19)","v":"2025-09-19"},{"$f":"DATE(職員名簿!$L$1,$C16,20)","v":"2025-09-20"},{"$f":"DATE(職員名簿!$L$1,$C16,21)","v":"2025-09-21"},{"$f":"DATE(職員名簿!$L$1,$C16,22)","v":"2025-09-22"},{"$f":"DATE(職員名簿!$L$1,$C16,23)","v":"2025-09-23"},{"$f":"DATE(職員名簿!$L$1,$C16,24)","v":"2025-09-24"},{"$f":"DATE(職員名簿!$L$1,$C16,25)","v":"2025-09-25"},{"$f":"DATE(職員名簿!$L$1,$C16,26)","v":"2025-09-26"},{"$f":"DATE(職員名簿!$L$1,$C16,27)","v":"2025-09-27"},{"$f":"DATE(職員名簿!$L$1,$C16,28)","v":"2025-09-28"},{"$f":"DATE(職員名簿!$L$1,$C16,29)","v":"2025-09-29"},{"$f":"DATE(職員名簿!$L$1,$C16,30)","v":"2025-09-30"}]
[]
[null,null,"10",null,null,{"$f":"DATE(職員名簿!$L$1,$C18,COLUMN()-5)","v":"2025-10-01"},{"$f":"DATE(職員名簿!$L$1,$C18,COLUMN()-5)","v":"2025-10-02"},{"$f":"DATE(職員名簿!$L$1,$C18,COLUMN()-5)","v":"2025-10-03"},{"$f":"DATE(職員名簿!$L$1,$C18,COLUMN()-5)","v":"2025-10-04"},{"$f":"DATE(職員名簿!$L$1,$C18,COLUMN()-5)","v":"2025-10-05"},{"$f":"DATE(職員名簿!$L$1,$C18,COLUMN()-5)","v":"2025-10-06"},{"$f":"DATE(職員名簿!$L$1,$C18,COLUMN()-5)","v":"2025-10-07"},{"$f":"DATE(職員名簿!$L$1,$C18,COLUMN()-5)","v":"2025-10-08"},{"$f":"DATE(職員名簿!$L$1,$C18,COLUMN()-5)","v":"2025-10-09"},{"$f":"DATE(職員名簿!$L$1,$C18,COLUMN()-5)","v":"2025-10-10"},{"$f":"DATE(職員名簿!$L$1,$C18,COLUMN()-5)","v":"2025-10-11"},{"$f":"DATE(職員名簿!$L$1,$C18,COLUMN()-5)","v":"2025-10-12"},{"$f":"DATE(職員名簿!$L$1,$C18,COLUMN()-5)","v":"2025-10-13"},{"$f":"DATE(職員名簿!$L$1,$C18,COLUMN()-5)","v":"2025-10-14"},{"$f":"DATE(職員名簿!$L$1,$C18,COLUMN()-5)","v":"2025-10-15"},{"$f":"DATE(職員名簿!$L$1,$C18,COLUMN()-5)","v":"2025-10-16"},{"$f":"DATE(職員名簿!$L$1,$C18,COLUMN()-5)","v":"2025-10-17"},{"$f":"DATE(職員名簿!$L$1,$C18,COLUMN()-5)","v":"2025-10-18"},{"$f":"DATE(職員名簿!$L$1,$C18,COLUMN()-5)","v":"2025-10-19"},{"$f":"DATE(職員名簿!$L$1,$C18,COLUMN()-5)","v":"2025-10-20"},{"$f":"DATE(職員名簿!$L$1,$C18,COLUMN()-5)","v":"2025-10-21"},{"$f":"DATE(職員名簿!$L$1,$C18,COLUMN()-5)","v":"2025-10-22"},{"$f":"DATE(職員名簿!$L$1,$C18,COLUMN()-5)","v":"2025-10-23"},{"$f":"DATE(職員名簿!$L$1,$C18,COLUMN()-5)","v":"2025-10-24"},{"$f":"DATE(職員名簿!$L$1,$C18,COLUMN()-5)","v":"2025-10-25"},{"$f":"DATE(職員名簿!$L$1,$C18,COLUMN()-5)","v":"2025-10-26"},{"$f":"DATE(職員名簿!$L$1,$C18,COLUMN()-5)","v":"2025-10-27"},{"$f":"DATE(職員名簿!$L$1,$C18,COLUMN()-5)","v":"2025-10-28"},{"$f":"DATE(職員名簿!$L$1,$C18,COLUMN()-5)","v":"2025-10-29"},{"$f":"DATE(職員名簿!$L$1,$C18,COLUMN()-5)","v":"2025-10-30"},{"$f":"DATE(職員名簿!$L$1,$C18,COLUMN()-5)","v":"2025-10-31"}]
[]
[null,null,"11",null,null,{"$f":"DATE(職員名簿!$L$1,$C20,COLUMN()-5)","v":"2025-11-01"},{"$f":"DATE(職員名簿!$L$1,$C20,2)","v":"2025-11-02"},{"$f":"DATE(職員名簿!$L$1,$C20,3)","v":"2025-11-03"},{"$f":"DATE(職員名簿!$L$1,$C20,4)","v":"2025-11-04"},{"$f":"DATE(職員名簿!$L$1,$C20,5)","v":"2025-11-05"},{"$f":"DATE(職員名簿!$L$1,$C20,6)","v":"2025-11-06"},{"$f":"DATE(職員名簿!$L$1,$C20,7)","v":"2025-11-07"},{"$f":"DATE(職員名簿!$L$1,$C20,8)","v":"2025-11-08"},{"$f":"DATE(職員名簿!$L$1,$C20,9)","v":"2025-11-09"},{"$f":"DATE(職員名簿!$L$1,$C20,10)","v":"2025-11-10"},{"$f":"DATE(職員名簿!$L$1,$C20,11)","v":"2025-11-11"},{"$f":"DATE(職員名簿!$L$1,$C20,12)","v":"2025-11-12"},{"$f":"DATE(職員名簿!$L$1,$C20,13)","v":"2025-11-13"},{"$f":"DATE(職員名簿!$L$1,$C20,14)","v":"2025-11-14"},{"$f":"DATE(職員名簿!$L$1,$C20,15)","v":"2025-11-15"},{"$f":"DATE(職員名簿!$L$1,$C20,16)","v":"2025-11-16"},{"$f":"DATE(職員名簿!$L$1,$C20,17)","v":"2025-11-17"},{"$f":"DATE(職員名簿!$L$1,$C20,18)","v":"2025-11-18"},{"$f":"DATE(職員名簿!$L$1,$C20,19)","v":"2025-11-19"},{"$f":"DATE(職員名簿!$L$1,$C20,20)","v":"2025-11-20"},{"$f":"DATE(職員名簿!$L$1,$C20,21)","v":"2025-11-21"},{"$f":"DATE(職員名簿!$L$1,$C20,22)","v":"2025-11-22"},{"$f":"DATE(職員名簿!$L$1,$C20,23)","v":"2025-11-23"},{"$f":"DATE(職員名簿!$L$1,$C20,24)","v":"2025-11-24"},{"$f":"DATE(職員名簿!$L$1,$C20,25)","v":"2025-11-25"},{"$f":"DATE(職員名簿!$L$1,$C20,26)","v":"2025-11-26"},{"$f":"DATE(職員名簿!$L$1,$C20,27)","v":"2025-11-27"},{"$f":"DATE(職員名簿!$L$1,$C20,28)","v":"2025-11-28"},{"$f":"DATE(職員名簿!$L$1,$C20,29)","v":"2025-11-29"},{"$f":"DATE(職員名簿!$L$1,$C20,30)","v":"2025-11-30"}]
[]
[null,null,"12",null,null,{"$f":"DATE(職員名簿!$L$1,$C22,COLUMN()-5)","v":"2025-12-01"},{"$f":"DATE(職員名簿!$L$1,$C22,COLUMN()-5)","v":"2025-12-02"},{"$f":"DATE(職員名簿!$L$1,$C22,COLUMN()-5)","v":"2025-12-03"},{"$f":"DATE(職員名簿!$L$1,$C22,COLUMN()-5)","v":"2025-12-04"},{"$f":"DATE(職員名簿!$L$1,$C22,COLUMN()-5)","v":"2025-12-05"},{"$f":"DATE(職員名簿!$L$1,$C22,COLUMN()-5)","v":"2025-12-06"},{"$f":"DATE(職員名簿!$L$1,$C22,COLUMN()-5)","v":"2025-12-07"},{"$f":"DATE(職員名簿!$L$1,$C22,COLUMN()-5)","v":"2025-12-08"},{"$f":"DATE(職員名簿!$L$1,$C22,COLUMN()-5)","v":"2025-12-09"},{"$f":"DATE(職員名簿!$L$1,$C22,COLUMN()-5)","v":"2025-12-10"},{"$f":"DATE(職員名簿!$L$1,$C22,COLUMN()-5)","v":"2025-12-11"},{"$f":"DATE(職員名簿!$L$1,$C22,COLUMN()-5)","v":"2025-12-12"},{"$f":"DATE(職員名簿!$L$1,$C22,COLUMN()-5)","v":"2025-12-13"},{"$f":"DATE(職員名簿!$L$1,$C22,COLUMN()-5)","v":"2025-12-14"},{"$f":"DATE(職員名簿!$L$1,$C22,COLUMN()-5)","v":"2025-12-15"},{"$f":"DATE(職員名簿!$L$1,$C22,COLUMN()-5)","v":"2025-12-16"},{"$f":"DATE(職員名簿!$L$1,$C22,COLUMN()-5)","v":"2025-12-17"},{"$f":"DATE(職員名簿!$L$1,$C22,COLUMN()-5)","v":"2025-12-18"},{"$f":"DATE(職員名簿!$L$1,$C22,COLUMN()-5)","v":"2025-12-19"},{"$f":"DATE(職員名簿!$L$1,$C22,COLUMN()-5)","v":"2025-12-20"},{"$f":"DATE(職員名簿!$L$1,$C22,COLUMN()-5)","v":"2025-12-21"},{"$f":"DATE(職員名簿!$L$1,$C22,COLUMN()-5)","v":"2025-12-22"},{"$f":"DATE(職員名簿!$L$1,$C22,COLUMN()-5)","v":"2025-12-23"},{"$f":"DATE(職員名簿!$L$1,$C22,COLUMN()-5)","v":"2025-12-24"},{"$f":"DATE(職員名簿!$L$1,$C22,COLUMN()-5)","v":"2025-12-25"},{"$f":"DATE(職員名簿!$L$1,$C22,COLUMN()-5)","v":"2025-12-26"},{"$f":"DATE(職員名簿!$L$1,$C22,COLUMN()-5)","v":"2025-12-27"},{"$f":"DATE(職員名簿!$L$1,$C22,COLUMN()-5)","v":"2025-12-28"},{"$f":"DATE(職員名簿!$L$1,$C22,COLUMN()-5)","v":"2025-12-29"},{"$f":"DATE(職員名簿!$L$1,$C22,COLUMN()-5)","v":"2025-12-30"},{"$f":"DATE(職員名簿!$L$1,$C22,COLUMN()-5)","v":"2025-12-31"}]
[]
[null,null,"1",null,null,{"$f":"DATE(職員名簿!$L$1+1,$C24,COLUMN()-5)","v":"2026-01-01"},{"$f":"DATE(職員名簿!$L$1+1,$C24,COLUMN()-5)","v":"2026-01-02"},{"$f":"DATE(職員名簿!$L$1+1,$C24,COLUMN()-5)","v":"2026-01-03"},{"$f":"DATE(職員名簿!$L$1+1,$C24,COLUMN()-5)","v":"2026-01-04"},{"$f":"DATE(職員名簿!$L$1+1,$C24,COLUMN()-5)","v":"2026-01-05"},{"$f":"DATE(職員名簿!$L$1+1,$C24,COLUMN()-5)","v":"2026-01-06"},{"$f":"DATE(職員名簿!$L$1+1,$C24,COLUMN()-5)","v":"2026-01-07"},{"$f":"DATE(職員名簿!$L$1+1,$C24,COLUMN()-5)","v":"2026-01-08"},{"$f":"DATE(職員名簿!$L$1+1,$C24,COLUMN()-5)","v":"2026-01-09"},{"$f":"DATE(職員名簿!$L$1+1,$C24,COLUMN()-5)","v":"2026-01-10"},{"$f":"DATE(職員名簿!$L$1+1,$C24,COLUMN()-5)","v":"2026-01-11"},{"$f":"DATE(職員名簿!$L$1+1,$C24,COLUMN()-5)","v":"2026-01-12"},{"$f":"DATE(職員名簿!$L$1+1,$C24,COLUMN()-5)","v":"2026-01-13"},{"$f":"DATE(職員名簿!$L$1+1,$C24,COLUMN()-5)","v":"2026-01-14"},{"$f":"DATE(職員名簿!$L$1+1,$C24,COLUMN()-5)","v":"2026-01-15"},{"$f":"DATE(職員名簿!$L$1+1,$C24,COLUMN()-5)","v":"2026-01-16"},{"$f":"DATE(職員名簿!$L$1+1,$C24,COLUMN()-5)","v":"2026-01-17"},{"$f":"DATE(職員名簿!$L$1+1,$C24,COLUMN()-5)","v":"2026-01-18"},{"$f":"DATE(職員名簿!$L$1+1,$C24,COLUMN()-5)","v":"2026-01-19"},{"$f":"DATE(職員名簿!$L$1+1,$C24,COLUMN()-5)","v":"2026-01-20"},{"$f":"DATE(職員名簿!$L$1+1,$C24,COLUMN()-5)","v":"2026-01-21"},{"$f":"DATE(職員名簿!$L$1+1,$C24,COLUMN()-5)","v":"2026-01-22"},{"$f":"DATE(職員名簿!$L$1+1,$C24,COLUMN()-5)","v":"2026-01-23"},{"$f":"DATE(職員名簿!$L$1+1,$C24,COLUMN()-5)","v":"2026-01-24"},{"$f":"DATE(職員名簿!$L$1+1,$C24,COLUMN()-5)","v":"2026-01-25"},{"$f":"DATE(職員名簿!$L$1+1,$C24,COLUMN()-5)","v":"2026-01-26"},{"$f":"DATE(職員名簿!$L$1+1,$C24,COLUMN()-5)","v":"2026-01-27"},{"$f":"DATE(職員名簿!$L$1+1,$C24,COLUMN()-5)","v":"2026-01-28"},{"$f":"DATE(職員名簿!$L$1+1,$C24,COLUMN()-5)","v":"2026-01-29"},{"$f":"DATE(職員名簿!$L$1+1,$C24,COLUMN()-5)","v":"2026-01-30"},{"$f":"DATE(職員名簿!$L$1+1,$C24,COLUMN()-5)","v":"2026-01-31"}]
[]
[null,null,"2",null,null,{"$f":"DATE(職員名簿!$L$1+1,$C26,COLUMN()-5)","v":"2026-02-01"},{"$f":"DATE(職員名簿!$L$1+1,$C26,COLUMN()-5)","v":"2026-02-02"},{"$f":"DATE(職員名簿!$L$1+1,$C26,COLUMN()-5)","v":"2026-02-03"},{"$f":"DATE(職員名簿!$L$1+1,$C26,COLUMN()-5)","v":"2026-02-04"},{"$f":"DATE(職員名簿!$L$1+1,$C26,COLUMN()-5)","v":"2026-02-05"},{"$f":"DATE(職員名簿!$L$1+1,$C26,COLUMN()-5)","v":"2026-02-06"},{"$f":"DATE(職員名簿!$L$1+1,$C26,COLUMN()-5)","v":"2026-02-07"},{"$f":"DATE(職員名簿!$L$1+1,$C26,COLUMN()-5)","v":"2026-02-08"},{"$f":"DATE(職員名簿!$L$1+1,$C26,COLUMN()-5)","v":"2026-02-09"},{"$f":"DATE(職員名簿!$L$1+1,$C26,COLUMN()-5)","v":"2026-02-10"},{"$f":"DATE(職員名簿!$L$1+1,$C26,COLUMN()-5)","v":"2026-02-11"},{"$f":"DATE(職員名簿!$L$1+1,$C26,COLUMN()-5)","v":"2026-02-12"},{"$f":"DATE(職員名簿!$L$1+1,$C26,COLUMN()-5)","v":"2026-02-13"},{"$f":"DATE(職員名簿!$L$1+1,$C26,COLUMN()-5)","v":"2026-02-14"},{"$f":"DATE(職員名簿!$L$1+1,$C26,COLUMN()-5)","v":"2026-02-15"},{"$f":"DATE(職員名簿!$L$1+1,$C26,COLUMN()-5)","v":"2026-02-16"},{"$f":"DATE(職員名簿!$L$1+1,$C26,COLUMN()-5)","v":"2026-02-17"},{"$f":"DATE(職員名簿!$L$1+1,$C26,COLUMN()-5)","v":"2026-02-18"},{"$f":"DATE(職員名簿!$L$1+1,$C26,COLUMN()-5)","v":"2026-02-19"},{"$f":"DATE(職員名簿!$L$1+1,$C26,COLUMN()-5)","v":"2026-02-20"},{"$f":"DATE(職員名簿!$L$1+1,$C26,COLUMN()-5)","v":"2026-02-21"},{"$f":"DATE(職員名簿!$L$1+1,$C26,COLUMN()-5)","v":"2026-02-22"},{"$f":"DATE(職員名簿!$L$1+1,$C26,COLUMN()-5)","v":"2026-02-23"},{"$f":"DATE(職員名簿!$L$1+1,$C26,COLUMN()-5)","v":"2026-02-24"},{"$f":"DATE(職員名簿!$L$1+1,$C26,COLUMN()-5)","v":"2026-02-25"},{"$f":"DATE(職員名簿!$L$1+1,$C26,COLUMN()-5)","v":"2026-02-26"},{"$f":"DATE(職員名簿!$L$1+1,$C26,COLUMN()-5)","v":"2026-02-27"},{"$f":"DATE(職員名簿!$L$1+1,$C26,COLUMN()-5)","v":"2026-02-28"},{"$f":"IF(DAY(DATE(職員名簿!$L$1+1,$C26,COLUMN()-5))=29,DATE(職員名簿!$L$1+1,$C26,COLUMN()-5),\"\")","v":""}]
[]
[null,null,"3",null,null,{"$f":"DATE(職員名簿!$L$1+1,$C28,COLUMN()-5)","v":"2026-03-01"},{"$f":"DATE(職員名簿!$L$1+1,$C28,COLUMN()-5)","v":"2026-03-02"},{"$f":"DATE(職員名簿!$L$1+1,$C28,COLUMN()-5)","v":"2026-03-03"},{"$f":"DATE(職員名簿!$L$1+1,$C28,COLUMN()-5)","v":"2026-03-04"},{"$f":"DATE(職員名簿!$L$1+1,$C28,COLUMN()-5)","v":"2026-03-05"},{"$f":"DATE(職員名簿!$L$1+1,$C28,COLUMN()-5)","v":"2026-03-06"},{"$f":"DATE(職員名簿!$L$1+1,$C28,COLUMN()-5)","v":"2026-03-07"},{"$f":"DATE(職員名簿!$L$1+1,$C28,COLUMN()-5)","v":"2026-03-08"},{"$f":"DATE(職員名簿!$L$1+1,$C28,COLUMN()-5)","v":"2026-03-09"},{"$f":"DATE(職員名簿!$L$1+1,$C28,COLUMN()-5)","v":"2026-03-10"},{"$f":"DATE(職員名簿!$L$1+1,$C28,COLUMN()-5)","v":"2026-03-11"},{"$f":"DATE(職員名簿!$L$1+1,$C28,COLUMN()-5)","v":"2026-03-12"},{"$f":"DATE(職員名簿!$L$1+1,$C28,COLUMN()-5)","v":"2026-03-13"},{"$f":"DATE(職員名簿!$L$1+1,$C28,COLUMN()-5)","v":"2026-03-14"},{"$f":"DATE(職員名簿!$L$1+1,$C28,COLUMN()-5)","v":"2026-03-15"},{"$f":"DATE(職員名簿!$L$1+1,$C28,COLUMN()-5)","v":"2026-03-16"},{"$f":"DATE(職員名簿!$L$1+1,$C28,COLUMN()-5)","v":"2026-03-17"},{"$f":"DATE(職員名簿!$L$1+1,$C28,COLUMN()-5)","v":"2026-03-18"},{"$f":"DATE(職員名簿!$L$1+1,$C28,COLUMN()-5)","v":"2026-03-19"},{"$f":"DATE(職員名簿!$L$1+1,$C28,COLUMN()-5)","v":"2026-03-20"},{"$f":"DATE(職員名簿!$L$1+1,$C28,COLUMN()-5)","v":"2026-03-21"},{"$f":"DATE(職員名簿!$L$1+1,$C28,COLUMN()-5)","v":"2026-03-22"},{"$f":"DATE(職員名簿!$L$1+1,$C28,COLUMN()-5)","v":"2026-03-23"},{"$f":"DATE(職員名簿!$L$1+1,$C28,COLUMN()-5)","v":"2026-03-24"},{"$f":"DATE(職員名簿!$L$1+1,$C28,COLUMN()-5)","v":"2026-03-25"},{"$f":"DATE(職員名簿!$L$1+1,$C28,COLUMN()-5)","v":"2026-03-26"},{"$f":"DATE(職員名簿!$L$1+1,$C28,COLUMN()-5)","v":"2026-03-27"},{"$f":"DATE(職員名簿!$L$1+1,$C28,COLUMN()-5)","v":"2026-03-28"},{"$f":"DATE(職員名簿!$L$1+1,$C28,COLUMN()-5)","v":"2026-03-29"},{"$f":"DATE(職員名簿!$L$1+1,$C28,COLUMN()-5)","v":"2026-03-30"},{"$f":"DATE(職員名簿!$L$1+1,$C28,COLUMN()-5)","v":"2026-03-31"}]
[]
[]
[null,null,{"$f":"\"令和\"&職員名簿!$J$1&\"年度\"","v":"令和7年度"},null,null,null,null,null,null,null,"勤務整理簿",null,null,null,null,null,null,null,null,null,null,null,null,null,null,"職名",null,null,null,"氏名"]
[]
[]
[]
[]
[null,null,null,null,null,"年度が替わったらここの図をコピーして\n新様式に変更（この行の高さを変更しない）\n高さ36.75",null,null,null,null,null,"→","㊏\n　 祝","㊐\n　 祝"]
[null,null,null,null,null,null,null,null,null,null,null,null,null,null,null,null,null,null,null,null,null,null,null,null,null,null,null,null,null,null,null,null,null,null,null,null,null,null,null,null,null,{"$f":"職員名簿!$J$1+2018","v":2025}]
[]
[]
[]
[]
[]
[]
[]
[]
[]
[]
[]
[]
[]
[]
[]
[]
[]
[]
[]
[]
[]
[]
[]
[]
[]
[]
[]
[]
[]
[]
[]
[]
[]
[]
[]
[]
[]
[]
[null,null,null,null,null,null,null,null,null,null,null,null,null,null,null,null,null,null,null,null,null,null,null,null,null,null,null,null,null,null,null,null,null,null,null,null,null,null,null,null,null,null,null,null,{"$f":"IF(AO76=\"\",\"\",IF(AP76=1,LOOKUP(1,0/(AO76+ROW($1:$5)-1=AO76:AO81),AO76:AO81)+1,\n IF(AO76+2=AO77,AO76+1,\"\")))","v":""}]
[null,null,null,null,null,null,null,null,null,null,null,null,null,null,null,null,null,null,null,null,null,null,null,null,null,null,null,null,null,null,null,null,null,null,null,null,null,null,null,null,null,null,null,null,{"$f":"IF(AO77=\"\",\"\",IF(AP77=1,LOOKUP(1,0/(AO77+ROW($1:$5)-1=AO77:AO82),AO77:AO82)+1,\n IF(AO77+2=AO78,AO77+1,\"\")))","v":""}]

{"sheet":"スタンプ","index":3,"n_rows":28,"n_cols":9,"rows_kept":28,"cut":false,"hidden":true,"merged":[]}
["出張"]
["赴任"]
["派遣"]
["年休"]
["公療"]
["短療"]
["特療"]
["特休"]
["介休"]
["介時"]
["組合"]
["職免"]
["研修"]
["欠勤"]
["停職"]
["休職"]
["休日変更"]
["大学"]
["自己"]
["育休"]
["配偶者"]
["日曜"]
["土曜"]
["割振"]
["代休"]
["出勤日"]
["土日出勤"]
["土日祝",null,null,null,null,null,null,"㊏","㊐"]

{"sheet":"月の日数","index":4,"n_rows":32,"n_cols":6,"rows_kept":32,"cut":false,"hidden":true,"merged":[]}
["年度","月","日数",null,"日","時間"]
[{"$f":"職員名簿!$L$1","v":2025},4,{"$f":"DAY(EOMONTH(DATE($A$2,$B2,1),0))","v":30},null,1,0.5]
[null,5,31,null,2,1]
[null,6,30,null,3,1.5]
[null,7,31,null,4,2]
[null,8,31,null,5,3]
[null,9,30,null,6,4]
[null,10,31,null,7,5]
[null,11,30,null,8,6]
[null,12,31,null,9,7]
[null,1,{"$f":"DAY(EOMONTH(DATE($A$2+1,$B11,1),0))","v":31},null,10]
[null,2,{"$f":"DAY(EOMONTH(DATE($A$2+1,$B12,1),0))","v":28},null,11]
[null,3,{"$f":"DAY(EOMONTH(DATE($A$2+1,$B13,1),0))","v":31},null,12]
[null,null,null,null,13]
[null,null,null,null,14]
[null,null,null,null,15]
[null,null,null,null,16]
[null,null,null,null,17]
[null,null,null,null,18]
[null,null,null,null,19]
[null,null,null,null,20]
[null,null,null,null,21]
[null,null,null,null,22]
[null,null,null,null,23]
[null,null,null,null,24]
[null,null,null,null,25]
[null,null,null,null,26]
[null,null,null,null,27]
[null,null,null,null,28]
[null,null,null,null,29]
[null,null,null,null,30]
[null,null,null,null,31]

{"sheet":"職員名簿","index":5,"n_rows":2,"n_cols":12,"rows_kept":2,"cut":false,"hidden":false,"merged":[[0,8,1,8],[0,9,1,9],[0,10,1,10]]}
[null,"氏名","職名","職番","任用事由（非常勤講師のみ）","任用開始日\n（非常勤講師のみ）","任用終了日\n（非常勤講師のみ）",null,"令和",7,"年度",{"$f":"$J$1+2018","v":2025}]
[null,null,null,null,"","",""]

{"sheet":"整理簿","index":6,"n_rows":36,"n_cols":42,"rows_kept":36,"cut":false,"hidden":false,"merged":[[54,6,54,7],[55,6,55,7],[56,6,56,7],[25,34,26,34],[25,35,26,35],[30,30,30,35],[25,33,26,33],[27,2,28,3],[27,4,28,4],[30,2,30,6],[30,26,30,28],[30,10,30,16],[30,17,30,18],[30,20,30,21],[30,22,30,24],[21,2,22,3],[21,4,22,4],[23,2,24,3],[23,4,24,4],[25,2,26,3],[25,4,26,4],[19,2,20,3],[19,4,20,4],[19,35,20,35],[9,2,10,3],[9,4,10,4],[9,35,10,35],[11,2,12,3],[11,4,12,4],[13,2,14,3],[13,4,14,4],[15,2,16,3],[15,4,16,4],[15,35,16,35],[17,2,18,3],[17,4,18,4],[2,35,3,35],[5,2,6,3],[5,4,6,4],[5,35,6,35],[7,2,8,3],[7,4,8,4],[2,29,3,29],[2,30,3,30],[2,31,3,31],[2,32,3,32],[2,33,3,33],[2,34,3,34],[2,23,3,23],[2,24,3,24],[2,25,3,25],[2,26,3,26],[2,27,3,27],[2,28,3,28],[2,17,3,17],[2,18,3,18],[2,19,3,19],[2,20,3,20],[2,21,3,21],[2,22,3,22],[2,16,3,16],[2,5,3,5],[2,6,3,6],[2,7,3,7],[2,8,3,8],[2,9,3,9],[2,10,3,10],[2,11,3,11],[2,12,3,12],[2,13,3,13],[2,14,3,14],[2,15,3,15]]}
[null,null,null,null,null,null,null,null,null,null,null,null,null,null,null,null,null,null,null,null,null,null,null,null,null,null,null,null,null,null,null,null,null,null,null,null,null,null,null,"年休（１日）","右上","育児休業"]
[null,null,null,null,null,null,null,null,null,null,null,null,null,null,null,null,null,null,null,null,null,null,null,null,null,null,null,null,null,null,null,null,null,null,null,null,null,null,null,"年休（時間）","左上","休職"]
[null,null,null,"日",null,"1","2","3","4","5","6","7","8","9","10","11","12","13","14","15","16","17","18","19","20","21","22","23","24","25","26","27","28","29","30","31",null,null,null,"特休（１日）","右下","自己啓発休業"]
[null,null,"月",null,null,null,null,null,null,null,null,null,null,null,null,null,null,null,null,null,null,null,null,null,null,null,null,null,null,null,null,null,null,null,null,null,null,null,null,"特休（時間）","左下","大学院修学休業"]
[null,null,null,null,null,null,null,null,null,null,null,null,null,null,null,null,null,null,null,null,null,null,null,null,null,null,null,null,null,null,null,null,null,null,null,null,null,null,null,"特休（回数）",null,"配偶者同行休業"]
[null,null,"4",null,null,"2025-04-01","2025-04-02","2025-04-03","2025-04-04","2025-04-05","2025-04-06","2025-04-07","2025-04-08","2025-04-09","2025-04-10","2025-04-11","2025-04-12","2025-04-13","2025-04-14","2025-04-15","2025-04-16","2025-04-17","2025-04-18","2025-04-19","2025-04-20","2025-04-21","2025-04-22","2025-04-23","2025-04-24","2025-04-25","2025-04-26","2025-04-27","2025-04-28","2025-04-29","2025-04-30",null,null,null,null,"職免（１日）",null,"派遣"]
[null,null,null,null,null,null,null,null,null,"㊏","㊐",null,null,null,null,null,"㊏","㊐",null,null,null,null,null,"㊏","㊐",null,null,null,null,null,"㊏","㊐",null,"祝",null,null,null,null,null,"職免（時間）"]
[null,null,"5",null,null,"2025-05-01","2025-05-02","2025-05-03","2025-05-04","2025-05-05","2025-05-06","2025-05-07","2025-05-08","2025-05-09","2025-05-10","2025-05-11","2025-05-12","2025-05-13","2025-05-14","2025-05-15","2025-05-16","2025-05-17","2025-05-18","2025-05-19","2025-05-20","2025-05-21","2025-05-22","2025-05-23","2025-05-24","2025-05-25","2025-05-26","2025-05-27","2025-05-28","2025-05-29","2025-05-30","2025-05-31",null,null,null,"研修（１日）"]
[null,null,null,null,null,null,null,null,null,"祝","休",null,null,null,"㊏","㊐",null,null,null,null,null,"㊏","㊐",null,null,null,null,null,"㊏","㊐",null,null,null,null,null,"㊏",null,null,null,"研修（半日）"]
[null,null,"6",null,null,"2025-06-01","2025-06-02","2025-06-03","2025-06-04","2025-06-05","2025-06-06","2025-06-07","2025-06-08","2025-06-09","2025-06-10","2025-06-11","2025-06-12","2025-06-13","2025-06-14","2025-06-15","2025-06-16","2025-06-17","2025-06-18","2025-06-19","2025-06-20","2025-06-21","2025-06-22","2025-06-23","2025-06-24","2025-06-25","2025-06-26","2025-06-27","2025-06-28","2025-06-29","2025-06-30",null,null,null,null,"育児休業"]
[null,null,null,null,null,"㊐",null,null,null,null,null,"㊏","㊐",null,null,null,null,null,"㊏","㊐",null,null,null,null,null,"㊏","㊐",null,null,null,null,null,"㊏","㊐",null,null,null,null,null,"部分休業"]
[null,null,"7",null,null,"2025-07-01","2025-07-02","2025-07-03","2025-07-04","2025-07-05","2025-07-06","2025-07-07","2025-07-08","2025-07-09","2025-07-10","2025-07-11","2025-07-12","2025-07-13","2025-07-14","2025-07-15","2025-07-16","2025-07-17","2025-07-18","2025-07-19","2025-07-20","2025-07-21","2025-07-22","2025-07-23","2025-07-24","2025-07-25","2025-07-26","2025-07-27","2025-07-28","2025-07-29","2025-07-30","2025-07-31",null,null,null,"配偶者同行休業"]
[null,null,null,null,null,null,null,null,null,"㊏","㊐",null,null,null,null,null,"㊏","㊐",null,null,null,null,null,"㊏","㊐","祝",null,null,null,null,"㊏","㊐",null,null,null,null,null,null,null,"割振"]
[null,null,"8",null,null,"2025-08-01","2025-08-02","2025-08-03","2025-08-04","2025-08-05","2025-08-06","2025-08-07","2025-08-08","2025-08-09","2025-08-10","2025-08-11","2025-08-12","2025-08-13","2025-08-14","2025-08-15","2025-08-16","2025-08-17","2025-08-18","2025-08-19","2025-08-20","2025-08-21","2025-08-22","2025-08-23","2025-08-24","2025-08-25","2025-08-26","2025-08-27","2025-08-28","2025-08-29","2025-08-30","2025-08-31",null,null,null,"出張"]
[null,null,null,null,null,null,"㊏","㊐",null,null,null,null,null,"㊏","㊐","祝",null,null,null,null,"㊏","㊐",null,null,null,null,null,"㊏","㊐",null,null,null,null,null,"㊏","㊐",null,null,null,"非常勤講師出勤日"]
[null,null,"9",null,null,"2025-09-01","2025-09-02","2025-09-03","2025-09-04","2025-09-05","2025-09-06","2025-09-07","2025-09-08","2025-09-09","2025-09-10","2025-09-11","2025-09-12","2025-09-13","2025-09-14","2025-09-15","2025-09-16","2025-09-17","2025-09-18","2025-09-19","2025-09-20","2025-09-21","2025-09-22","2025-09-23","2025-09-24","2025-09-25","2025-09-26","2025-09-27","2025-09-28","2025-09-29","2025-09-30",null,null,null,null,"赴任"]
[null,null,null,null,null,null,null,null,null,null,"㊏","㊐",null,null,null,null,null,"㊏","㊐","祝",null,null,null,null,"㊏","㊐",null,"祝",null,null,null,"㊏","㊐",null,null,null,null,null,null,"派遣"]
[null,null,"10",null,null,"2025-10-01","2025-10-02","2025-10-03","2025-10-04","2025-10-05","2025-10-06","2025-10-07","2025-10-08","2025-10-09","2025-10-10","2025-10-11","2025-10-12","2025-10-13","2025-10-14","2025-10-15","2025-10-16","2025-10-17","2025-10-18","2025-10-19","2025-10-20","2025-10-21","2025-10-22","2025-10-23","2025-10-24","2025-10-25","2025-10-26","2025-10-27","2025-10-28","2025-10-29","2025-10-30","2025-10-31",null,null,null,"特定療養休暇（１日）"]
[null,null,null,null,null,null,null,null,"㊏","㊐",null,null,null,null,null,"㊏","㊐","祝",null,null,null,null,"㊏","㊐",null,null,null,null,null,"㊏","㊐",null,null,null,null,null,null,null,null,"特定療養休暇（時間）"]
[null,null,"11",null,null,"2025-11-01","2025-11-02","2025-11-03","2025-11-04","2025-11-05","2025-11-06","2025-11-07","2025-11-08","2025-11-09","2025-11-10","2025-11-11","2025-11-12","2025-11-13","2025-11-14","2025-11-15","2025-11-16","2025-11-17","2025-11-18","2025-11-19","2025-11-20","2025-11-21","2025-11-22","2025-11-23","2025-11-24","2025-11-25","2025-11-26","2025-11-27","2025-11-28","2025-11-29","2025-11-30",null,null,null,null,"公務上の傷病による療養休暇（１日）"]
[null,null,null,null,null,"㊏","㊐","祝",null,null,null,null,"㊏","㊐",null,null,null,null,null,"㊏","㊐",null,null,null,null,null,"㊏",null,"休",null,null,null,null,"㊏","㊐",null,null,null,null,"公務上の傷病による療養休暇（時間）"]
[null,null,"12",null,null,"2025-12-01","2025-12-02","2025-12-03","2025-12-04","2025-12-05","2025-12-06","2025-12-07","2025-12-08","2025-12-09","2025-12-10","2025-12-11","2025-12-12","2025-12-13","2025-12-14","2025-12-15","2025-12-16","2025-12-17","2025-12-18","2025-12-19","2025-12-20","2025-12-21","2025-12-22","2025-12-23","2025-12-24","2025-12-25","2025-12-26","2025-12-27","2025-12-28","2025-12-29","2025-12-30","2025-12-31",null,null,null,"時間短縮措置の療養休暇"]
[null,null,null,null,null,null,null,null,null,null,"㊏","㊐",null,null,null,null,null,"㊏","㊐",null,null,null,null,null,"㊏","㊐",null,null,null,null,null,"㊏","㊐","年末","年末","年末",null,null,null,"介護休暇（１日）"]
[null,null,"1",null,null,"2026-01-01","2026-01-02","2026-01-03","2026-01-04","2026-01-05","2026-01-06","2026-01-07","2026-01-08","2026-01-09","2026-01-10","2026-01-11","2026-01-12","2026-01-13","2026-01-14","2026-01-15","2026-01-16","2026-01-17","2026-01-18","2026-01-19","2026-01-20","2026-01-21","2026-01-22","2026-01-23","2026-01-24","2026-01-25","2026-01-26","2026-01-27","2026-01-28","2026-01-29","2026-01-30","2026-01-31",null,null,null,"介護休暇（時間）"]
[null,null,null,null,null,"年始","年始",null,"㊐",null,null,null,null,null,"㊏","㊐","祝",null,null,null,null,"㊏","㊐",null,null,null,null,null,"㊏","㊐",null,null,null,null,null,"㊏",null,null,null,"介護時間"]
[null,null,"2",null,null,"2026-02-01","2026-02-02","2026-02-03","2026-02-04","2026-02-05","2026-02-06","2026-02-07","2026-02-08","2026-02-09","2026-02-10","2026-02-11","2026-02-12","2026-02-13","2026-02-14","2026-02-15","2026-02-16","2026-02-17","2026-02-18","2026-02-19","2026-02-20","2026-02-21","2026-02-22","2026-02-23","2026-02-24","2026-02-25","2026-02-26","2026-02-27","2026-02-28",null,null,null,null,null,null,"組合休暇（１日）"]
[null,null,null,null,null,"㊐",null,null,null,null,null,"㊏","㊐",null,null,"祝",null,null,"㊏","㊐",null,null,null,null,null,"㊏","㊐","祝",null,null,null,null,"㊏",null,null,null,null,null,null,"組合休暇（時間）"]
[null,null,"3",null,null,"2026-03-01","2026-03-02","2026-03-03","2026-03-04","2026-03-05","2026-03-06","2026-03-07","2026-03-08","2026-03-09","2026-03-10","2026-03-11","2026-03-12","2026-03-13","2026-03-14","2026-03-15","2026-03-16","2026-03-17","2026-03-18","2026-03-19","2026-03-20","2026-03-21","2026-03-22","2026-03-23","2026-03-24","2026-03-25","2026-03-26","2026-03-27","2026-03-28","2026-03-29","2026-03-30","2026-03-31",null,null,null,"欠勤（１日）"]
[null,null,null,null,null,"㊐",null,null,null,null,null,"㊏","㊐",null,null,null,null,null,"㊏","㊐",null,null,null,null,"祝","㊏","㊐",null,null,null,null,null,"㊏","㊐",null,null,null,null,null,"欠勤（時間）"]
[null,null,null,null,null,null,null,null,null,null,null,null,null,null,null,null,null,null,null,null,null,null,null,null,null,null,null,null,null,null,null,null,null,null,null,null,null,null,null,"停職"]
[null,null,{"$f":"\"令和\"&職員名簿!$J$1&\"年度\"","v":"令和7年度"},null,null,null,null,null,null,null,"勤務整理簿",null,null,null,null,null,null,{"$f":"IFERROR(VLOOKUP($AE$31,職員名簿!$B$2:$G$63,5,0),\"\")","v":""},null,"～",{"$f":"IFERROR(VLOOKUP($AE$31,職員名簿!$B$2:$G$63,6,0),\"\")","v":""},null,{"$f":"IFERROR(VLOOKUP($AE$31,職員名簿!$B$2:$G$63,4,0),\"\")","v":""},null,null,"職名",{"$f":"IFERROR(VLOOKUP($AE$31,職員名簿!$B$2:$D$63,2,0),\"\")","v":""},null,null,"氏名",{"$f":"IF(RIGHT(CELL(\"filename\",AE15),LEN(CELL(\"filename\",AE15))-FIND(\"]\",CELL(\"filename\",AE15)))=\"整理簿\",\"\",RIGHT(CELL(\"filename\",AE15),LEN(CELL(\"filename\",AE15))-FIND(\"]\",CELL(\"filename\",AE15))))","v":""},null,null,null,null,null,null,null,null,"休職"]
[null,null,null,null,null,null,null,null,null,null,null,null,null,null,null,null,null,null,null,null,null,null,null,null,null,null,null,null,null,null,null,null,null,null,null,null,null,null,null,"大学院修学休業"]
[null,null,null,null,null,null,null,null,null,null,null,null,null,null,null,null,null,null,null,null,null,null,null,null,null,null,null,null,null,null,null,null,null,null,null,null,null,null,null,"自己啓発休業"]
[null,null,null,null,null,null,null,null,null,null,null,null,null,null,null,null,null,null,null,null,null,null,null,null,null,null,null,null,null,null,null,null,null,null,null,null,null,null,null,"土曜日"]
[null,null,null,null,null,null,null,null,null,null,null,null,null,null,null,null,null,null,null,null,null,null,null,null,null,null,null,null,null,null,null,null,null,null,null,null,null,null,null,"日曜日"]
[null,null,null,null,null,null,null,null,null,null,null,null,null,null,null,null,null,null,null,null,null,null,null,null,null,null,null,null,null,null,null,null,null,null,null,null,null,null,null,"土日出勤"]